Workbook

Sheet 総括表
B1: 令和6年度 財政状況資料集
B2: 総括表（市町村）
B3: 都道府県名 | L3: 宮城県 | W3: 市町村類型 | AC3: Ⅴ－２ | AM3: 指定団体等の指定状況 | AY3: 区分 | BN3: 令和6年度(千円) | BV3: 令和5年度(千円) | CD3: 区分 | CT3: 令和6年度(千円･％) | DB3: 令和5年度(千円･％)
AY4: 歳入総額 | BN4: 13910320 | BV4: 15612409 | CD4: 実質収支比率 | CT4: 3.6 | DB4: 5.2
AM5: 財政健全化等 | AU5: × | AY5: 歳出総額 | BN5: 13568210 | BV5: 15126586 | CD5: 経常収支比率 | CT5: 95.8 | DB5: 96.7
B6: 市町村名 | L6: 亘理町 | W6: 地方交付税種地 | AC6: 2-4 | AM6: 財源超過 | AU6: × | AY6: 歳入歳出差引 | BN6: 342110 | BV6: 485823 | CD6: (※1) | CT6: 96.2 | DB6: 97.1
AM7: 首都 | AU7: × | AY7: 翌年度に繰越すべき財源 | BN7: 51475 | BV7: 72061 | CD7: 標準財政規模 | CT7: 8074782 | DB7: 7896855
AM8: 近畿 | AU8: × | AY8: 実質収支 | BN8: 290635 | BV8: 413762 | CD8: 財政力指数 | CT8: 0.57 | DB8: 0.57
B9: 人口 | L9: 令和2年国調(人) | R9: 33087 | W9: 産業構造 (※5) | AM9: 中部 | AU9: × | AY9: 単年度収支 | BN9: -123127 | BV9: -278596 | CD9: 公債費負担比率 | CT9: 8.5 | DB9: 8.5
L10: 平成27年国調(人) | R10: 33589 | AM10: 過疎 | AU10: × | AY10: 積立金 | BN10: 3408 | BV10: 547 | CD10: 健全化判断比率
L11: 増減率 (％) | R11: -1.5 | AM11: 山振 | AU11: × | AY11: 繰上償還金 | BN11: 0 | BV11: 1350888 | CD11: 実質赤字比率 | CT11: - | DB11: -
B12: 住民基本台帳人口 (※7) | L12: 令07.01.01(人) | R12: 32825 | W12: 区分 | AC12: 令和2年国調 | AH12: 平成27年国調 | AM12: 低開発 | AU12: × | AY12: 積立金取崩し額 | BN12: 307299 | BV12: 314708 | CD12: 連結実質赤字比率 | CT12: - | DB12: -
M13: うち日本人(人) | R13: 32587 | W13: 第1次 | AC13: 1115 | AH13: 1165 | AM13: 指数表選定 | AU13: ○ | AY13: 実質単年度収支 | BN13: -427018 | BV13: 758131 | CD13: 実質公債費比率 | CT13: 5 | DB13: 5
L14: 令06.01.01(人) | R14: 33077 | AC14: 7.1 | AH14: 7.3 | CD14: 将来負担比率 | CT14: - | DB14: -
M15: うち日本人(人) | R15: 32862 | W15: 第2次 | AC15: 4874 | AH15: 5066 | AY15: 基準財政収入額 | BN15: 3914427 | BV15: 3974570 | CD15: 資金不足比率 (※4)
L16: 増減率 (％) | R16: -0.8 | AC16: 31.2 | AH16: 31.8 | AY16: 基準財政需要額 | BN16: 7073936 | BV16: 6825161
M17: うち日本人(％) | R17: -0.8 | W17: 第3次 | AC17: 9638 | AH17: 9719 | AY17: 標準税収入額等 | BN17: 4882230 | BV17: 4966252
B18: 面積 (k㎡) | L18: 73.6 | AC18: 61.7 | AH18: 60.9 | AY18: 経常経費充当一般財源等 | BN18: 7792390 | BV18: 7599894
B19: 人口密度 (人/k㎡) | L19: 450 | AY19: 歳入一般財源等 | BN19: 9721683 | BV19: 9818113
B20: 世帯数 (世帯) | L20: 12181
B21: 職員の状況 (※8)
B22: 特別職等 | E22: 区分 | L22: 定数 | Q22: 1人あたり平均 給料月額(百円) | W22: 一般職員等(※6) | Z22: 区分 | AH22: 職員数 (人) | AM22: 給料月額 (百円) | AS22: 1人あたり平均 給料月額(百円) | AY22: 地方債現在高 | BN22: 7735854 | BV22: 8145842
AY23: うち公的資金 | BN23: 6615149 | BV23: 6940859
E24: 市区町村長 | L24: 1 | Q24: 8430 | Z24: 一般職員 | AH24: 266 | AM24: 791350 | AS24: 2975 | AY24: 地方債現在高（臨時財政対策債除き） | BN24: 3595637 | BV24: 3578386
E25: 副市区町村長 | L25: 1 | Q25: 6490 | Z25: うち消防職員 | AH25: - | AM25: - | AS25: - | AY25: 債務負担行為額（支出予定額） | BN25: 6302283 | BV25: 1242202
E26: 教育長 | L26: 1 | Q26: 5500 | Z26: うち技能労務職員 | AH26: 11 | AM26: 32373 | AS26: 2943 | AY26: 収益事業収入 | BN26: - | BV26: -
E27: 議会議長 | L27: 1 | Q27: 3230 | Z27: 教育公務員 | AH27: 1 | AM27: * | AS27: * | AY27: 土地開発基金現在高 | BN27: 368706 | BV27: 368622
E28: 議会副議長 | L28: 1 | Q28: 2680 | Z28: 臨時職員 | AH28: - | AM28: - | AS28: - | AY28: 積立金 現在高 | BC28: 財政調整基金 | BN28: 3454075 | BV28: 3376966
E29: 議会議員 | L29: 16 | Q29: 2560 | Z29: 合計 | AH29: 267 | AM29: 795170 | AS29: 2978 | BC29: 減債基金 | BN29: 35204 | BV29: 2201
W30: ラスパイレス指数 | AH30: 95.3 | BC30: その他特定目的基金 | BN30: 5107193 | BV30: 4604453
C32: 一般会計等の一覧 | U32: 事業会計の一覧 | AM32: 公営企業（法適）の一覧 | BE32: 公営企業（法非適）の一覧 | BW32: 関係する一部事務組合等一覧 | CO32: 地方公社・第三セクター等一覧
C33: 項番 | E33: 会計名 | U33: 項番 | W33: 会計名 | AM33: 項番 | AO33: 会計名 | BE33: 項番 | BG33: 会計名 | BW33: 項番 | BY33: 組合等名 | CO33: 項番 | CQ33: 団体名 | DG33: (※3)
C34: =IF(E34="","",1) -> #REF! | E34: =IF(#REF!="","",#REF!) -> #REF! | U34: =IF(W34="","",MAX(C34:D43)+1) -> #REF! | W34: =IF(#REF!="","",#REF!) -> #REF! | AM34: =IF(AO34="","",MAX(C34:D43,U34:V43)+1) -> #REF! | AO34: =IF(#REF!="","",#REF!) -> #REF! | BE34: =IF(BG34="","",MAX(C34:D43,U34:V43,AM34:AN43)+1) -> #REF! | BG34: =IF(#REF!="","",#REF!) -> #REF! | BW34: =IF(BY34="","",MAX(C34:D43,U34:V43,AM34:AN43,BE34:BF43)+1) -> #REF! | BY34: =IF(#REF!="","",#REF!) -> #REF! | CO34: =IF(CQ34="","",MAX(C34:D43,U34:V43,AM34:AN43,BE34:BF43,BW34:BX43)+1) -> #REF! | CQ34: =IF(#REF!="","",#REF!) -> #REF! | DG34: =IF(#REF!="","",#REF!) -> #REF!
C35: =IF(E35="","",C34+1) -> #REF! | E35: =IF(#REF!="","",#REF!) -> #REF! | U35: =IF(W35="","",U34+1) -> #REF! | W35: =IF(#REF!="","",#REF!) -> #REF! | AM35: =IF(AO35="","",AM34+1) -> #REF! | AO35: =IF(#REF!="","",#REF!) -> #REF! | BE35: =IF(BG35="","",BE34+1) -> #REF! | BG35: =IF(#REF!="","",#REF!) -> #REF! | BW35: =IF(BY35="","",BW34+1) -> #REF! | BY35: =IF(#REF!="","",#REF!) -> #REF! | CO35: =IF(CQ35="","",CO34+1) -> #REF! | CQ35: =IF(#REF!="","",#REF!) -> #REF! | DG35: =IF(#REF!="","",#REF!) -> #REF!
C36: =IF(E36="","",C35+1) -> #REF! | E36: =IF(#REF!="","",#REF!) -> #REF! | U36: =IF(W36="","",U35+1) -> #REF! | W36: =IF(#REF!="","",#REF!) -> #REF! | AM36: =IF(AO36="","",AM35+1) | BE36: =IF(BG36="","",BE35+1) | BW36: =IF(BY36="","",BW35+1) -> #REF! | BY36: =IF(#REF!="","",#REF!) -> #REF! | CO36: =IF(CQ36="","",CO35+1) -> #REF! | CQ36: =IF(#REF!="","",#REF!) -> #REF! | DG36: =IF(#REF!="","",#REF!) -> #REF!
C37: =IF(E37="","",C36+1) -> #REF! | E37: =IF(#REF!="","",#REF!) -> #REF! | U37: =IF(W37="","",U36+1) -> #REF! | W37: =IF(#REF!="","",#REF!) -> #REF! | AM37: =IF(AO37="","",AM36+1) | BE37: =IF(BG37="","",BE36+1) | BW37: =IF(BY37="","",BW36+1) -> #REF! | BY37: =IF(#REF!="","",#REF!) -> #REF! | CO37: =IF(CQ37="","",CO36+1) -> #REF! | CQ37: =IF(#REF!="","",#REF!) -> #REF! | DG37: =IF(#REF!="","",#REF!) -> #REF!
C38: =IF(E38="","",C37+1) -> #REF! | E38: =IF(#REF!="","",#REF!) -> #REF! | U38: =IF(W38="","",U37+1) | AM38: =IF(AO38="","",AM37+1) | BE38: =IF(BG38="","",BE37+1) | BW38: =IF(BY38="","",BW37+1) -> #REF! | BY38: =IF(#REF!="","",#REF!) -> #REF! | CO38: =IF(CQ38="","",CO37+1) -> #REF! | CQ38: =IF(#REF!="","",#REF!) -> #REF! | DG38: =IF(#REF!="","",#REF!) -> #REF!
C39: =IF(E39="","",C38+1) -> #REF! | E39: =IF(#REF!="","",#REF!) -> #REF! | U39: =IF(W39="","",U38+1) | AM39: =IF(AO39="","",AM38+1) | BE39: =IF(BG39="","",BE38+1) | BW39: =IF(BY39="","",BW38+1) -> #REF! | BY39: =IF(#REF!="","",#REF!) -> #REF! | CO39: =IF(CQ39="","",CO38+1) -> #REF! | CQ39: =IF(#REF!="","",#REF!) -> #REF! | DG39: =IF(#REF!="","",#REF!) -> #REF!
C40: =IF(E40="","",C39+1) -> #REF! | E40: =IF(#REF!="","",#REF!) -> #REF! | U40: =IF(W40="","",U39+1) | AM40: =IF(AO40="","",AM39+1) | BE40: =IF(BG40="","",BE39+1) | BW40: =IF(BY40="","",BW39+1) -> #REF! | BY40: =IF(#REF!="","",#REF!) -> #REF! | CO40: =IF(CQ40="","",CO39+1) -> #REF! | CQ40: =IF(#REF!="","",#REF!) -> #REF! | DG40: =IF(#REF!="","",#REF!) -> #REF!
C41: =IF(E41="","",C40+1) -> #REF! | E41: =IF(#REF!="","",#REF!) -> #REF! | U41: =IF(W41="","",U40+1) | AM41: =IF(AO41="","",AM40+1) | BE41: =IF(BG41="","",BE40+1) | BW41: =IF(BY41="","",BW40+1) -> #REF! | BY41: =IF(#REF!="","",#REF!) -> #REF! | CO41: =IF(CQ41="","",CO40+1) -> #REF! | CQ41: =IF(#REF!="","",#REF!) -> #REF! | DG41: =IF(#REF!="","",#REF!) -> #REF!
...

Sheet 普通会計の状況
DH1: 令和6年度 | DP1: 宮城県亘理町
B2: (1) 普通会計の状況（市町村）
B3: 歳入の状況（単位 千円・％） | AP3: 地方税の状況（単位 千円・％） | CD3: 歳出の状況（単位 千円・％）
B4: 区分 | R4: 決算額 | Z4: 構成比 | AD4: 経常一般財源等 | AL4: 構成比 | AP4: 区分 | BG4: 収入済額 | BO4: 構成比 | BS4: 超過課税分 | CD4: 目的別歳出の状況（単位 千円・％）
B5: 地方税 | R5: 3831566 | Z5: 27.5 | AD5: 3614948 | AL5: 44.6 | AP5: 普通税 | BG5: 3608687 | BO5: 94.2 | BS5: - | CD5: 区分 | CR5: 決算額 (A) | CZ5: 構成比 | DD5: (A)のうち普通建設事業費 | DQ5: (A)のうち充当一般財源等
B6: 地方譲与税 | R6: 159426 | Z6: 1.1 | AD6: 159426 | AL6: 2 | AP6: 法定普通税 | BG6: 3608687 | BO6: 94.2 | BS6: - | CD6: 議会費 | CR6: 113807 | CZ6: 0.8 | DD6: - | DQ6: 113517
B7: 利子割交付金 | R7: 1272 | Z7: 0 | AD7: 1272 | AL7: 0 | AP7: 市町村民税 | BG7: 1447735 | BO7: 37.8 | BS7: - | CD7: 総務費 | CR7: 1568239 | CZ7: 11.6 | DD7: 14752 | DQ7: 1376724
B8: 配当割交付金 | R8: 21659 | Z8: 0.2 | AD8: 21659 | AL8: 0.3 | AP8: 個人均等割 | BG8: 46712 | BO8: 1.2 | BS8: - | CD8: 民生費 | CR8: 5387433 | CZ8: 39.7 | DD8: 4912 | DQ8: 3183861
B9: 株式等譲渡所得割交付金 | R9: 28877 | Z9: 0.2 | AD9: 28877 | AL9: 0.4 | AP9: 所得割 | BG9: 1277538 | BO9: 33.3 | BS9: - | CD9: 衛生費 | CR9: 973076 | CZ9: 7.2 | DD9: 8475 | DQ9: 888772
B10: 分離課税所得割交付金 | R10: - | Z10: - | AD10: - | AL10: - | AP10: 法人均等割 | BG10: 67832 | BO10: 1.8 | BS10: - | CD10: 労働費 | CR10: 26664 | CZ10: 0.2 | DD10: 98 | DQ10: 26190
B11: 地方消費税交付金 | R11: 813748 | Z11: 5.8 | AD11: 813748 | AL11: 10 | AP11: 法人税割 | BG11: 55653 | BO11: 1.5 | BS11: - | CD11: 農林水産業費 | CR11: 470567 | CZ11: 3.5 | DD11: 116848 | DQ11: 247957
B12: ゴルフ場利用税交付金 | R12: - | Z12: - | AD12: - | AL12: - | AP12: 固定資産税 | BG12: 1769095 | BO12: 46.2 | BS12: - | CD12: 商工費 | CR12: 275760 | CZ12: 2 | DD12: 3097 | DQ12: 164225
B13: 自動車取得税交付金 | R13: - | Z13: - | AD13: - | AL13: - | AP13: うち純固定資産税 | BG13: 1766651 | BO13: 46.1 | BS13: - | CD13: 土木費 | CR13: 1775844 | CZ13: 13.1 | DD13: 394672 | DQ13: 920399
B14: 軽油引取税交付金 | R14: - | Z14: - | AD14: - | AL14: - | AP14: 軽自動車税 | BG14: 127717 | BO14: 3.3 | BS14: - | CD14: 消防費 | CR14: 716276 | CZ14: 5.3 | DD14: 114409 | DQ14: 599981
B15: 自動車税環境性能割交付金 | R15: 22177 | Z15: 0.2 | AD15: 22177 | AL15: 0.3 | AP15: 市町村たばこ税 | BG15: 264140 | BO15: 6.9 | BS15: - | CD15: 教育費 | CR15: 1418483 | CZ15: 10.5 | DD15: 137797 | DQ15: 1028938
B16: 法人事業税交付金 | R16: 61683 | Z16: 0.4 | AD16: 61683 | AL16: 0.8 | AP16: 鉱産税 | BG16: - | BO16: - | BS16: - | CD16: 災害復旧費 | CR16: - | CZ16: - | DD16: - | DQ16: -
B17: 地方特例交付金等 | R17: 186388 | Z17: 1.3 | AD17: 186388 | AL17: 2.3 | AP17: 特別土地保有税 | BG17: - | BO17: - | BS17: - | CD17: 公債費 | CR17: 842061 | CZ17: 6.2 | DD17: - | DQ17: 829009
B18: 住宅借入金等特別税額控除減収補塡特例交付金 | R18: 41933 | Z18: 0.3 | AD18: 41933 | AL18: 0.5 | AP18: 法定外普通税 | BG18: - | BO18: - | BS18: - | CD18: 諸支出金 | CR18: - | CZ18: - | DD18: - | DQ18: -
B19: 定額減税減収補塡特例交付金 | R19: 144455 | Z19: 1 | AD19: 144455 | AL19: 1.8 | AP19: 目的税 | BG19: 222879 | BO19: 5.8 | BS19: - | CD19: 前年度繰上充用金 | CR19: - | CZ19: - | DD19: - | DQ19: -
B20: 新型コロナウイルス感染症対策地方税減収補塡特別交付金 | R20: - | Z20: - | AD20: - | AL20: - | AP20: 法定目的税 | BG20: 222879 | BO20: 5.8 | BS20: - | CD20: 歳出合計 | CR20: 13568210 | CZ20: 100 | DD20: 795060 | DQ20: 9379573
B21: 地方交付税 | R21: 3552172 | Z21: 25.5 | AD21: 3159509 | AL21: 39 | AP21: 入湯税 | BG21: 6262 | BO21: 0.2 | BS21: -
B22: 普通交付税 | R22: 3159509 | Z22: 22.7 | AD22: 3159509 | AL22: 39 | AP22: 事業所税 | BG22: - | BO22: - | BS22: - | CD22: 性質別歳出の状況（単位 千円・％）
B23: 特別交付税 | R23: 273143 | Z23: 2 | AD23: - | AL23: - | AP23: 都市計画税 | BG23: 216617 | BO23: 5.7 | BS23: - | CD23: 区分 | CR23: 決算額 | CZ23: 構成比 | DD23: 充当一般財源等 | DL23: 経常経費充当一般財源等 | DW23: 経常収支比率
B24: 震災復興特別交付税 | R24: 119520 | Z24: 0.9 | AD24: - | AL24: - | AP24: 水利地益税等 | BG24: - | BO24: - | BS24: - | CD24: 義務的経費計 | CR24: 6481228 | CZ24: 47.8 | DD24: 4469759 | DL24: 3972339 | DW24: 48.8
B25: (一般財源計) | R25: 8678968 | Z25: 62.4 | AD25: 8069687 | AL25: 99.6 | AP25: 法定外目的税 | BG25: - | BO25: - | BS25: - | CD25: 人件費 | CR25: 2630365 | CZ25: 19.4 | DD25: 2433182 | DL25: 2367896 | DW25: 29.1
B26: 交通安全対策特別交付金 | R26: 3286 | Z26: 0 | AD26: 3286 | AL26: 0 | AP26: 旧法による税 | BG26: - | BO26: - | BS26: - | CD26: うち職員給 | CR26: 1658479 | CZ26: 12.2 | DD26: 1547190 | DL26: - | DW26: -
B27: 分担金・負担金 | R27: 28699 | Z27: 0.2 | AD27: - | AL27: - | AP27: 合計 | BG27: 3831566 | BO27: 100 | BS27: - | CD27: 扶助費 | CR27: 3008802 | CZ27: 22.2 | DD27: 1207568 | DL27: 775434 | DW27: 9.5
B28: 使用料 | R28: 183373 | Z28: 1.3 | AD28: 15447 | AL28: 0.2 | CD28: 公債費 | CR28: 842061 | CZ28: 6.2 | DD28: 829009 | DL28: 829009 | DW28: 10.2
B29: 手数料 | R29: 15509 | Z29: 0.1 | AD29: - | AL29: - | CD29: 内訳 | CF29: 元利償還金 | CR29: 842061 | CZ29: 6.2 | DD29: 829009 | DL29: 829009 | DW29: 10.2
B30: 国庫支出金 | R30: 2357925 | Z30: 17 | AD30: - | AL30: - | AP30: 区分 | BG30: 令和6年度 | BR30: 令和5年度 | CF30: うち元金 | CR30: 813954 | CZ30: 6 | DD30: 800902 | DL30: 800902 | DW30: 9.8
B31: 国有提供交付金(特別区財調交付金) | R31: - | Z31: - | AD31: - | AL31: - | AP31: 徴収率 (％) | AT31: 現年 | AX31: 合計 | BG31: 99.1 | BM31: 97.1 | BR31: 99 | BX31: 97.3 | CF31: うち利子 | CR31: 28107 | CZ31: 0.2 | DD31: 28107 | DL31: 28107 | DW31: 0.3
B32: 都道府県支出金 | R32: 1065243 | Z32: 7.7 | AD32: - | AL32: - | AU32: ・計 | AX32: 市町村民税 | BG32: 98.9 | BM32: 96.5 | BR32: 98.7 | BX32: 96.8 | CF32: 一時借入金利子 | CR32: - | CZ32: - | DD32: - | DL32: - | DW32: -
B33: 財産収入 | R33: 94266 | Z33: 0.7 | AD33: 10327 | AL33: 0.1 | AX33: 純固定資産税 | BG33: 99.1 | BM33: 97.3 | BR33: 99.2 | BX33: 97.5 | CD33: その他の経費 | CR33: 6291922 | CZ33: 46.4 | DD33: 4711925 | DL33: 3820051 | DW33: 47
B34: 寄附金 | R34: 197121 | Z34: 1.4 | AD34: - | AL34: - | CD34: 物件費 | CR34: 2145840 | CZ34: 15.8 | DD34: 1494032 | DL34: 1098149 | DW34: 13.5
B35: 繰入金 | R35: 346743 | Z35: 2.5 | AD35: - | AL35: - | AQ35: 公営事業等への繰出 | BG35: 国民健康保険事業会計の状況 | CD35: 維持補修費 | CR35: 68227 | CZ35: 0.5 | DD35: 65992 | DL35: 65992 | DW35: 0.8
B36: 繰越金 | R36: 104825 | Z36: 0.8 | AD36: - | AL36: - | AQ36: 合計 | AZ36: 1774575 | BG36: 実質収支 | BV36: 38969 | CD36: 補助費等 | CR36: 2162199 | CZ36: 15.9 | DD36: 2002664 | DL36: 1698803 | DW36: 20.9
B37: 諸収入 | R37: 425062 | Z37: 3.1 | AD37: 409 | AL37: 0 | AQ37: 下水道 | AZ37: 519321 | BG37: 再差引収支 | BV37: 13969 | CD37: うち一部事務組合負担金 | CR37: 1034632 | CZ37: 7.6 | DD37: 1034174 | DL37: 957197 | DW37: 11.8
B38: 地方債 | R38: 409300 | Z38: 2.9 | AD38: - | AL38: - | AQ38: 宅地造成 | AZ38: 21710 | BG38: 加入世帯数(世帯) | BV38: 4271 | CD38: 繰出金 | CR38: 1248958 | CZ38: 9.2 | DD38: 1008168 | DL38: 956003 | DW38: 11.8
B39: うち減収補塡債(特例分) | R39: - | Z39: - | AD39: - | AL39: - | AQ39: 観光施設 | AZ39: 15760 | BG39: 被保険者数(人) | BV39: 6544 | CD39: 積立金 | CR39: 578594 | CZ39: 4.3 | DD39: 139965 | DL39: - | DW39: -
B40: うち臨時財政対策債 | R40: 33000 | Z40: 0.2 | AD40: - | AL40: - | AQ40: 上水道 | AZ40: 6296 | BG40: 被保険者 1人当り | BM40: 保険税(料)収入額 | BV40: 97 | CD40: 投資・出資金・貸付金 | CR40: 88104 | CZ40: 0.6 | DD40: 1104 | DL40: 1104 | DW40: 0
...

Sheet 各会計、関係団体の財政状況及び健全化判断比率
A2: (2)各会計、関係団体の財政状況及び健全化判断比率（市町村） | DJ2: 令和6年度 | DQ2: 宮城県亘理町
A4: 一般会計等の財政状況（単位：百万円） | BQ4: 地方公社・第三セクター等の経営状況及び地方公共団体の財政的支援の状況（単位：百万円）
A5: 会計名 | Q5: 歳入 | V5: 歳出 | AA5: 形式収支 | AF5: 実質収支 | AK5: 他会計等 からの 繰入金 | AP5: 地方債 現在高 | AU5: 備考 | BQ5: 地方公社・第三セクター等名 | CH5: 経常損益 | CM5: 純資産又は 正味財産 | CR5: 当該団体 からの 出資金 | CW5: 当該団体 からの 補助金 | DB5: 当該団体 からの 貸付金 | DG5: 当該団体からの債務保証に係る債務残高 | DL5: 当該団体からの損失補償に係る債務残高 | DQ5: 一般会計等 負担見込額 | DV5: 備考
A7: 1 | B7: 一般会計 | Q7: 13905 | V7: 13563 | AA7: 342 | AF7: 290 | AK7: 347 | AP7: 7736 | BQ7: 1
A8: 2 | B8: 亘理町土地取得特別会計 | Q8: 0 | V8: 0 | AA8: 0 | AF8: 0 | AK8: - | AP8: - | BQ8: 2
A9: 3 | B9: 亘理町奨学資金貸付特別会計 | Q9: 5 | V9: 5 | AA9: 0 | AF9: 0 | AK9: - | AP9: - | BQ9: 3
A10: 4 | BQ10: 4
A11: 5 | BQ11: 5
A12: 6 | BQ12: 6
A13: 7 | BQ13: 7
A14: 8 | BQ14: 8
A15: 9 | BQ15: 9
A16: 10 | BQ16: 10
A17: 11 | BQ17: 11
A18: 12 | BQ18: 12
A19: 13 | BQ19: 13
A20: 14 | BQ20: 14
A21: 15 | BQ21: 15
A22: 16 | AZ22: 実質赤字額 | BQ22: 16
A23: 計 | B23: 一般会計等（純計） | Q23: 13910 | V23: 13568 | AA23: 342 | AF23: 291 | AP23: 7736 | AZ23: - | BQ23: 17
A24: ※一般会計等（純計）は、各会計の相互間の繰入・繰出等の重複を控除したものであり、各会計の合計と一致しない場合がある。 | BQ24: 18
A25: 公営企業会計等の財政状況（単位：百万円） | BQ25: 19
A26: 会計名 | Q26: 総収益 （歳入） | V26: 総費用 （歳出） | AA26: 純損益 （形式収支） | AF26: 資金剰余額 /不足額 （実質収支） | AK26: 他会計等 からの 繰入金 | AP26: 企業債 （地方債） 現在高 | AU26: 左のうち 一般会計等 繰入見込額 | AZ26: 資金不足 比率 | BE26: 備考 | BQ26: 20
BQ27: 21
A28: 1 | B28: 亘理町国民健康保険特別会計 | Q28: 3875 | V28: 3836 | AA28: 39 | AF28: 39 | AK28: 247 | AP28: - | AU28: - | BQ28: 22
A29: 2 | B29: 亘理町介護保険特別会計 | Q29: 3231 | V29: 3229 | AA29: 3 | AF29: 3 | AK29: 449 | AP29: - | AU29: - | BQ29: 23
A30: 3 | B30: 亘理町介護認定審査会特別会計 | Q30: 5 | V30: 5 | AA30: - | AF30: - | AK30: 3 | AP30: - | AU30: - | BQ30: 24
A31: 4 | B31: 亘理町後期高齢者医療特別会計 | Q31: 489 | V31: 484 | AA31: 5 | AF31: 5 | AK31: 108 | AP31: - | AU31: - | BQ31: 25
A32: 5 | B32: 亘理町水道事業会計 | Q32: 883 | V32: 747 | AA32: 135 | AF32: 982 | AK32: 6 | AP32: 2291 | AU32: 9 | BE32: 法適用企業 | BQ32: 26
A33: 6 | B33: 亘理町公共下水道事業会計 | Q33: 1211 | V33: 964 | AA33: 247 | AF33: 47 | AK33: 519 | AP33: 6868 | AU33: 5185 | BE33: 法適用企業 | BQ33: 27
A34: 7 | B34: わたり温泉鳥の海特別会計 | Q34: 18 | V34: 18 | AA34: 0 | AF34: 0 | AK34: 16 | AP34: - | AU34: - | BE34: 法非適用企業 | BQ34: 28
A35: 8 | B35: 亘理町工業用地等造成事業特別会計 | Q35: 22 | V35: 22 | AA35: 0 | AF35: 0 | AK35: 22 | AP35: - | AU35: - | BE35: 法非適用企業 | BQ35: 29
A36: 9 | BQ36: 30
A37: 10 | BQ37: 31
A38: 11 | BQ38: 32
A39: 12 | BQ39: 33
A40: 13 | BQ40: 34
A41: 14 | BQ41: 35
A42: 15 | BQ42: 36
A43: 16 | BQ43: 37
...

Sheet 財政比較分析表

Sheet 経常経費分析表（経常収支比率の分析）

Sheet 経常経費分析表（人件費・公債費・普通建設事業費の分析）
A5: 人件費及び人件費に準ずる費用の分析
AK6: 人件費及び人件費に準ずる費用
AO7: 当該団体決算額 （千円） | AQ7: 人口1人当たり決算額
AP8: 当該団体（円） | AQ8: 類似団体平均（円） | AR8: 対比（％）
AK9: 人件費 | AO9: 2630365 | AP9: 80133 | AQ9: 72090 | AR9: 11.2
AK10: 一部事務組合負担金（補助費等） | AO10: 441967 | AP10: 13464 | AQ10: 9072 | AR10: 48.4
AK11: 公営企業（法適）等に対する繰出し（補助費等） | AO11: - | AP11: - | AQ11: 383 | AR11: -
AK12: 公営企業（法適）等に対する繰出し（投資及び出資金・貸付金） | AO12: - | AP12: - | AQ12: 26 | AR12: -
AK13: 公営企業（法非適）等に対する繰出し（繰出金） | AO13: 153143 | AP13: 4665 | AQ13: 2732 | AR13: 70.8
AK14: 事業費支弁に係る職員の人件費（投資的経費） | AO14: 46608 | AP14: 1420 | AQ14: 1315 | AR14: 8
AK15: ▲退職金 | AO15: -154827 | AP15: -4717 | AQ15: -4107 | AR15: 14.9
AK16: 合計 | AO16: 3117256 | AP16: 94966 | AQ16: 81511 | AR16: 16.5
AK19: 参考
AO20: 当該団体 | AP20: 類似団体平均 | AQ20: 対比（差引）
AK21: 人口1,000人当たり職員数（人） | AO21: 8.13 | AP21: 6.74 | AQ21: 1.39
AK22: ラスパイレス指数 | AO22: 95.3 | AP22: 97 | AQ22: -1.7
A26: （注）人口については、各調査対象年度の1月1日現在の住民基本台帳に登載されている人口に基づいている。
A28: 公債費及び公債費に準ずる費用の分析
AK29: 公債費及び公債費に準ずる費用（実質公債費比率の構成要素）
AO30: 当該団体決算額 （千円） | AQ30: 人口1人当たり決算額
AP31: 当該団体（円） | AQ31: 類似団体平均（円） | AR31: 対比（％）
AK32: 元利償還金の額 （繰上償還額等を除く） | AO32: 842061 | AP32: 25653 | AQ32: 33695 | AR32: -23.9
AK33: 積立不足額を考慮して算定した額 | AO33: - | AP33: - | AQ33: - | AR33: -
AK34: 満期一括償還地方債の一年当たりの元金償還金に相当するもの （年度割相当額） | AO34: - | AP34: - | AQ34: - | AR34: -
AK35: 公営企業に要する経費の財源とする地方債の償還の財源に 充てたと認められる繰入金 | AO35: 471455 | AP35: 14363 | AQ35: 8394 | AR35: 71.1
AK36: 一部事務組合等の起こした地方債に充てたと認められる 補助金又は負担金 | AO36: 62964 | AP36: 1918 | AQ36: 1998 | AR36: -4
AK37: 公債費に準ずる債務負担行為に係るもの | AO37: 4 | AP37: 0 | AQ37: 1021 | AR37: -100
AK38: 一時借入金利子 （同一団体における会計間の現金運用に係る利子は除く） | AO38: - | AP38: - | AQ38: 3 | AR38: -
AK39: ▲特定財源の額 | AO39: -194750 | AP39: -5933 | AQ39: -3210 | AR39: 84.8
AK40: ▲地方債に係る元利償還金及び準元利償還金に要する経費として 普通交付税の額の算定に用いる基準財政需要額に算入された額 | AO40: -838821 | AP40: -25554 | AQ40: -26336 | AR40: -3
AK41: 合計 | AO41: 342913 | AP41: 10447 | AQ41: 15565 | AR41: -32.9
A47: （参考） 普通建設事業費の分析
AK48: 普通建設事業費
AM49: 当該団体決算額 （千円） | AN49: 人口１人当たり決算額
AN50: 当該団体(円) | AO50: 増減率(%)(A) | AP50: 類似団体平均(円) | AQ50: 増減率(%)(B) | AR50: (A)-(B)
AK51: R02 | AM51: 2525629 | AN51: 75516 | AO51: -58.9 | AP51: 52068 | AQ51: 1.6 | AR51: -60.5
AL52: うち単独分 | AM52: 732438 | AN52: 21900 | AO52: -76.4 | AP52: 26936 | AQ52: 3.4 | AR52: -79.8
AK53: R03 | AM53: 653666 | AN53: 19560 | AO53: -74.1 | AP53: 47161 | AQ53: -9.4 | AR53: -64.7
AL54: うち単独分 | AM54: 443139 | AN54: 13260 | AO54: -39.5 | AP54: 24595 | AQ54: -8.7 | AR54: -30.8
AK55: R04 | AM55: 1141836 | AN55: 34320 | AO55: 75.5 | AP55: 43423 | AQ55: -7.9 | AR55: 83.4
...

Sheet 性質別歳出決算分析表（住民一人当たりのコスト）

Sheet 目的別歳出決算分析表（住民一人当たりのコスト）

Sheet 実質収支比率等に係る経年分析
J45: 標準財政規模比（％）
B46: 区分 | E46: 年度 | F46: R02 | G46: R03 | H46: R04 | I46: R05 | J46: R06
C47: 財政調整基金残高 | F47: 21.78 | G47: 29.44 | H47: 39.25 | I47: 42.76 | J47: 42.78
C48: 実質収支額 | F48: 6.23 | G48: 3.78 | H48: 8.98 | I48: 5.24 | J48: 3.6
C49: 実質単年度収支 | F49: ▲ 0.54 | G49: 0.81 | H49: 10.84 | I49: 9.6 | J49: ▲ 5.29

Sheet 連結実質赤字比率に係る赤字・黒字の構成分析
J32: 標準財政規模比（％）
B33: 会計 | E33: 年度 | F33: R02 | G33: R03 | H33: R04 | I33: R05 | J33: R06
C34: 亘理町水道事業会計 | F34: 13.99 | G34: 12.9 | H34: 12.15 | I34: 11.8 | J34: 12.15
C35: 一般会計 | F35: 6.22 | G35: 3.78 | H35: 8.97 | I35: 5.23 | J35: 3.59
C36: 亘理町公共下水道事業会計 | F36: 0.51 | G36: 1.73 | H36: 2.28 | I36: 2.2 | J36: 0.58
C37: 亘理町国民健康保険特別会計 | F37: 0.91 | G37: 0.92 | H37: 0.37 | I37: 0.56 | J37: 0.48
C38: 亘理町後期高齢者医療特別会計 | F38: 0.02 | G38: 0 | H38: 0.04 | I38: 0.04 | J38: 0.05
C39: 亘理町介護保険特別会計 | F39: 0.05 | G39: 0.15 | H39: 0.46 | I39: 0.1 | J39: 0.03
C40: 亘理町工業用地等造成事業特別会計 | F40: 22.07 | G40: 20.97 | H40: 0.01 | I40: 0 | J40: 0
C41: 亘理町奨学資金貸付特別会計 | F41: 0.01 | G41: 0 | H41: 0 | I41: 0 | J41: 0
C42: その他会計（赤字） | F42: - | G42: - | H42: - | I42: - | J42: -
C43: その他会計（黒字） | F43: 0 | G43: 0 | H43: 0.01 | I43: 0.31 | J43: 0

Sheet 実質公債費比率（分子）の構造
O43: （百万円）
B44: 分子の構造 | J44: 年度 | K44: R02 | L44: R03 | M44: R04 | N44: R05 | O44: R06
B45: 元利償還金等(A) | E45: 元利償還金 | K45: 863 | L45: 875 | M45: 896 | N45: 848 | O45: 842
E46: 減債基金積立不足算定額※2 | K46: - | L46: - | M46: - | N46: - | O46: -
E47: 満期一括償還地方債に係る年度割相当額 | K47: - | L47: - | M47: - | N47: - | O47: -
E48: 公営企業債の元利償還金に対する繰入金 | K48: 611 | L48: 514 | M48: 541 | N48: 482 | O48: 471
E49: 組合等が起こした地方債の元利償還金に対する負担金等 | K49: 12 | L49: 49 | M49: 61 | N49: 63 | O49: 63
E50: 債務負担行為に基づく支出額 | K50: 0 | L50: 0 | M50: 0 | N50: 0 | O50: 0
E51: 一時借入金の利子 | K51: 0 | L51: 0 | M51: 0 | N51: - | O51: -
B52: 算入公債費等(B) | E52: 算入公債費等 | K52: 1119 | L52: 1088 | M52: 1111 | N52: 1068 | O52: 1033
B53: (A)－(B) | E53: 実質公債費比率の分子 | K53: 367 | L53: 350 | M53: 387 | N53: 325 | O53: 343
B54: ※ 減債基金積立不足算定額=(C)×(１－(D)/(E))
B56: （参考） | O56: （百万円）
J57: 年度 | K57: R02 | L57: R03 | M57: R04 | N57: R05 | O57: R06
B58: 減債基金 積立状況等（注） | D58: 満期一括償還地方債に係る実質償還額又は理論償還額のいずれか少ない額(C)
D59: 前年度末減債基金残高(D)
D60: 前年度末減債基金積立相当額(E)
D61: （注）減債基金のうち、実質公債費比率の算定に用いる満期一括償還地方債の償還の財源に係るもののみを記入。
D62: 減債基金積立金の年度を超えた一般会計又は特別会計への貸付額は控除して記入。

Sheet 将来負担比率（分子）の構造
M39: （百万円）
B40: 分子の構造 | H40: 年度 | I40: R02 | J40: R03 | K40: R04 | L40: R05 | M40: R06
B41: 将来負担額(A) | E41: 一般会計等に係る地方債の現在高 | I41: 10592 | J41: 10274 | K41: 9917 | L41: 8087 | M41: 7736
E42: 債務負担行為に基づく支出予定額 | I42: - | J42: - | K42: - | L42: - | M42: -
E43: 公営企業債等繰入見込額 | I43: 5978 | J43: 5656 | K43: 5528 | L43: 5278 | M43: 5194
E44: 組合等負担等見込額 | I44: 368 | J44: 332 | K44: 285 | L44: 240 | M44: 193
E45: 退職手当負担見込額 | I45: 1191 | J45: 1132 | K45: 1206 | L45: 1165 | M45: 1160
E46: 設立法人等の負債額等負担見込額 | I46: 4 | J46: - | K46: 3 | L46: 4 | M46: -
E47: うち、健全化法施行規則附則第三条に係る負担見込額 | I47: - | J47: - | K47: - | L47: - | M47: -
E48: 連結実質赤字額 | I48: - | J48: - | K48: - | L48: - | M48: -
E49: 組合等連結実質赤字額負担見込額 | I49: - | J49: - | K49: - | L49: - | M49: -
B50: 充当可能財源等(B) | E50: 充当可能基金 | I50: 6608 | J50: 8458 | K50: 9955 | L50: 9438 | M50: 9831
E51: 充当可能特定歳入 | I51: 3371 | J51: 2892 | K51: 2422 | L51: 2004 | M51: 1888
E52: 基準財政需要額算入見込額 | I52: 11148 | J52: 10814 | K52: 10337 | L52: 9937 | M52: 9327
B53: (A)－(B) | E53: 将来負担比率の分子 | I53: -2993 | J53: -4771 | K53: -5774 | L53: -6605 | M53: -6763

Sheet 基金残高に係る経年分析
H53: （百万円）
B54: 区分 | E54: 年度 | F54: R04 | G54: R05 | H54: R06
C55: 財政調整基金 | F55: 3026 | G55: 3377 | H55: 3454
C56: 減債基金 | F56: 2 | G56: 2 | H56: 35
C57: その他特定目的基金 | F57: 5359 | G57: 4604 | H57: 5107
C58: 町営住宅管理運営基金 | F58: 3727 | G58: 2857 | H58: 3359
C59: 公共施設整備基金 | F59: 1166 | G59: 1322 | H59: 1324
C60: 奨学教育基金 | F60: 111 | G60: 115 | H60: 118
C61: 長寿社会対策基金 | F61: 108 | G61: 109 | H61: 109
C62: 農業振興基金 | F62: 38 | G62: 45 | H62: 53
C63: 基金残高合計 | F63: 8388 | G63: 7984 | H63: 8596

Sheet 公会計指標分析・財政指標組合せ分析表
B41: 将来負担比率及び有形固定資産減価償却率の組合せによる分析
AN42: 分析欄
AN43: 平成24年度以降、地方債現在高をはじめとする将来負担額が基金等の充当可能財源を下回っており、将来負担比率は算出されていない。
AN49: ( 参考 ）
BP50: R02 | BX50: R03 | CF50: R04 | CN50: R05 | CV50: R06
AN51: 当該団体値 | BB51: 将来負担比率
BB53: 有形固定資産減価償却率 | BP53: 37.3 | BX53: 39.2 | CF53: 41.6 | CN53: 43.7 | CV53: 45.9
AN55: 類似団体内平均値 | BB55: 将来負担比率 | BP55: 15.5 | BX55: 4.6 | CF55: 0.6 | CN55: 0 | CV55: 1
BB57: 有形固定資産減価償却率 | BP57: 61.7 | BX57: 61.4 | CF57: 62.6 | CN57: 63.6 | CV57: 64.1
B63: 将来負担比率及び実質公債費比率の組合せによる分析
AN64: 分析欄
AN65: 平成24年度以降は、地方債現在高をはじめとする将来負担額が基金等の充当可能財源を下回っており、将来負担比率は算出されていない。しかしながら、将来負担額である一般会計等に係る地方債現在高は、役場新庁舎・保健福祉センター建設等の大規模事業実施等が要因となり、令和6年度においては77億3585万円となっている。今後は据置期間が終了した大規模事業の地方債償還も始まるため、元利償還金は年間約8億円台を推移し、今後両比率が上昇していくことが予想される。学校給食センター整備事業や亘理インター産業団地整備事業といった新たな大規模事業が実施されるほか、老朽化した既存施設の大規模改修や建替えなどにより多額の一般財源を要する。そのため、これまで以上に公債費の適正化に取り組んでいく必要がある。
AN71: ( 参考 ）
BP72: R02 | BX72: R03 | CF72: R04 | CN72: R05 | CV72: R06
AN73: 当該団体値 | BB73: 将来負担比率
BB75: 実質公債費比率 | BP75: 5 | BX75: 5.3 | CF75: 5.4 | CN75: 5 | CV75: 5
AN77: 類似団体内平均値 | BB77: 将来負担比率 | BP77: 15.5 | BX77: 4.6 | CF77: 0.6 | CN77: 0 | CV77: 1
BB79: 実質公債費比率 | BP79: 6.4 | BX79: 6.3 | CF79: 6.6 | CN79: 6.8 | CV79: 7

Sheet 施設類型別ストック情報分析表①

Sheet 施設類型別ストック情報分析表②

Sheet データシート
D2: 当該団体(円) | F2: 類似団体内平均(円)
A3: R02 | D3: 75516 | F3: 52068
D4: 21900 | F4: 26936
A5: R03 | D5: 19560 | F5: 47161
D6: 13260 | F6: 24595
A7: R04 | D7: 34320 | F7: 43423
D8: 16715 | F8: 22207
A9: R05 | D9: 27254 | F9: 45265
D10: 15626 | F10: 22600
A11: R06 | D11: 24221 | F11: 54621
D12: 15915 | F12: 30892
D13: 36174 | F13: 48508
D14: 16683 | F14: 25446
A17: 実質収支比率等に係る経年分析
B18: =実質収支比率等に係る経年分析!F$46 -> R02 | C18: =実質収支比率等に係る経年分析!G$46 -> R03 | D18: =実質収支比率等に係る経年分析!H$46 -> R04 | E18: =実質収支比率等に係る経年分析!I$46 -> R05 | F18: =実質収支比率等に係る経年分析!J$46 -> R06
A19: 実質収支額 | B19: =ROUND(VALUE(SUBSTITUTE(実質収支比率等に係る経年分析!F$48,"▲","-")),2) -> 6.23 | C19: =ROUND(VALUE(SUBSTITUTE(実質収支比率等に係る経年分析!G$48,"▲","-")),2) -> 3.78 | D19: =ROUND(VALUE(SUBSTITUTE(実質収支比率等に係る経年分析!H$48,"▲","-")),2) -> 8.98 | E19: =ROUND(VALUE(SUBSTITUTE(実質収支比率等に係る経年分析!I$48,"▲","-")),2) -> 5.24 | F19: =ROUND(VALUE(SUBSTITUTE(実質収支比率等に係る経年分析!J$48,"▲","-")),2) -> 3.6
A20: 財政調整基金残高 | B20: =ROUND(VALUE(SUBSTITUTE(実質収支比率等に係る経年分析!F$47,"▲","-")),2) -> 21.78 | C20: =ROUND(VALUE(SUBSTITUTE(実質収支比率等に係る経年分析!G$47,"▲","-")),2) -> 29.44 | D20: =ROUND(VALUE(SUBSTITUTE(実質収支比率等に係る経年分析!H$47,"▲","-")),2) -> 39.25 | E20: =ROUND(VALUE(SUBSTITUTE(実質収支比率等に係る経年分析!I$47,"▲","-")),2) -> 42.76 | F20: =ROUND(VALUE(SUBSTITUTE(実質収支比率等に係る経年分析!J$47,"▲","-")),2) -> 42.78
A21: 実質単年度収支 | B21: =IF(ISNUMBER(VALUE(SUBSTITUTE(実質収支比率等に係る経年分析!F$49,"▲","-"))),ROUND(VALUE(SUBSTITUTE(実質収支比率等に係る経年分析!F$49,"▲","-")),2),NA()) -> -0.54 | C21: =IF(ISNUMBER(VALUE(SUBSTITUTE(実質収支比率等に係る経年分析!G$49,"▲","-"))),ROUND(VALUE(SUBSTITUTE(実質収支比率等に係る経年分析!G$49,"▲","-")),2),NA()) -> 0.81 | D21: =IF(ISNUMBER(VALUE(SUBSTITUTE(実質収支比率等に係る経年分析!H$49,"▲","-"))),ROUND(VALUE(SUBSTITUTE(実質収支比率等に係る経年分析!H$49,"▲","-")),2),NA()) -> 10.84 | E21: =IF(ISNUMBER(VALUE(SUBSTITUTE(実質収支比率等に係る経年分析!I$49,"▲","-"))),ROUND(VALUE(SUBSTITUTE(実質収支比率等に係る経年分析!I$49,"▲","-")),2),NA()) -> 9.6 | F21: =IF(ISNUMBER(VALUE(SUBSTITUTE(実質収支比率等に係る経年分析!J$49,"▲","-"))),ROUND(VALUE(SUBSTITUTE(実質収支比率等に係る経年分析!J$49,"▲","-")),2),NA()) -> -5.29
A24: 連結実質赤字比率に係る赤字・黒字の構成分析
B25: =#REF! -> #REF! | D25: =#REF! -> #REF! | F25: =#REF! -> #REF! | H25: =#REF! -> #REF! | J25: =#REF! -> #REF!
B26: 赤字額 | C26: 黒字額 | D26: 赤字額 | E26: 黒字額 | F26: 赤字額 | G26: 黒字額 | H26: 赤字額 | I26: 黒字額 | J26: 赤字額 | K26: 黒字額
A27: =IF(#REF!="",NA(),#REF!) -> #REF! | B27: =IF(ROUND(VALUE(SUBSTITUTE(#REF!,"▲", "-")), 2) < 0, ABS(ROUND(VALUE(SUBSTITUTE(#REF!,"▲", "-")), 2)), NA()) -> #REF! | C27: =IF(ROUND(VALUE(SUBSTITUTE(#REF!,"▲", "-")), 2) >= 0, ABS(ROUND(VALUE(SUBSTITUTE(#REF!,"▲", "-")), 2)), NA()) -> #REF! | D27: =IF(ROUND(VALUE(SUBSTITUTE(#REF!,"▲", "-")), 2) < 0, ABS(ROUND(VALUE(SUBSTITUTE(#REF!,"▲", "-")), 2)), NA()) -> #REF! | E27: =IF(ROUND(VALUE(SUBSTITUTE(#REF!,"▲", "-")), 2) >= 0, ABS(ROUND(VALUE(SUBSTITUTE(#REF!,"▲", "-")), 2)), NA()) -> #REF! | F27: =IF(ROUND(VALUE(SUBSTITUTE(#REF!,"▲", "-")), 2) < 0, ABS(ROUND(VALUE(SUBSTITUTE(#REF!,"▲", "-")), 2)), NA()) -> #REF! | G27: =IF(ROUND(VALUE(SUBSTITUTE(#REF!,"▲", "-")), 2) >= 0, ABS(ROUND(VALUE(SUBSTITUTE(#REF!,"▲", "-")), 2)), NA()) -> #REF! | H27: =IF(ROUND(VALUE(SUBSTITUTE(#REF!,"▲", "-")), 2) < 0, ABS(ROUND(VALUE(SUBSTITUTE(#REF!,"▲", "-")), 2)), NA()) -> #REF! | I27: =IF(ROUND(VALUE(SUBSTITUTE(#REF!,"▲", "-")), 2) >= 0, ABS(ROUND(VALUE(SUBSTITUTE(#REF!,"▲", "-")), 2)), NA()) -> #REF! | J27: =IF(ROUND(VALUE(SUBSTITUTE(#REF!,"▲", "-")), 2) < 0, ABS(ROUND(VALUE(SUBSTITUTE(#REF!,"▲", "-")), 2)), NA()) -> #REF! | K27: =IF(ROUND(VALUE(SUBSTITUTE(#REF!,"▲", "-")), 2) >= 0, ABS(ROUND(VALUE(SUBSTITUTE(#REF!,"▲", "-")), 2)), NA()) -> #REF!
A28: =IF(#REF!="",NA(),#REF!) -> #REF! | B28: =IF(ROUND(VALUE(SUBSTITUTE(#REF!,"▲", "-")), 2) < 0, ABS(ROUND(VALUE(SUBSTITUTE(#REF!,"▲", "-")), 2)), NA()) -> #REF! | C28: =IF(ROUND(VALUE(SUBSTITUTE(#REF!,"▲", "-")), 2) >= 0, ABS(ROUND(VALUE(SUBSTITUTE(#REF!,"▲", "-")), 2)), NA()) -> #REF! | D28: =IF(ROUND(VALUE(SUBSTITUTE(#REF!,"▲", "-")), 2) < 0, ABS(ROUND(VALUE(SUBSTITUTE(#REF!,"▲", "-")), 2)), NA()) -> #REF! | E28: =IF(ROUND(VALUE(SUBSTITUTE(#REF!,"▲", "-")), 2) >= 0, ABS(ROUND(VALUE(SUBSTITUTE(#REF!,"▲", "-")), 2)), NA()) -> #REF! | F28: =IF(ROUND(VALUE(SUBSTITUTE(#REF!,"▲", "-")), 2) < 0, ABS(ROUND(VALUE(SUBSTITUTE(#REF!,"▲", "-")), 2)), NA()) -> #REF! | G28: =IF(ROUND(VALUE(SUBSTITUTE(#REF!,"▲", "-")), 2) >= 0, ABS(ROUND(VALUE(SUBSTITUTE(#REF!,"▲", "-")), 2)), NA()) -> #REF! | H28: =IF(ROUND(VALUE(SUBSTITUTE(#REF!,"▲", "-")), 2) < 0, ABS(ROUND(VALUE(SUBSTITUTE(#REF!,"▲", "-")), 2)), NA()) -> #REF! | I28: =IF(ROUND(VALUE(SUBSTITUTE(#REF!,"▲", "-")), 2) >= 0, ABS(ROUND(VALUE(SUBSTITUTE(#REF!,"▲", "-")), 2)), NA()) -> #REF! | J28: =IF(ROUND(VALUE(SUBSTITUTE(#REF!,"▲", "-")), 2) < 0, ABS(ROUND(VALUE(SUBSTITUTE(#REF!,"▲", "-")), 2)), NA()) -> #REF! | K28: =IF(ROUND(VALUE(SUBSTITUTE(#REF!,"▲", "-")), 2) >= 0, ABS(ROUND(VALUE(SUBSTITUTE(#REF!,"▲", "-")), 2)), NA()) -> #REF!
A29: =IF(#REF!="",NA(),#REF!) -> #REF! | B29: =IF(ROUND(VALUE(SUBSTITUTE(#REF!,"▲", "-")), 2) < 0, ABS(ROUND(VALUE(SUBSTITUTE(#REF!,"▲", "-")), 2)), NA()) -> #REF! | C29: =IF(ROUND(VALUE(SUBSTITUTE(#REF!,"▲", "-")), 2) >= 0, ABS(ROUND(VALUE(SUBSTITUTE(#REF!,"▲", "-")), 2)), NA()) -> #REF! | D29: =IF(ROUND(VALUE(SUBSTITUTE(#REF!,"▲", "-")), 2) < 0, ABS(ROUND(VALUE(SUBSTITUTE(#REF!,"▲", "-")), 2)), NA()) -> #REF! | E29: =IF(ROUND(VALUE(SUBSTITUTE(#REF!,"▲", "-")), 2) >= 0, ABS(ROUND(VALUE(SUBSTITUTE(#REF!,"▲", "-")), 2)), NA()) -> #REF! | F29: =IF(ROUND(VALUE(SUBSTITUTE(#REF!,"▲", "-")), 2) < 0, ABS(ROUND(VALUE(SUBSTITUTE(#REF!,"▲", "-")), 2)), NA()) -> #REF! | G29: =IF(ROUND(VALUE(SUBSTITUTE(#REF!,"▲", "-")), 2) >= 0, ABS(ROUND(VALUE(SUBSTITUTE(#REF!,"▲", "-")), 2)), NA()) -> #REF! | H29: =IF(ROUND(VALUE(SUBSTITUTE(#REF!,"▲", "-")), 2) < 0, ABS(ROUND(VALUE(SUBSTITUTE(#REF!,"▲", "-")), 2)), NA()) -> #REF! | I29: =IF(ROUND(VALUE(SUBSTITUTE(#REF!,"▲", "-")), 2) >= 0, ABS(ROUND(VALUE(SUBSTITUTE(#REF!,"▲", "-")), 2)), NA()) -> #REF! | J29: =IF(ROUND(VALUE(SUBSTITUTE(#REF!,"▲", "-")), 2) < 0, ABS(ROUND(VALUE(SUBSTITUTE(#REF!,"▲", "-")), 2)), NA()) -> #REF! | K29: =IF(ROUND(VALUE(SUBSTITUTE(#REF!,"▲", "-")), 2) >= 0, ABS(ROUND(VALUE(SUBSTITUTE(#REF!,"▲", "-")), 2)), NA()) -> #REF!
A30: =IF(#REF!="",NA(),#REF!) -> #REF! | B30: =IF(ROUND(VALUE(SUBSTITUTE(#REF!,"▲", "-")), 2) < 0, ABS(ROUND(VALUE(SUBSTITUTE(#REF!,"▲", "-")), 2)), NA()) -> #REF! | C30: =IF(ROUND(VALUE(SUBSTITUTE(#REF!,"▲", "-")), 2) >= 0, ABS(ROUND(VALUE(SUBSTITUTE(#REF!,"▲", "-")), 2)), NA()) -> #REF! | D30: =IF(ROUND(VALUE(SUBSTITUTE(#REF!,"▲", "-")), 2) < 0, ABS(ROUND(VALUE(SUBSTITUTE(#REF!,"▲", "-")), 2)), NA()) -> #REF! | E30: =IF(ROUND(VALUE(SUBSTITUTE(#REF!,"▲", "-")), 2) >= 0, ABS(ROUND(VALUE(SUBSTITUTE(#REF!,"▲", "-")), 2)), NA()) -> #REF! | F30: =IF(ROUND(VALUE(SUBSTITUTE(#REF!,"▲", "-")), 2) < 0, ABS(ROUND(VALUE(SUBSTITUTE(#REF!,"▲", "-")), 2)), NA()) -> #REF! | G30: =IF(ROUND(VALUE(SUBSTITUTE(#REF!,"▲", "-")), 2) >= 0, ABS(ROUND(VALUE(SUBSTITUTE(#REF!,"▲", "-")), 2)), NA()) -> #REF! | H30: =IF(ROUND(VALUE(SUBSTITUTE(#REF!,"▲", "-")), 2) < 0, ABS(ROUND(VALUE(SUBSTITUTE(#REF!,"▲", "-")), 2)), NA()) -> #REF! | I30: =IF(ROUND(VALUE(SUBSTITUTE(#REF!,"▲", "-")), 2) >= 0, ABS(ROUND(VALUE(SUBSTITUTE(#REF!,"▲", "-")), 2)), NA()) -> #REF! | J30: =IF(ROUND(VALUE(SUBSTITUTE(#REF!,"▲", "-")), 2) < 0, ABS(ROUND(VALUE(SUBSTITUTE(#REF!,"▲", "-")), 2)), NA()) -> #REF! | K30: =IF(ROUND(VALUE(SUBSTITUTE(#REF!,"▲", "-")), 2) >= 0, ABS(ROUND(VALUE(SUBSTITUTE(#REF!,"▲", "-")), 2)), NA()) -> #REF!
A31: =IF(#REF!="",NA(),#REF!) -> #REF! | B31: =IF(ROUND(VALUE(SUBSTITUTE(#REF!,"▲", "-")), 2) < 0, ABS(ROUND(VALUE(SUBSTITUTE(#REF!,"▲", "-")), 2)), NA()) -> #REF! | C31: =IF(ROUND(VALUE(SUBSTITUTE(#REF!,"▲", "-")), 2) >= 0, ABS(ROUND(VALUE(SUBSTITUTE(#REF!,"▲", "-")), 2)), NA()) -> #REF! | D31: =IF(ROUND(VALUE(SUBSTITUTE(#REF!,"▲", "-")), 2) < 0, ABS(ROUND(VALUE(SUBSTITUTE(#REF!,"▲", "-")), 2)), NA()) -> #REF! | E31: =IF(ROUND(VALUE(SUBSTITUTE(#REF!,"▲", "-")), 2) >= 0, ABS(ROUND(VALUE(SUBSTITUTE(#REF!,"▲", "-")), 2)), NA()) -> #REF! | F31: =IF(ROUND(VALUE(SUBSTITUTE(#REF!,"▲", "-")), 2) < 0, ABS(ROUND(VALUE(SUBSTITUTE(#REF!,"▲", "-")), 2)), NA()) -> #REF! | G31: =IF(ROUND(VALUE(SUBSTITUTE(#REF!,"▲", "-")), 2) >= 0, ABS(ROUND(VALUE(SUBSTITUTE(#REF!,"▲", "-")), 2)), NA()) -> #REF! | H31: =IF(ROUND(VALUE(SUBSTITUTE(#REF!,"▲", "-")), 2) < 0, ABS(ROUND(VALUE(SUBSTITUTE(#REF!,"▲", "-")), 2)), NA()) -> #REF! | I31: =IF(ROUND(VALUE(SUBSTITUTE(#REF!,"▲", "-")), 2) >= 0, ABS(ROUND(VALUE(SUBSTITUTE(#REF!,"▲", "-")), 2)), NA()) -> #REF! | J31: =IF(ROUND(VALUE(SUBSTITUTE(#REF!,"▲", "-")), 2) < 0, ABS(ROUND(VALUE(SUBSTITUTE(#REF!,"▲", "-")), 2)), NA()) -> #REF! | K31: =IF(ROUND(VALUE(SUBSTITUTE(#REF!,"▲", "-")), 2) >= 0, ABS(ROUND(VALUE(SUBSTITUTE(#REF!,"▲", "-")), 2)), NA()) -> #REF!
A32: =IF(#REF!="",NA(),#REF!) -> #REF! | B32: =IF(ROUND(VALUE(SUBSTITUTE(#REF!,"▲", "-")), 2) < 0, ABS(ROUND(VALUE(SUBSTITUTE(#REF!,"▲", "-")), 2)), NA()) -> #REF! | C32: =IF(ROUND(VALUE(SUBSTITUTE(#REF!,"▲", "-")), 2) >= 0, ABS(ROUND(VALUE(SUBSTITUTE(#REF!,"▲", "-")), 2)), NA()) -> #REF! | D32: =IF(ROUND(VALUE(SUBSTITUTE(#REF!,"▲", "-")), 2) < 0, ABS(ROUND(VALUE(SUBSTITUTE(#REF!,"▲", "-")), 2)), NA()) -> #REF! | E32: =IF(ROUND(VALUE(SUBSTITUTE(#REF!,"▲", "-")), 2) >= 0, ABS(ROUND(VALUE(SUBSTITUTE(#REF!,"▲", "-")), 2)), NA()) -> #REF! | F32: =IF(ROUND(VALUE(SUBSTITUTE(#REF!,"▲", "-")), 2) < 0, ABS(ROUND(VALUE(SUBSTITUTE(#REF!,"▲", "-")), 2)), NA()) -> #REF! | G32: =IF(ROUND(VALUE(SUBSTITUTE(#REF!,"▲", "-")), 2) >= 0, ABS(ROUND(VALUE(SUBSTITUTE(#REF!,"▲", "-")), 2)), NA()) -> #REF! | H32: =IF(ROUND(VALUE(SUBSTITUTE(#REF!,"▲", "-")), 2) < 0, ABS(ROUND(VALUE(SUBSTITUTE(#REF!,"▲", "-")), 2)), NA()) -> #REF! | I32: =IF(ROUND(VALUE(SUBSTITUTE(#REF!,"▲", "-")), 2) >= 0, ABS(ROUND(VALUE(SUBSTITUTE(#REF!,"▲", "-")), 2)), NA()) -> #REF! | J32: =IF(ROUND(VALUE(SUBSTITUTE(#REF!,"▲", "-")), 2) < 0, ABS(ROUND(VALUE(SUBSTITUTE(#REF!,"▲", "-")), 2)), NA()) -> #REF! | K32: =IF(ROUND(VALUE(SUBSTITUTE(#REF!,"▲", "-")), 2) >= 0, ABS(ROUND(VALUE(SUBSTITUTE(#REF!,"▲", "-")), 2)), NA()) -> #REF!
A33: =IF(#REF!="",NA(),#REF!) -> #REF! | B33: =IF(ROUND(VALUE(SUBSTITUTE(#REF!,"▲", "-")), 2) < 0, ABS(ROUND(VALUE(SUBSTITUTE(#REF!,"▲", "-")), 2)), NA()) -> #REF! | C33: =IF(ROUND(VALUE(SUBSTITUTE(#REF!,"▲", "-")), 2) >= 0, ABS(ROUND(VALUE(SUBSTITUTE(#REF!,"▲", "-")), 2)), NA()) -> #REF! | D33: =IF(ROUND(VALUE(SUBSTITUTE(#REF!,"▲", "-")), 2) < 0, ABS(ROUND(VALUE(SUBSTITUTE(#REF!,"▲", "-")), 2)), NA()) -> #REF! | E33: =IF(ROUND(VALUE(SUBSTITUTE(#REF!,"▲", "-")), 2) >= 0, ABS(ROUND(VALUE(SUBSTITUTE(#REF!,"▲", "-")), 2)), NA()) -> #REF! | F33: =IF(ROUND(VALUE(SUBSTITUTE(#REF!,"▲", "-")), 2) < 0, ABS(ROUND(VALUE(SUBSTITUTE(#REF!,"▲", "-")), 2)), NA()) -> #REF! | G33: =IF(ROUND(VALUE(SUBSTITUTE(#REF!,"▲", "-")), 2) >= 0, ABS(ROUND(VALUE(SUBSTITUTE(#REF!,"▲", "-")), 2)), NA()) -> #REF! | H33: =IF(ROUND(VALUE(SUBSTITUTE(#REF!,"▲", "-")), 2) < 0, ABS(ROUND(VALUE(SUBSTITUTE(#REF!,"▲", "-")), 2)), NA()) -> #REF! | I33: =IF(ROUND(VALUE(SUBSTITUTE(#REF!,"▲", "-")), 2) >= 0, ABS(ROUND(VALUE(SUBSTITUTE(#REF!,"▲", "-")), 2)), NA()) -> #REF! | J33: =IF(ROUND(VALUE(SUBSTITUTE(#REF!,"▲", "-")), 2) < 0, ABS(ROUND(VALUE(SUBSTITUTE(#REF!,"▲", "-")), 2)), NA()) -> #REF! | K33: =IF(ROUND(VALUE(SUBSTITUTE(#REF!,"▲", "-")), 2) >= 0, ABS(ROUND(VALUE(SUBSTITUTE(#REF!,"▲", "-")), 2)), NA()) -> #REF!
A34: =IF(#REF!="",NA(),#REF!) -> #REF! | B34: =IF(ROUND(VALUE(SUBSTITUTE(#REF!,"▲", "-")), 2) < 0, ABS(ROUND(VALUE(SUBSTITUTE(#REF!,"▲", "-")), 2)), NA()) -> #REF! | C34: =IF(ROUND(VALUE(SUBSTITUTE(#REF!,"▲", "-")), 2) >= 0, ABS(ROUND(VALUE(SUBSTITUTE(#REF!,"▲", "-")), 2)), NA()) -> #REF! | D34: =IF(ROUND(VALUE(SUBSTITUTE(#REF!,"▲", "-")), 2) < 0, ABS(ROUND(VALUE(SUBSTITUTE(#REF!,"▲", "-")), 2)), NA()) -> #REF! | E34: =IF(ROUND(VALUE(SUBSTITUTE(#REF!,"▲", "-")), 2) >= 0, ABS(ROUND(VALUE(SUBSTITUTE(#REF!,"▲", "-")), 2)), NA()) -> #REF! | F34: =IF(ROUND(VALUE(SUBSTITUTE(#REF!,"▲", "-")), 2) < 0, ABS(ROUND(VALUE(SUBSTITUTE(#REF!,"▲", "-")), 2)), NA()) -> #REF! | G34: =IF(ROUND(VALUE(SUBSTITUTE(#REF!,"▲", "-")), 2) >= 0, ABS(ROUND(VALUE(SUBSTITUTE(#REF!,"▲", "-")), 2)), NA()) -> #REF! | H34: =IF(ROUND(VALUE(SUBSTITUTE(#REF!,"▲", "-")), 2) < 0, ABS(ROUND(VALUE(SUBSTITUTE(#REF!,"▲", "-")), 2)), NA()) -> #REF! | I34: =IF(ROUND(VALUE(SUBSTITUTE(#REF!,"▲", "-")), 2) >= 0, ABS(ROUND(VALUE(SUBSTITUTE(#REF!,"▲", "-")), 2)), NA()) -> #REF! | J34: =IF(ROUND(VALUE(SUBSTITUTE(#REF!,"▲", "-")), 2) < 0, ABS(ROUND(VALUE(SUBSTITUTE(#REF!,"▲", "-")), 2)), NA()) -> #REF! | K34: =IF(ROUND(VALUE(SUBSTITUTE(#REF!,"▲", "-")), 2) >= 0, ABS(ROUND(VALUE(SUBSTITUTE(#REF!,"▲", "-")), 2)), NA()) -> #REF!
A35: =IF(#REF!="",NA(),#REF!) -> #REF! | B35: =IF(ROUND(VALUE(SUBSTITUTE(#REF!,"▲", "-")), 2) < 0, ABS(ROUND(VALUE(SUBSTITUTE(#REF!,"▲", "-")), 2)), NA()) -> #REF! | C35: =IF(ROUND(VALUE(SUBSTITUTE(#REF!,"▲", "-")), 2) >= 0, ABS(ROUND(VALUE(SUBSTITUTE(#REF!,"▲", "-")), 2)), NA()) -> #REF! | D35: =IF(ROUND(VALUE(SUBSTITUTE(#REF!,"▲", "-")), 2) < 0, ABS(ROUND(VALUE(SUBSTITUTE(#REF!,"▲", "-")), 2)), NA()) -> #REF! | E35: =IF(ROUND(VALUE(SUBSTITUTE(#REF!,"▲", "-")), 2) >= 0, ABS(ROUND(VALUE(SUBSTITUTE(#REF!,"▲", "-")), 2)), NA()) -> #REF! | F35: =IF(ROUND(VALUE(SUBSTITUTE(#REF!,"▲", "-")), 2) < 0, ABS(ROUND(VALUE(SUBSTITUTE(#REF!,"▲", "-")), 2)), NA()) -> #REF! | G35: =IF(ROUND(VALUE(SUBSTITUTE(#REF!,"▲", "-")), 2) >= 0, ABS(ROUND(VALUE(SUBSTITUTE(#REF!,"▲", "-")), 2)), NA()) -> #REF! | H35: =IF(ROUND(VALUE(SUBSTITUTE(#REF!,"▲", "-")), 2) < 0, ABS(ROUND(VALUE(SUBSTITUTE(#REF!,"▲", "-")), 2)), NA()) -> #REF! | I35: =IF(ROUND(VALUE(SUBSTITUTE(#REF!,"▲", "-")), 2) >= 0, ABS(ROUND(VALUE(SUBSTITUTE(#REF!,"▲", "-")), 2)), NA()) -> #REF! | J35: =IF(ROUND(VALUE(SUBSTITUTE(#REF!,"▲", "-")), 2) < 0, ABS(ROUND(VALUE(SUBSTITUTE(#REF!,"▲", "-")), 2)), NA()) -> #REF! | K35: =IF(ROUND(VALUE(SUBSTITUTE(#REF!,"▲", "-")), 2) >= 0, ABS(ROUND(VALUE(SUBSTITUTE(#REF!,"▲", "-")), 2)), NA()) -> #REF!
A36: =IF(#REF!="",NA(),#REF!) -> #REF! | B36: =IF(ROUND(VALUE(SUBSTITUTE(#REF!,"▲", "-")), 2) < 0, ABS(ROUND(VALUE(SUBSTITUTE(#REF!,"▲", "-")), 2)), NA()) -> #REF! | C36: =IF(ROUND(VALUE(SUBSTITUTE(#REF!,"▲", "-")), 2) >= 0, ABS(ROUND(VALUE(SUBSTITUTE(#REF!,"▲", "-")), 2)), NA()) -> #REF! | D36: =IF(ROUND(VALUE(SUBSTITUTE(#REF!,"▲", "-")), 2) < 0, ABS(ROUND(VALUE(SUBSTITUTE(#REF!,"▲", "-")), 2)), NA()) -> #REF! | E36: =IF(ROUND(VALUE(SUBSTITUTE(#REF!,"▲", "-")), 2) >= 0, ABS(ROUND(VALUE(SUBSTITUTE(#REF!,"▲", "-")), 2)), NA()) -> #REF! | F36: =IF(ROUND(VALUE(SUBSTITUTE(#REF!,"▲", "-")), 2) < 0, ABS(ROUND(VALUE(SUBSTITUTE(#REF!,"▲", "-")), 2)), NA()) -> #REF! | G36: =IF(ROUND(VALUE(SUBSTITUTE(#REF!,"▲", "-")), 2) >= 0, ABS(ROUND(VALUE(SUBSTITUTE(#REF!,"▲", "-")), 2)), NA()) -> #REF! | H36: =IF(ROUND(VALUE(SUBSTITUTE(#REF!,"▲", "-")), 2) < 0, ABS(ROUND(VALUE(SUBSTITUTE(#REF!,"▲", "-")), 2)), NA()) -> #REF! | I36: =IF(ROUND(VALUE(SUBSTITUTE(#REF!,"▲", "-")), 2) >= 0, ABS(ROUND(VALUE(SUBSTITUTE(#REF!,"▲", "-")), 2)), NA()) -> #REF! | J36: =IF(ROUND(VALUE(SUBSTITUTE(#REF!,"▲", "-")), 2) < 0, ABS(ROUND(VALUE(SUBSTITUTE(#REF!,"▲", "-")), 2)), NA()) -> #REF! | K36: =IF(ROUND(VALUE(SUBSTITUTE(#REF!,"▲", "-")), 2) >= 0, ABS(ROUND(VALUE(SUBSTITUTE(#REF!,"▲", "-")), 2)), NA()) -> #REF!
A39: 実質公債費比率（分子）の構造
B40: =#REF! -> #REF! | E40: =#REF! -> #REF! | H40: =#REF! -> #REF! | K40: =#REF! -> #REF! | N40: =#REF! -> #REF!
B41: 元利償還金等 | D41: 算入公債費等 | E41: 元利償還金等 | G41: 算入公債費等 | H41: 元利償還金等 | J41: 算入公債費等 | K41: 元利償還金等 | M41: 算入公債費等 | N41: 元利償還金等 | P41: 算入公債費等
A42: 算入公債費等 | D42: =#REF! -> #REF! | G42: =#REF! -> #REF! | J42: =#REF! -> #REF! | M42: =#REF! -> #REF! | P42: =#REF! -> #REF!
A43: 一時借入金の利子 | B43: =#REF! -> #REF! | E43: =#REF! -> #REF! | H43: =#REF! -> #REF! | K43: =#REF! -> #REF! | N43: =#REF! -> #REF!
A44: 債務負担行為に基づく支出額 | B44: =#REF! -> #REF! | E44: =#REF! -> #REF! | H44: =#REF! -> #REF! | K44: =#REF! -> #REF! | N44: =#REF! -> #REF!
A45: 組合等が起こした地方債の元利償還金に対する負担金等 | B45: =#REF! -> #REF! | E45: =#REF! -> #REF! | H45: =#REF! -> #REF! | K45: =#REF! -> #REF! | N45: =#REF! -> #REF!
A46: 公営企業債の元利償還金に対する繰入金 | B46: =#REF! -> #REF! | E46: =#REF! -> #REF! | H46: =#REF! -> #REF! | K46: =#REF! -> #REF! | N46: =#REF! -> #REF!
A47: 満期一括償還地方債に係る年度割相当額 | B47: =#REF! -> #REF! | E47: =#REF! -> #REF! | H47: =#REF! -> #REF! | K47: =#REF! -> #REF! | N47: =#REF! -> #REF!
...
