Workbook

Sheet 総括表
B1: 令和6年度 財政状況資料集
B2: 総括表（市町村）
B3: 都道府県名 | L3: 宮城県 | W3: 市町村類型 | AC3: Ⅱ－１ | AM3: 指定団体等の指定状況 | AY3: 区分 | BN3: 令和6年度(千円) | BV3: 令和5年度(千円) | CD3: 区分 | CT3: 令和6年度(千円･％) | DB3: 令和5年度(千円･％)
AY4: 歳入総額 | BN4: 6920475 | BV4: 6987816 | CD4: 実質収支比率 | CT4: 12 | DB4: 15.4
AM5: 財政健全化等 | AU5: × | AY5: 歳出総額 | BN5: 6425703 | BV5: 6341012 | CD5: 経常収支比率 | CT5: 84.9 | DB5: 87.6
B6: 市町村名 | L6: 大郷町 | W6: 地方交付税種地 | AC6: 2-3 | AM6: 財源超過 | AU6: × | AY6: 歳入歳出差引 | BN6: 494772 | BV6: 646804 | CD6: (※1) | CT6: 85.1 | DB6: 88
AM7: 首都 | AU7: × | AY7: 翌年度に繰越すべき財源 | BN7: 87135 | BV7: 136898 | CD7: 標準財政規模 | CT7: 3397802 | DB7: 3302003
AM8: 近畿 | AU8: × | AY8: 実質収支 | BN8: 407637 | BV8: 509906 | CD8: 財政力指数 | CT8: 0.52 | DB8: 0.51
B9: 人口 | L9: 令和2年国調(人) | R9: 7813 | W9: 産業構造 (※5) | AM9: 中部 | AU9: × | AY9: 単年度収支 | BN9: -102269 | BV9: -18579 | CD9: 公債費負担比率 | CT9: 11.9 | DB9: 9.9
L10: 平成27年国調(人) | R10: 8370 | AM10: 過疎 | AU10: ○ | AY10: 積立金 | BN10: 483 | BV10: 209 | CD10: 健全化判断比率
L11: 増減率 (％) | R11: -6.7 | AM11: 山振 | AU11: × | AY11: 繰上償還金 | BN11: 0 | BV11: 0 | CD11: 実質赤字比率 | CT11: - | DB11: -
B12: 住民基本台帳人口 (※7) | L12: 令07.01.01(人) | R12: 7480 | W12: 区分 | AC12: 令和2年国調 | AH12: 平成27年国調 | AM12: 低開発 | AU12: × | AY12: 積立金取崩し額 | BN12: 177993 | BV12: 304328 | CD12: 連結実質赤字比率 | CT12: - | DB12: -
M13: うち日本人(人) | R13: 7309 | W13: 第1次 | AC13: 442 | AH13: 500 | AM13: 指数表選定 | AU13: ○ | AY13: 実質単年度収支 | BN13: -279779 | BV13: -322698 | CD13: 実質公債費比率 | CT13: 8.8 | DB13: 8.3
L14: 令06.01.01(人) | R14: 7584 | AC14: 11.8 | AH14: 12 | CD14: 将来負担比率 | CT14: - | DB14: -
M15: うち日本人(人) | R15: 7439 | W15: 第2次 | AC15: 1050 | AH15: 1153 | AY15: 基準財政収入額 | BN15: 1477443 | BV15: 1582511 | CD15: 資金不足比率 (※4)
L16: 増減率 (％) | R16: -1.4 | AC16: 28.2 | AH16: 27.7 | AY16: 基準財政需要額 | BN16: 2973029 | BV16: 2833942
M17: うち日本人(％) | R17: -1.7 | W17: 第3次 | AC17: 2238 | AH17: 2515 | AY17: 標準税収入額等 | BN17: 1891225 | BV17: 2032586
B18: 面積 (k㎡) | L18: 82.01 | AC18: 60 | AH18: 60.3 | AY18: 経常経費充当一般財源等 | BN18: 2957207 | BV18: 2840715
B19: 人口密度 (人/k㎡) | L19: 95 | AY19: 歳入一般財源等 | BN19: 4545223 | BV19: 4280028
B20: 世帯数 (世帯) | L20: 2483
B21: 職員の状況 (※8)
B22: 特別職等 | E22: 区分 | L22: 定数 | Q22: 1人あたり平均 給料月額(百円) | W22: 一般職員等(※6) | Z22: 区分 | AH22: 職員数 (人) | AM22: 給料月額 (百円) | AS22: 1人あたり平均 給料月額(百円) | AY22: 地方債現在高 | BN22: 6112115 | BV22: 5999806
AY23: うち公的資金 | BN23: 5385560 | BV23: 5240446
E24: 市区町村長 | L24: 1 | Q24: 7320 | Z24: 一般職員 | AH24: 98 | AM24: 273518 | AS24: 2791 | AY24: 地方債現在高（臨時財政対策債除き） | BN24: 4554802 | BV24: 4269952
E25: 副市区町村長 | L25: 1 | Q25: 5550 | Z25: うち消防職員 | AH25: - | AM25: - | AS25: - | AY25: 債務負担行為額（支出予定額） | BN25: 1372414 | BV25: 1251214
E26: 教育長 | L26: 1 | Q26: 5000 | Z26: うち技能労務職員 | AH26: 5 | AM26: 14310 | AS26: 2862 | AY26: 収益事業収入 | BN26: - | BV26: -
E27: 議会議長 | L27: 1 | Q27: 2940 | Z27: 教育公務員 | AH27: - | AM27: - | AS27: - | AY27: 土地開発基金現在高 | BN27: - | BV27: -
E28: 議会副議長 | L28: 1 | Q28: 2410 | Z28: 臨時職員 | AH28: - | AM28: - | AS28: - | AY28: 積立金 現在高 | BC28: 財政調整基金 | BN28: 959973 | BV28: 897483
E29: 議会議員 | L29: 10 | Q29: 2260 | Z29: 合計 | AH29: 98 | AM29: 273518 | AS29: 2791 | BC29: 減債基金 | BN29: 716552 | BV29: 666190
W30: ラスパイレス指数 | AH30: 95.9 | BC30: その他特定目的基金 | BN30: 2284793 | BV30: 2076743
C32: 一般会計等の一覧 | U32: 事業会計の一覧 | AM32: 公営企業（法適）の一覧 | BE32: 公営企業（法非適）の一覧 | BW32: 関係する一部事務組合等一覧 | CO32: 地方公社・第三セクター等一覧
C33: 項番 | E33: 会計名 | U33: 項番 | W33: 会計名 | AM33: 項番 | AO33: 会計名 | BE33: 項番 | BG33: 会計名 | BW33: 項番 | BY33: 組合等名 | CO33: 項番 | CQ33: 団体名 | DG33: (※3)
C34: =IF(E34="","",1) -> 1 | E34: =IF('[1]各会計、関係団体の財政状況及び健全化判断比率'!B7="","",'[1]各会計、関係団体の財政状況及び健全化判断比率'!B7) -> 一般会計 | U34: =IF(W34="","",MAX(C34:D43)+1) -> 2 | W34: =IF('[1]各会計、関係団体の財政状況及び健全化判断比率'!B28="","",'[1]各会計、関係団体の財政状況及び健全化判断比率'!B28) -> 国民健康保険特別会計 | AM34: =IF(AO34="","",MAX(C34:D43,U34:V43)+1) -> 5 | AO34: =IF('[1]各会計、関係団体の財政状況及び健全化判断比率'!B31="","",'[1]各会計、関係団体の財政状況及び健全化判断比率'!B31) -> 水道事業会計 | BE34: =IF(BG34="","",MAX(C34:D43,U34:V43,AM34:AN43)+1) -> 7 | BG34: =IF('[1]各会計、関係団体の財政状況及び健全化判断比率'!B33="","",'[1]各会計、関係団体の財政状況及び健全化判断比率'!B33) -> 宅地分譲事業特別会計 | BW34: =IF(BY34="","",MAX(C34:D43,U34:V43,AM34:AN43,BE34:BF43)+1) | BY34: =IF('[1]各会計、関係団体の財政状況及び健全化判断比率'!B68="","",'[1]各会計、関係団体の財政状況及び健全化判断比率'!B68) | CO34: =IF(CQ34="","",MAX(C34:D43,U34:V43,AM34:AN43,BE34:BF43,BW34:BX43)+1) | CQ34: =IF('[1]各会計、関係団体の財政状況及び健全化判断比率'!BS7="","",'[1]各会計、関係団体の財政状況及び健全化判断比率'!BS7) | DG34: =IF('[1]各会計、関係団体の財政状況及び健全化判断比率'!BR7="","",'[1]各会計、関係団体の財政状況及び健全化判断比率'!BR7)
C35: =IF(E35="","",C34+1) | E35: =IF('[1]各会計、関係団体の財政状況及び健全化判断比率'!B8="","",'[1]各会計、関係団体の財政状況及び健全化判断比率'!B8) | U35: =IF(W35="","",U34+1) -> 3 | W35: =IF('[1]各会計、関係団体の財政状況及び健全化判断比率'!B29="","",'[1]各会計、関係団体の財政状況及び健全化判断比率'!B29) -> 介護保険特別会計 | AM35: =IF(AO35="","",AM34+1) -> 6 | AO35: =IF('[1]各会計、関係団体の財政状況及び健全化判断比率'!B32="","",'[1]各会計、関係団体の財政状況及び健全化判断比率'!B32) -> 下水道事業会計 | BE35: =IF(BG35="","",BE34+1) | BW35: =IF(BY35="","",BW34+1) | BY35: =IF('[1]各会計、関係団体の財政状況及び健全化判断比率'!B69="","",'[1]各会計、関係団体の財政状況及び健全化判断比率'!B69) | CO35: =IF(CQ35="","",CO34+1) | CQ35: =IF('[1]各会計、関係団体の財政状況及び健全化判断比率'!BS8="","",'[1]各会計、関係団体の財政状況及び健全化判断比率'!BS8) | DG35: =IF('[1]各会計、関係団体の財政状況及び健全化判断比率'!BR8="","",'[1]各会計、関係団体の財政状況及び健全化判断比率'!BR8)
C36: =IF(E36="","",C35+1) | E36: =IF('[1]各会計、関係団体の財政状況及び健全化判断比率'!B9="","",'[1]各会計、関係団体の財政状況及び健全化判断比率'!B9) | U36: =IF(W36="","",U35+1) -> 4 | W36: =IF('[1]各会計、関係団体の財政状況及び健全化判断比率'!B30="","",'[1]各会計、関係団体の財政状況及び健全化判断比率'!B30) -> 後期高齢者医療特別会計 | AM36: =IF(AO36="","",AM35+1) | BE36: =IF(BG36="","",BE35+1) | BW36: =IF(BY36="","",BW35+1) | BY36: =IF('[1]各会計、関係団体の財政状況及び健全化判断比率'!B70="","",'[1]各会計、関係団体の財政状況及び健全化判断比率'!B70) | CO36: =IF(CQ36="","",CO35+1) | CQ36: =IF('[1]各会計、関係団体の財政状況及び健全化判断比率'!BS9="","",'[1]各会計、関係団体の財政状況及び健全化判断比率'!BS9) | DG36: =IF('[1]各会計、関係団体の財政状況及び健全化判断比率'!BR9="","",'[1]各会計、関係団体の財政状況及び健全化判断比率'!BR9)
C37: =IF(E37="","",C36+1) | E37: =IF('[1]各会計、関係団体の財政状況及び健全化判断比率'!B10="","",'[1]各会計、関係団体の財政状況及び健全化判断比率'!B10) | U37: =IF(W37="","",U36+1) | AM37: =IF(AO37="","",AM36+1) | BE37: =IF(BG37="","",BE36+1) | BW37: =IF(BY37="","",BW36+1) | BY37: =IF('[1]各会計、関係団体の財政状況及び健全化判断比率'!B71="","",'[1]各会計、関係団体の財政状況及び健全化判断比率'!B71) | CO37: =IF(CQ37="","",CO36+1) | CQ37: =IF('[1]各会計、関係団体の財政状況及び健全化判断比率'!BS10="","",'[1]各会計、関係団体の財政状況及び健全化判断比率'!BS10) | DG37: =IF('[1]各会計、関係団体の財政状況及び健全化判断比率'!BR10="","",'[1]各会計、関係団体の財政状況及び健全化判断比率'!BR10)
C38: =IF(E38="","",C37+1) | E38: =IF('[1]各会計、関係団体の財政状況及び健全化判断比率'!B11="","",'[1]各会計、関係団体の財政状況及び健全化判断比率'!B11) | U38: =IF(W38="","",U37+1) | AM38: =IF(AO38="","",AM37+1) | BE38: =IF(BG38="","",BE37+1) | BW38: =IF(BY38="","",BW37+1) | BY38: =IF('[1]各会計、関係団体の財政状況及び健全化判断比率'!B72="","",'[1]各会計、関係団体の財政状況及び健全化判断比率'!B72) | CO38: =IF(CQ38="","",CO37+1) | CQ38: =IF('[1]各会計、関係団体の財政状況及び健全化判断比率'!BS11="","",'[1]各会計、関係団体の財政状況及び健全化判断比率'!BS11) | DG38: =IF('[1]各会計、関係団体の財政状況及び健全化判断比率'!BR11="","",'[1]各会計、関係団体の財政状況及び健全化判断比率'!BR11)
C39: =IF(E39="","",C38+1) | E39: =IF('[1]各会計、関係団体の財政状況及び健全化判断比率'!B12="","",'[1]各会計、関係団体の財政状況及び健全化判断比率'!B12) | U39: =IF(W39="","",U38+1) | AM39: =IF(AO39="","",AM38+1) | BE39: =IF(BG39="","",BE38+1) | BW39: =IF(BY39="","",BW38+1) | BY39: =IF('[1]各会計、関係団体の財政状況及び健全化判断比率'!B73="","",'[1]各会計、関係団体の財政状況及び健全化判断比率'!B73) | CO39: =IF(CQ39="","",CO38+1) | CQ39: =IF('[1]各会計、関係団体の財政状況及び健全化判断比率'!BS12="","",'[1]各会計、関係団体の財政状況及び健全化判断比率'!BS12) | DG39: =IF('[1]各会計、関係団体の財政状況及び健全化判断比率'!BR12="","",'[1]各会計、関係団体の財政状況及び健全化判断比率'!BR12)
C40: =IF(E40="","",C39+1) | E40: =IF('[1]各会計、関係団体の財政状況及び健全化判断比率'!B13="","",'[1]各会計、関係団体の財政状況及び健全化判断比率'!B13) | U40: =IF(W40="","",U39+1) | AM40: =IF(AO40="","",AM39+1) | BE40: =IF(BG40="","",BE39+1) | BW40: =IF(BY40="","",BW39+1) | BY40: =IF('[1]各会計、関係団体の財政状況及び健全化判断比率'!B74="","",'[1]各会計、関係団体の財政状況及び健全化判断比率'!B74) | CO40: =IF(CQ40="","",CO39+1) | CQ40: =IF('[1]各会計、関係団体の財政状況及び健全化判断比率'!BS13="","",'[1]各会計、関係団体の財政状況及び健全化判断比率'!BS13) | DG40: =IF('[1]各会計、関係団体の財政状況及び健全化判断比率'!BR13="","",'[1]各会計、関係団体の財政状況及び健全化判断比率'!BR13)
C41: =IF(E41="","",C40+1) | E41: =IF('[1]各会計、関係団体の財政状況及び健全化判断比率'!B14="","",'[1]各会計、関係団体の財政状況及び健全化判断比率'!B14) | U41: =IF(W41="","",U40+1) | AM41: =IF(AO41="","",AM40+1) | BE41: =IF(BG41="","",BE40+1) | BW41: =IF(BY41="","",BW40+1) | BY41: =IF('[1]各会計、関係団体の財政状況及び健全化判断比率'!B75="","",'[1]各会計、関係団体の財政状況及び健全化判断比率'!B75) | CO41: =IF(CQ41="","",CO40+1) | CQ41: =IF('[1]各会計、関係団体の財政状況及び健全化判断比率'!BS14="","",'[1]各会計、関係団体の財政状況及び健全化判断比率'!BS14) | DG41: =IF('[1]各会計、関係団体の財政状況及び健全化判断比率'!BR14="","",'[1]各会計、関係団体の財政状況及び健全化判断比率'!BR14)
...

Sheet 普通会計の状況
DH1: 令和6年度 | DP1: 宮城県大郷町
B2: (1) 普通会計の状況（市町村）
B3: 歳入の状況（単位 千円・％） | AP3: 地方税の状況（単位 千円・％） | CD3: 歳出の状況（単位 千円・％）
B4: 区分 | R4: 決算額 | Z4: 構成比 | AD4: 経常一般財源等 | AL4: 構成比 | AP4: 区分 | BG4: 収入済額 | BO4: 構成比 | BS4: 超過課税分 | CD4: 目的別歳出の状況（単位 千円・％）
B5: 地方税 | R5: 1510270 | Z5: 21.8 | AD5: 1510270 | AL5: 43.5 | AP5: 普通税 | BG5: 1510270 | BO5: 100 | BS5: 5463 | CD5: 区分 | CR5: 決算額 (A) | CZ5: 構成比 | DD5: (A)のうち普通建設事業費 | DQ5: (A)のうち充当一般財源等
B6: 地方譲与税 | R6: 49408 | Z6: 0.7 | AD6: 49408 | AL6: 1.4 | AP6: 法定普通税 | BG6: 1510270 | BO6: 100 | BS6: 5463 | CD6: 議会費 | CR6: 88297 | CZ6: 1.4 | DD6: - | DQ6: 88297
B7: 利子割交付金 | R7: 237 | Z7: 0 | AD7: 237 | AL7: 0 | AP7: 市町村民税 | BG7: 332551 | BO7: 22 | BS7: 5463 | CD7: 総務費 | CR7: 1486540 | CZ7: 23.1 | DD7: 74076 | DQ7: 1104106
B8: 配当割交付金 | R8: 4056 | Z8: 0.1 | AD8: 4056 | AL8: 0.1 | AP8: 個人均等割 | BG8: 11266 | BO8: 0.7 | BS8: - | CD8: 民生費 | CR8: 1344077 | CZ8: 20.9 | DD8: 684 | DQ8: 810918
B9: 株式等譲渡所得割交付金 | R9: 5412 | Z9: 0.1 | AD9: 5412 | AL9: 0.2 | AP9: 所得割 | BG9: 231406 | BO9: 15.3 | BS9: - | CD9: 衛生費 | CR9: 431902 | CZ9: 6.7 | DD9: - | DQ9: 382057
B10: 分離課税所得割交付金 | R10: - | Z10: - | AD10: - | AL10: - | AP10: 法人均等割 | BG10: 32848 | BO10: 2.2 | BS10: 5463 | CD10: 労働費 | CR10: - | CZ10: - | DD10: - | DQ10: -
B11: 地方消費税交付金 | R11: 210506 | Z11: 3 | AD11: 210506 | AL11: 6.1 | AP11: 法人税割 | BG11: 57031 | BO11: 3.8 | BS11: - | CD11: 農林水産業費 | CR11: 314659 | CZ11: 4.9 | DD11: 89335 | DQ11: 149944
B12: ゴルフ場利用税交付金 | R12: 69005 | Z12: 1 | AD12: 69005 | AL12: 2 | AP12: 固定資産税 | BG12: 1047194 | BO12: 69.3 | BS12: - | CD12: 商工費 | CR12: 41675 | CZ12: 0.6 | DD12: - | DQ12: 41586
B13: 自動車取得税交付金 | R13: - | Z13: - | AD13: - | AL13: - | AP13: うち純固定資産税 | BG13: 1047194 | BO13: 69.3 | BS13: - | CD13: 土木費 | CR13: 1402238 | CZ13: 21.8 | DD13: 887233 | DQ13: 341184
B14: 軽油引取税交付金 | R14: - | Z14: - | AD14: - | AL14: - | AP14: 軽自動車税 | BG14: 35356 | BO14: 2.3 | BS14: - | CD14: 消防費 | CR14: 218602 | CZ14: 3.4 | DD14: 3135 | DQ14: 215596
B15: 自動車税環境性能割交付金 | R15: 6435 | Z15: 0.1 | AD15: 6435 | AL15: 0.2 | AP15: 市町村たばこ税 | BG15: 95169 | BO15: 6.3 | BS15: - | CD15: 教育費 | CR15: 515414 | CZ15: 8 | DD15: 34988 | DQ15: 373783
B16: 法人事業税交付金 | R16: 23229 | Z16: 0.3 | AD16: 23229 | AL16: 0.7 | AP16: 鉱産税 | BG16: - | BO16: - | BS16: - | CD16: 災害復旧費 | CR16: 2499 | CZ16: 0 | DD16: - | DQ16: 1354
B17: 地方特例交付金等 | R17: 43415 | Z17: 0.6 | AD17: 43415 | AL17: 1.3 | AP17: 特別土地保有税 | BG17: - | BO17: - | BS17: - | CD17: 公債費 | CR17: 579800 | CZ17: 9 | DD17: - | DQ17: 541626
B18: 住宅借入金等特別税額控除減収補塡特例交付金 | R18: 8327 | Z18: 0.1 | AD18: 8327 | AL18: 0.2 | AP18: 法定外普通税 | BG18: - | BO18: - | BS18: - | CD18: 諸支出金 | CR18: - | CZ18: - | DD18: - | DQ18: -
B19: 定額減税減収補塡特例交付金 | R19: 30429 | Z19: 0.4 | AD19: 30429 | AL19: 0.9 | AP19: 目的税 | BG19: - | BO19: - | BS19: - | CD19: 前年度繰上充用金 | CR19: - | CZ19: - | DD19: - | DQ19: -
B20: 新型コロナウイルス感染症対策地方税減収補塡特別交付金 | R20: 4659 | Z20: 0.1 | AD20: 4659 | AL20: 0.1 | AP20: 法定目的税 | BG20: - | BO20: - | BS20: - | CD20: 歳出合計 | CR20: 6425703 | CZ20: 100 | DD20: 1089451 | DQ20: 4050451
B21: 地方交付税 | R21: 1701871 | Z21: 24.6 | AD21: 1495586 | AL21: 43.1 | AP21: 入湯税 | BG21: - | BO21: - | BS21: -
B22: 普通交付税 | R22: 1495586 | Z22: 21.6 | AD22: 1495586 | AL22: 43.1 | AP22: 事業所税 | BG22: - | BO22: - | BS22: - | CD22: 性質別歳出の状況（単位 千円・％）
B23: 特別交付税 | R23: 205215 | Z23: 3 | AD23: - | AL23: - | AP23: 都市計画税 | BG23: - | BO23: - | BS23: - | CD23: 区分 | CR23: 決算額 | CZ23: 構成比 | DD23: 充当一般財源等 | DL23: 経常経費充当一般財源等 | DW23: 経常収支比率
B24: 震災復興特別交付税 | R24: 1070 | Z24: 0 | AD24: - | AL24: - | AP24: 水利地益税等 | BG24: - | BO24: - | BS24: - | CD24: 義務的経費計 | CR24: 2031599 | CZ24: 31.6 | DD24: 1536446 | DL24: 1497027 | DW24: 43
B25: (一般財源計) | R25: 3623844 | Z25: 52.4 | AD25: 3417559 | AL25: 98.4 | AP25: 法定外目的税 | BG25: - | BO25: - | BS25: - | CD25: 人件費 | CR25: 890615 | CZ25: 13.9 | DD25: 842172 | DL25: 825997 | DW25: 23.7
B26: 交通安全対策特別交付金 | R26: 676 | Z26: 0 | AD26: 676 | AL26: 0 | AP26: 旧法による税 | BG26: - | BO26: - | BS26: - | CD26: うち職員給 | CR26: 518625 | CZ26: 8.1 | DD26: 491346 | DL26: - | DW26: -
B27: 分担金・負担金 | R27: 14577 | Z27: 0.2 | AD27: - | AL27: - | AP27: 合計 | BG27: 1510270 | BO27: 100 | BS27: 5463 | CD27: 扶助費 | CR27: 561184 | CZ27: 8.7 | DD27: 152648 | DL27: 129404 | DW27: 3.7
B28: 使用料 | R28: 59829 | Z28: 0.9 | AD28: 2477 | AL28: 0.1 | CD28: 公債費 | CR28: 579800 | CZ28: 9 | DD28: 541626 | DL28: 541626 | DW28: 15.5
B29: 手数料 | R29: 24531 | Z29: 0.4 | AD29: - | AL29: - | CD29: 内訳 | CF29: 元利償還金 | CR29: 579800 | CZ29: 9 | DD29: 541626 | DL29: 541626 | DW29: 15.5
B30: 国庫支出金 | R30: 992594 | Z30: 14.3 | AD30: - | AL30: - | AP30: 区分 | BG30: 令和6年度 | BR30: 令和5年度 | CF30: うち元金 | CR30: 557982 | CZ30: 8.7 | DD30: 521367 | DL30: 521367 | DW30: 15
B31: 国有提供交付金(特別区財調交付金) | R31: - | Z31: - | AD31: - | AL31: - | AP31: 徴収率 (％) | AT31: 現年 | AX31: 合計 | BG31: 99.5 | BM31: 97.5 | BR31: 99.4 | BX31: 97.8 | CF31: うち利子 | CR31: 21818 | CZ31: 0.3 | DD31: 20259 | DL31: 20259 | DW31: 0.6
B32: 都道府県支出金 | R32: 301028 | Z32: 4.3 | AD32: - | AL32: - | AU32: ・計 | AX32: 市町村民税 | BG32: 99.4 | BM32: 98.5 | BR32: 99.2 | BX32: 98.3 | CF32: 一時借入金利子 | CR32: - | CZ32: - | DD32: - | DL32: - | DW32: -
B33: 財産収入 | R33: 57341 | Z33: 0.8 | AD33: 51288 | AL33: 1.5 | AX33: 純固定資産税 | BG33: 99.4 | BM33: 96.9 | BR33: 99.4 | BX33: 97.4 | CD33: その他の経費 | CR33: 3302154 | CZ33: 51.4 | DD33: 2466794 | DL33: 1460180 | DW33: 41.9
B34: 寄附金 | R34: 194876 | Z34: 2.8 | AD34: - | AL34: - | CD34: 物件費 | CR34: 981677 | CZ34: 15.3 | DD34: 671768 | DL34: 555395 | DW34: 15.9
B35: 繰入金 | R35: 643662 | Z35: 9.3 | AD35: - | AL35: - | AQ35: 公営事業等への繰出 | BG35: 国民健康保険事業会計の状況 | CD35: 維持補修費 | CR35: 154550 | CZ35: 2.4 | DD35: 37759 | DL35: 37671 | DW35: 1.1
B36: 繰越金 | R36: 206804 | Z36: 3 | AD36: - | AL36: - | AQ36: 合計 | AZ36: 735190 | BG36: 実質収支 | BV36: 66002 | CD36: 補助費等 | CR36: 1187711 | CZ36: 18.5 | DD36: 968621 | DL36: 523641 | DW36: 15
B37: 諸収入 | R37: 130422 | Z37: 1.9 | AD37: 948 | AL37: 0 | AQ37: 下水道 | AZ37: 247206 | BG37: 再差引収支 | BV37: 52861 | CD37: うち一部事務組合負担金 | CR37: 401990 | CZ37: 6.3 | DD37: 387214 | DL37: 384939 | DW37: 11
B38: 地方債 | R38: 670291 | Z38: 9.7 | AD38: - | AL38: - | AQ38: 病院 | AZ38: 66589 | BG38: 加入世帯数(世帯) | BV38: 986 | CD38: 繰出金 | CR38: 410241 | CZ38: 6.4 | DD38: 353587 | DL38: 340113 | DW38: 9.8
B39: うち減収補塡債(特例分) | R39: - | Z39: - | AD39: - | AL39: - | AQ39: 宅地造成 | AZ39: 16102 | BG39: 被保険者数(人) | BV39: 1536 | CD39: 積立金 | CR39: 521512 | CZ39: 8.1 | DD39: 389233 | DL39: - | DW39: -
B40: うち臨時財政対策債 | R40: 10991 | Z40: 0.2 | AD40: - | AL40: - | AQ40: 上水道 | AZ40: 11154 | BG40: 被保険者 1人当り | BM40: 保険税(料)収入額 | BV40: 79 | CD40: 投資・出資金・貸付金 | CR40: 46463 | CZ40: 0.7 | DD40: 45826 | DL40: 3360 | DW40: 0.1
...

Sheet 各会計、関係団体の財政状況及び健全化判断比率
A2: (2)各会計、関係団体の財政状況及び健全化判断比率（市町村） | DJ2: 令和6年度 | DQ2: 宮城県大郷町
A4: 一般会計等の財政状況（単位：百万円） | BQ4: 地方公社・第三セクター等の経営状況及び地方公共団体の財政的支援の状況（単位：百万円）
A5: 会計名 | Q5: 歳入 | V5: 歳出 | AA5: 形式収支 | AF5: 実質収支 | AK5: 他会計等 からの 繰入金 | AP5: 地方債 現在高 | AU5: 備考 | BQ5: 地方公社・第三セクター等名 | CH5: 経常損益 | CM5: 純資産又は 正味財産 | CR5: 当該団体 からの 出資金 | CW5: 当該団体 からの 補助金 | DB5: 当該団体 からの 貸付金 | DG5: 当該団体からの債務保証に係る債務残高 | DL5: 当該団体からの損失補償に係る債務残高 | DQ5: 一般会計等 負担見込額 | DV5: 備考
A7: 1 | B7: 一般会計 | Q7: 6920 | V7: 6426 | AA7: 494 | AF7: 404 | AK7: 3 | AP7: 6112 | BQ7: 1 | BS7: ㈱おおさと地域振興公社 | CH7: 7 | CM7: -1 | CR7: 21 | CW7: - | DB7: 85 | DG7: - | DL7: - | DQ7: -
A8: 2 | BQ8: 2
A9: 3 | BQ9: 3
A10: 4 | BQ10: 4
A11: 5 | BQ11: 5
A12: 6 | BQ12: 6
A13: 7 | BQ13: 7
A14: 8 | BQ14: 8
A15: 9 | BQ15: 9
A16: 10 | BQ16: 10
A17: 11 | BQ17: 11
A18: 12 | BQ18: 12
A19: 13 | BQ19: 13
... A21: 15 | BQ21: 15
A22: 16 | AZ22: 実質赤字額 | BQ22: 16
A23: 計 | B23: 一般会計等（純計） | Q23: 6920 | V23: 6426 | AA23: 494 | AF23: 404 | AP23: 6112 | AZ23: - | BQ23: 17
A24: ※一般会計等（純計）は、各会計の相互間の繰入・繰出等の重複を控除したものであり、各会計の合計と一致しない場合がある。 | BQ24: 18
A25: 公営企業会計等の財政状況（単位：百万円） | BQ25: 19
A26: 会計名 | Q26: 総収益 （歳入） | V26: 総費用 （歳出） | AA26: 純損益 （形式収支） | AF26: 資金剰余額 /不足額 （実質収支） | AK26: 他会計等 からの 繰入金 | AP26: 企業債 （地方債） 現在高 | AU26: 左のうち 一般会計等 繰入見込額 | AZ26: 資金不足 比率 | BE26: 備考 | BQ26: 20
BQ27: 21
A28: 1 | B28: 国民健康保険特別会計 | Q28: 1040 | V28: 974 | AA28: 66 | AF28: 66 | AK28: 74 | AP28: - | AU28: - | AZ28: - | BQ28: 22
A29: 2 | B29: 介護保険特別会計 | Q29: 1179 | V29: 1171 | AA29: 8 | AF29: 8 | AK29: 182 | AP29: - | AU29: - | AZ29: - | BQ29: 23
A30: 3 | B30: 後期高齢者医療特別会計 | Q30: 109 | V30: 108 | AA30: 1 | AF30: 1 | AK30: 33 | AP30: - | AU30: - | AZ30: - | BQ30: 24
A31: 4 | B31: 水道事業会計 | Q31: 238 | V31: 223 | AA31: 15 | AF31: 306 | AK31: 49 | AP31: 715 | AU31: - | AZ31: - | BE31: 法適用企業 | BQ31: 25
A32: 5 | B32: 下水道事業会計 | Q32: 350 | V32: 343 | AA32: 6 | AF32: 65 | AK32: 115 | AP32: 636 | AU32: 661 | AZ32: - | BE32: 法適用企業 | BQ32: 26
A33: 6 | B33: 宅地分譲事業特別会計 | Q33: 16 | V33: 16 | AA33: 0 | AF33: - | AK33: 0 | AP33: 126 | AU33: 126 | AZ33: - | BE33: 法非適用企業 | BQ33: 27
A34: 7 | BQ34: 28
A35: 8 | BQ35: 29
A36: 9 | BQ36: 30
A37: 10 | BQ37: 31
A38: 11 | BQ38: 32
A39: 12 | BQ39: 33
A40: 13 | BQ40: 34
A41: 14 | BQ41: 35
A42: 15 | BQ42: 36
A43: 16 | BQ43: 37
A44: 17 | BQ44: 38
...

Sheet 財政比較分析表 

Sheet 経常経費分析表（経常収支比率の分析）

Sheet 経常経費分析表（人件費・公債費・普通建設事業費の分析）
A5: 人件費及び人件費に準ずる費用の分析
AK6: 人件費及び人件費に準ずる費用
AO7: 当該団体決算額 （千円） | AQ7: 人口1人当たり決算額
AP8: 当該団体（円） | AQ8: 類似団体平均（円） | AR8: 対比（％）
AK9: 人件費 | AO9: 890615 | AP9: 119066 | AQ9: 154424 | AR9: -22.9
AK10: 一部事務組合負担金（補助費等） | AO10: 199755 | AP10: 26705 | AQ10: 18194 | AR10: 46.8
AK11: 公営企業（法適）等に対する繰出し（補助費等） | AO11: 828 | AP11: 111 | AQ11: 1285 | AR11: -91.4
AK12: 公営企業（法適）等に対する繰出し（投資及び出資金・貸付金） | AO12: - | AP12: - | AQ12: - | AR12: -
AK13: 公営企業（法非適）等に対する繰出し（繰出金） | AO13: 38943 | AP13: 5206 | AQ13: 5735 | AR13: -9.2
AK14: 事業費支弁に係る職員の人件費（投資的経費） | AO14: - | AP14: - | AQ14: 2950 | AR14: -
AK15: ▲退職金 | AO15: -65830 | AP15: -8801 | AQ15: -9110 | AR15: -3.4
AK16: 合計 | AO16: 1064311 | AP16: 142288 | AQ16: 173477 | AR16: -18
AK19: 参考
AO20: 当該団体 | AP20: 類似団体平均 | AQ20: 対比（差引）
AK21: 人口1,000人当たり職員数（人） | AO21: 13.1 | AP21: 14.28 | AQ21: -1.18
AK22: ラスパイレス指数 | AO22: 95.9 | AP22: 96 | AQ22: -0.1
A26: （注）人口については、各調査対象年度の1月1日現在の住民基本台帳に登載されている人口に基づいている。
A28: 公債費及び公債費に準ずる費用の分析
AK29: 公債費及び公債費に準ずる費用（実質公債費比率の構成要素）
AO30: 当該団体決算額 （千円） | AQ30: 人口1人当たり決算額
AP31: 当該団体（円） | AQ31: 類似団体平均（円） | AR31: 対比（％）
AK32: 元利償還金の額 （繰上償還額等を除く） | AO32: 573018 | AP32: 76607 | AQ32: 83140 | AR32: -7.9
AK33: 積立不足額を考慮して算定した額 | AO33: - | AP33: - | AQ33: - | AR33: -
AK34: 満期一括償還地方債の一年当たりの元金償還金に相当するもの （年度割相当額） | AO34: - | AP34: - | AQ34: - | AR34: -
AK35: 公営企業に要する経費の財源とする地方債の償還の財源に 充てたと認められる繰入金 | AO35: 150030 | AP35: 20057 | AQ35: 26106 | AR35: -23.2
AK36: 一部事務組合等の起こした地方債に充てたと認められる 補助金又は負担金 | AO36: 54537 | AP36: 7291 | AQ36: 4689 | AR36: 55.5
AK37: 公債費に準ずる債務負担行為に係るもの | AO37: 327 | AP37: 44 | AQ37: 554 | AR37: -92.1
AK38: 一時借入金利子 （同一団体における会計間の現金運用に係る利子は除く） | AO38: - | AP38: - | AQ38: 7 | AR38: -
AK39: ▲特定財源の額 | AO39: -38278 | AP39: -5117 | AQ39: -2038 | AR39: 151.1
AK40: ▲地方債に係る元利償還金及び準元利償還金に要する経費として 普通交付税の額の算定に用いる基準財政需要額に算入された額 | AO40: -438317 | AP40: -58599 | AQ40: -74354 | AR40: -21.2
AK41: 合計 | AO41: 301317 | AP41: 40283 | AQ41: 38106 | AR41: 5.7
A47: （参考） 普通建設事業費の分析
AK48: 普通建設事業費
AM49: 当該団体決算額 （千円） | AN49: 人口１人当たり決算額
AN50: 当該団体(円) | AO50: 増減率(%)(A) | AP50: 類似団体平均(円) | AQ50: 増減率(%)(B) | AR50: (A)-(B)
AK51: R02 | AM51: 918548 | AN51: 115803 | AO51: 55.4 | AP51: 125391 | AQ51: -13.6 | AR51: 69
AL52: うち単独分 | AM52: 339032 | AN52: 42742 | AO52: 33.8 | AP52: 68516 | AQ52: -18.2 | AR52: 52
AK53: R03 | AM53: 1156521 | AN53: 147685 | AO53: 27.5 | AP53: 122054 | AQ53: -2.7 | AR53: 30.2
AL54: うち単独分 | AM54: 509529 | AN54: 65066 | AO54: 52.2 | AP54: 68298 | AQ54: -0.3 | AR54: 52.5
AK55: R04 | AM55: 526217 | AN55: 68092 | AO55: -53.9 | AP55: 111644 | AQ55: -8.5 | AR55: -45.4
...

Sheet 性質別歳出決算分析表（住民一人当たりのコスト）

Sheet 目的別歳出決算分析表（住民一人当たりのコスト）

Sheet 実質収支比率等に係る経年分析
J45: 標準財政規模比（％）
B46: 区分 | E46: 年度 | F46: R02 | G46: R03 | H46: R04 | I46: R05 | J46: R06
C47: 財政調整基金残高 | F47: 30.66 | G47: 30.87 | H47: 31.17 | I47: 27.18 | J47: 28.25
C48: 実質収支額 | F48: 14.22 | G48: 16.49 | H48: 16.61 | I48: 15.44 | J48: 12
C49: 実質単年度収支 | F49: ▲ 14.27 | G49: ▲ 2.55 | H49: ▲ 6.41 | I49: ▲ 9.77 | J49: ▲ 8.23

Sheet 連結実質赤字比率に係る赤字・黒字の構成分析
J32: 標準財政規模比（％）
B33: 会計 | E33: 年度 | F33: R02 | G33: R03 | H33: R04 | I33: R05 | J33: R06
C34: 一般会計 | F34: 14.22 | G34: 16.48 | H34: 16.6 | I34: 15.44 | J34: 11.89
C35: 水道事業会計 | F35: 10.26 | G35: 9.08 | H35: 9.09 | I35: 8.73 | J35: 8.99
C36: 国民健康保険特別会計 | F36: 0.91 | G36: 1.24 | H36: 0.98 | I36: 0.32 | J36: 1.94
C37: 下水道事業会計 | F37: - | G37: - | H37: - | I37: - | J37: 1.92
C38: 介護保険特別会計 | F38: 1.19 | G38: 0.74 | H38: 1.69 | I38: 0.93 | J38: 0.22
C39: 後期高齢者医療特別会計 | F39: 0.01 | G39: 0.01 | H39: 0.01 | I39: 0.02 | J39: 0.01
C40: 宅地分譲事業特別会計 | F40: 0.46 | G40: 0 | H40: 0 | I40: 0 | J40: 0
C42: その他会計（赤字） | F42: - | G42: - | H42: - | I42: - | J42: -
C43: その他会計（黒字） | F43: 0.69 | G43: 0.59 | H43: 0.64 | I43: 2.9 | J43: -

Sheet 実質公債費比率（分子）の構造
O43: （百万円）
B44: 分子の構造 | J44: 年度 | K44: R02 | L44: R03 | M44: R04 | N44: R05 | O44: R06
B45: 元利償還金等(A) | E45: 元利償還金 | K45: 380 | L45: 412 | M45: 422 | N45: 453 | O45: 573
E46: 減債基金積立不足算定額※2 | K46: - | L46: - | M46: - | N46: - | O46: -
E47: 満期一括償還地方債に係る年度割相当額 | K47: - | L47: - | M47: - | N47: - | O47: -
E48: 公営企業債の元利償還金に対する繰入金 | K48: 168 | L48: 166 | M48: 149 | N48: 138 | O48: 150
E49: 組合等が起こした地方債の元利償還金に対する負担金等 | K49: 48 | L49: 44 | M49: 46 | N49: 52 | O49: 55
E50: 債務負担行為に基づく支出額 | K50: 1 | L50: 1 | M50: 0 | N50: 0 | O50: 0
E51: 一時借入金の利子 | K51: - | L51: - | M51: - | N51: - | O51: -
B52: 算入公債費等(B) | E52: 算入公債費等 | K52: 379 | L52: 383 | M52: 381 | N52: 404 | O52: 476
B53: (A)－(B) | E53: 実質公債費比率の分子 | K53: 218 | L53: 240 | M53: 236 | N53: 239 | O53: 302
B54: ※ 減債基金積立不足算定額=(C)×(１－(D)/(E))
B56: （参考） | O56: （百万円）
J57: 年度 | K57: R02 | L57: R03 | M57: R04 | N57: R05 | O57: R06
B58: 減債基金 積立状況等（注） | D58: 満期一括償還地方債に係る実質償還額又は理論償還額のいずれか少ない額(C)
D59: 前年度末減債基金残高(D)
D60: 前年度末減債基金積立相当額(E)
D61: （注）減債基金のうち、実質公債費比率の算定に用いる満期一括償還地方債の償還の財源に係るもののみを記入。
D62: 減債基金積立金の年度を超えた一般会計又は特別会計への貸付額は控除して記入。

Sheet 将来負担比率（分子）の構造
M39: （百万円）
B40: 分子の構造 | H40: 年度 | I40: R02 | J40: R03 | K40: R04 | L40: R05 | M40: R06
B41: 将来負担額(A) | E41: 一般会計等に係る地方債の現在高 | I41: 5201 | J41: 5532 | K41: 5344 | L41: 6000 | M41: 6112
E42: 債務負担行為に基づく支出予定額 | I42: - | J42: - | K42: - | L42: - | M42: -
E43: 公営企業債等繰入見込額 | I43: 1041 | J43: 965 | K43: 939 | L43: 860 | M43: 812
E44: 組合等負担等見込額 | I44: 405 | J44: 406 | K44: 402 | L44: 353 | M44: 390
E45: 退職手当負担見込額 | I45: 662 | J45: 605 | K45: 540 | L45: 550 | M45: 524
E46: 設立法人等の負債額等負担見込額 | I46: - | J46: - | K46: - | L46: - | M46: -
E47: うち、健全化法施行規則附則第三条に係る負担見込額 | I47: - | J47: - | K47: - | L47: - | M47: -
E48: 連結実質赤字額 | I48: - | J48: - | K48: - | L48: - | M48: -
E49: 組合等連結実質赤字額負担見込額 | I49: - | J49: - | K49: - | L49: - | M49: -
B50: 充当可能財源等(B) | E50: 充当可能基金 | I50: 3018 | J50: 3236 | K50: 3736 | L50: 3952 | M50: 4220
E51: 充当可能特定歳入 | I51: 520 | J51: 501 | K51: 542 | L51: 502 | M51: 463
E52: 基準財政需要額算入見込額 | I52: 4001 | J52: 4162 | K52: 4188 | L52: 4683 | M52: 4726
B53: (A)－(B) | E53: 将来負担比率の分子 | I53: -230 | J53: -391 | K53: -1241 | L53: -1375 | M53: -1570

Sheet 基金残高に係る経年分析
H53: （百万円）
B54: 区分 | E54: 年度 | F54: R04 | G54: R05 | H54: R06
C55: 財政調整基金 | F55: 992 | G55: 897 | H55: 960
C56: 減債基金 | F56: 502 | G56: 666 | H56: 717
C57: その他特定目的基金 | F57: 1913 | G57: 2077 | H57: 2285
C58: 庁舎建設基金 | F58: 500 | G58: 650 | H58: 951
C59: 公共施設整備基金 | F59: 930 | G59: 865 | H59: 740
C60: 未来づくり基金 | F60: 261 | G60: 247 | H60: 246
C61: 長寿社会対策基金 | F61: 206 | G61: 196 | H61: 186
C62: 企業版ふるさと納税基金 | F62: 0 | G62: 100 | H62: 146
C63: 基金残高合計 | F63: 3407 | G63: 3640 | H63: 3961

Sheet 公会計指標分析・財政指標組合せ分析表
B41: 将来負担比率及び有形固定資産減価償却率の組合せによる分析
AN42: 分析欄
AN43: 令和6年度の将来負担比率は、類似団体内平均値と比較して下回っており、令和2年度から同様となった。要因は令和元年東日本台風災害に係る災害復旧事業債の発行により、地方債残高は増加しているものの、災害復旧事業債償還に係る交付税の基準財政需要額への算入見込額の増や、基金残高が増加したことなどの理由から、充当可能財源の増加に繋がり、そのため将来負担比率に影響したものと考えられる。 また、有形固定資産減価償却率については、類似団体との比較で6.7ポイント上回っており、依然として高い水準にある。引き続き公共施設等総合管理計画に基づく老朽化対策等に取り組んでいく。
AN49: ( 参考 ）
BP50: R02 | BX50: R03 | CF50: R04 | CN50: R05 | CV50: R06
AN51: 当該団体値 | BB51: 将来負担比率
BB53: 有形固定資産減価償却率 | BP53: 69.1 | BX53: 72.5 | CF53: 73.6 | CN53: 74.1 | CV53: 74.9
AN55: 類似団体内平均値 | BB55: 将来負担比率 | BP55: 3.4 | BX55: 0 | CF55: 0 | CN55: 0 | CV55: 0
BB57: 有形固定資産減価償却率 | BP57: 62.8 | BX57: 66.2 | CF57: 67.1 | CN57: 67 | CV57: 68.2
B63: 将来負担比率及び実質公債費比率の組合せによる分析
AN64: 分析欄
AN65: 将来負担比率は、基金残高の増加などにより、令和2年度から改善の傾向にある。 実質公債費比率は0.5ポイント上昇し、類似団体内平均値を0.1ポイント上回っている。地方債残高は令和元年東日本台風に係る災害復旧事業債の発行の影響により増加の傾向にあるが、地方債の借入にあたっては、交付税措置のある地方債を活用し、地方単独事業債を極力抑制するなど、引き続き財政の健全化に努める。
AN71: ( 参考 ）
BP72: R02 | BX72: R03 | CF72: R04 | CN72: R05 | CV72: R06
AN73: 当該団体値 | BB73: 将来負担比率
BB75: 実質公債費比率 | BP75: 8.8 | BX75: 8.4 | CF75: 8.3 | CN75: 8.3 | CV75: 8.8
AN77: 類似団体内平均値 | BB77: 将来負担比率 | BP77: 3.4 | BX77: 0 | CF77: 0 | CN77: 0 | CV77: 0
BB79: 実質公債費比率 | BP79: 8.8 | BX79: 8 | CF79: 8.3 | CN79: 8.4 | CV79: 8.7

Sheet 施設類型別ストック情報分析表①

Sheet 施設類型別ストック情報分析表②

Sheet データシート
D2: 当該団体(円) | F2: 類似団体内平均(円)
A3: R02 | D3: 115803 | F3: 125391
D4: 42742 | F4: 68516
A5: R03 | D5: 147685 | F5: 122054
D6: 65066 | F6: 68298
A7: R04 | D7: 68092 | F7: 111644
D8: 17249 | F8: 66606
A9: R05 | D9: 127952 | F9: 127917
D10: 38036 | F10: 69746
A11: R06 | D11: 145649 | F11: 135931
D12: 19132 | F12: 75320
D13: 121036 | F13: 124587
D14: 36445 | F14: 69697
A17: 実質収支比率等に係る経年分析
B18: =実質収支比率等に係る経年分析!F$46 -> R02 | C18: =実質収支比率等に係る経年分析!G$46 -> R03 | D18: =実質収支比率等に係る経年分析!H$46 -> R04 | E18: =実質収支比率等に係る経年分析!I$46 -> R05 | F18: =実質収支比率等に係る経年分析!J$46 -> R06
A19: 実質収支額 | B19: =ROUND(VALUE(SUBSTITUTE(実質収支比率等に係る経年分析!F$48,"▲","-")),2) -> 14.22 | C19: =ROUND(VALUE(SUBSTITUTE(実質収支比率等に係る経年分析!G$48,"▲","-")),2) -> 16.49 | D19: =ROUND(VALUE(SUBSTITUTE(実質収支比率等に係る経年分析!H$48,"▲","-")),2) -> 16.61 | E19: =ROUND(VALUE(SUBSTITUTE(実質収支比率等に係る経年分析!I$48,"▲","-")),2) -> 15.44 | F19: =ROUND(VALUE(SUBSTITUTE(実質収支比率等に係る経年分析!J$48,"▲","-")),2) -> 12
A20: 財政調整基金残高 | B20: =ROUND(VALUE(SUBSTITUTE(実質収支比率等に係る経年分析!F$47,"▲","-")),2) -> 30.66 | C20: =ROUND(VALUE(SUBSTITUTE(実質収支比率等に係る経年分析!G$47,"▲","-")),2) -> 30.87 | D20: =ROUND(VALUE(SUBSTITUTE(実質収支比率等に係る経年分析!H$47,"▲","-")),2) -> 31.17 | E20: =ROUND(VALUE(SUBSTITUTE(実質収支比率等に係る経年分析!I$47,"▲","-")),2) -> 27.18 | F20: =ROUND(VALUE(SUBSTITUTE(実質収支比率等に係る経年分析!J$47,"▲","-")),2) -> 28.25
A21: 実質単年度収支 | B21: =IF(ISNUMBER(VALUE(SUBSTITUTE(実質収支比率等に係る経年分析!F$49,"▲","-"))),ROUND(VALUE(SUBSTITUTE(実質収支比率等に係る経年分析!F$49,"▲","-")),2),NA()) -> -14.27 | C21: =IF(ISNUMBER(VALUE(SUBSTITUTE(実質収支比率等に係る経年分析!G$49,"▲","-"))),ROUND(VALUE(SUBSTITUTE(実質収支比率等に係る経年分析!G$49,"▲","-")),2),NA()) -> -2.55 | D21: =IF(ISNUMBER(VALUE(SUBSTITUTE(実質収支比率等に係る経年分析!H$49,"▲","-"))),ROUND(VALUE(SUBSTITUTE(実質収支比率等に係る経年分析!H$49,"▲","-")),2),NA()) -> -6.41 | E21: =IF(ISNUMBER(VALUE(SUBSTITUTE(実質収支比率等に係る経年分析!I$49,"▲","-"))),ROUND(VALUE(SUBSTITUTE(実質収支比率等に係る経年分析!I$49,"▲","-")),2),NA()) -> -9.77 | F21: =IF(ISNUMBER(VALUE(SUBSTITUTE(実質収支比率等に係る経年分析!J$49,"▲","-"))),ROUND(VALUE(SUBSTITUTE(実質収支比率等に係る経年分析!J$49,"▲","-")),2),NA()) -> -8.23
A24: 連結実質赤字比率に係る赤字・黒字の構成分析
B25: =連結実質赤字比率に係る赤字・黒字の構成分析!F$33 -> R02 | D25: =連結実質赤字比率に係る赤字・黒字の構成分析!G$33 -> R03 | F25: =連結実質赤字比率に係る赤字・黒字の構成分析!H$33 -> R04 | H25: =連結実質赤字比率に係る赤字・黒字の構成分析!I$33 -> R05 | J25: =連結実質赤字比率に係る赤字・黒字の構成分析!J$33 -> R06
B26: 赤字額 | C26: 黒字額 | D26: 赤字額 | E26: 黒字額 | F26: 赤字額 | G26: 黒字額 | H26: 赤字額 | I26: 黒字額 | J26: 赤字額 | K26: 黒字額
A27: =IF(連結実質赤字比率に係る赤字・黒字の構成分析!C$43="",NA(),連結実質赤字比率に係る赤字・黒字の構成分析!C$43) -> その他会計（黒字） | B27: =IF(ROUND(VALUE(SUBSTITUTE(連結実質赤字比率に係る赤字・黒字の構成分析!F$43,"▲", "-")), 2) < 0, ABS(ROUND(VALUE(SUBSTITUTE(連結実質赤字比率に係る赤字・黒字の構成分析!F$43,"▲", "-")), 2)), NA()) -> #N/A | C27: =IF(ROUND(VALUE(SUBSTITUTE(連結実質赤字比率に係る赤字・黒字の構成分析!F$43,"▲", "-")), 2) >= 0, ABS(ROUND(VALUE(SUBSTITUTE(連結実質赤字比率に係る赤字・黒字の構成分析!F$43,"▲", "-")), 2)), NA()) -> 0.69 | D27: =IF(ROUND(VALUE(SUBSTITUTE(連結実質赤字比率に係る赤字・黒字の構成分析!G$43,"▲", "-")), 2) < 0, ABS(ROUND(VALUE(SUBSTITUTE(連結実質赤字比率に係る赤字・黒字の構成分析!G$43,"▲", "-")), 2)), NA()) -> #N/A | E27: =IF(ROUND(VALUE(SUBSTITUTE(連結実質赤字比率に係る赤字・黒字の構成分析!G$43,"▲", "-")), 2) >= 0, ABS(ROUND(VALUE(SUBSTITUTE(連結実質赤字比率に係る赤字・黒字の構成分析!G$43,"▲", "-")), 2)), NA()) -> 0.59 | F27: =IF(ROUND(VALUE(SUBSTITUTE(連結実質赤字比率に係る赤字・黒字の構成分析!H$43,"▲", "-")), 2) < 0, ABS(ROUND(VALUE(SUBSTITUTE(連結実質赤字比率に係る赤字・黒字の構成分析!H$43,"▲", "-")), 2)), NA()) -> #N/A | G27: =IF(ROUND(VALUE(SUBSTITUTE(連結実質赤字比率に係る赤字・黒字の構成分析!H$43,"▲", "-")), 2) >= 0, ABS(ROUND(VALUE(SUBSTITUTE(連結実質赤字比率に係る赤字・黒字の構成分析!H$43,"▲", "-")), 2)), NA()) -> 0.64 | H27: =IF(ROUND(VALUE(SUBSTITUTE(連結実質赤字比率に係る赤字・黒字の構成分析!I$43,"▲", "-")), 2) < 0, ABS(ROUND(VALUE(SUBSTITUTE(連結実質赤字比率に係る赤字・黒字の構成分析!I$43,"▲", "-")), 2)), NA()) -> #N/A | I27: =IF(ROUND(VALUE(SUBSTITUTE(連結実質赤字比率に係る赤字・黒字の構成分析!I$43,"▲", "-")), 2) >= 0, ABS(ROUND(VALUE(SUBSTITUTE(連結実質赤字比率に係る赤字・黒字の構成分析!I$43,"▲", "-")), 2)), NA()) -> 2.9 | J27: =IF(ROUND(VALUE(SUBSTITUTE(連結実質赤字比率に係る赤字・黒字の構成分析!J$43,"▲", "-")), 2) < 0, ABS(ROUND(VALUE(SUBSTITUTE(連結実質赤字比率に係る赤字・黒字の構成分析!J$43,"▲", "-")), 2)), NA()) -> #VALUE! | K27: =IF(ROUND(VALUE(SUBSTITUTE(連結実質赤字比率に係る赤字・黒字の構成分析!J$43,"▲", "-")), 2) >= 0, ABS(ROUND(VALUE(SUBSTITUTE(連結実質赤字比率に係る赤字・黒字の構成分析!J$43,"▲", "-")), 2)), NA()) -> #VALUE!
A28: =IF(連結実質赤字比率に係る赤字・黒字の構成分析!C$42="",NA(),連結実質赤字比率に係る赤字・黒字の構成分析!C$42) -> その他会計（赤字） | B28: =IF(ROUND(VALUE(SUBSTITUTE(連結実質赤字比率に係る赤字・黒字の構成分析!F$42,"▲", "-")), 2) < 0, ABS(ROUND(VALUE(SUBSTITUTE(連結実質赤字比率に係る赤字・黒字の構成分析!F$42,"▲", "-")), 2)), NA()) -> #VALUE! | C28: =IF(ROUND(VALUE(SUBSTITUTE(連結実質赤字比率に係る赤字・黒字の構成分析!F$42,"▲", "-")), 2) >= 0, ABS(ROUND(VALUE(SUBSTITUTE(連結実質赤字比率に係る赤字・黒字の構成分析!F$42,"▲", "-")), 2)), NA()) -> #VALUE! | D28: =IF(ROUND(VALUE(SUBSTITUTE(連結実質赤字比率に係る赤字・黒字の構成分析!G$42,"▲", "-")), 2) < 0, ABS(ROUND(VALUE(SUBSTITUTE(連結実質赤字比率に係る赤字・黒字の構成分析!G$42,"▲", "-")), 2)), NA()) -> #VALUE! | E28: =IF(ROUND(VALUE(SUBSTITUTE(連結実質赤字比率に係る赤字・黒字の構成分析!G$42,"▲", "-")), 2) >= 0, ABS(ROUND(VALUE(SUBSTITUTE(連結実質赤字比率に係る赤字・黒字の構成分析!G$42,"▲", "-")), 2)), NA()) -> #VALUE! | F28: =IF(ROUND(VALUE(SUBSTITUTE(連結実質赤字比率に係る赤字・黒字の構成分析!H$42,"▲", "-")), 2) < 0, ABS(ROUND(VALUE(SUBSTITUTE(連結実質赤字比率に係る赤字・黒字の構成分析!H$42,"▲", "-")), 2)), NA()) -> #VALUE! | G28: =IF(ROUND(VALUE(SUBSTITUTE(連結実質赤字比率に係る赤字・黒字の構成分析!H$42,"▲", "-")), 2) >= 0, ABS(ROUND(VALUE(SUBSTITUTE(連結実質赤字比率に係る赤字・黒字の構成分析!H$42,"▲", "-")), 2)), NA()) -> #VALUE! | H28: =IF(ROUND(VALUE(SUBSTITUTE(連結実質赤字比率に係る赤字・黒字の構成分析!I$42,"▲", "-")), 2) < 0, ABS(ROUND(VALUE(SUBSTITUTE(連結実質赤字比率に係る赤字・黒字の構成分析!I$42,"▲", "-")), 2)), NA()) -> #VALUE! | I28: =IF(ROUND(VALUE(SUBSTITUTE(連結実質赤字比率に係る赤字・黒字の構成分析!I$42,"▲", "-")), 2) >= 0, ABS(ROUND(VALUE(SUBSTITUTE(連結実質赤字比率に係る赤字・黒字の構成分析!I$42,"▲", "-")), 2)), NA()) -> #VALUE! | J28: =IF(ROUND(VALUE(SUBSTITUTE(連結実質赤字比率に係る赤字・黒字の構成分析!J$42,"▲", "-")), 2) < 0, ABS(ROUND(VALUE(SUBSTITUTE(連結実質赤字比率に係る赤字・黒字の構成分析!J$42,"▲", "-")), 2)), NA()) -> #VALUE! | K28: =IF(ROUND(VALUE(SUBSTITUTE(連結実質赤字比率に係る赤字・黒字の構成分析!J$42,"▲", "-")), 2) >= 0, ABS(ROUND(VALUE(SUBSTITUTE(連結実質赤字比率に係る赤字・黒字の構成分析!J$42,"▲", "-")), 2)), NA()) -> #VALUE!
A29: =IF(連結実質赤字比率に係る赤字・黒字の構成分析!C$41="",NA(),連結実質赤字比率に係る赤字・黒字の構成分析!C$41) -> #N/A | B29: =IF(ROUND(VALUE(SUBSTITUTE(連結実質赤字比率に係る赤字・黒字の構成分析!F$41,"▲", "-")), 2) < 0, ABS(ROUND(VALUE(SUBSTITUTE(連結実質赤字比率に係る赤字・黒字の構成分析!F$41,"▲", "-")), 2)), NA()) -> #VALUE! | C29: =IF(ROUND(VALUE(SUBSTITUTE(連結実質赤字比率に係る赤字・黒字の構成分析!F$41,"▲", "-")), 2) >= 0, ABS(ROUND(VALUE(SUBSTITUTE(連結実質赤字比率に係る赤字・黒字の構成分析!F$41,"▲", "-")), 2)), NA()) -> #VALUE! | D29: =IF(ROUND(VALUE(SUBSTITUTE(連結実質赤字比率に係る赤字・黒字の構成分析!G$41,"▲", "-")), 2) < 0, ABS(ROUND(VALUE(SUBSTITUTE(連結実質赤字比率に係る赤字・黒字の構成分析!G$41,"▲", "-")), 2)), NA()) -> #VALUE! | E29: =IF(ROUND(VALUE(SUBSTITUTE(連結実質赤字比率に係る赤字・黒字の構成分析!G$41,"▲", "-")), 2) >= 0, ABS(ROUND(VALUE(SUBSTITUTE(連結実質赤字比率に係る赤字・黒字の構成分析!G$41,"▲", "-")), 2)), NA()) -> #VALUE! | F29: =IF(ROUND(VALUE(SUBSTITUTE(連結実質赤字比率に係る赤字・黒字の構成分析!H$41,"▲", "-")), 2) < 0, ABS(ROUND(VALUE(SUBSTITUTE(連結実質赤字比率に係る赤字・黒字の構成分析!H$41,"▲", "-")), 2)), NA()) -> #VALUE! | G29: =IF(ROUND(VALUE(SUBSTITUTE(連結実質赤字比率に係る赤字・黒字の構成分析!H$41,"▲", "-")), 2) >= 0, ABS(ROUND(VALUE(SUBSTITUTE(連結実質赤字比率に係る赤字・黒字の構成分析!H$41,"▲", "-")), 2)), NA()) -> #VALUE! | H29: =IF(ROUND(VALUE(SUBSTITUTE(連結実質赤字比率に係る赤字・黒字の構成分析!I$41,"▲", "-")), 2) < 0, ABS(ROUND(VALUE(SUBSTITUTE(連結実質赤字比率に係る赤字・黒字の構成分析!I$41,"▲", "-")), 2)), NA()) -> #VALUE! | I29: =IF(ROUND(VALUE(SUBSTITUTE(連結実質赤字比率に係る赤字・黒字の構成分析!I$41,"▲", "-")), 2) >= 0, ABS(ROUND(VALUE(SUBSTITUTE(連結実質赤字比率に係る赤字・黒字の構成分析!I$41,"▲", "-")), 2)), NA()) -> #VALUE! | J29: =IF(ROUND(VALUE(SUBSTITUTE(連結実質赤字比率に係る赤字・黒字の構成分析!J$41,"▲", "-")), 2) < 0, ABS(ROUND(VALUE(SUBSTITUTE(連結実質赤字比率に係る赤字・黒字の構成分析!J$41,"▲", "-")), 2)), NA()) -> #VALUE! | K29: =IF(ROUND(VALUE(SUBSTITUTE(連結実質赤字比率に係る赤字・黒字の構成分析!J$41,"▲", "-")), 2) >= 0, ABS(ROUND(VALUE(SUBSTITUTE(連結実質赤字比率に係る赤字・黒字の構成分析!J$41,"▲", "-")), 2)), NA()) -> #VALUE!
A30: =IF(連結実質赤字比率に係る赤字・黒字の構成分析!C$40="",NA(),連結実質赤字比率に係る赤字・黒字の構成分析!C$40) -> 宅地分譲事業特別会計 | B30: =IF(ROUND(VALUE(SUBSTITUTE(連結実質赤字比率に係る赤字・黒字の構成分析!F$40,"▲", "-")), 2) < 0, ABS(ROUND(VALUE(SUBSTITUTE(連結実質赤字比率に係る赤字・黒字の構成分析!F$40,"▲", "-")), 2)), NA()) -> #N/A | C30: =IF(ROUND(VALUE(SUBSTITUTE(連結実質赤字比率に係る赤字・黒字の構成分析!F$40,"▲", "-")), 2) >= 0, ABS(ROUND(VALUE(SUBSTITUTE(連結実質赤字比率に係る赤字・黒字の構成分析!F$40,"▲", "-")), 2)), NA()) -> 0.46 | D30: =IF(ROUND(VALUE(SUBSTITUTE(連結実質赤字比率に係る赤字・黒字の構成分析!G$40,"▲", "-")), 2) < 0, ABS(ROUND(VALUE(SUBSTITUTE(連結実質赤字比率に係る赤字・黒字の構成分析!G$40,"▲", "-")), 2)), NA()) -> #N/A | E30: =IF(ROUND(VALUE(SUBSTITUTE(連結実質赤字比率に係る赤字・黒字の構成分析!G$40,"▲", "-")), 2) >= 0, ABS(ROUND(VALUE(SUBSTITUTE(連結実質赤字比率に係る赤字・黒字の構成分析!G$40,"▲", "-")), 2)), NA()) -> 0 | F30: =IF(ROUND(VALUE(SUBSTITUTE(連結実質赤字比率に係る赤字・黒字の構成分析!H$40,"▲", "-")), 2) < 0, ABS(ROUND(VALUE(SUBSTITUTE(連結実質赤字比率に係る赤字・黒字の構成分析!H$40,"▲", "-")), 2)), NA()) -> #N/A | G30: =IF(ROUND(VALUE(SUBSTITUTE(連結実質赤字比率に係る赤字・黒字の構成分析!H$40,"▲", "-")), 2) >= 0, ABS(ROUND(VALUE(SUBSTITUTE(連結実質赤字比率に係る赤字・黒字の構成分析!H$40,"▲", "-")), 2)), NA()) -> 0 | H30: =IF(ROUND(VALUE(SUBSTITUTE(連結実質赤字比率に係る赤字・黒字の構成分析!I$40,"▲", "-")), 2) < 0, ABS(ROUND(VALUE(SUBSTITUTE(連結実質赤字比率に係る赤字・黒字の構成分析!I$40,"▲", "-")), 2)), NA()) -> #N/A | I30: =IF(ROUND(VALUE(SUBSTITUTE(連結実質赤字比率に係る赤字・黒字の構成分析!I$40,"▲", "-")), 2) >= 0, ABS(ROUND(VALUE(SUBSTITUTE(連結実質赤字比率に係る赤字・黒字の構成分析!I$40,"▲", "-")), 2)), NA()) -> 0 | J30: =IF(ROUND(VALUE(SUBSTITUTE(連結実質赤字比率に係る赤字・黒字の構成分析!J$40,"▲", "-")), 2) < 0, ABS(ROUND(VALUE(SUBSTITUTE(連結実質赤字比率に係る赤字・黒字の構成分析!J$40,"▲", "-")), 2)), NA()) -> #N/A | K30: =IF(ROUND(VALUE(SUBSTITUTE(連結実質赤字比率に係る赤字・黒字の構成分析!J$40,"▲", "-")), 2) >= 0, ABS(ROUND(VALUE(SUBSTITUTE(連結実質赤字比率に係る赤字・黒字の構成分析!J$40,"▲", "-")), 2)), NA()) -> 0
A31: =IF(連結実質赤字比率に係る赤字・黒字の構成分析!C$39="",NA(),連結実質赤字比率に係る赤字・黒字の構成分析!C$39) -> 後期高齢者医療特別会計 | B31: =IF(ROUND(VALUE(SUBSTITUTE(連結実質赤字比率に係る赤字・黒字の構成分析!F$39,"▲", "-")), 2) < 0, ABS(ROUND(VALUE(SUBSTITUTE(連結実質赤字比率に係る赤字・黒字の構成分析!F$39,"▲", "-")), 2)), NA()) -> #N/A | C31: =IF(ROUND(VALUE(SUBSTITUTE(連結実質赤字比率に係る赤字・黒字の構成分析!F$39,"▲", "-")), 2) >= 0, ABS(ROUND(VALUE(SUBSTITUTE(連結実質赤字比率に係る赤字・黒字の構成分析!F$39,"▲", "-")), 2)), NA()) -> 0.01 | D31: =IF(ROUND(VALUE(SUBSTITUTE(連結実質赤字比率に係る赤字・黒字の構成分析!G$39,"▲", "-")), 2) < 0, ABS(ROUND(VALUE(SUBSTITUTE(連結実質赤字比率に係る赤字・黒字の構成分析!G$39,"▲", "-")), 2)), NA()) -> #N/A | E31: =IF(ROUND(VALUE(SUBSTITUTE(連結実質赤字比率に係る赤字・黒字の構成分析!G$39,"▲", "-")), 2) >= 0, ABS(ROUND(VALUE(SUBSTITUTE(連結実質赤字比率に係る赤字・黒字の構成分析!G$39,"▲", "-")), 2)), NA()) -> 0.01 | F31: =IF(ROUND(VALUE(SUBSTITUTE(連結実質赤字比率に係る赤字・黒字の構成分析!H$39,"▲", "-")), 2) < 0, ABS(ROUND(VALUE(SUBSTITUTE(連結実質赤字比率に係る赤字・黒字の構成分析!H$39,"▲", "-")), 2)), NA()) -> #N/A | G31: =IF(ROUND(VALUE(SUBSTITUTE(連結実質赤字比率に係る赤字・黒字の構成分析!H$39,"▲", "-")), 2) >= 0, ABS(ROUND(VALUE(SUBSTITUTE(連結実質赤字比率に係る赤字・黒字の構成分析!H$39,"▲", "-")), 2)), NA()) -> 0.01 | H31: =IF(ROUND(VALUE(SUBSTITUTE(連結実質赤字比率に係る赤字・黒字の構成分析!I$39,"▲", "-")), 2) < 0, ABS(ROUND(VALUE(SUBSTITUTE(連結実質赤字比率に係る赤字・黒字の構成分析!I$39,"▲", "-")), 2)), NA()) -> #N/A | I31: =IF(ROUND(VALUE(SUBSTITUTE(連結実質赤字比率に係る赤字・黒字の構成分析!I$39,"▲", "-")), 2) >= 0, ABS(ROUND(VALUE(SUBSTITUTE(連結実質赤字比率に係る赤字・黒字の構成分析!I$39,"▲", "-")), 2)), NA()) -> 0.02 | J31: =IF(ROUND(VALUE(SUBSTITUTE(連結実質赤字比率に係る赤字・黒字の構成分析!J$39,"▲", "-")), 2) < 0, ABS(ROUND(VALUE(SUBSTITUTE(連結実質赤字比率に係る赤字・黒字の構成分析!J$39,"▲", "-")), 2)), NA()) -> #N/A | K31: =IF(ROUND(VALUE(SUBSTITUTE(連結実質赤字比率に係る赤字・黒字の構成分析!J$39,"▲", "-")), 2) >= 0, ABS(ROUND(VALUE(SUBSTITUTE(連結実質赤字比率に係る赤字・黒字の構成分析!J$39,"▲", "-")), 2)), NA()) -> 0.01
A32: =IF(連結実質赤字比率に係る赤字・黒字の構成分析!C$38="",NA(),連結実質赤字比率に係る赤字・黒字の構成分析!C$38) -> 介護保険特別会計 | B32: =IF(ROUND(VALUE(SUBSTITUTE(連結実質赤字比率に係る赤字・黒字の構成分析!F$38,"▲", "-")), 2) < 0, ABS(ROUND(VALUE(SUBSTITUTE(連結実質赤字比率に係る赤字・黒字の構成分析!F$38,"▲", "-")), 2)), NA()) -> #N/A | C32: =IF(ROUND(VALUE(SUBSTITUTE(連結実質赤字比率に係る赤字・黒字の構成分析!F$38,"▲", "-")), 2) >= 0, ABS(ROUND(VALUE(SUBSTITUTE(連結実質赤字比率に係る赤字・黒字の構成分析!F$38,"▲", "-")), 2)), NA()) -> 1.19 | D32: =IF(ROUND(VALUE(SUBSTITUTE(連結実質赤字比率に係る赤字・黒字の構成分析!G$38,"▲", "-")), 2) < 0, ABS(ROUND(VALUE(SUBSTITUTE(連結実質赤字比率に係る赤字・黒字の構成分析!G$38,"▲", "-")), 2)), NA()) -> #N/A | E32: =IF(ROUND(VALUE(SUBSTITUTE(連結実質赤字比率に係る赤字・黒字の構成分析!G$38,"▲", "-")), 2) >= 0, ABS(ROUND(VALUE(SUBSTITUTE(連結実質赤字比率に係る赤字・黒字の構成分析!G$38,"▲", "-")), 2)), NA()) -> 0.74 | F32: =IF(ROUND(VALUE(SUBSTITUTE(連結実質赤字比率に係る赤字・黒字の構成分析!H$38,"▲", "-")), 2) < 0, ABS(ROUND(VALUE(SUBSTITUTE(連結実質赤字比率に係る赤字・黒字の構成分析!H$38,"▲", "-")), 2)), NA()) -> #N/A | G32: =IF(ROUND(VALUE(SUBSTITUTE(連結実質赤字比率に係る赤字・黒字の構成分析!H$38,"▲", "-")), 2) >= 0, ABS(ROUND(VALUE(SUBSTITUTE(連結実質赤字比率に係る赤字・黒字の構成分析!H$38,"▲", "-")), 2)), NA()) -> 1.69 | H32: =IF(ROUND(VALUE(SUBSTITUTE(連結実質赤字比率に係る赤字・黒字の構成分析!I$38,"▲", "-")), 2) < 0, ABS(ROUND(VALUE(SUBSTITUTE(連結実質赤字比率に係る赤字・黒字の構成分析!I$38,"▲", "-")), 2)), NA()) -> #N/A | I32: =IF(ROUND(VALUE(SUBSTITUTE(連結実質赤字比率に係る赤字・黒字の構成分析!I$38,"▲", "-")), 2) >= 0, ABS(ROUND(VALUE(SUBSTITUTE(連結実質赤字比率に係る赤字・黒字の構成分析!I$38,"▲", "-")), 2)), NA()) -> 0.93 | J32: =IF(ROUND(VALUE(SUBSTITUTE(連結実質赤字比率に係る赤字・黒字の構成分析!J$38,"▲", "-")), 2) < 0, ABS(ROUND(VALUE(SUBSTITUTE(連結実質赤字比率に係る赤字・黒字の構成分析!J$38,"▲", "-")), 2)), NA()) -> #N/A | K32: =IF(ROUND(VALUE(SUBSTITUTE(連結実質赤字比率に係る赤字・黒字の構成分析!J$38,"▲", "-")), 2) >= 0, ABS(ROUND(VALUE(SUBSTITUTE(連結実質赤字比率に係る赤字・黒字の構成分析!J$38,"▲", "-")), 2)), NA()) -> 0.22
A33: =IF(連結実質赤字比率に係る赤字・黒字の構成分析!C$37="",NA(),連結実質赤字比率に係る赤字・黒字の構成分析!C$37) -> 下水道事業会計 | B33: =IF(ROUND(VALUE(SUBSTITUTE(連結実質赤字比率に係る赤字・黒字の構成分析!F$37,"▲", "-")), 2) < 0, ABS(ROUND(VALUE(SUBSTITUTE(連結実質赤字比率に係る赤字・黒字の構成分析!F$37,"▲", "-")), 2)), NA()) -> #VALUE! | C33: =IF(ROUND(VALUE(SUBSTITUTE(連結実質赤字比率に係る赤字・黒字の構成分析!F$37,"▲", "-")), 2) >= 0, ABS(ROUND(VALUE(SUBSTITUTE(連結実質赤字比率に係る赤字・黒字の構成分析!F$37,"▲", "-")), 2)), NA()) -> #VALUE! | D33: =IF(ROUND(VALUE(SUBSTITUTE(連結実質赤字比率に係る赤字・黒字の構成分析!G$37,"▲", "-")), 2) < 0, ABS(ROUND(VALUE(SUBSTITUTE(連結実質赤字比率に係る赤字・黒字の構成分析!G$37,"▲", "-")), 2)), NA()) -> #VALUE! | E33: =IF(ROUND(VALUE(SUBSTITUTE(連結実質赤字比率に係る赤字・黒字の構成分析!G$37,"▲", "-")), 2) >= 0, ABS(ROUND(VALUE(SUBSTITUTE(連結実質赤字比率に係る赤字・黒字の構成分析!G$37,"▲", "-")), 2)), NA()) -> #VALUE! | F33: =IF(ROUND(VALUE(SUBSTITUTE(連結実質赤字比率に係る赤字・黒字の構成分析!H$37,"▲", "-")), 2) < 0, ABS(ROUND(VALUE(SUBSTITUTE(連結実質赤字比率に係る赤字・黒字の構成分析!H$37,"▲", "-")), 2)), NA()) -> #VALUE! | G33: =IF(ROUND(VALUE(SUBSTITUTE(連結実質赤字比率に係る赤字・黒字の構成分析!H$37,"▲", "-")), 2) >= 0, ABS(ROUND(VALUE(SUBSTITUTE(連結実質赤字比率に係る赤字・黒字の構成分析!H$37,"▲", "-")), 2)), NA()) -> #VALUE! | H33: =IF(ROUND(VALUE(SUBSTITUTE(連結実質赤字比率に係る赤字・黒字の構成分析!I$37,"▲", "-")), 2) < 0, ABS(ROUND(VALUE(SUBSTITUTE(連結実質赤字比率に係る赤字・黒字の構成分析!I$37,"▲", "-")), 2)), NA()) -> #VALUE! | I33: =IF(ROUND(VALUE(SUBSTITUTE(連結実質赤字比率に係る赤字・黒字の構成分析!I$37,"▲", "-")), 2) >= 0, ABS(ROUND(VALUE(SUBSTITUTE(連結実質赤字比率に係る赤字・黒字の構成分析!I$37,"▲", "-")), 2)), NA()) -> #VALUE! | J33: =IF(ROUND(VALUE(SUBSTITUTE(連結実質赤字比率に係る赤字・黒字の構成分析!J$37,"▲", "-")), 2) < 0, ABS(ROUND(VALUE(SUBSTITUTE(連結実質赤字比率に係る赤字・黒字の構成分析!J$37,"▲", "-")), 2)), NA()) -> #N/A | K33: =IF(ROUND(VALUE(SUBSTITUTE(連結実質赤字比率に係る赤字・黒字の構成分析!J$37,"▲", "-")), 2) >= 0, ABS(ROUND(VALUE(SUBSTITUTE(連結実質赤字比率に係る赤字・黒字の構成分析!J$37,"▲", "-")), 2)), NA()) -> 1.92
A34: =IF(連結実質赤字比率に係る赤字・黒字の構成分析!C$36="",NA(),連結実質赤字比率に係る赤字・黒字の構成分析!C$36) -> 国民健康保険特別会計 | B34: =IF(ROUND(VALUE(SUBSTITUTE(連結実質赤字比率に係る赤字・黒字の構成分析!F$36,"▲", "-")), 2) < 0, ABS(ROUND(VALUE(SUBSTITUTE(連結実質赤字比率に係る赤字・黒字の構成分析!F$36,"▲", "-")), 2)), NA()) -> #N/A | C34: =IF(ROUND(VALUE(SUBSTITUTE(連結実質赤字比率に係る赤字・黒字の構成分析!F$36,"▲", "-")), 2) >= 0, ABS(ROUND(VALUE(SUBSTITUTE(連結実質赤字比率に係る赤字・黒字の構成分析!F$36,"▲", "-")), 2)), NA()) -> 0.91 | D34: =IF(ROUND(VALUE(SUBSTITUTE(連結実質赤字比率に係る赤字・黒字の構成分析!G$36,"▲", "-")), 2) < 0, ABS(ROUND(VALUE(SUBSTITUTE(連結実質赤字比率に係る赤字・黒字の構成分析!G$36,"▲", "-")), 2)), NA()) -> #N/A | E34: =IF(ROUND(VALUE(SUBSTITUTE(連結実質赤字比率に係る赤字・黒字の構成分析!G$36,"▲", "-")), 2) >= 0, ABS(ROUND(VALUE(SUBSTITUTE(連結実質赤字比率に係る赤字・黒字の構成分析!G$36,"▲", "-")), 2)), NA()) -> 1.24 | F34: =IF(ROUND(VALUE(SUBSTITUTE(連結実質赤字比率に係る赤字・黒字の構成分析!H$36,"▲", "-")), 2) < 0, ABS(ROUND(VALUE(SUBSTITUTE(連結実質赤字比率に係る赤字・黒字の構成分析!H$36,"▲", "-")), 2)), NA()) -> #N/A | G34: =IF(ROUND(VALUE(SUBSTITUTE(連結実質赤字比率に係る赤字・黒字の構成分析!H$36,"▲", "-")), 2) >= 0, ABS(ROUND(VALUE(SUBSTITUTE(連結実質赤字比率に係る赤字・黒字の構成分析!H$36,"▲", "-")), 2)), NA()) -> 0.98 | H34: =IF(ROUND(VALUE(SUBSTITUTE(連結実質赤字比率に係る赤字・黒字の構成分析!I$36,"▲", "-")), 2) < 0, ABS(ROUND(VALUE(SUBSTITUTE(連結実質赤字比率に係る赤字・黒字の構成分析!I$36,"▲", "-")), 2)), NA()) -> #N/A | I34: =IF(ROUND(VALUE(SUBSTITUTE(連結実質赤字比率に係る赤字・黒字の構成分析!I$36,"▲", "-")), 2) >= 0, ABS(ROUND(VALUE(SUBSTITUTE(連結実質赤字比率に係る赤字・黒字の構成分析!I$36,"▲", "-")), 2)), NA()) -> 0.32 | J34: =IF(ROUND(VALUE(SUBSTITUTE(連結実質赤字比率に係る赤字・黒字の構成分析!J$36,"▲", "-")), 2) < 0, ABS(ROUND(VALUE(SUBSTITUTE(連結実質赤字比率に係る赤字・黒字の構成分析!J$36,"▲", "-")), 2)), NA()) -> #N/A | K34: =IF(ROUND(VALUE(SUBSTITUTE(連結実質赤字比率に係る赤字・黒字の構成分析!J$36,"▲", "-")), 2) >= 0, ABS(ROUND(VALUE(SUBSTITUTE(連結実質赤字比率に係る赤字・黒字の構成分析!J$36,"▲", "-")), 2)), NA()) -> 1.94
A35: =IF(連結実質赤字比率に係る赤字・黒字の構成分析!C$35="",NA(),連結実質赤字比率に係る赤字・黒字の構成分析!C$35) -> 水道事業会計 | B35: =IF(ROUND(VALUE(SUBSTITUTE(連結実質赤字比率に係る赤字・黒字の構成分析!F$35,"▲", "-")), 2) < 0, ABS(ROUND(VALUE(SUBSTITUTE(連結実質赤字比率に係る赤字・黒字の構成分析!F$35,"▲", "-")), 2)), NA()) -> #N/A | C35: =IF(ROUND(VALUE(SUBSTITUTE(連結実質赤字比率に係る赤字・黒字の構成分析!F$35,"▲", "-")), 2) >= 0, ABS(ROUND(VALUE(SUBSTITUTE(連結実質赤字比率に係る赤字・黒字の構成分析!F$35,"▲", "-")), 2)), NA()) -> 10.26 | D35: =IF(ROUND(VALUE(SUBSTITUTE(連結実質赤字比率に係る赤字・黒字の構成分析!G$35,"▲", "-")), 2) < 0, ABS(ROUND(VALUE(SUBSTITUTE(連結実質赤字比率に係る赤字・黒字の構成分析!G$35,"▲", "-")), 2)), NA()) -> #N/A | E35: =IF(ROUND(VALUE(SUBSTITUTE(連結実質赤字比率に係る赤字・黒字の構成分析!G$35,"▲", "-")), 2) >= 0, ABS(ROUND(VALUE(SUBSTITUTE(連結実質赤字比率に係る赤字・黒字の構成分析!G$35,"▲", "-")), 2)), NA()) -> 9.08 | F35: =IF(ROUND(VALUE(SUBSTITUTE(連結実質赤字比率に係る赤字・黒字の構成分析!H$35,"▲", "-")), 2) < 0, ABS(ROUND(VALUE(SUBSTITUTE(連結実質赤字比率に係る赤字・黒字の構成分析!H$35,"▲", "-")), 2)), NA()) -> #N/A | G35: =IF(ROUND(VALUE(SUBSTITUTE(連結実質赤字比率に係る赤字・黒字の構成分析!H$35,"▲", "-")), 2) >= 0, ABS(ROUND(VALUE(SUBSTITUTE(連結実質赤字比率に係る赤字・黒字の構成分析!H$35,"▲", "-")), 2)), NA()) -> 9.09 | H35: =IF(ROUND(VALUE(SUBSTITUTE(連結実質赤字比率に係る赤字・黒字の構成分析!I$35,"▲", "-")), 2) < 0, ABS(ROUND(VALUE(SUBSTITUTE(連結実質赤字比率に係る赤字・黒字の構成分析!I$35,"▲", "-")), 2)), NA()) -> #N/A | I35: =IF(ROUND(VALUE(SUBSTITUTE(連結実質赤字比率に係る赤字・黒字の構成分析!I$35,"▲", "-")), 2) >= 0, ABS(ROUND(VALUE(SUBSTITUTE(連結実質赤字比率に係る赤字・黒字の構成分析!I$35,"▲", "-")), 2)), NA()) -> 8.73 | J35: =IF(ROUND(VALUE(SUBSTITUTE(連結実質赤字比率に係る赤字・黒字の構成分析!J$35,"▲", "-")), 2) < 0, ABS(ROUND(VALUE(SUBSTITUTE(連結実質赤字比率に係る赤字・黒字の構成分析!J$35,"▲", "-")), 2)), NA()) -> #N/A | K35: =IF(ROUND(VALUE(SUBSTITUTE(連結実質赤字比率に係る赤字・黒字の構成分析!J$35,"▲", "-")), 2) >= 0, ABS(ROUND(VALUE(SUBSTITUTE(連結実質赤字比率に係る赤字・黒字の構成分析!J$35,"▲", "-")), 2)), NA()) -> 8.99
A36: =IF(連結実質赤字比率に係る赤字・黒字の構成分析!C$34="",NA(),連結実質赤字比率に係る赤字・黒字の構成分析!C$34) -> 一般会計 | B36: =IF(ROUND(VALUE(SUBSTITUTE(連結実質赤字比率に係る赤字・黒字の構成分析!F$34,"▲", "-")), 2) < 0, ABS(ROUND(VALUE(SUBSTITUTE(連結実質赤字比率に係る赤字・黒字の構成分析!F$34,"▲", "-")), 2)), NA()) -> #N/A | C36: =IF(ROUND(VALUE(SUBSTITUTE(連結実質赤字比率に係る赤字・黒字の構成分析!F$34,"▲", "-")), 2) >= 0, ABS(ROUND(VALUE(SUBSTITUTE(連結実質赤字比率に係る赤字・黒字の構成分析!F$34,"▲", "-")), 2)), NA()) -> 14.22 | D36: =IF(ROUND(VALUE(SUBSTITUTE(連結実質赤字比率に係る赤字・黒字の構成分析!G$34,"▲", "-")), 2) < 0, ABS(ROUND(VALUE(SUBSTITUTE(連結実質赤字比率に係る赤字・黒字の構成分析!G$34,"▲", "-")), 2)), NA()) -> #N/A | E36: =IF(ROUND(VALUE(SUBSTITUTE(連結実質赤字比率に係る赤字・黒字の構成分析!G$34,"▲", "-")), 2) >= 0, ABS(ROUND(VALUE(SUBSTITUTE(連結実質赤字比率に係る赤字・黒字の構成分析!G$34,"▲", "-")), 2)), NA()) -> 16.48 | F36: =IF(ROUND(VALUE(SUBSTITUTE(連結実質赤字比率に係る赤字・黒字の構成分析!H$34,"▲", "-")), 2) < 0, ABS(ROUND(VALUE(SUBSTITUTE(連結実質赤字比率に係る赤字・黒字の構成分析!H$34,"▲", "-")), 2)), NA()) -> #N/A | G36: =IF(ROUND(VALUE(SUBSTITUTE(連結実質赤字比率に係る赤字・黒字の構成分析!H$34,"▲", "-")), 2) >= 0, ABS(ROUND(VALUE(SUBSTITUTE(連結実質赤字比率に係る赤字・黒字の構成分析!H$34,"▲", "-")), 2)), NA()) -> 16.6 | H36: =IF(ROUND(VALUE(SUBSTITUTE(連結実質赤字比率に係る赤字・黒字の構成分析!I$34,"▲", "-")), 2) < 0, ABS(ROUND(VALUE(SUBSTITUTE(連結実質赤字比率に係る赤字・黒字の構成分析!I$34,"▲", "-")), 2)), NA()) -> #N/A | I36: =IF(ROUND(VALUE(SUBSTITUTE(連結実質赤字比率に係る赤字・黒字の構成分析!I$34,"▲", "-")), 2) >= 0, ABS(ROUND(VALUE(SUBSTITUTE(連結実質赤字比率に係る赤字・黒字の構成分析!I$34,"▲", "-")), 2)), NA()) -> 15.44 | J36: =IF(ROUND(VALUE(SUBSTITUTE(連結実質赤字比率に係る赤字・黒字の構成分析!J$34,"▲", "-")), 2) < 0, ABS(ROUND(VALUE(SUBSTITUTE(連結実質赤字比率に係る赤字・黒字の構成分析!J$34,"▲", "-")), 2)), NA()) -> #N/A | K36: =IF(ROUND(VALUE(SUBSTITUTE(連結実質赤字比率に係る赤字・黒字の構成分析!J$34,"▲", "-")), 2) >= 0, ABS(ROUND(VALUE(SUBSTITUTE(連結実質赤字比率に係る赤字・黒字の構成分析!J$34,"▲", "-")), 2)), NA()) -> 11.89
A39: 実質公債費比率（分子）の構造
B40: ='実質公債費比率（分子）の構造'!K$44 -> R02 | E40: ='実質公債費比率（分子）の構造'!L$44 -> R03 | H40: ='実質公債費比率（分子）の構造'!M$44 -> R04 | K40: ='実質公債費比率（分子）の構造'!N$44 -> R05 | N40: ='実質公債費比率（分子）の構造'!O$44 -> R06
B41: 元利償還金等 | D41: 算入公債費等 | E41: 元利償還金等 | G41: 算入公債費等 | H41: 元利償還金等 | J41: 算入公債費等 | K41: 元利償還金等 | M41: 算入公債費等 | N41: 元利償還金等 | P41: 算入公債費等
A42: 算入公債費等 | D42: ='実質公債費比率（分子）の構造'!K$52 -> 379 | G42: ='実質公債費比率（分子）の構造'!L$52 -> 383 | J42: ='実質公債費比率（分子）の構造'!M$52 -> 381 | M42: ='実質公債費比率（分子）の構造'!N$52 -> 404 | P42: ='実質公債費比率（分子）の構造'!O$52 -> 476
A43: 一時借入金の利子 | B43: ='実質公債費比率（分子）の構造'!K$51 -> - | E43: ='実質公債費比率（分子）の構造'!L$51 -> - | H43: ='実質公債費比率（分子）の構造'!M$51 -> - | K43: ='実質公債費比率（分子）の構造'!N$51 -> - | N43: ='実質公債費比率（分子）の構造'!O$51 -> -
A44: 債務負担行為に基づく支出額 | B44: ='実質公債費比率（分子）の構造'!K$50 -> 1 | E44: ='実質公債費比率（分子）の構造'!L$50 -> 1 | H44: ='実質公債費比率（分子）の構造'!M$50 -> 0 | K44: ='実質公債費比率（分子）の構造'!N$50 -> 0 | N44: ='実質公債費比率（分子）の構造'!O$50 -> 0
A45: 組合等が起こした地方債の元利償還金に対する負担金等 | B45: ='実質公債費比率（分子）の構造'!K$49 -> 48 | E45: ='実質公債費比率（分子）の構造'!L$49 -> 44 | H45: ='実質公債費比率（分子）の構造'!M$49 -> 46 | K45: ='実質公債費比率（分子）の構造'!N$49 -> 52 | N45: ='実質公債費比率（分子）の構造'!O$49 -> 55
A46: 公営企業債の元利償還金に対する繰入金 | B46: ='実質公債費比率（分子）の構造'!K$48 -> 168 | E46: ='実質公債費比率（分子）の構造'!L$48 -> 166 | H46: ='実質公債費比率（分子）の構造'!M$48 -> 149 | K46: ='実質公債費比率（分子）の構造'!N$48 -> 138 | N46: ='実質公債費比率（分子）の構造'!O$48 -> 150
A47: 満期一括償還地方債に係る年度割相当額 | B47: ='実質公債費比率（分子）の構造'!K$47 -> - | E47: ='実質公債費比率（分子）の構造'!L$47 -> - | H47: ='実質公債費比率（分子）の構造'!M$47 -> - | K47: ='実質公債費比率（分子）の構造'!N$47 -> - | N47: ='実質公債費比率（分子）の構造'!O$47 -> -
...
