Workbook

Sheet 【本シートに入力】入力用シート
B3: 太陽光発電施設の設置等に関する条例 様式第８号事業計画届出書 入力シート
B4: 項目名 | C4: 本列に入力してください | D4: 凡例等
B5: 届出年月日 | D5: YYYY/MM/DDで入力してください
B6: 届出者住所
B7: 届出者氏名 | D7: 届出者氏名（法人の場合は法人名）を入力してください。
D8: 法人の場合のみ、代表者氏名を入力してください。 （例：代表取締役 宮城 あおば）
B9: 電話番号 | D9: 例：022-211-2332
B10: 新設/増設の別 | D10: プルダウンから選択してください。
B11: 【増設の場合のみ】既設施設の発電出力 | D11: 既設施設の発電出力（kW）を入力してください。
B12: 事業名称
B13: 事業区域予定地 （土地の地番は全筆記入すること。）
B14: 事業区域の面積 | D14: 単位：㎡ 半角数字で入力してください。
B15: うち、パネル設置面積 | D15: 単位：㎡ 半角数字で入力してください。
B16: 事業区域予定地の登記地目 （複数ある場合各々の地目と面積（㎡）を記入すること。） | D16: ＜複数ある場合の記載例＞ 田：1,000㎡ 畑：2,000㎡
B17: 現況地目 （登記地目と異なる場合）
B18: 発電出力 | D18: 単位：kW 半角数字で入力してください。
B19: 太陽光パネルの合計出力 | D19: 単位：kW 半角数字で入力してください。
B20: 工事着手予定年月日 | D20: YYYY/MM/DDで入力してください
B21: 工事完了予定年月日 | D21: YYYY/MM/DDで入力してください
B22: 運転開始予定年月日 | D22: YYYY/MM/DDで入力してください
B23: 事業終了予定年月日 | D23: YYYY/MM/DDで入力してください
B24: 維持管理等計画の公表方法 | D24: プルダウンから選択してください。
B25: 担当者所属・氏名 | D25: 例：宮城発電株式会社 宮城 いずみ
B26: 担当者連絡先電話番号 | D26: 例：022-211-2332
B27: 担当者連絡先メールアドレス | D27: 半角英数字で入力してください。また、このメールアドレス宛に連絡する場合がございますので、誤りのないよう御注意願います。 原則的に担当者個人のものではなく、組織代表アドレスを入力してください。
B28: 備考 | D28: その他、付記事項あれば記載してください。無ければ空欄としてください。

Sheet 【提出用】事業計画届出書
A2: 様式第8号（第11条関係）
A3: 事業計画届出書
F4: =IF(【本シートに入力】入力用シート!C5=""," 年 月 日",【本シートに入力】入力用シート!C5) -> 年 月 日
A5: 宮城県知事 殿
E6: 届出者 住所 | F6: =IF(【本シートに入力】入力用シート!C6="","",【本シートに入力】入力用シート!C6)
E7: 氏名 | F7: =IF(【本シートに入力】入力用シート!C7="","",【本シートに入力】入力用シート!C7)
F8: =IF(【本シートに入力】入力用シート!C8="","",【本シートに入力】入力用シート!C8)
E9: （法人にあってはその名称、代表者の氏名
E10: 及び主たる事務所の所在地）
E11: 電話番号 | F11: =IF(【本シートに入力】入力用シート!C9="","",【本シートに入力】入力用シート!C9)
A13: 太陽光発電施設の設置等に関する条例第10条の規定により、下記のとおり事業計画を届け出ます。
A14: 記
A15: 新設・増設の別 （該当する□にレ印を付し、内容を記入すること。） | C15: =IF(【本シートに入力】入力用シート!C10="新設","☑新設","☐新設") -> ☐新設
C16: =IF(【本シートに入力】入力用シート!C10="増設","☑増設","☐増設") -> ☐増設 | D16: 既存施設の発電出力： | F16: =IF(【本シートに入力】入力用シート!C11="","",【本シートに入力】入力用シート!C11) | G16: kW
A17: 事業名称 | C17: =IF(【本シートに入力】入力用シート!C12="","",【本シートに入力】入力用シート!C12)
A18: 事業区域予定地 （土地の地番は全筆記入すること。） | C18: =IF(【本シートに入力】入力用シート!C13="","",【本シートに入力】入力用シート!C13) | E18: 事業区域の面積 | G18: =IF(【本シートに入力】入力用シート!C14="","",【本シートに入力】入力用シート!C14)
E19: うちパネル設置面積 | G19: =IF(【本シートに入力】入力用シート!C15="","",【本シートに入力】入力用シート!C15)
A20: 事業区域予定地の登記地目 （複数ある場合各々の地目と面積（㎡）を記入すること。） | C20: =IF(【本シートに入力】入力用シート!C16="","",【本シートに入力】入力用シート!C16)
A21: 現況地目 （登記地目と異なる場合） | C21: =IF(【本シートに入力】入力用シート!C17="","",【本シートに入力】入力用シート!C17)
A22: 発電出力 | C22: =IF(【本シートに入力】入力用シート!C18="","",【本シートに入力】入力用シート!C18) | E22: 太陽光パネルの合計出力 | G22: =IF(【本シートに入力】入力用シート!C19="","",【本シートに入力】入力用シート!C19)
A23: 工事着手予定年月日 | C23: =IF(【本シートに入力】入力用シート!C20=""," 年 月 日",【本シートに入力】入力用シート!C20) -> 年 月 日 | E23: 工事完了予定年月日 | G23: =IF(【本シートに入力】入力用シート!C21=""," 年 月 日",【本シートに入力】入力用シート!C21) -> 年 月 日
A24: 運転開始予定年月日 | C24: =IF(【本シートに入力】入力用シート!C22=""," 年 月 日",【本シートに入力】入力用シート!C22) -> 年 月 日 | E24: 事業終了予定年月日 | G24: =IF(【本シートに入力】入力用シート!C23=""," 年 月 日",【本シートに入力】入力用シート!C23) -> 年 月 日
A25: 維持管理等計画の公表方法 | C25: =IF(【本シートに入力】入力用シート!C24="届出者HPに掲載","☑届出者ホームページに掲載する","☐届出者ホームページに掲載する") -> ☐届出者ホームページに掲載する
C26: =IF(【本シートに入力】入力用シート!C24="事業区域予定地に掲示","☑事業区域予定地に掲示する","☐事業区域予定地に掲示する") -> ☐事業区域予定地に掲示する
C27: ☐その他（ ）
A28: 関係法令の手続状況 | C28: 別紙１のとおり
A29: 地域住民等への説明状況 | C29: 別紙２のとおり
A30: 担当者 | C30: 所属・氏名 | D30: =IF(【本シートに入力】入力用シート!C25="","",【本シートに入力】入力用シート!C25)
C31: 連絡先 | D31: =IF(【本シートに入力】入力用シート!C26="","",【本シートに入力】入力用シート!C26)
D32: =IF(【本シートに入力】入力用シート!C27="","",【本シートに入力】入力用シート!C27)
A33: ※備考 | C33: =IF(【本シートに入力】入力用シート!C28="","",【本シートに入力】入力用シート!C28)
A37: 注 ※印のある欄は、記入しないでください。

Sheet 【届出者側での確認不要】県作業用シート
A2: *** | B2: *** | C2: *** | D2: *** | E2: *** | F2: *** | G2: *** | H2: *** | I2: *** | J2: *** | K2: *** | L2: *** | M2: *** | N2: *** | O2: *** | P2: *** | Q2: *** | R2: *** | S2: *** | T2: *** | U2: 届出者住所 | V2: 届出者氏名 | W2: 法人の場合代表者名 | X2: 連絡先 | Y2: 事業名称 | Z2: 事業区域予定地 | AA2: *** | AB2: *** | AC2: 登記地目 | AD2: 現況地目 | AE2: 事業区域の面積 | AF2: パネル設置面積 | AG2: 発電出力 | AH2: パネルの合計出力[kW] | AI2: 工事着手予定年月日 | AJ2: 工事完了予定年月日 | AK2: 運転開始（予定）年月日 | AL2: 事業終了（予定）年月日 | AM2: 維持管理等計画の公表方法 | AN2: *** | AO2: 担当者所属・氏名 | AP2: *** | AQ2: 担当者電話 | AR2: *** | AS2: 担当者MAIL | AT2: 備考
U3: =【提出用】事業計画届出書!F6 | V3: =【提出用】事業計画届出書!F7 | W3: =【提出用】事業計画届出書!F8 | X3: =【提出用】事業計画届出書!F11 | Y3: =【提出用】事業計画届出書!C17 | Z3: =【提出用】事業計画届出書!C18 | AC3: =【提出用】事業計画届出書!C20 | AD3: =【提出用】事業計画届出書!C21 | AE3: =【提出用】事業計画届出書!G18 | AF3: =【提出用】事業計画届出書!G19 | AG3: =【提出用】事業計画届出書!C22 | AH3: =【提出用】事業計画届出書!G22 | AI3: =【提出用】事業計画届出書!C23 -> 年 月 日 | AJ3: =【提出用】事業計画届出書!G23 -> 年 月 日 | AK3: =【提出用】事業計画届出書!C24 -> 年 月 日 | AL3: =【提出用】事業計画届出書!G24 -> 年 月 日 | AM3: =IF(【提出用】事業計画届出書!C25<>"☐届出者ホームページに掲載する","HPへの掲載",IF(【提出用】事業計画届出書!C26<>"☐事業区域予定地に掲示する","現地への掲示","要確認")) -> 要確認 | AO3: =【提出用】事業計画届出書!D30 | AQ3: =【提出用】事業計画届出書!D31 | AS3: =【提出用】事業計画届出書!D32 | AT3: =【提出用】事業計画届出書!C33
