{"text_format":"1","workbook":"xlsx","n_sheets":9,"sheets":["【記載例】（ユニット型）","【記載例】（ユニット型）シフト記号表","（ユニット型）介護老人保健施設","（ユニット型）シフト記号表","（ユニット型）記入方法","（従来型）介護老人保健施設","（従来型）シフト記号表","（従来型）記入方法","プルダウン・リスト（従来型・ユニット型共通）"],"not_rendered":{"charts":0,"images":0,"macros":1,"external_links":0,"defined_names":23,"comments":0,"pivot_tables":0},"unopened":[],"bounds":{"document_bytes":16777216,"sheet_cells":100000,"rows_first":2000,"rows_last":500,"rows_between":2000,"halvings":0,"cell_chars":16384,"cell_head_chars":4096},"cells_cut":0,"cells_raw":0,"read":"whole","date_system":"1900"}

{"sheet":"【記載例】（ユニット型）","index":0,"n_rows":146,"n_cols":66,"rows_kept":146,"cut":false,"hidden":false,"merged":[[0,49,0,64],[1,32,1,33],[1,35,1,36],[1,39,1,40],[1,49,1,64],[2,60,2,63],[10,16,10,18],[10,20,10,22],[9,54,9,55],[9,62,9,63],[11,16,11,18],[11,20,11,22],[4,52,4,53],[4,56,4,57],[4,60,4,61],[6,60,6,61],[8,26,8,27],[9,41,9,42],[9,49,9,50],[13,1,17,1],[13,2,17,2],[13,3,17,5],[13,6,17,7],[13,12,17,13],[13,14,17,17],[13,18,17,20],[13,21,17,25],[13,26,13,56],[13,57,17,58],[13,59,17,60],[13,61,17,65],[14,26,14,32],[14,33,14,39],[14,40,14,46],[14,47,14,53],[14,54,14,56],[11,49,11,50],[11,62,11,63],[18,61,20,65],[19,6,19,7],[19,12,19,13],[19,14,19,17],[19,57,19,58],[19,59,19,60],[20,6,20,7],[20,12,20,13],[18,6,18,7],[18,12,18,13],[18,14,18,17],[18,18,20,20],[20,14,20,17],[20,57,20,58],[20,59,20,60],[21,2,23,2],[21,3,23,5],[21,6,21,7],[21,12,21,13],[21,14,21,17],[21,18,23,20],[21,57,21,58],[21,59,21,60],[18,2,20,2],[18,3,20,5],[20,8,20,9],[20,10,20,11],[18,57,18,58],[18,59,18,60],[21,61,23,65],[22,6,22,7],[22,12,22,13],[22,14,22,17],[22,57,22,58],[22,59,22,60],[23,6,23,7],[23,12,23,13],[23,14,23,17],[23,57,23,58],[23,59,23,60],[23,8,23,9],[23,10,23,11],[24,2,26,2],[24,3,26,5],[24,6,24,7],[24,12,24,13],[24,14,24,17],[24,18,26,20],[24,57,24,58],[24,59,24,60],[26,59,26,60],[24,61,26,65],[25,6,25,7],[25,12,25,13],[25,14,25,17],[25,57,25,58],[25,59,25,60],[26,6,26,7],[26,12,26,13],[26,14,26,17],[26,57,26,58],[26,8,26,9],[26,10,26,11],[27,61,29,65],[28,6,28,7],[28,12,28,13],[28,14,28,17],[28,57,28,58],[28,59,28,60],[29,6,29,7],[29,12,29,13],[27,6,27,7],[27,12,27,13],[27,14,27,17],[27,18,29,20],[29,14,29,17],[29,57,29,58],[29,59,29,60],[30,2,32,2],[30,3,32,5],[30,6,30,7],[30,12,30,13],[30,14,30,17],[30,18,32,20],[30,57,30,58],[30,59,30,60],[27,2,29,2],[27,3,29,5],[29,8,29,9],[29,10,29,11],[27,57,27,58],[27,59,27,60],[30,61,32,65],[31,6,31,7],[31,12,31,13],[31,14,31,17],[31,57,31,58],[31,59,31,60],[32,6,32,7],[32,12,32,13],[32,14,32,17],[32,57,32,58],[32,59,32,60],[32,8,32,9],[32,10,32,11],[33,2,35,2],[33,3,35,5],[33,6,33,7],[33,12,33,13],[33,14,33,17],[33,18,35,20],[33,57,33,58],[33,59,33,60],[35,59,35,60],[33,61,35,65],[34,6,34,7],[34,12,34,13],[34,14,34,17],[34,57,34,58],[34,59,34,60],[35,6,35,7],[35,12,35,13],[35,14,35,17],[35,57,35,58],[35,8,35,9],[35,10,35,11],[36,61,38,65],[37,6,37,7],[37,12,37,13],[37,14,37,17],[37,57,37,58],[37,59,37,60],[38,6,38,7],[38,12,38,13],[36,6,36,7],[36,12,36,13],[36,14,36,17],[36,18,38,20],[38,14,38,17],[38,57,38,58],[38,59,38,60],[39,2,41,2],[39,3,41,5],[39,6,39,7],[39,12,39,13],[39,14,39,17],[39,18,41,20],[39,57,39,58],[39,59,39,60],[36,2,38,2],[36,3,38,5],[38,8,38,9],[38,10,38,11],[36,57,36,58],[36,59,36,60],[39,61,41,65],[40,6,40,7],[40,12,40,13],[40,14,40,17],[40,57,40,58],[40,59,40,60],[41,6,41,7],[41,12,41,13],[41,14,41,17],[41,57,41,58],[41,59,41,60],[41,8,41,9],[41,10,41,11],[42,2,44,2],[42,3,44,5],[42,6,42,7],[42,12,42,13],[42,14,42,17],[42,18,44,20],[42,57,42,58],[42,59,42,60],[44,59,44,60],[42,61,44,65],[43,6,43,7],[43,12,43,13],[43,14,43,17],[43,57,43,58],[43,59,43,60],[44,6,44,7],[44,12,44,13],[44,14,44,17],[44,57,44,58],[44,8,44,9],[44,10,44,11],[45,61,47,65],[46,6,46,7],[46,12,46,13],[46,14,46,17],[46,57,46,58],[46,59,46,60],[47,6,47,7],[47,12,47,13],[45,6,45,7],[45,12,45,13],[45,14,45,17],[45,18,47,20],[47,14,47,17],[47,57,47,58],[47,59,47,60],[48,2,50,2],[48,3,50,5],[48,6,48,7],[48,12,48,13],[48,14,48,17],[48,18,50,20],[48,57,48,58],[48,59,48,60],[45,2,47,2],[45,3,47,5],[47,8,47,9],[47,10,47,11],[45,57,45,58],[45,59,45,60],[48,61,50,65],[49,6,49,7],[49,12,49,13],[49,14,49,17],[49,57,49,58],[49,59,49,60],[50,6,50,7],[50,12,50,13],[50,14,50,17],[50,57,50,58],[50,59,50,60],[50,8,50,9],[50,10,50,11],[111,2,113,2],[111,3,113,5],[111,6,111,7],[111,12,111,13],[111,14,111,17],[111,18,113,20],[111,57,111,58],[111,59,111,60],[113,59,113,60],[111,61,113,65],[112,6,112,7],[112,12,112,13],[112,14,112,17],[112,57,112,58],[112,59,112,60],[113,6,113,7],[113,12,113,13],[113,14,113,17],[113,57,113,58],[113,8,113,9],[113,10,113,11],[114,61,116,65],[115,6,115,7],[115,12,115,13],[115,14,115,17],[115,57,115,58],[115,59,115,60],[116,6,116,7],[116,12,116,13],[114,6,114,7],[114,12,114,13],[114,14,114,17],[114,18,116,20],[116,14,116,17],[116,57,116,58],[116,59,116,60],[117,2,119,2],[117,3,119,5],[117,6,117,7],[117,12,117,13],[117,14,117,17],[117,18,119,20],[117,57,117,58],[117,59,117,60],[114,2,116,2],[114,3,116,5],[116,8,116,9],[116,10,116,11],[114,57,114,58],[114,59,114,60],[117,61,119,65],[118,6,118,7],[118,12,118,13],[118,14,118,17],[118,57,118,58],[118,59,118,60],[119,6,119,7],[119,12,119,13],[119,14,119,17],[119,57,119,58],[119,59,119,60],[119,8,119,9],[119,10,119,11],[120,2,122,2],[120,3,122,5],[120,6,120,7],[120,12,120,13],[120,14,120,17],[120,18,122,20],[120,57,120,58],[120,59,120,60],[122,59,122,60],[122,8,122,9],[122,10,122,11],[123,2,125,2],[123,3,125,5],[123,6,123,7],[123,12,123,13],[123,14,123,17],[123,18,125,20],[125,14,125,17],[120,61,122,65],[121,6,121,7],[121,12,121,13],[121,14,121,17],[121,57,121,58],[121,59,121,60],[122,6,122,7],[122,12,122,13],[122,14,122,17],[122,57,122,58],[123,57,123,58],[123,59,123,60],[123,61,125,65],[124,6,124,7],[124,12,124,13],[124,14,124,17],[124,57,124,58],[124,59,124,60],[125,6,125,7],[125,12,125,13],[125,57,125,58],[125,59,125,60],[129,14,130,15],[129,16,129,19],[129,21,129,24],[129,30,130,31],[129,32,129,35],[129,37,129,40],[130,16,130,17],[130,18,130,19],[125,8,125,9],[125,10,125,11],[131,37,131,38],[131,39,131,40],[131,42,131,43],[131,46,131,49],[131,51,131,54],[131,56,131,59],[130,56,130,59],[131,14,131,15],[131,16,131,17],[131,18,131,19],[131,21,131,22],[131,23,131,24],[131,26,131,27],[131,30,131,31],[131,32,131,33],[131,34,131,35],[130,21,130,22],[130,23,130,24],[130,32,130,33],[130,34,130,35],[130,37,130,38],[130,39,130,40],[132,30,132,31],[132,32,132,33],[132,34,132,35],[132,37,132,38],[132,39,132,40],[132,42,132,43],[132,14,132,15],[132,16,132,17],[132,18,132,19],[132,21,132,22],[132,23,132,24],[132,26,132,27],[133,30,133,31],[133,32,133,33],[133,34,133,35],[133,37,133,38],[133,39,133,40],[133,42,133,43],[133,14,133,15],[133,16,133,17],[133,18,133,19],[133,21,133,22],[133,23,133,24],[133,26,133,27],[134,37,134,38],[134,39,134,40],[134,42,134,43],[134,14,134,15],[134,16,134,17],[134,18,134,19],[134,21,134,22],[134,23,134,24],[134,26,134,27],[135,14,135,15],[135,16,135,17],[135,18,135,19],[135,21,135,22],[135,23,135,24],[135,26,135,27],[134,30,134,31],[134,32,134,33],[134,34,134,35],[135,46,135,47],[135,48,135,51],[136,46,136,47],[136,48,136,51],[137,46,137,47],[137,48,137,51],[135,30,135,31],[135,32,135,33],[135,34,135,35],[135,37,135,38],[135,39,135,40],[135,42,135,43],[138,46,138,47],[138,48,138,51],[139,46,139,47],[139,48,139,51],[140,14,140,17],[140,19,140,22],[140,24,140,27],[140,30,140,33],[140,35,140,38],[140,40,140,43],[143,24,143,27],[143,40,143,43],[144,24,144,27],[144,40,144,43],[145,14,145,17],[145,19,145,22],[145,24,145,27],[145,30,145,33],[145,35,145,38],[145,40,145,43],[108,61,110,65],[109,6,109,7],[109,12,109,13],[109,14,109,17],[109,57,109,58],[109,59,109,60],[110,6,110,7],[110,12,110,13],[108,2,110,2],[108,3,110,5],[108,6,108,7],[108,12,108,13],[108,14,108,17],[108,18,110,20],[110,14,110,17],[110,57,110,58],[110,59,110,60],[110,8,110,9],[110,10,110,11],[105,2,107,2],[105,3,107,5],[105,6,105,7],[105,12,105,13],[105,14,105,17],[105,18,107,20],[105,57,105,58],[105,59,105,60],[108,57,108,58],[108,59,108,60],[105,61,107,65],[106,6,106,7],[106,12,106,13],[106,14,106,17],[106,57,106,58],[106,59,106,60],[107,6,107,7],[107,12,107,13],[107,14,107,17],[107,57,107,58],[107,59,107,60],[107,8,107,9],[107,10,107,11],[102,2,104,2],[102,3,104,5],[102,6,102,7],[102,12,102,13],[102,14,102,17],[102,18,104,20],[102,57,102,58],[102,59,102,60],[104,59,104,60],[102,61,104,65],[103,6,103,7],[103,12,103,13],[103,14,103,17],[103,57,103,58],[103,59,103,60],[104,6,104,7],[104,12,104,13],[104,14,104,17],[104,57,104,58],[104,8,104,9],[104,10,104,11],[99,61,101,65],[100,6,100,7],[100,12,100,13],[100,14,100,17],[100,57,100,58],[100,59,100,60],[101,6,101,7],[101,12,101,13],[99,2,101,2],[99,3,101,5],[99,6,99,7],[99,12,99,13],[99,14,99,17],[99,18,101,20],[101,14,101,17],[101,57,101,58],[101,59,101,60],[101,8,101,9],[101,10,101,11],[96,2,98,2],[96,3,98,5],[96,6,96,7],[96,12,96,13],[96,14,96,17],[96,18,98,20],[96,57,96,58],[96,59,96,60],[99,57,99,58],[99,59,99,60],[96,61,98,65],[97,6,97,7],[97,12,97,13],[97,14,97,17],[97,57,97,58],[97,59,97,60],[98,6,98,7],[98,12,98,13],[98,14,98,17],[98,57,98,58],[98,59,98,60],[98,8,98,9],[98,10,98,11],[93,2,95,2],[93,3,95,5],[93,6,93,7],[93,12,93,13],[93,14,93,17],[93,18,95,20],[93,57,93,58],[93,59,93,60],[95,59,95,60],[93,61,95,65],[94,6,94,7],[94,12,94,13],[94,14,94,17],[94,57,94,58],[94,59,94,60],[95,6,95,7],[95,12,95,13],[95,14,95,17],[95,57,95,58],[95,8,95,9],[95,10,95,11],[90,61,92,65],[91,6,91,7],[91,12,91,13],[91,14,91,17],[91,57,91,58],[91,59,91,60],[92,6,92,7],[92,12,92,13],[90,2,92,2],[90,3,92,5],[90,6,90,7],[90,12,90,13],[90,14,90,17],[90,18,92,20],[92,14,92,17],[92,57,92,58],[92,59,92,60],[92,8,92,9],[92,10,92,11],[87,2,89,2],[87,3,89,5],[87,6,87,7],[87,12,87,13],[87,14,87,17],[87,18,89,20],[87,57,87,58],[87,59,87,60],[90,57,90,58],[90,59,90,60],[87,61,89,65],[88,6,88,7],[88,12,88,13],[88,14,88,17],[88,57,88,58],[88,59,88,60],[89,6,89,7],[89,12,89,13],[89,14,89,17],[89,57,89,58],[89,59,89,60],[89,8,89,9],[89,10,89,11],[84,2,86,2],[84,3,86,5],[84,6,84,7],[84,12,84,13],[84,14,84,17],[84,18,86,20],[84,57,84,58],[84,59,84,60],[86,59,86,60],[84,61,86,65],[85,6,85,7],[85,12,85,13],[85,14,85,17],[85,57,85,58],[85,59,85,60],[86,6,86,7],[86,12,86,13],[86,14,86,17],[86,57,86,58],[86,8,86,9],[86,10,86,11],[81,61,83,65],[82,6,82,7],[82,12,82,13],[82,14,82,17],[82,57,82,58],[82,59,82,60],[83,6,83,7],[83,12,83,13],[81,2,83,2],[81,3,83,5],[81,6,81,7],[81,12,81,13],[81,14,81,17],[81,18,83,20],[83,14,83,17],[83,57,83,58],[83,59,83,60],[83,8,83,9],[83,10,83,11],[78,2,80,2],[78,3,80,5],[78,6,78,7],[78,12,78,13],[78,14,78,17],[78,18,80,20],[78,57,78,58],[78,59,78,60],[81,57,81,58],[81,59,81,60],[78,61,80,65],[79,6,79,7],[79,12,79,13],[79,14,79,17],[79,57,79,58],[79,59,79,60],[80,6,80,7],[80,12,80,13],[80,14,80,17],[80,57,80,58],[80,59,80,60],[80,8,80,9],[80,10,80,11],[75,2,77,2],[75,3,77,5],[75,6,75,7],[75,12,75,13],[75,14,75,17],[75,18,77,20],[75,57,75,58],[75,59,75,60],[77,59,77,60],[75,61,77,65],[76,6,76,7],[76,12,76,13],[76,14,76,17],[76,57,76,58],[76,59,76,60],[77,6,77,7],[77,12,77,13],[77,14,77,17],[77,57,77,58],[77,8,77,9],[77,10,77,11],[72,61,74,65],[73,6,73,7],[73,12,73,13],[73,14,73,17],[73,57,73,58],[73,59,73,60],[74,6,74,7],[74,12,74,13],[72,2,74,2],[72,3,74,5],[72,6,72,7],[72,12,72,13],[72,14,72,17],[72,18,74,20],[74,14,74,17],[74,57,74,58],[74,59,74,60],[74,8,74,9],[74,10,74,11],[69,2,71,2],[69,3,71,5],[69,6,69,7],[69,12,69,13],[69,14,69,17],[69,18,71,20],[69,57,69,58],[69,59,69,60],[72,57,72,58],[72,59,72,60],[69,61,71,65],[70,6,70,7],[70,12,70,13],[70,14,70,17],[70,57,70,58],[70,59,70,60],[71,6,71,7],[71,12,71,13],[71,14,71,17],[71,57,71,58],[71,59,71,60],[71,8,71,9],[71,10,71,11],[66,2,68,2],[66,3,68,5],[66,6,66,7],[66,12,66,13],[66,14,66,17],[66,18,68,20],[66,57,66,58],[66,59,66,60],[68,59,68,60],[66,61,68,65],[67,6,67,7],[67,12,67,13],[67,14,67,17],[67,57,67,58],[67,59,67,60],[68,6,68,7],[68,12,68,13],[68,14,68,17],[68,57,68,58],[68,8,68,9],[68,10,68,11],[63,61,65,65],[64,6,64,7],[64,12,64,13],[64,14,64,17],[64,57,64,58],[64,59,64,60],[65,6,65,7],[65,12,65,13],[63,2,65,2],[63,3,65,5],[63,6,63,7],[63,12,63,13],[63,14,63,17],[63,18,65,20],[65,14,65,17],[65,57,65,58],[65,59,65,60],[65,8,65,9],[65,10,65,11],[60,2,62,2],[60,3,62,5],[60,6,60,7],[60,12,60,13],[60,14,60,17],[60,18,62,20],[60,57,60,58],[60,59,60,60],[63,57,63,58],[63,59,63,60],[60,61,62,65],[61,6,61,7],[61,12,61,13],[61,14,61,17],[61,57,61,58],[61,59,61,60],[62,6,62,7],[62,12,62,13],[62,14,62,17],[62,57,62,58],[62,59,62,60],[62,8,62,9],[62,10,62,11],[57,2,59,2],[57,3,59,5],[57,6,57,7],[57,12,57,13],[57,14,57,17],[57,18,59,20],[57,57,57,58],[57,59,57,60],[59,59,59,60],[58,6,58,7],[58,12,58,13],[58,14,58,17],[58,57,58,58],[58,59,58,60],[59,6,59,7],[59,12,59,13],[59,14,59,17],[59,57,59,58],[59,8,59,9],[59,10,59,11],[51,2,53,2],[51,3,53,5],[51,6,51,7],[51,12,51,13],[51,14,51,17],[51,18,53,20],[51,57,51,58],[51,59,51,60],[54,57,54,58],[54,59,54,60],[53,59,53,60],[54,2,56,2],[54,3,56,5],[54,6,54,7],[54,12,54,13],[54,14,54,17],[54,18,56,20],[56,14,56,17],[56,57,56,58],[56,59,56,60],[56,8,56,9],[56,10,56,11],[130,61,130,64],[129,61,129,64],[128,61,128,64],[51,61,53,65],[52,6,52,7],[52,12,52,13],[52,14,52,17],[52,57,52,58],[52,59,52,60],[53,6,53,7],[53,12,53,13],[53,14,53,17],[53,57,53,58],[53,8,53,9],[53,10,53,11],[54,61,56,65],[55,6,55,7],[55,12,55,13],[55,14,55,17],[55,57,55,58],[55,59,55,60],[56,6,56,7],[56,12,56,13],[57,61,59,65]]}
[null,null,null,null,null,null,"（参考様式）",null,null,null,null,null,null,null,null,null,"従業者の勤務の体制及び勤務形態一覧表　",null,null,null,null,null,null,null,null,null,null,null,null,null,null,null,null,null,null,null,null,null,null,null,null,null,null,null,null,null,null,null,"サービス種別（","指定介護老人保健施設（ユニット型）",null,null,null,null,null,null,null,null,null,null,null,null,null,null,null,"）"]
[null,null,null,null,null,null,null,null,null,null,null,null,null,null,null,null,null,null,null,null,null,null,null,null,null,null,null,null,null,null,null,"令和",2,null,"(",{"$f":"IF(AG2=0,\"\",YEAR(DATE(2018+AG2,1,1)))","v":2020},null,")","年",4,null,"月",null,null,null,null,null,null,"事業所名（","○○○○",null,null,null,null,null,null,null,null,null,null,null,null,null,null,null,"）"]
[null,null,null,null,null,null,null,null,null,null,null,null,null,null,null,null,null,null,null,null,null,null,null,null,null,null,null,null,null,null,null,null,null,null,null,null,null,null,null,null,null,null,null,null,null,null,null,null,null,null,null,null,null,null,null,null,null,null,null,"(1)","計画"]
[]
[null,null,null,null,null,null,null,null,null,null,null,null,null,null,null,null,null,null,null,null,null,null,null,null,null,null,null,null,null,null,null,null,null,null,null,null,null,null,null,null,"(2) 事業所における常勤の従業者が勤務すべき時間数",null,null,null,null,null,null,null,null,null,null,null,8,null,"時間/日",null,40,null,"時間/週",null,160,null,"時間/月"]
[]
[null,null,null,null,null,null,null,null,null,null,null,null,null,null,null,null,null,null,null,null,null,null,null,null,null,null,null,null,null,null,null,null,null,null,null,null,null,null,null,null,null,null,null,null,null,null,null,null,null,null,null,null,null,null,null,null,null,"当月の日数",null,null,{"$f":"DAY(EOMONTH(DATE(AJ2,AN2,1),0))","v":30},null,"日"]
[null,null,null,null,null,null,null,null,null,null,null,null,null,null,null,null,null,null,null,null,null,null,null,null,null,null,null,null,null,null,null,null,null,null,null,null,null,null,null,null,"(介護老人保健施設）",null,null,null,null,null,null,null,null,null,null,null,null,"(短期入所療養介護）"]
[null,null,null,null,null,null,null,null,null,null,null,null,null,null,null,null,null,null,null,null,null,null,null,null,null,null,null,null,null,null,null,null,null,null,null,null,null,null,null,null,"(4) 入所定員",null,null,null,"(5) 入所者数",null,null,null,null,null,null,null,null,"(6) 利用定員",null,null,null,"(7) 利用者数"]
[null,"(3) 日中／夜勤の時間帯の区分",null,null,null,null,null,null,null,null,null,null,null,null,null,null,null,null,null,null,null,null,null,null,null,null,null,null,null,null,null,null,null,null,null,null,null,null,null,null,null,40,null,"人",null,"前年度の平均値",null,null,null,null,null,"人",null,null,null,null,"人",null,"前年度の平均値",null,null,null,null,null,"人"]
[null,"日中（夜勤時間帯以外）の時間帯",null,null,null,null,null,null,null,null,null,null,null,null,null,null,{"$f":"U12","v":"09:00:00"},null,null,"～",{"$f":"Q12","v":"17:00:00"},null,null,null,null,null,null,null,null,null,null,null,null,null,null,null,null,null,null,null,null,null,null,null,null,"（新規に指定を受ける場合）",null,null,null,null,null,null,null,null,null,null,null,null,"（新規に指定を受ける場合）"]
[null,"夜勤時間帯",null,null,null,null,null,null,null,null,null,null,null,null,null,null,"17:00:00",null,null,"～","09:00:00",null,null,null,null,null,null,null,null,null,null,null,null,null,null,null,null,null,null,null,null,null,null,null,null,"推定数",null,null,null,36,null,"人",null,null,null,null,null,null,"推定数",null,null,null,null,null,"人"]
[]
[null,"No","(8)\nユニットリーダー","(9)\nユニット名",null,null,"(10) \n職種",null,null,null,null,null,"(11)\n勤務\n形態",null,"(12) 資格",null,null,null,"(13) 氏　名",null,null,"日中／夜勤時間帯\nの区分",null,null,null,null,"(14) 勤 務 時 間 数",null,null,null,null,null,null,null,null,null,null,null,null,null,null,null,null,null,null,null,null,null,null,null,null,null,null,null,null,null,null,{"$f":"IF(BI3=\"計画\",\"(15)1～4週目の勤務時間数合計\",\"(15)1か月の勤務時間数　合計\")","v":"(15)1～4週目の勤務時間数合計"},null,"(16)\n週平均\n勤務時間数",null,"(17) 兼務状況\n（兼務先/兼務する職務の内容\n/兼務時間数））"]
[null,null,null,null,null,null,null,null,null,null,null,null,null,null,null,null,null,null,null,null,null,null,null,null,null,null,"1週目",null,null,null,null,null,null,"2週目",null,null,null,null,null,null,"3週目",null,null,null,null,null,null,"4週目",null,null,null,null,null,null,"5週目"]
[null,null,null,null,null,null,null,null,null,null,null,null,null,null,null,null,null,null,null,null,null,null,null,null,null,null,1,2,3,4,5,6,7,8,9,10,11,12,13,14,15,16,17,18,19,20,21,22,23,24,25,26,27,28,{"$f":"IF($BI$3=\"実績\",IF(DAY(DATE($AJ$2,$AN$2,29))=29,29,\"\"),\"\")","v":""},{"$f":"IF($BI$3=\"実績\",IF(DAY(DATE($AJ$2,$AN$2,30))=30,30,\"\"),\"\")","v":""},{"$f":"IF($BI$3=\"実績\",IF(DAY(DATE($AJ$2,$AN$2,31))=31,31,\"\"),\"\")","v":""}]
[null,null,null,null,null,null,null,null,null,null,null,null,null,null,null,null,null,null,null,null,null,null,null,null,null,null,{"$f":"WEEKDAY(DATE($AJ$2,$AN$2,1))","v":4},{"$f":"WEEKDAY(DATE($AJ$2,$AN$2,2))","v":5},{"$f":"WEEKDAY(DATE($AJ$2,$AN$2,3))","v":6},{"$f":"WEEKDAY(DATE($AJ$2,$AN$2,4))","v":7},{"$f":"WEEKDAY(DATE($AJ$2,$AN$2,5))","v":1},{"$f":"WEEKDAY(DATE($AJ$2,$AN$2,6))","v":2},{"$f":"WEEKDAY(DATE($AJ$2,$AN$2,7))","v":3},{"$f":"WEEKDAY(DATE($AJ$2,$AN$2,8))","v":4},{"$f":"WEEKDAY(DATE($AJ$2,$AN$2,9))","v":5},{"$f":"WEEKDAY(DATE($AJ$2,$AN$2,10))","v":6},{"$f":"WEEKDAY(DATE($AJ$2,$AN$2,11))","v":7},{"$f":"WEEKDAY(DATE($AJ$2,$AN$2,12))","v":1},{"$f":"WEEKDAY(DATE($AJ$2,$AN$2,13))","v":2},{"$f":"WEEKDAY(DATE($AJ$2,$AN$2,14))","v":3},{"$f":"WEEKDAY(DATE($AJ$2,$AN$2,15))","v":4},{"$f":"WEEKDAY(DATE($AJ$2,$AN$2,16))","v":5},{"$f":"WEEKDAY(DATE($AJ$2,$AN$2,17))","v":6},{"$f":"WEEKDAY(DATE($AJ$2,$AN$2,18))","v":7},{"$f":"WEEKDAY(DATE($AJ$2,$AN$2,19))","v":1},{"$f":"WEEKDAY(DATE($AJ$2,$AN$2,20))","v":2},{"$f":"WEEKDAY(DATE($AJ$2,$AN$2,21))","v":3},{"$f":"WEEKDAY(DATE($AJ$2,$AN$2,22))","v":4},{"$f":"WEEKDAY(DATE($AJ$2,$AN$2,23))","v":5},{"$f":"WEEKDAY(DATE($AJ$2,$AN$2,24))","v":6},{"$f":"WEEKDAY(DATE($AJ$2,$AN$2,25))","v":7},{"$f":"WEEKDAY(DATE($AJ$2,$AN$2,26))","v":1},{"$f":"WEEKDAY(DATE($AJ$2,$AN$2,27))","v":2},{"$f":"WEEKDAY(DATE($AJ$2,$AN$2,28))","v":3},{"$f":"IF(BC16=29,WEEKDAY(DATE($AJ$2,$AN$2,29)),0)","v":0},{"$f":"IF(BD16=30,WEEKDAY(DATE($AJ$2,$AN$2,30)),0)","v":0},{"$f":"IF(BE16=31,WEEKDAY(DATE($AJ$2,$AN$2,31)),0)","v":0}]
[null,null,null,null,null,null,null,null,null,null,null,null,null,null,null,null,null,null,null,null,null,null,null,null,null,null,{"$f":"IF(AA17=1,\"日\",IF(AA17=2,\"月\",IF(AA17=3,\"火\",IF(AA17=4,\"水\",IF(AA17=5,\"木\",IF(AA17=6,\"金\",\"土\"))))))","v":"水"},{"$f":"IF(AB17=1,\"日\",IF(AB17=2,\"月\",IF(AB17=3,\"火\",IF(AB17=4,\"水\",IF(AB17=5,\"木\",IF(AB17=6,\"金\",\"土\"))))))","v":"木"},"金","土","日","月","火",{"$f":"IF(AH17=1,\"日\",IF(AH17=2,\"月\",IF(AH17=3,\"火\",IF(AH17=4,\"水\",IF(AH17=5,\"木\",IF(AH17=6,\"金\",\"土\"))))))","v":"水"},"木","金","土","日","月","火",{"$f":"IF(AO17=1,\"日\",IF(AO17=2,\"月\",IF(AO17=3,\"火\",IF(AO17=4,\"水\",IF(AO17=5,\"木\",IF(AO17=6,\"金\",\"土\"))))))","v":"水"},"木","金","土","日","月","火",{"$f":"IF(AV17=1,\"日\",IF(AV17=2,\"月\",IF(AV17=3,\"火\",IF(AV17=4,\"水\",IF(AV17=5,\"木\",IF(AV17=6,\"金\",\"土\"))))))","v":"水"},"木","金","土","日","月","火",{"$f":"IF(BC17=1,\"日\",IF(BC17=2,\"月\",IF(BC17=3,\"火\",IF(BC17=4,\"水\",IF(BC17=5,\"木\",IF(BC17=6,\"金\",IF(BC17=0,\"\",\"土\")))))))","v":""},{"$f":"IF(BD17=1,\"日\",IF(BD17=2,\"月\",IF(BD17=3,\"火\",IF(BD17=4,\"水\",IF(BD17=5,\"木\",IF(BD17=6,\"金\",IF(BD17=0,\"\",\"土\")))))))","v":""},{"$f":"IF(BE17=1,\"日\",IF(BE17=2,\"月\",IF(BE17=3,\"火\",IF(BE17=4,\"水\",IF(BE17=5,\"木\",IF(BE17=6,\"金\",IF(BE17=0,\"\",\"土\")))))))","v":""}]
[null,null,null,null,null,null,null,null,null,null,null,null,null,null,null,null,null,null,"厚労　太郎",null,null,"シフト記号",null,null,null,null,"b","b","b","休","休","b","b","b","b","b","休","休","b","b","b","b","b","休","休","b","b","b","b","b","休","休","b","b"]
[null,1,null,null,null,null,"管理者",null,null,null,null,null,"A",null,"ー",null,null,null,null,null,null,"日中の勤務時間数",null,null,null,null,{"$f":"IF(AA19=\"\",\"\",VLOOKUP(AA19,'【記載例】（ユニット型）シフト記号表'!$C$5:$W$46,21,FALSE))","v":7},{"$f":"IF(AB19=\"\",\"\",VLOOKUP(AB19,'【記載例】（ユニット型）シフト記号表'!$C$5:$W$46,21,FALSE))","v":7},{"$f":"IF(AC19=\"\",\"\",VLOOKUP(AC19,'【記載例】（ユニット型）シフト記号表'!$C$5:$W$46,21,FALSE))","v":7},{"$f":"IF(AD19=\"\",\"\",VLOOKUP(AD19,'【記載例】（ユニット型）シフト記号表'!$C$5:$W$46,21,FALSE))","v":"-"},{"$f":"IF(AE19=\"\",\"\",VLOOKUP(AE19,'【記載例】（ユニット型）シフト記号表'!$C$5:$W$46,21,FALSE))","v":"-"},{"$f":"IF(AF19=\"\",\"\",VLOOKUP(AF19,'【記載例】（ユニット型）シフト記号表'!$C$5:$W$46,21,FALSE))","v":7},{"$f":"IF(AG19=\"\",\"\",VLOOKUP(AG19,'【記載例】（ユニット型）シフト記号表'!$C$5:$W$46,21,FALSE))","v":7},{"$f":"IF(AH19=\"\",\"\",VLOOKUP(AH19,'【記載例】（ユニット型）シフト記号表'!$C$5:$W$46,21,FALSE))","v":7},{"$f":"IF(AI19=\"\",\"\",VLOOKUP(AI19,'【記載例】（ユニット型）シフト記号表'!$C$5:$W$46,21,FALSE))","v":7},{"$f":"IF(AJ19=\"\",\"\",VLOOKUP(AJ19,'【記載例】（ユニット型）シフト記号表'!$C$5:$W$46,21,FALSE))","v":7},{"$f":"IF(AK19=\"\",\"\",VLOOKUP(AK19,'【記載例】（ユニット型）シフト記号表'!$C$5:$W$46,21,FALSE))","v":"-"},{"$f":"IF(AL19=\"\",\"\",VLOOKUP(AL19,'【記載例】（ユニット型）シフト記号表'!$C$5:$W$46,21,FALSE))","v":"-"},{"$f":"IF(AM19=\"\",\"\",VLOOKUP(AM19,'【記載例】（ユニット型）シフト記号表'!$C$5:$W$46,21,FALSE))","v":7},{"$f":"IF(AN19=\"\",\"\",VLOOKUP(AN19,'【記載例】（ユニット型）シフト記号表'!$C$5:$W$46,21,FALSE))","v":7},{"$f":"IF(AO19=\"\",\"\",VLOOKUP(AO19,'【記載例】（ユニット型）シフト記号表'!$C$5:$W$46,21,FALSE))","v":7},{"$f":"IF(AP19=\"\",\"\",VLOOKUP(AP19,'【記載例】（ユニット型）シフト記号表'!$C$5:$W$46,21,FALSE))","v":7},{"$f":"IF(AQ19=\"\",\"\",VLOOKUP(AQ19,'【記載例】（ユニット型）シフト記号表'!$C$5:$W$46,21,FALSE))","v":7},{"$f":"IF(AR19=\"\",\"\",VLOOKUP(AR19,'【記載例】（ユニット型）シフト記号表'!$C$5:$W$46,21,FALSE))","v":"-"},{"$f":"IF(AS19=\"\",\"\",VLOOKUP(AS19,'【記載例】（ユニット型）シフト記号表'!$C$5:$W$46,21,FALSE))","v":"-"},{"$f":"IF(AT19=\"\",\"\",VLOOKUP(AT19,'【記載例】（ユニット型）シフト記号表'!$C$5:$W$46,21,FALSE))","v":7},{"$f":"IF(AU19=\"\",\"\",VLOOKUP(AU19,'【記載例】（ユニット型）シフト記号表'!$C$5:$W$46,21,FALSE))","v":7},{"$f":"IF(AV19=\"\",\"\",VLOOKUP(AV19,'【記載例】（ユニット型）シフト記号表'!$C$5:$W$46,21,FALSE))","v":7},{"$f":"IF(AW19=\"\",\"\",VLOOKUP(AW19,'【記載例】（ユニット型）シフト記号表'!$C$5:$W$46,21,FALSE))","v":7},{"$f":"IF(AX19=\"\",\"\",VLOOKUP(AX19,'【記載例】（ユニット型）シフト記号表'!$C$5:$W$46,21,FALSE))","v":7},{"$f":"IF(AY19=\"\",\"\",VLOOKUP(AY19,'【記載例】（ユニット型）シフト記号表'!$C$5:$W$46,21,FALSE))","v":"-"},{"$f":"IF(AZ19=\"\",\"\",VLOOKUP(AZ19,'【記載例】（ユニット型）シフト記号表'!$C$5:$W$46,21,FALSE))","v":"-"},{"$f":"IF(BA19=\"\",\"\",VLOOKUP(BA19,'【記載例】（ユニット型）シフト記号表'!$C$5:$W$46,21,FALSE))","v":7},{"$f":"IF(BB19=\"\",\"\",VLOOKUP(BB19,'【記載例】（ユニット型）シフト記号表'!$C$5:$W$46,21,FALSE))","v":7},{"$f":"IF(BC19=\"\",\"\",VLOOKUP(BC19,'【記載例】（ユニット型）シフト記号表'!$C$5:$W$46,21,FALSE))","v":""},{"$f":"IF(BD19=\"\",\"\",VLOOKUP(BD19,'【記載例】（ユニット型）シフト記号表'!$C$5:$W$46,21,FALSE))","v":""},{"$f":"IF(BE19=\"\",\"\",VLOOKUP(BE19,'【記載例】（ユニット型）シフト記号表'!$C$5:$W$46,21,FALSE))","v":""},{"$f":"IF($BI$3=\"計画\",SUM(AA20:BB20),IF($BI$3=\"実績\",SUM(AA20:BE20),\"\"))","v":140},null,{"$f":"IF($BI$3=\"計画\",BF20/4,IF($BI$3=\"実績\",(BF20/($BI$7/7)),\"\"))","v":35}]
[null,null,null,null,null,null,null,null,{"$f":"G20","v":"管理者"},null,{"$f":"M20","v":"A"},null,null,null,null,null,null,null,null,null,null,"夜勤時間帯の勤務時間数",null,null,null,null,{"$f":"IF(AA19=\"\",\"\",VLOOKUP(AA19,'【記載例】（ユニット型）シフト記号表'!$C$5:$Y$46,23,FALSE))","v":1},{"$f":"IF(AB19=\"\",\"\",VLOOKUP(AB19,'【記載例】（ユニット型）シフト記号表'!$C$5:$Y$46,23,FALSE))","v":1},{"$f":"IF(AC19=\"\",\"\",VLOOKUP(AC19,'【記載例】（ユニット型）シフト記号表'!$C$5:$Y$46,23,FALSE))","v":1},{"$f":"IF(AD19=\"\",\"\",VLOOKUP(AD19,'【記載例】（ユニット型）シフト記号表'!$C$5:$Y$46,23,FALSE))","v":"-"},{"$f":"IF(AE19=\"\",\"\",VLOOKUP(AE19,'【記載例】（ユニット型）シフト記号表'!$C$5:$Y$46,23,FALSE))","v":"-"},{"$f":"IF(AF19=\"\",\"\",VLOOKUP(AF19,'【記載例】（ユニット型）シフト記号表'!$C$5:$Y$46,23,FALSE))","v":1},{"$f":"IF(AG19=\"\",\"\",VLOOKUP(AG19,'【記載例】（ユニット型）シフト記号表'!$C$5:$Y$46,23,FALSE))","v":1},{"$f":"IF(AH19=\"\",\"\",VLOOKUP(AH19,'【記載例】（ユニット型）シフト記号表'!$C$5:$Y$46,23,FALSE))","v":1},{"$f":"IF(AI19=\"\",\"\",VLOOKUP(AI19,'【記載例】（ユニット型）シフト記号表'!$C$5:$Y$46,23,FALSE))","v":1},{"$f":"IF(AJ19=\"\",\"\",VLOOKUP(AJ19,'【記載例】（ユニット型）シフト記号表'!$C$5:$Y$46,23,FALSE))","v":1},{"$f":"IF(AK19=\"\",\"\",VLOOKUP(AK19,'【記載例】（ユニット型）シフト記号表'!$C$5:$Y$46,23,FALSE))","v":"-"},{"$f":"IF(AL19=\"\",\"\",VLOOKUP(AL19,'【記載例】（ユニット型）シフト記号表'!$C$5:$Y$46,23,FALSE))","v":"-"},{"$f":"IF(AM19=\"\",\"\",VLOOKUP(AM19,'【記載例】（ユニット型）シフト記号表'!$C$5:$Y$46,23,FALSE))","v":1},{"$f":"IF(AN19=\"\",\"\",VLOOKUP(AN19,'【記載例】（ユニット型）シフト記号表'!$C$5:$Y$46,23,FALSE))","v":1},{"$f":"IF(AO19=\"\",\"\",VLOOKUP(AO19,'【記載例】（ユニット型）シフト記号表'!$C$5:$Y$46,23,FALSE))","v":1},{"$f":"IF(AP19=\"\",\"\",VLOOKUP(AP19,'【記載例】（ユニット型）シフト記号表'!$C$5:$Y$46,23,FALSE))","v":1},{"$f":"IF(AQ19=\"\",\"\",VLOOKUP(AQ19,'【記載例】（ユニット型）シフト記号表'!$C$5:$Y$46,23,FALSE))","v":1},{"$f":"IF(AR19=\"\",\"\",VLOOKUP(AR19,'【記載例】（ユニット型）シフト記号表'!$C$5:$Y$46,23,FALSE))","v":"-"},{"$f":"IF(AS19=\"\",\"\",VLOOKUP(AS19,'【記載例】（ユニット型）シフト記号表'!$C$5:$Y$46,23,FALSE))","v":"-"},{"$f":"IF(AT19=\"\",\"\",VLOOKUP(AT19,'【記載例】（ユニット型）シフト記号表'!$C$5:$Y$46,23,FALSE))","v":1},{"$f":"IF(AU19=\"\",\"\",VLOOKUP(AU19,'【記載例】（ユニット型）シフト記号表'!$C$5:$Y$46,23,FALSE))","v":1},{"$f":"IF(AV19=\"\",\"\",VLOOKUP(AV19,'【記載例】（ユニット型）シフト記号表'!$C$5:$Y$46,23,FALSE))","v":1},{"$f":"IF(AW19=\"\",\"\",VLOOKUP(AW19,'【記載例】（ユニット型）シフト記号表'!$C$5:$Y$46,23,FALSE))","v":1},{"$f":"IF(AX19=\"\",\"\",VLOOKUP(AX19,'【記載例】（ユニット型）シフト記号表'!$C$5:$Y$46,23,FALSE))","v":1},{"$f":"IF(AY19=\"\",\"\",VLOOKUP(AY19,'【記載例】（ユニット型）シフト記号表'!$C$5:$Y$46,23,FALSE))","v":"-"},{"$f":"IF(AZ19=\"\",\"\",VLOOKUP(AZ19,'【記載例】（ユニット型）シフト記号表'!$C$5:$Y$46,23,FALSE))","v":"-"},{"$f":"IF(BA19=\"\",\"\",VLOOKUP(BA19,'【記載例】（ユニット型）シフト記号表'!$C$5:$Y$46,23,FALSE))","v":1},{"$f":"IF(BB19=\"\",\"\",VLOOKUP(BB19,'【記載例】（ユニット型）シフト記号表'!$C$5:$Y$46,23,FALSE))","v":1},{"$f":"IF(BC19=\"\",\"\",VLOOKUP(BC19,'【記載例】（ユニット型）シフト記号表'!$C$5:$Y$46,23,FALSE))","v":""},{"$f":"IF(BD19=\"\",\"\",VLOOKUP(BD19,'【記載例】（ユニット型）シフト記号表'!$C$5:$Y$46,23,FALSE))","v":""},{"$f":"IF(BE19=\"\",\"\",VLOOKUP(BE19,'【記載例】（ユニット型）シフト記号表'!$C$5:$Y$46,23,FALSE))","v":""},{"$f":"IF($BI$3=\"計画\",SUM(AA21:BB21),IF($BI$3=\"実績\",SUM(AA21:BE21),\"\"))","v":20},null,{"$f":"IF($BI$3=\"計画\",BF21/4,IF($BI$3=\"実績\",(BF21/($BI$7/7)),\"\"))","v":5}]
[null,null,null,null,null,null,null,null,null,null,null,null,null,null,null,null,null,null,"○○　A男",null,null,"シフト記号",null,null,null,null,"b","b","b","休","休","b","b","b","b","b","休","休","b","b","b","b","b","休","休","b","b","b","b","b","休","休","b","b"]
[null,{"$f":"B20+1","v":2},null,null,null,null,"医師",null,null,null,null,null,"A",null,"医師",null,null,null,null,null,null,"日中の勤務時間数",null,null,null,null,{"$f":"IF(AA22=\"\",\"\",VLOOKUP(AA22,'【記載例】（ユニット型）シフト記号表'!$C$5:$W$46,21,FALSE))","v":7},{"$f":"IF(AB22=\"\",\"\",VLOOKUP(AB22,'【記載例】（ユニット型）シフト記号表'!$C$5:$W$46,21,FALSE))","v":7},{"$f":"IF(AC22=\"\",\"\",VLOOKUP(AC22,'【記載例】（ユニット型）シフト記号表'!$C$5:$W$46,21,FALSE))","v":7},{"$f":"IF(AD22=\"\",\"\",VLOOKUP(AD22,'【記載例】（ユニット型）シフト記号表'!$C$5:$W$46,21,FALSE))","v":"-"},{"$f":"IF(AE22=\"\",\"\",VLOOKUP(AE22,'【記載例】（ユニット型）シフト記号表'!$C$5:$W$46,21,FALSE))","v":"-"},{"$f":"IF(AF22=\"\",\"\",VLOOKUP(AF22,'【記載例】（ユニット型）シフト記号表'!$C$5:$W$46,21,FALSE))","v":7},{"$f":"IF(AG22=\"\",\"\",VLOOKUP(AG22,'【記載例】（ユニット型）シフト記号表'!$C$5:$W$46,21,FALSE))","v":7},{"$f":"IF(AH22=\"\",\"\",VLOOKUP(AH22,'【記載例】（ユニット型）シフト記号表'!$C$5:$W$46,21,FALSE))","v":7},{"$f":"IF(AI22=\"\",\"\",VLOOKUP(AI22,'【記載例】（ユニット型）シフト記号表'!$C$5:$W$46,21,FALSE))","v":7},{"$f":"IF(AJ22=\"\",\"\",VLOOKUP(AJ22,'【記載例】（ユニット型）シフト記号表'!$C$5:$W$46,21,FALSE))","v":7},{"$f":"IF(AK22=\"\",\"\",VLOOKUP(AK22,'【記載例】（ユニット型）シフト記号表'!$C$5:$W$46,21,FALSE))","v":"-"},{"$f":"IF(AL22=\"\",\"\",VLOOKUP(AL22,'【記載例】（ユニット型）シフト記号表'!$C$5:$W$46,21,FALSE))","v":"-"},{"$f":"IF(AM22=\"\",\"\",VLOOKUP(AM22,'【記載例】（ユニット型）シフト記号表'!$C$5:$W$46,21,FALSE))","v":7},{"$f":"IF(AN22=\"\",\"\",VLOOKUP(AN22,'【記載例】（ユニット型）シフト記号表'!$C$5:$W$46,21,FALSE))","v":7},{"$f":"IF(AO22=\"\",\"\",VLOOKUP(AO22,'【記載例】（ユニット型）シフト記号表'!$C$5:$W$46,21,FALSE))","v":7},{"$f":"IF(AP22=\"\",\"\",VLOOKUP(AP22,'【記載例】（ユニット型）シフト記号表'!$C$5:$W$46,21,FALSE))","v":7},{"$f":"IF(AQ22=\"\",\"\",VLOOKUP(AQ22,'【記載例】（ユニット型）シフト記号表'!$C$5:$W$46,21,FALSE))","v":7},{"$f":"IF(AR22=\"\",\"\",VLOOKUP(AR22,'【記載例】（ユニット型）シフト記号表'!$C$5:$W$46,21,FALSE))","v":"-"},{"$f":"IF(AS22=\"\",\"\",VLOOKUP(AS22,'【記載例】（ユニット型）シフト記号表'!$C$5:$W$46,21,FALSE))","v":"-"},{"$f":"IF(AT22=\"\",\"\",VLOOKUP(AT22,'【記載例】（ユニット型）シフト記号表'!$C$5:$W$46,21,FALSE))","v":7},{"$f":"IF(AU22=\"\",\"\",VLOOKUP(AU22,'【記載例】（ユニット型）シフト記号表'!$C$5:$W$46,21,FALSE))","v":7},{"$f":"IF(AV22=\"\",\"\",VLOOKUP(AV22,'【記載例】（ユニット型）シフト記号表'!$C$5:$W$46,21,FALSE))","v":7},{"$f":"IF(AW22=\"\",\"\",VLOOKUP(AW22,'【記載例】（ユニット型）シフト記号表'!$C$5:$W$46,21,FALSE))","v":7},{"$f":"IF(AX22=\"\",\"\",VLOOKUP(AX22,'【記載例】（ユニット型）シフト記号表'!$C$5:$W$46,21,FALSE))","v":7},{"$f":"IF(AY22=\"\",\"\",VLOOKUP(AY22,'【記載例】（ユニット型）シフト記号表'!$C$5:$W$46,21,FALSE))","v":"-"},{"$f":"IF(AZ22=\"\",\"\",VLOOKUP(AZ22,'【記載例】（ユニット型）シフト記号表'!$C$5:$W$46,21,FALSE))","v":"-"},{"$f":"IF(BA22=\"\",\"\",VLOOKUP(BA22,'【記載例】（ユニット型）シフト記号表'!$C$5:$W$46,21,FALSE))","v":7},{"$f":"IF(BB22=\"\",\"\",VLOOKUP(BB22,'【記載例】（ユニット型）シフト記号表'!$C$5:$W$46,21,FALSE))","v":7},{"$f":"IF(BC22=\"\",\"\",VLOOKUP(BC22,'【記載例】（ユニット型）シフト記号表'!$C$5:$W$46,21,FALSE))","v":""},{"$f":"IF(BD22=\"\",\"\",VLOOKUP(BD22,'【記載例】（ユニット型）シフト記号表'!$C$5:$W$46,21,FALSE))","v":""},{"$f":"IF(BE22=\"\",\"\",VLOOKUP(BE22,'【記載例】（ユニット型）シフト記号表'!$C$5:$W$46,21,FALSE))","v":""},{"$f":"IF($BI$3=\"計画\",SUM(AA23:BB23),IF($BI$3=\"実績\",SUM(AA23:BE23),\"\"))","v":140},null,{"$f":"IF($BI$3=\"計画\",BF23/4,IF($BI$3=\"実績\",(BF23/($BI$7/7)),\"\"))","v":35}]
[null,null,null,null,null,null,null,null,{"$f":"G23","v":"医師"},null,{"$f":"M23","v":"A"},null,null,null,null,null,null,null,null,null,null,"夜勤時間帯の勤務時間数",null,null,null,null,{"$f":"IF(AA22=\"\",\"\",VLOOKUP(AA22,'【記載例】（ユニット型）シフト記号表'!$C$5:$Y$46,23,FALSE))","v":1},{"$f":"IF(AB22=\"\",\"\",VLOOKUP(AB22,'【記載例】（ユニット型）シフト記号表'!$C$5:$Y$46,23,FALSE))","v":1},{"$f":"IF(AC22=\"\",\"\",VLOOKUP(AC22,'【記載例】（ユニット型）シフト記号表'!$C$5:$Y$46,23,FALSE))","v":1},{"$f":"IF(AD22=\"\",\"\",VLOOKUP(AD22,'【記載例】（ユニット型）シフト記号表'!$C$5:$Y$46,23,FALSE))","v":"-"},{"$f":"IF(AE22=\"\",\"\",VLOOKUP(AE22,'【記載例】（ユニット型）シフト記号表'!$C$5:$Y$46,23,FALSE))","v":"-"},{"$f":"IF(AF22=\"\",\"\",VLOOKUP(AF22,'【記載例】（ユニット型）シフト記号表'!$C$5:$Y$46,23,FALSE))","v":1},{"$f":"IF(AG22=\"\",\"\",VLOOKUP(AG22,'【記載例】（ユニット型）シフト記号表'!$C$5:$Y$46,23,FALSE))","v":1},{"$f":"IF(AH22=\"\",\"\",VLOOKUP(AH22,'【記載例】（ユニット型）シフト記号表'!$C$5:$Y$46,23,FALSE))","v":1},{"$f":"IF(AI22=\"\",\"\",VLOOKUP(AI22,'【記載例】（ユニット型）シフト記号表'!$C$5:$Y$46,23,FALSE))","v":1},{"$f":"IF(AJ22=\"\",\"\",VLOOKUP(AJ22,'【記載例】（ユニット型）シフト記号表'!$C$5:$Y$46,23,FALSE))","v":1},{"$f":"IF(AK22=\"\",\"\",VLOOKUP(AK22,'【記載例】（ユニット型）シフト記号表'!$C$5:$Y$46,23,FALSE))","v":"-"},{"$f":"IF(AL22=\"\",\"\",VLOOKUP(AL22,'【記載例】（ユニット型）シフト記号表'!$C$5:$Y$46,23,FALSE))","v":"-"},{"$f":"IF(AM22=\"\",\"\",VLOOKUP(AM22,'【記載例】（ユニット型）シフト記号表'!$C$5:$Y$46,23,FALSE))","v":1},{"$f":"IF(AN22=\"\",\"\",VLOOKUP(AN22,'【記載例】（ユニット型）シフト記号表'!$C$5:$Y$46,23,FALSE))","v":1},{"$f":"IF(AO22=\"\",\"\",VLOOKUP(AO22,'【記載例】（ユニット型）シフト記号表'!$C$5:$Y$46,23,FALSE))","v":1},{"$f":"IF(AP22=\"\",\"\",VLOOKUP(AP22,'【記載例】（ユニット型）シフト記号表'!$C$5:$Y$46,23,FALSE))","v":1},{"$f":"IF(AQ22=\"\",\"\",VLOOKUP(AQ22,'【記載例】（ユニット型）シフト記号表'!$C$5:$Y$46,23,FALSE))","v":1},{"$f":"IF(AR22=\"\",\"\",VLOOKUP(AR22,'【記載例】（ユニット型）シフト記号表'!$C$5:$Y$46,23,FALSE))","v":"-"},{"$f":"IF(AS22=\"\",\"\",VLOOKUP(AS22,'【記載例】（ユニット型）シフト記号表'!$C$5:$Y$46,23,FALSE))","v":"-"},{"$f":"IF(AT22=\"\",\"\",VLOOKUP(AT22,'【記載例】（ユニット型）シフト記号表'!$C$5:$Y$46,23,FALSE))","v":1},{"$f":"IF(AU22=\"\",\"\",VLOOKUP(AU22,'【記載例】（ユニット型）シフト記号表'!$C$5:$Y$46,23,FALSE))","v":1},{"$f":"IF(AV22=\"\",\"\",VLOOKUP(AV22,'【記載例】（ユニット型）シフト記号表'!$C$5:$Y$46,23,FALSE))","v":1},{"$f":"IF(AW22=\"\",\"\",VLOOKUP(AW22,'【記載例】（ユニット型）シフト記号表'!$C$5:$Y$46,23,FALSE))","v":1},{"$f":"IF(AX22=\"\",\"\",VLOOKUP(AX22,'【記載例】（ユニット型）シフト記号表'!$C$5:$Y$46,23,FALSE))","v":1},{"$f":"IF(AY22=\"\",\"\",VLOOKUP(AY22,'【記載例】（ユニット型）シフト記号表'!$C$5:$Y$46,23,FALSE))","v":"-"},{"$f":"IF(AZ22=\"\",\"\",VLOOKUP(AZ22,'【記載例】（ユニット型）シフト記号表'!$C$5:$Y$46,23,FALSE))","v":"-"},{"$f":"IF(BA22=\"\",\"\",VLOOKUP(BA22,'【記載例】（ユニット型）シフト記号表'!$C$5:$Y$46,23,FALSE))","v":1},{"$f":"IF(BB22=\"\",\"\",VLOOKUP(BB22,'【記載例】（ユニット型）シフト記号表'!$C$5:$Y$46,23,FALSE))","v":1},{"$f":"IF(BC22=\"\",\"\",VLOOKUP(BC22,'【記載例】（ユニット型）シフト記号表'!$C$5:$Y$46,23,FALSE))","v":""},{"$f":"IF(BD22=\"\",\"\",VLOOKUP(BD22,'【記載例】（ユニット型）シフト記号表'!$C$5:$Y$46,23,FALSE))","v":""},{"$f":"IF(BE22=\"\",\"\",VLOOKUP(BE22,'【記載例】（ユニット型）シフト記号表'!$C$5:$Y$46,23,FALSE))","v":""},{"$f":"IF($BI$3=\"計画\",SUM(AA24:BB24),IF($BI$3=\"実績\",SUM(AA24:BE24),\"\"))","v":20},null,{"$f":"IF($BI$3=\"計画\",BF24/4,IF($BI$3=\"実績\",(BF24/($BI$7/7)),\"\"))","v":5}]
[null,null,null,null,null,null,null,null,null,null,null,null,null,null,null,null,null,null,"○○　B子",null,null,"シフト記号",null,null,null,null,"b","b","b","休","休","b","b","b","b","b","休","休","b","b","b","b","b","休","休","b","b","b","b","b","休","休","b","b"]
[null,{"$f":"B23+1","v":3},null,null,null,null,"薬剤師",null,null,null,null,null,"A",null,"薬剤師",null,null,null,null,null,null,"日中の勤務時間数",null,null,null,null,{"$f":"IF(AA25=\"\",\"\",VLOOKUP(AA25,'【記載例】（ユニット型）シフト記号表'!$C$5:$W$46,21,FALSE))","v":7},{"$f":"IF(AB25=\"\",\"\",VLOOKUP(AB25,'【記載例】（ユニット型）シフト記号表'!$C$5:$W$46,21,FALSE))","v":7},{"$f":"IF(AC25=\"\",\"\",VLOOKUP(AC25,'【記載例】（ユニット型）シフト記号表'!$C$5:$W$46,21,FALSE))","v":7},{"$f":"IF(AD25=\"\",\"\",VLOOKUP(AD25,'【記載例】（ユニット型）シフト記号表'!$C$5:$W$46,21,FALSE))","v":"-"},{"$f":"IF(AE25=\"\",\"\",VLOOKUP(AE25,'【記載例】（ユニット型）シフト記号表'!$C$5:$W$46,21,FALSE))","v":"-"},{"$f":"IF(AF25=\"\",\"\",VLOOKUP(AF25,'【記載例】（ユニット型）シフト記号表'!$C$5:$W$46,21,FALSE))","v":7},{"$f":"IF(AG25=\"\",\"\",VLOOKUP(AG25,'【記載例】（ユニット型）シフト記号表'!$C$5:$W$46,21,FALSE))","v":7},{"$f":"IF(AH25=\"\",\"\",VLOOKUP(AH25,'【記載例】（ユニット型）シフト記号表'!$C$5:$W$46,21,FALSE))","v":7},{"$f":"IF(AI25=\"\",\"\",VLOOKUP(AI25,'【記載例】（ユニット型）シフト記号表'!$C$5:$W$46,21,FALSE))","v":7},{"$f":"IF(AJ25=\"\",\"\",VLOOKUP(AJ25,'【記載例】（ユニット型）シフト記号表'!$C$5:$W$46,21,FALSE))","v":7},{"$f":"IF(AK25=\"\",\"\",VLOOKUP(AK25,'【記載例】（ユニット型）シフト記号表'!$C$5:$W$46,21,FALSE))","v":"-"},{"$f":"IF(AL25=\"\",\"\",VLOOKUP(AL25,'【記載例】（ユニット型）シフト記号表'!$C$5:$W$46,21,FALSE))","v":"-"},{"$f":"IF(AM25=\"\",\"\",VLOOKUP(AM25,'【記載例】（ユニット型）シフト記号表'!$C$5:$W$46,21,FALSE))","v":7},{"$f":"IF(AN25=\"\",\"\",VLOOKUP(AN25,'【記載例】（ユニット型）シフト記号表'!$C$5:$W$46,21,FALSE))","v":7},{"$f":"IF(AO25=\"\",\"\",VLOOKUP(AO25,'【記載例】（ユニット型）シフト記号表'!$C$5:$W$46,21,FALSE))","v":7},{"$f":"IF(AP25=\"\",\"\",VLOOKUP(AP25,'【記載例】（ユニット型）シフト記号表'!$C$5:$W$46,21,FALSE))","v":7},{"$f":"IF(AQ25=\"\",\"\",VLOOKUP(AQ25,'【記載例】（ユニット型）シフト記号表'!$C$5:$W$46,21,FALSE))","v":7},{"$f":"IF(AR25=\"\",\"\",VLOOKUP(AR25,'【記載例】（ユニット型）シフト記号表'!$C$5:$W$46,21,FALSE))","v":"-"},{"$f":"IF(AS25=\"\",\"\",VLOOKUP(AS25,'【記載例】（ユニット型）シフト記号表'!$C$5:$W$46,21,FALSE))","v":"-"},{"$f":"IF(AT25=\"\",\"\",VLOOKUP(AT25,'【記載例】（ユニット型）シフト記号表'!$C$5:$W$46,21,FALSE))","v":7},{"$f":"IF(AU25=\"\",\"\",VLOOKUP(AU25,'【記載例】（ユニット型）シフト記号表'!$C$5:$W$46,21,FALSE))","v":7},{"$f":"IF(AV25=\"\",\"\",VLOOKUP(AV25,'【記載例】（ユニット型）シフト記号表'!$C$5:$W$46,21,FALSE))","v":7},{"$f":"IF(AW25=\"\",\"\",VLOOKUP(AW25,'【記載例】（ユニット型）シフト記号表'!$C$5:$W$46,21,FALSE))","v":7},{"$f":"IF(AX25=\"\",\"\",VLOOKUP(AX25,'【記載例】（ユニット型）シフト記号表'!$C$5:$W$46,21,FALSE))","v":7},{"$f":"IF(AY25=\"\",\"\",VLOOKUP(AY25,'【記載例】（ユニット型）シフト記号表'!$C$5:$W$46,21,FALSE))","v":"-"},{"$f":"IF(AZ25=\"\",\"\",VLOOKUP(AZ25,'【記載例】（ユニット型）シフト記号表'!$C$5:$W$46,21,FALSE))","v":"-"},{"$f":"IF(BA25=\"\",\"\",VLOOKUP(BA25,'【記載例】（ユニット型）シフト記号表'!$C$5:$W$46,21,FALSE))","v":7},{"$f":"IF(BB25=\"\",\"\",VLOOKUP(BB25,'【記載例】（ユニット型）シフト記号表'!$C$5:$W$46,21,FALSE))","v":7},{"$f":"IF(BC25=\"\",\"\",VLOOKUP(BC25,'【記載例】（ユニット型）シフト記号表'!$C$5:$W$46,21,FALSE))","v":""},{"$f":"IF(BD25=\"\",\"\",VLOOKUP(BD25,'【記載例】（ユニット型）シフト記号表'!$C$5:$W$46,21,FALSE))","v":""},{"$f":"IF(BE25=\"\",\"\",VLOOKUP(BE25,'【記載例】（ユニット型）シフト記号表'!$C$5:$W$46,21,FALSE))","v":""},{"$f":"IF($BI$3=\"計画\",SUM(AA26:BB26),IF($BI$3=\"実績\",SUM(AA26:BE26),\"\"))","v":140},null,{"$f":"IF($BI$3=\"計画\",BF26/4,IF($BI$3=\"実績\",(BF26/($BI$7/7)),\"\"))","v":35}]
[null,null,null,null,null,null,null,null,{"$f":"G26","v":"薬剤師"},null,{"$f":"M26","v":"A"},null,null,null,null,null,null,null,null,null,null,"夜勤時間帯の勤務時間数",null,null,null,null,{"$f":"IF(AA25=\"\",\"\",VLOOKUP(AA25,'【記載例】（ユニット型）シフト記号表'!$C$5:$Y$46,23,FALSE))","v":1},{"$f":"IF(AB25=\"\",\"\",VLOOKUP(AB25,'【記載例】（ユニット型）シフト記号表'!$C$5:$Y$46,23,FALSE))","v":1},{"$f":"IF(AC25=\"\",\"\",VLOOKUP(AC25,'【記載例】（ユニット型）シフト記号表'!$C$5:$Y$46,23,FALSE))","v":1},{"$f":"IF(AD25=\"\",\"\",VLOOKUP(AD25,'【記載例】（ユニット型）シフト記号表'!$C$5:$Y$46,23,FALSE))","v":"-"},{"$f":"IF(AE25=\"\",\"\",VLOOKUP(AE25,'【記載例】（ユニット型）シフト記号表'!$C$5:$Y$46,23,FALSE))","v":"-"},{"$f":"IF(AF25=\"\",\"\",VLOOKUP(AF25,'【記載例】（ユニット型）シフト記号表'!$C$5:$Y$46,23,FALSE))","v":1},{"$f":"IF(AG25=\"\",\"\",VLOOKUP(AG25,'【記載例】（ユニット型）シフト記号表'!$C$5:$Y$46,23,FALSE))","v":1},{"$f":"IF(AH25=\"\",\"\",VLOOKUP(AH25,'【記載例】（ユニット型）シフト記号表'!$C$5:$Y$46,23,FALSE))","v":1},{"$f":"IF(AI25=\"\",\"\",VLOOKUP(AI25,'【記載例】（ユニット型）シフト記号表'!$C$5:$Y$46,23,FALSE))","v":1},{"$f":"IF(AJ25=\"\",\"\",VLOOKUP(AJ25,'【記載例】（ユニット型）シフト記号表'!$C$5:$Y$46,23,FALSE))","v":1},{"$f":"IF(AK25=\"\",\"\",VLOOKUP(AK25,'【記載例】（ユニット型）シフト記号表'!$C$5:$Y$46,23,FALSE))","v":"-"},{"$f":"IF(AL25=\"\",\"\",VLOOKUP(AL25,'【記載例】（ユニット型）シフト記号表'!$C$5:$Y$46,23,FALSE))","v":"-"},{"$f":"IF(AM25=\"\",\"\",VLOOKUP(AM25,'【記載例】（ユニット型）シフト記号表'!$C$5:$Y$46,23,FALSE))","v":1},{"$f":"IF(AN25=\"\",\"\",VLOOKUP(AN25,'【記載例】（ユニット型）シフト記号表'!$C$5:$Y$46,23,FALSE))","v":1},{"$f":"IF(AO25=\"\",\"\",VLOOKUP(AO25,'【記載例】（ユニット型）シフト記号表'!$C$5:$Y$46,23,FALSE))","v":1},{"$f":"IF(AP25=\"\",\"\",VLOOKUP(AP25,'【記載例】（ユニット型）シフト記号表'!$C$5:$Y$46,23,FALSE))","v":1},{"$f":"IF(AQ25=\"\",\"\",VLOOKUP(AQ25,'【記載例】（ユニット型）シフト記号表'!$C$5:$Y$46,23,FALSE))","v":1},{"$f":"IF(AR25=\"\",\"\",VLOOKUP(AR25,'【記載例】（ユニット型）シフト記号表'!$C$5:$Y$46,23,FALSE))","v":"-"},{"$f":"IF(AS25=\"\",\"\",VLOOKUP(AS25,'【記載例】（ユニット型）シフト記号表'!$C$5:$Y$46,23,FALSE))","v":"-"},{"$f":"IF(AT25=\"\",\"\",VLOOKUP(AT25,'【記載例】（ユニット型）シフト記号表'!$C$5:$Y$46,23,FALSE))","v":1},{"$f":"IF(AU25=\"\",\"\",VLOOKUP(AU25,'【記載例】（ユニット型）シフト記号表'!$C$5:$Y$46,23,FALSE))","v":1},{"$f":"IF(AV25=\"\",\"\",VLOOKUP(AV25,'【記載例】（ユニット型）シフト記号表'!$C$5:$Y$46,23,FALSE))","v":1},{"$f":"IF(AW25=\"\",\"\",VLOOKUP(AW25,'【記載例】（ユニット型）シフト記号表'!$C$5:$Y$46,23,FALSE))","v":1},{"$f":"IF(AX25=\"\",\"\",VLOOKUP(AX25,'【記載例】（ユニット型）シフト記号表'!$C$5:$Y$46,23,FALSE))","v":1},{"$f":"IF(AY25=\"\",\"\",VLOOKUP(AY25,'【記載例】（ユニット型）シフト記号表'!$C$5:$Y$46,23,FALSE))","v":"-"},{"$f":"IF(AZ25=\"\",\"\",VLOOKUP(AZ25,'【記載例】（ユニット型）シフト記号表'!$C$5:$Y$46,23,FALSE))","v":"-"},{"$f":"IF(BA25=\"\",\"\",VLOOKUP(BA25,'【記載例】（ユニット型）シフト記号表'!$C$5:$Y$46,23,FALSE))","v":1},{"$f":"IF(BB25=\"\",\"\",VLOOKUP(BB25,'【記載例】（ユニット型）シフト記号表'!$C$5:$Y$46,23,FALSE))","v":1},{"$f":"IF(BC25=\"\",\"\",VLOOKUP(BC25,'【記載例】（ユニット型）シフト記号表'!$C$5:$Y$46,23,FALSE))","v":""},{"$f":"IF(BD25=\"\",\"\",VLOOKUP(BD25,'【記載例】（ユニット型）シフト記号表'!$C$5:$Y$46,23,FALSE))","v":""},{"$f":"IF(BE25=\"\",\"\",VLOOKUP(BE25,'【記載例】（ユニット型）シフト記号表'!$C$5:$Y$46,23,FALSE))","v":""},{"$f":"IF($BI$3=\"計画\",SUM(AA27:BB27),IF($BI$3=\"実績\",SUM(AA27:BE27),\"\"))","v":20},null,{"$f":"IF($BI$3=\"計画\",BF27/4,IF($BI$3=\"実績\",(BF27/($BI$7/7)),\"\"))","v":5}]
[null,null,null,null,null,null,null,null,null,null,null,null,null,null,null,null,null,null,"○○　C太",null,null,"シフト記号",null,null,null,null,"b","b","b","休","休","b","b","b","b","b","休","休","b","b","b","b","b","休","休","b","b","b","b","b","休","休","b","b"]
[null,{"$f":"B26+1","v":4},null,null,null,null,"支援相談員",null,null,null,null,null,"A",null,"ー",null,null,null,null,null,null,"日中の勤務時間数",null,null,null,null,{"$f":"IF(AA28=\"\",\"\",VLOOKUP(AA28,'【記載例】（ユニット型）シフト記号表'!$C$5:$W$46,21,FALSE))","v":7},{"$f":"IF(AB28=\"\",\"\",VLOOKUP(AB28,'【記載例】（ユニット型）シフト記号表'!$C$5:$W$46,21,FALSE))","v":7},{"$f":"IF(AC28=\"\",\"\",VLOOKUP(AC28,'【記載例】（ユニット型）シフト記号表'!$C$5:$W$46,21,FALSE))","v":7},{"$f":"IF(AD28=\"\",\"\",VLOOKUP(AD28,'【記載例】（ユニット型）シフト記号表'!$C$5:$W$46,21,FALSE))","v":"-"},{"$f":"IF(AE28=\"\",\"\",VLOOKUP(AE28,'【記載例】（ユニット型）シフト記号表'!$C$5:$W$46,21,FALSE))","v":"-"},{"$f":"IF(AF28=\"\",\"\",VLOOKUP(AF28,'【記載例】（ユニット型）シフト記号表'!$C$5:$W$46,21,FALSE))","v":7},{"$f":"IF(AG28=\"\",\"\",VLOOKUP(AG28,'【記載例】（ユニット型）シフト記号表'!$C$5:$W$46,21,FALSE))","v":7},{"$f":"IF(AH28=\"\",\"\",VLOOKUP(AH28,'【記載例】（ユニット型）シフト記号表'!$C$5:$W$46,21,FALSE))","v":7},{"$f":"IF(AI28=\"\",\"\",VLOOKUP(AI28,'【記載例】（ユニット型）シフト記号表'!$C$5:$W$46,21,FALSE))","v":7},{"$f":"IF(AJ28=\"\",\"\",VLOOKUP(AJ28,'【記載例】（ユニット型）シフト記号表'!$C$5:$W$46,21,FALSE))","v":7},{"$f":"IF(AK28=\"\",\"\",VLOOKUP(AK28,'【記載例】（ユニット型）シフト記号表'!$C$5:$W$46,21,FALSE))","v":"-"},{"$f":"IF(AL28=\"\",\"\",VLOOKUP(AL28,'【記載例】（ユニット型）シフト記号表'!$C$5:$W$46,21,FALSE))","v":"-"},{"$f":"IF(AM28=\"\",\"\",VLOOKUP(AM28,'【記載例】（ユニット型）シフト記号表'!$C$5:$W$46,21,FALSE))","v":7},{"$f":"IF(AN28=\"\",\"\",VLOOKUP(AN28,'【記載例】（ユニット型）シフト記号表'!$C$5:$W$46,21,FALSE))","v":7},{"$f":"IF(AO28=\"\",\"\",VLOOKUP(AO28,'【記載例】（ユニット型）シフト記号表'!$C$5:$W$46,21,FALSE))","v":7},{"$f":"IF(AP28=\"\",\"\",VLOOKUP(AP28,'【記載例】（ユニット型）シフト記号表'!$C$5:$W$46,21,FALSE))","v":7},{"$f":"IF(AQ28=\"\",\"\",VLOOKUP(AQ28,'【記載例】（ユニット型）シフト記号表'!$C$5:$W$46,21,FALSE))","v":7},{"$f":"IF(AR28=\"\",\"\",VLOOKUP(AR28,'【記載例】（ユニット型）シフト記号表'!$C$5:$W$46,21,FALSE))","v":"-"},{"$f":"IF(AS28=\"\",\"\",VLOOKUP(AS28,'【記載例】（ユニット型）シフト記号表'!$C$5:$W$46,21,FALSE))","v":"-"},{"$f":"IF(AT28=\"\",\"\",VLOOKUP(AT28,'【記載例】（ユニット型）シフト記号表'!$C$5:$W$46,21,FALSE))","v":7},{"$f":"IF(AU28=\"\",\"\",VLOOKUP(AU28,'【記載例】（ユニット型）シフト記号表'!$C$5:$W$46,21,FALSE))","v":7},{"$f":"IF(AV28=\"\",\"\",VLOOKUP(AV28,'【記載例】（ユニット型）シフト記号表'!$C$5:$W$46,21,FALSE))","v":7},{"$f":"IF(AW28=\"\",\"\",VLOOKUP(AW28,'【記載例】（ユニット型）シフト記号表'!$C$5:$W$46,21,FALSE))","v":7},{"$f":"IF(AX28=\"\",\"\",VLOOKUP(AX28,'【記載例】（ユニット型）シフト記号表'!$C$5:$W$46,21,FALSE))","v":7},{"$f":"IF(AY28=\"\",\"\",VLOOKUP(AY28,'【記載例】（ユニット型）シフト記号表'!$C$5:$W$46,21,FALSE))","v":"-"},{"$f":"IF(AZ28=\"\",\"\",VLOOKUP(AZ28,'【記載例】（ユニット型）シフト記号表'!$C$5:$W$46,21,FALSE))","v":"-"},{"$f":"IF(BA28=\"\",\"\",VLOOKUP(BA28,'【記載例】（ユニット型）シフト記号表'!$C$5:$W$46,21,FALSE))","v":7},{"$f":"IF(BB28=\"\",\"\",VLOOKUP(BB28,'【記載例】（ユニット型）シフト記号表'!$C$5:$W$46,21,FALSE))","v":7},{"$f":"IF(BC28=\"\",\"\",VLOOKUP(BC28,'【記載例】（ユニット型）シフト記号表'!$C$5:$W$46,21,FALSE))","v":""},{"$f":"IF(BD28=\"\",\"\",VLOOKUP(BD28,'【記載例】（ユニット型）シフト記号表'!$C$5:$W$46,21,FALSE))","v":""},{"$f":"IF(BE28=\"\",\"\",VLOOKUP(BE28,'【記載例】（ユニット型）シフト記号表'!$C$5:$W$46,21,FALSE))","v":""},{"$f":"IF($BI$3=\"計画\",SUM(AA29:BB29),IF($BI$3=\"実績\",SUM(AA29:BE29),\"\"))","v":140},null,{"$f":"IF($BI$3=\"計画\",BF29/4,IF($BI$3=\"実績\",(BF29/($BI$7/7)),\"\"))","v":35}]
[null,null,null,null,null,null,null,null,{"$f":"G29","v":"支援相談員"},null,{"$f":"M29","v":"A"},null,null,null,null,null,null,null,null,null,null,"夜勤時間帯の勤務時間数",null,null,null,null,{"$f":"IF(AA28=\"\",\"\",VLOOKUP(AA28,'【記載例】（ユニット型）シフト記号表'!$C$5:$Y$46,23,FALSE))","v":1},{"$f":"IF(AB28=\"\",\"\",VLOOKUP(AB28,'【記載例】（ユニット型）シフト記号表'!$C$5:$Y$46,23,FALSE))","v":1},{"$f":"IF(AC28=\"\",\"\",VLOOKUP(AC28,'【記載例】（ユニット型）シフト記号表'!$C$5:$Y$46,23,FALSE))","v":1},{"$f":"IF(AD28=\"\",\"\",VLOOKUP(AD28,'【記載例】（ユニット型）シフト記号表'!$C$5:$Y$46,23,FALSE))","v":"-"},{"$f":"IF(AE28=\"\",\"\",VLOOKUP(AE28,'【記載例】（ユニット型）シフト記号表'!$C$5:$Y$46,23,FALSE))","v":"-"},{"$f":"IF(AF28=\"\",\"\",VLOOKUP(AF28,'【記載例】（ユニット型）シフト記号表'!$C$5:$Y$46,23,FALSE))","v":1},{"$f":"IF(AG28=\"\",\"\",VLOOKUP(AG28,'【記載例】（ユニット型）シフト記号表'!$C$5:$Y$46,23,FALSE))","v":1},{"$f":"IF(AH28=\"\",\"\",VLOOKUP(AH28,'【記載例】（ユニット型）シフト記号表'!$C$5:$Y$46,23,FALSE))","v":1},{"$f":"IF(AI28=\"\",\"\",VLOOKUP(AI28,'【記載例】（ユニット型）シフト記号表'!$C$5:$Y$46,23,FALSE))","v":1},{"$f":"IF(AJ28=\"\",\"\",VLOOKUP(AJ28,'【記載例】（ユニット型）シフト記号表'!$C$5:$Y$46,23,FALSE))","v":1},{"$f":"IF(AK28=\"\",\"\",VLOOKUP(AK28,'【記載例】（ユニット型）シフト記号表'!$C$5:$Y$46,23,FALSE))","v":"-"},{"$f":"IF(AL28=\"\",\"\",VLOOKUP(AL28,'【記載例】（ユニット型）シフト記号表'!$C$5:$Y$46,23,FALSE))","v":"-"},{"$f":"IF(AM28=\"\",\"\",VLOOKUP(AM28,'【記載例】（ユニット型）シフト記号表'!$C$5:$Y$46,23,FALSE))","v":1},{"$f":"IF(AN28=\"\",\"\",VLOOKUP(AN28,'【記載例】（ユニット型）シフト記号表'!$C$5:$Y$46,23,FALSE))","v":1},{"$f":"IF(AO28=\"\",\"\",VLOOKUP(AO28,'【記載例】（ユニット型）シフト記号表'!$C$5:$Y$46,23,FALSE))","v":1},{"$f":"IF(AP28=\"\",\"\",VLOOKUP(AP28,'【記載例】（ユニット型）シフト記号表'!$C$5:$Y$46,23,FALSE))","v":1},{"$f":"IF(AQ28=\"\",\"\",VLOOKUP(AQ28,'【記載例】（ユニット型）シフト記号表'!$C$5:$Y$46,23,FALSE))","v":1},{"$f":"IF(AR28=\"\",\"\",VLOOKUP(AR28,'【記載例】（ユニット型）シフト記号表'!$C$5:$Y$46,23,FALSE))","v":"-"},{"$f":"IF(AS28=\"\",\"\",VLOOKUP(AS28,'【記載例】（ユニット型）シフト記号表'!$C$5:$Y$46,23,FALSE))","v":"-"},{"$f":"IF(AT28=\"\",\"\",VLOOKUP(AT28,'【記載例】（ユニット型）シフト記号表'!$C$5:$Y$46,23,FALSE))","v":1},{"$f":"IF(AU28=\"\",\"\",VLOOKUP(AU28,'【記載例】（ユニット型）シフト記号表'!$C$5:$Y$46,23,FALSE))","v":1},{"$f":"IF(AV28=\"\",\"\",VLOOKUP(AV28,'【記載例】（ユニット型）シフト記号表'!$C$5:$Y$46,23,FALSE))","v":1},{"$f":"IF(AW28=\"\",\"\",VLOOKUP(AW28,'【記載例】（ユニット型）シフト記号表'!$C$5:$Y$46,23,FALSE))","v":1},{"$f":"IF(AX28=\"\",\"\",VLOOKUP(AX28,'【記載例】（ユニット型）シフト記号表'!$C$5:$Y$46,23,FALSE))","v":1},{"$f":"IF(AY28=\"\",\"\",VLOOKUP(AY28,'【記載例】（ユニット型）シフト記号表'!$C$5:$Y$46,23,FALSE))","v":"-"},{"$f":"IF(AZ28=\"\",\"\",VLOOKUP(AZ28,'【記載例】（ユニット型）シフト記号表'!$C$5:$Y$46,23,FALSE))","v":"-"},{"$f":"IF(BA28=\"\",\"\",VLOOKUP(BA28,'【記載例】（ユニット型）シフト記号表'!$C$5:$Y$46,23,FALSE))","v":1},{"$f":"IF(BB28=\"\",\"\",VLOOKUP(BB28,'【記載例】（ユニット型）シフト記号表'!$C$5:$Y$46,23,FALSE))","v":1},{"$f":"IF(BC28=\"\",\"\",VLOOKUP(BC28,'【記載例】（ユニット型）シフト記号表'!$C$5:$Y$46,23,FALSE))","v":""},{"$f":"IF(BD28=\"\",\"\",VLOOKUP(BD28,'【記載例】（ユニット型）シフト記号表'!$C$5:$Y$46,23,FALSE))","v":""},{"$f":"IF(BE28=\"\",\"\",VLOOKUP(BE28,'【記載例】（ユニット型）シフト記号表'!$C$5:$Y$46,23,FALSE))","v":""},{"$f":"IF($BI$3=\"計画\",SUM(AA30:BB30),IF($BI$3=\"実績\",SUM(AA30:BE30),\"\"))","v":20},null,{"$f":"IF($BI$3=\"計画\",BF30/4,IF($BI$3=\"実績\",(BF30/($BI$7/7)),\"\"))","v":5}]
[null,null,null,null,null,null,null,null,null,null,null,null,null,null,null,null,null,null,"○○　D美",null,null,"シフト記号",null,null,null,null,"b","b","b","休","休","b","b","b","b","b","休","休","b","b","b","b","b","休","休","b","b","b","b","b","休","休","b","b"]
[null,{"$f":"B29+1","v":5},null,null,null,null,"理学療法士",null,null,null,null,null,"A",null,"理学療法士",null,null,null,null,null,null,"日中の勤務時間数",null,null,null,null,{"$f":"IF(AA31=\"\",\"\",VLOOKUP(AA31,'【記載例】（ユニット型）シフト記号表'!$C$5:$W$46,21,FALSE))","v":7},{"$f":"IF(AB31=\"\",\"\",VLOOKUP(AB31,'【記載例】（ユニット型）シフト記号表'!$C$5:$W$46,21,FALSE))","v":7},{"$f":"IF(AC31=\"\",\"\",VLOOKUP(AC31,'【記載例】（ユニット型）シフト記号表'!$C$5:$W$46,21,FALSE))","v":7},{"$f":"IF(AD31=\"\",\"\",VLOOKUP(AD31,'【記載例】（ユニット型）シフト記号表'!$C$5:$W$46,21,FALSE))","v":"-"},{"$f":"IF(AE31=\"\",\"\",VLOOKUP(AE31,'【記載例】（ユニット型）シフト記号表'!$C$5:$W$46,21,FALSE))","v":"-"},{"$f":"IF(AF31=\"\",\"\",VLOOKUP(AF31,'【記載例】（ユニット型）シフト記号表'!$C$5:$W$46,21,FALSE))","v":7},{"$f":"IF(AG31=\"\",\"\",VLOOKUP(AG31,'【記載例】（ユニット型）シフト記号表'!$C$5:$W$46,21,FALSE))","v":7},{"$f":"IF(AH31=\"\",\"\",VLOOKUP(AH31,'【記載例】（ユニット型）シフト記号表'!$C$5:$W$46,21,FALSE))","v":7},{"$f":"IF(AI31=\"\",\"\",VLOOKUP(AI31,'【記載例】（ユニット型）シフト記号表'!$C$5:$W$46,21,FALSE))","v":7},{"$f":"IF(AJ31=\"\",\"\",VLOOKUP(AJ31,'【記載例】（ユニット型）シフト記号表'!$C$5:$W$46,21,FALSE))","v":7},{"$f":"IF(AK31=\"\",\"\",VLOOKUP(AK31,'【記載例】（ユニット型）シフト記号表'!$C$5:$W$46,21,FALSE))","v":"-"},{"$f":"IF(AL31=\"\",\"\",VLOOKUP(AL31,'【記載例】（ユニット型）シフト記号表'!$C$5:$W$46,21,FALSE))","v":"-"},{"$f":"IF(AM31=\"\",\"\",VLOOKUP(AM31,'【記載例】（ユニット型）シフト記号表'!$C$5:$W$46,21,FALSE))","v":7},{"$f":"IF(AN31=\"\",\"\",VLOOKUP(AN31,'【記載例】（ユニット型）シフト記号表'!$C$5:$W$46,21,FALSE))","v":7},{"$f":"IF(AO31=\"\",\"\",VLOOKUP(AO31,'【記載例】（ユニット型）シフト記号表'!$C$5:$W$46,21,FALSE))","v":7},{"$f":"IF(AP31=\"\",\"\",VLOOKUP(AP31,'【記載例】（ユニット型）シフト記号表'!$C$5:$W$46,21,FALSE))","v":7},{"$f":"IF(AQ31=\"\",\"\",VLOOKUP(AQ31,'【記載例】（ユニット型）シフト記号表'!$C$5:$W$46,21,FALSE))","v":7},{"$f":"IF(AR31=\"\",\"\",VLOOKUP(AR31,'【記載例】（ユニット型）シフト記号表'!$C$5:$W$46,21,FALSE))","v":"-"},{"$f":"IF(AS31=\"\",\"\",VLOOKUP(AS31,'【記載例】（ユニット型）シフト記号表'!$C$5:$W$46,21,FALSE))","v":"-"},{"$f":"IF(AT31=\"\",\"\",VLOOKUP(AT31,'【記載例】（ユニット型）シフト記号表'!$C$5:$W$46,21,FALSE))","v":7},{"$f":"IF(AU31=\"\",\"\",VLOOKUP(AU31,'【記載例】（ユニット型）シフト記号表'!$C$5:$W$46,21,FALSE))","v":7},{"$f":"IF(AV31=\"\",\"\",VLOOKUP(AV31,'【記載例】（ユニット型）シフト記号表'!$C$5:$W$46,21,FALSE))","v":7},{"$f":"IF(AW31=\"\",\"\",VLOOKUP(AW31,'【記載例】（ユニット型）シフト記号表'!$C$5:$W$46,21,FALSE))","v":7},{"$f":"IF(AX31=\"\",\"\",VLOOKUP(AX31,'【記載例】（ユニット型）シフト記号表'!$C$5:$W$46,21,FALSE))","v":7},{"$f":"IF(AY31=\"\",\"\",VLOOKUP(AY31,'【記載例】（ユニット型）シフト記号表'!$C$5:$W$46,21,FALSE))","v":"-"},{"$f":"IF(AZ31=\"\",\"\",VLOOKUP(AZ31,'【記載例】（ユニット型）シフト記号表'!$C$5:$W$46,21,FALSE))","v":"-"},{"$f":"IF(BA31=\"\",\"\",VLOOKUP(BA31,'【記載例】（ユニット型）シフト記号表'!$C$5:$W$46,21,FALSE))","v":7},{"$f":"IF(BB31=\"\",\"\",VLOOKUP(BB31,'【記載例】（ユニット型）シフト記号表'!$C$5:$W$46,21,FALSE))","v":7},{"$f":"IF(BC31=\"\",\"\",VLOOKUP(BC31,'【記載例】（ユニット型）シフト記号表'!$C$5:$W$46,21,FALSE))","v":""},{"$f":"IF(BD31=\"\",\"\",VLOOKUP(BD31,'【記載例】（ユニット型）シフト記号表'!$C$5:$W$46,21,FALSE))","v":""},{"$f":"IF(BE31=\"\",\"\",VLOOKUP(BE31,'【記載例】（ユニット型）シフト記号表'!$C$5:$W$46,21,FALSE))","v":""},{"$f":"IF($BI$3=\"計画\",SUM(AA32:BB32),IF($BI$3=\"実績\",SUM(AA32:BE32),\"\"))","v":140},null,{"$f":"IF($BI$3=\"計画\",BF32/4,IF($BI$3=\"実績\",(BF32/($BI$7/7)),\"\"))","v":35}]
[null,null,null,null,null,null,null,null,{"$f":"G32","v":"理学療法士"},null,{"$f":"M32","v":"A"},null,null,null,null,null,null,null,null,null,null,"夜勤時間帯の勤務時間数",null,null,null,null,{"$f":"IF(AA31=\"\",\"\",VLOOKUP(AA31,'【記載例】（ユニット型）シフト記号表'!$C$5:$Y$46,23,FALSE))","v":1},{"$f":"IF(AB31=\"\",\"\",VLOOKUP(AB31,'【記載例】（ユニット型）シフト記号表'!$C$5:$Y$46,23,FALSE))","v":1},{"$f":"IF(AC31=\"\",\"\",VLOOKUP(AC31,'【記載例】（ユニット型）シフト記号表'!$C$5:$Y$46,23,FALSE))","v":1},{"$f":"IF(AD31=\"\",\"\",VLOOKUP(AD31,'【記載例】（ユニット型）シフト記号表'!$C$5:$Y$46,23,FALSE))","v":"-"},{"$f":"IF(AE31=\"\",\"\",VLOOKUP(AE31,'【記載例】（ユニット型）シフト記号表'!$C$5:$Y$46,23,FALSE))","v":"-"},{"$f":"IF(AF31=\"\",\"\",VLOOKUP(AF31,'【記載例】（ユニット型）シフト記号表'!$C$5:$Y$46,23,FALSE))","v":1},{"$f":"IF(AG31=\"\",\"\",VLOOKUP(AG31,'【記載例】（ユニット型）シフト記号表'!$C$5:$Y$46,23,FALSE))","v":1},{"$f":"IF(AH31=\"\",\"\",VLOOKUP(AH31,'【記載例】（ユニット型）シフト記号表'!$C$5:$Y$46,23,FALSE))","v":1},{"$f":"IF(AI31=\"\",\"\",VLOOKUP(AI31,'【記載例】（ユニット型）シフト記号表'!$C$5:$Y$46,23,FALSE))","v":1},{"$f":"IF(AJ31=\"\",\"\",VLOOKUP(AJ31,'【記載例】（ユニット型）シフト記号表'!$C$5:$Y$46,23,FALSE))","v":1},{"$f":"IF(AK31=\"\",\"\",VLOOKUP(AK31,'【記載例】（ユニット型）シフト記号表'!$C$5:$Y$46,23,FALSE))","v":"-"},{"$f":"IF(AL31=\"\",\"\",VLOOKUP(AL31,'【記載例】（ユニット型）シフト記号表'!$C$5:$Y$46,23,FALSE))","v":"-"},{"$f":"IF(AM31=\"\",\"\",VLOOKUP(AM31,'【記載例】（ユニット型）シフト記号表'!$C$5:$Y$46,23,FALSE))","v":1},{"$f":"IF(AN31=\"\",\"\",VLOOKUP(AN31,'【記載例】（ユニット型）シフト記号表'!$C$5:$Y$46,23,FALSE))","v":1},{"$f":"IF(AO31=\"\",\"\",VLOOKUP(AO31,'【記載例】（ユニット型）シフト記号表'!$C$5:$Y$46,23,FALSE))","v":1},{"$f":"IF(AP31=\"\",\"\",VLOOKUP(AP31,'【記載例】（ユニット型）シフト記号表'!$C$5:$Y$46,23,FALSE))","v":1},{"$f":"IF(AQ31=\"\",\"\",VLOOKUP(AQ31,'【記載例】（ユニット型）シフト記号表'!$C$5:$Y$46,23,FALSE))","v":1},{"$f":"IF(AR31=\"\",\"\",VLOOKUP(AR31,'【記載例】（ユニット型）シフト記号表'!$C$5:$Y$46,23,FALSE))","v":"-"},{"$f":"IF(AS31=\"\",\"\",VLOOKUP(AS31,'【記載例】（ユニット型）シフト記号表'!$C$5:$Y$46,23,FALSE))","v":"-"},{"$f":"IF(AT31=\"\",\"\",VLOOKUP(AT31,'【記載例】（ユニット型）シフト記号表'!$C$5:$Y$46,23,FALSE))","v":1},{"$f":"IF(AU31=\"\",\"\",VLOOKUP(AU31,'【記載例】（ユニット型）シフト記号表'!$C$5:$Y$46,23,FALSE))","v":1},{"$f":"IF(AV31=\"\",\"\",VLOOKUP(AV31,'【記載例】（ユニット型）シフト記号表'!$C$5:$Y$46,23,FALSE))","v":1},{"$f":"IF(AW31=\"\",\"\",VLOOKUP(AW31,'【記載例】（ユニット型）シフト記号表'!$C$5:$Y$46,23,FALSE))","v":1},{"$f":"IF(AX31=\"\",\"\",VLOOKUP(AX31,'【記載例】（ユニット型）シフト記号表'!$C$5:$Y$46,23,FALSE))","v":1},{"$f":"IF(AY31=\"\",\"\",VLOOKUP(AY31,'【記載例】（ユニット型）シフト記号表'!$C$5:$Y$46,23,FALSE))","v":"-"},{"$f":"IF(AZ31=\"\",\"\",VLOOKUP(AZ31,'【記載例】（ユニット型）シフト記号表'!$C$5:$Y$46,23,FALSE))","v":"-"},{"$f":"IF(BA31=\"\",\"\",VLOOKUP(BA31,'【記載例】（ユニット型）シフト記号表'!$C$5:$Y$46,23,FALSE))","v":1},{"$f":"IF(BB31=\"\",\"\",VLOOKUP(BB31,'【記載例】（ユニット型）シフト記号表'!$C$5:$Y$46,23,FALSE))","v":1},{"$f":"IF(BC31=\"\",\"\",VLOOKUP(BC31,'【記載例】（ユニット型）シフト記号表'!$C$5:$Y$46,23,FALSE))","v":""},{"$f":"IF(BD31=\"\",\"\",VLOOKUP(BD31,'【記載例】（ユニット型）シフト記号表'!$C$5:$Y$46,23,FALSE))","v":""},{"$f":"IF(BE31=\"\",\"\",VLOOKUP(BE31,'【記載例】（ユニット型）シフト記号表'!$C$5:$Y$46,23,FALSE))","v":""},{"$f":"IF($BI$3=\"計画\",SUM(AA33:BB33),IF($BI$3=\"実績\",SUM(AA33:BE33),\"\"))","v":20},null,{"$f":"IF($BI$3=\"計画\",BF33/4,IF($BI$3=\"実績\",(BF33/($BI$7/7)),\"\"))","v":5}]
[null,null,null,null,null,null,null,null,null,null,null,null,null,null,null,null,null,null,"○○　C太",null,null,"シフト記号",null,null,null,null,"b","b","b","休","休","b","b","b","b","b","休","休","b","b","b","b","b","休","休","b","b","b","b","b","休","休","b","b"]
[null,{"$f":"B32+1","v":6},null,null,null,null,"介護支援専門員",null,null,null,null,null,"A",null,"介護支援専門員",null,null,null,null,null,null,"日中の勤務時間数",null,null,null,null,{"$f":"IF(AA34=\"\",\"\",VLOOKUP(AA34,'【記載例】（ユニット型）シフト記号表'!$C$5:$W$46,21,FALSE))","v":7},{"$f":"IF(AB34=\"\",\"\",VLOOKUP(AB34,'【記載例】（ユニット型）シフト記号表'!$C$5:$W$46,21,FALSE))","v":7},{"$f":"IF(AC34=\"\",\"\",VLOOKUP(AC34,'【記載例】（ユニット型）シフト記号表'!$C$5:$W$46,21,FALSE))","v":7},{"$f":"IF(AD34=\"\",\"\",VLOOKUP(AD34,'【記載例】（ユニット型）シフト記号表'!$C$5:$W$46,21,FALSE))","v":"-"},{"$f":"IF(AE34=\"\",\"\",VLOOKUP(AE34,'【記載例】（ユニット型）シフト記号表'!$C$5:$W$46,21,FALSE))","v":"-"},{"$f":"IF(AF34=\"\",\"\",VLOOKUP(AF34,'【記載例】（ユニット型）シフト記号表'!$C$5:$W$46,21,FALSE))","v":7},{"$f":"IF(AG34=\"\",\"\",VLOOKUP(AG34,'【記載例】（ユニット型）シフト記号表'!$C$5:$W$46,21,FALSE))","v":7},{"$f":"IF(AH34=\"\",\"\",VLOOKUP(AH34,'【記載例】（ユニット型）シフト記号表'!$C$5:$W$46,21,FALSE))","v":7},{"$f":"IF(AI34=\"\",\"\",VLOOKUP(AI34,'【記載例】（ユニット型）シフト記号表'!$C$5:$W$46,21,FALSE))","v":7},{"$f":"IF(AJ34=\"\",\"\",VLOOKUP(AJ34,'【記載例】（ユニット型）シフト記号表'!$C$5:$W$46,21,FALSE))","v":7},{"$f":"IF(AK34=\"\",\"\",VLOOKUP(AK34,'【記載例】（ユニット型）シフト記号表'!$C$5:$W$46,21,FALSE))","v":"-"},{"$f":"IF(AL34=\"\",\"\",VLOOKUP(AL34,'【記載例】（ユニット型）シフト記号表'!$C$5:$W$46,21,FALSE))","v":"-"},{"$f":"IF(AM34=\"\",\"\",VLOOKUP(AM34,'【記載例】（ユニット型）シフト記号表'!$C$5:$W$46,21,FALSE))","v":7},{"$f":"IF(AN34=\"\",\"\",VLOOKUP(AN34,'【記載例】（ユニット型）シフト記号表'!$C$5:$W$46,21,FALSE))","v":7},{"$f":"IF(AO34=\"\",\"\",VLOOKUP(AO34,'【記載例】（ユニット型）シフト記号表'!$C$5:$W$46,21,FALSE))","v":7},{"$f":"IF(AP34=\"\",\"\",VLOOKUP(AP34,'【記載例】（ユニット型）シフト記号表'!$C$5:$W$46,21,FALSE))","v":7},{"$f":"IF(AQ34=\"\",\"\",VLOOKUP(AQ34,'【記載例】（ユニット型）シフト記号表'!$C$5:$W$46,21,FALSE))","v":7},{"$f":"IF(AR34=\"\",\"\",VLOOKUP(AR34,'【記載例】（ユニット型）シフト記号表'!$C$5:$W$46,21,FALSE))","v":"-"},{"$f":"IF(AS34=\"\",\"\",VLOOKUP(AS34,'【記載例】（ユニット型）シフト記号表'!$C$5:$W$46,21,FALSE))","v":"-"},{"$f":"IF(AT34=\"\",\"\",VLOOKUP(AT34,'【記載例】（ユニット型）シフト記号表'!$C$5:$W$46,21,FALSE))","v":7},{"$f":"IF(AU34=\"\",\"\",VLOOKUP(AU34,'【記載例】（ユニット型）シフト記号表'!$C$5:$W$46,21,FALSE))","v":7},{"$f":"IF(AV34=\"\",\"\",VLOOKUP(AV34,'【記載例】（ユニット型）シフト記号表'!$C$5:$W$46,21,FALSE))","v":7},{"$f":"IF(AW34=\"\",\"\",VLOOKUP(AW34,'【記載例】（ユニット型）シフト記号表'!$C$5:$W$46,21,FALSE))","v":7},{"$f":"IF(AX34=\"\",\"\",VLOOKUP(AX34,'【記載例】（ユニット型）シフト記号表'!$C$5:$W$46,21,FALSE))","v":7},{"$f":"IF(AY34=\"\",\"\",VLOOKUP(AY34,'【記載例】（ユニット型）シフト記号表'!$C$5:$W$46,21,FALSE))","v":"-"},{"$f":"IF(AZ34=\"\",\"\",VLOOKUP(AZ34,'【記載例】（ユニット型）シフト記号表'!$C$5:$W$46,21,FALSE))","v":"-"},{"$f":"IF(BA34=\"\",\"\",VLOOKUP(BA34,'【記載例】（ユニット型）シフト記号表'!$C$5:$W$46,21,FALSE))","v":7},{"$f":"IF(BB34=\"\",\"\",VLOOKUP(BB34,'【記載例】（ユニット型）シフト記号表'!$C$5:$W$46,21,FALSE))","v":7},{"$f":"IF(BC34=\"\",\"\",VLOOKUP(BC34,'【記載例】（ユニット型）シフト記号表'!$C$5:$W$46,21,FALSE))","v":""},{"$f":"IF(BD34=\"\",\"\",VLOOKUP(BD34,'【記載例】（ユニット型）シフト記号表'!$C$5:$W$46,21,FALSE))","v":""},{"$f":"IF(BE34=\"\",\"\",VLOOKUP(BE34,'【記載例】（ユニット型）シフト記号表'!$C$5:$W$46,21,FALSE))","v":""},{"$f":"IF($BI$3=\"計画\",SUM(AA35:BB35),IF($BI$3=\"実績\",SUM(AA35:BE35),\"\"))","v":140},null,{"$f":"IF($BI$3=\"計画\",BF35/4,IF($BI$3=\"実績\",(BF35/($BI$7/7)),\"\"))","v":35}]
[null,null,null,null,null,null,null,null,{"$f":"G35","v":"介護支援専門員"},null,{"$f":"M35","v":"A"},null,null,null,null,null,null,null,null,null,null,"夜勤時間帯の勤務時間数",null,null,null,null,{"$f":"IF(AA34=\"\",\"\",VLOOKUP(AA34,'【記載例】（ユニット型）シフト記号表'!$C$5:$Y$46,23,FALSE))","v":1},{"$f":"IF(AB34=\"\",\"\",VLOOKUP(AB34,'【記載例】（ユニット型）シフト記号表'!$C$5:$Y$46,23,FALSE))","v":1},{"$f":"IF(AC34=\"\",\"\",VLOOKUP(AC34,'【記載例】（ユニット型）シフト記号表'!$C$5:$Y$46,23,FALSE))","v":1},{"$f":"IF(AD34=\"\",\"\",VLOOKUP(AD34,'【記載例】（ユニット型）シフト記号表'!$C$5:$Y$46,23,FALSE))","v":"-"},{"$f":"IF(AE34=\"\",\"\",VLOOKUP(AE34,'【記載例】（ユニット型）シフト記号表'!$C$5:$Y$46,23,FALSE))","v":"-"},{"$f":"IF(AF34=\"\",\"\",VLOOKUP(AF34,'【記載例】（ユニット型）シフト記号表'!$C$5:$Y$46,23,FALSE))","v":1},{"$f":"IF(AG34=\"\",\"\",VLOOKUP(AG34,'【記載例】（ユニット型）シフト記号表'!$C$5:$Y$46,23,FALSE))","v":1},{"$f":"IF(AH34=\"\",\"\",VLOOKUP(AH34,'【記載例】（ユニット型）シフト記号表'!$C$5:$Y$46,23,FALSE))","v":1},{"$f":"IF(AI34=\"\",\"\",VLOOKUP(AI34,'【記載例】（ユニット型）シフト記号表'!$C$5:$Y$46,23,FALSE))","v":1},{"$f":"IF(AJ34=\"\",\"\",VLOOKUP(AJ34,'【記載例】（ユニット型）シフト記号表'!$C$5:$Y$46,23,FALSE))","v":1},{"$f":"IF(AK34=\"\",\"\",VLOOKUP(AK34,'【記載例】（ユニット型）シフト記号表'!$C$5:$Y$46,23,FALSE))","v":"-"},{"$f":"IF(AL34=\"\",\"\",VLOOKUP(AL34,'【記載例】（ユニット型）シフト記号表'!$C$5:$Y$46,23,FALSE))","v":"-"},{"$f":"IF(AM34=\"\",\"\",VLOOKUP(AM34,'【記載例】（ユニット型）シフト記号表'!$C$5:$Y$46,23,FALSE))","v":1},{"$f":"IF(AN34=\"\",\"\",VLOOKUP(AN34,'【記載例】（ユニット型）シフト記号表'!$C$5:$Y$46,23,FALSE))","v":1},{"$f":"IF(AO34=\"\",\"\",VLOOKUP(AO34,'【記載例】（ユニット型）シフト記号表'!$C$5:$Y$46,23,FALSE))","v":1},{"$f":"IF(AP34=\"\",\"\",VLOOKUP(AP34,'【記載例】（ユニット型）シフト記号表'!$C$5:$Y$46,23,FALSE))","v":1},{"$f":"IF(AQ34=\"\",\"\",VLOOKUP(AQ34,'【記載例】（ユニット型）シフト記号表'!$C$5:$Y$46,23,FALSE))","v":1},{"$f":"IF(AR34=\"\",\"\",VLOOKUP(AR34,'【記載例】（ユニット型）シフト記号表'!$C$5:$Y$46,23,FALSE))","v":"-"},{"$f":"IF(AS34=\"\",\"\",VLOOKUP(AS34,'【記載例】（ユニット型）シフト記号表'!$C$5:$Y$46,23,FALSE))","v":"-"},{"$f":"IF(AT34=\"\",\"\",VLOOKUP(AT34,'【記載例】（ユニット型）シフト記号表'!$C$5:$Y$46,23,FALSE))","v":1},{"$f":"IF(AU34=\"\",\"\",VLOOKUP(AU34,'【記載例】（ユニット型）シフト記号表'!$C$5:$Y$46,23,FALSE))","v":1},{"$f":"IF(AV34=\"\",\"\",VLOOKUP(AV34,'【記載例】（ユニット型）シフト記号表'!$C$5:$Y$46,23,FALSE))","v":1},{"$f":"IF(AW34=\"\",\"\",VLOOKUP(AW34,'【記載例】（ユニット型）シフト記号表'!$C$5:$Y$46,23,FALSE))","v":1},{"$f":"IF(AX34=\"\",\"\",VLOOKUP(AX34,'【記載例】（ユニット型）シフト記号表'!$C$5:$Y$46,23,FALSE))","v":1},{"$f":"IF(AY34=\"\",\"\",VLOOKUP(AY34,'【記載例】（ユニット型）シフト記号表'!$C$5:$Y$46,23,FALSE))","v":"-"},{"$f":"IF(AZ34=\"\",\"\",VLOOKUP(AZ34,'【記載例】（ユニット型）シフト記号表'!$C$5:$Y$46,23,FALSE))","v":"-"},{"$f":"IF(BA34=\"\",\"\",VLOOKUP(BA34,'【記載例】（ユニット型）シフト記号表'!$C$5:$Y$46,23,FALSE))","v":1},{"$f":"IF(BB34=\"\",\"\",VLOOKUP(BB34,'【記載例】（ユニット型）シフト記号表'!$C$5:$Y$46,23,FALSE))","v":1},{"$f":"IF(BC34=\"\",\"\",VLOOKUP(BC34,'【記載例】（ユニット型）シフト記号表'!$C$5:$Y$46,23,FALSE))","v":""},{"$f":"IF(BD34=\"\",\"\",VLOOKUP(BD34,'【記載例】（ユニット型）シフト記号表'!$C$5:$Y$46,23,FALSE))","v":""},{"$f":"IF(BE34=\"\",\"\",VLOOKUP(BE34,'【記載例】（ユニット型）シフト記号表'!$C$5:$Y$46,23,FALSE))","v":""},{"$f":"IF($BI$3=\"計画\",SUM(AA36:BB36),IF($BI$3=\"実績\",SUM(AA36:BE36),\"\"))","v":20},null,{"$f":"IF($BI$3=\"計画\",BF36/4,IF($BI$3=\"実績\",(BF36/($BI$7/7)),\"\"))","v":5}]
[null,null,null,null,null,null,null,null,null,null,null,null,null,null,null,null,null,null,"○○　E夫",null,null,"シフト記号",null,null,null,null,"休","休","b","b","b","b","b","休","休","b","b","b","b","b","休","休","b","b","b","b","b","休","休","b","b","b","b","b"]
[null,{"$f":"B35+1","v":7},null,null,null,null,"看護職員",null,null,null,null,null,"A",null,"看護師",null,null,null,null,null,null,"日中の勤務時間数",null,null,null,null,{"$f":"IF(AA37=\"\",\"\",VLOOKUP(AA37,'【記載例】（ユニット型）シフト記号表'!$C$5:$W$46,21,FALSE))","v":"-"},{"$f":"IF(AB37=\"\",\"\",VLOOKUP(AB37,'【記載例】（ユニット型）シフト記号表'!$C$5:$W$46,21,FALSE))","v":"-"},{"$f":"IF(AC37=\"\",\"\",VLOOKUP(AC37,'【記載例】（ユニット型）シフト記号表'!$C$5:$W$46,21,FALSE))","v":7},{"$f":"IF(AD37=\"\",\"\",VLOOKUP(AD37,'【記載例】（ユニット型）シフト記号表'!$C$5:$W$46,21,FALSE))","v":7},{"$f":"IF(AE37=\"\",\"\",VLOOKUP(AE37,'【記載例】（ユニット型）シフト記号表'!$C$5:$W$46,21,FALSE))","v":7},{"$f":"IF(AF37=\"\",\"\",VLOOKUP(AF37,'【記載例】（ユニット型）シフト記号表'!$C$5:$W$46,21,FALSE))","v":7},{"$f":"IF(AG37=\"\",\"\",VLOOKUP(AG37,'【記載例】（ユニット型）シフト記号表'!$C$5:$W$46,21,FALSE))","v":7},{"$f":"IF(AH37=\"\",\"\",VLOOKUP(AH37,'【記載例】（ユニット型）シフト記号表'!$C$5:$W$46,21,FALSE))","v":"-"},{"$f":"IF(AI37=\"\",\"\",VLOOKUP(AI37,'【記載例】（ユニット型）シフト記号表'!$C$5:$W$46,21,FALSE))","v":"-"},{"$f":"IF(AJ37=\"\",\"\",VLOOKUP(AJ37,'【記載例】（ユニット型）シフト記号表'!$C$5:$W$46,21,FALSE))","v":7},{"$f":"IF(AK37=\"\",\"\",VLOOKUP(AK37,'【記載例】（ユニット型）シフト記号表'!$C$5:$W$46,21,FALSE))","v":7},{"$f":"IF(AL37=\"\",\"\",VLOOKUP(AL37,'【記載例】（ユニット型）シフト記号表'!$C$5:$W$46,21,FALSE))","v":7},{"$f":"IF(AM37=\"\",\"\",VLOOKUP(AM37,'【記載例】（ユニット型）シフト記号表'!$C$5:$W$46,21,FALSE))","v":7},{"$f":"IF(AN37=\"\",\"\",VLOOKUP(AN37,'【記載例】（ユニット型）シフト記号表'!$C$5:$W$46,21,FALSE))","v":7},{"$f":"IF(AO37=\"\",\"\",VLOOKUP(AO37,'【記載例】（ユニット型）シフト記号表'!$C$5:$W$46,21,FALSE))","v":"-"},{"$f":"IF(AP37=\"\",\"\",VLOOKUP(AP37,'【記載例】（ユニット型）シフト記号表'!$C$5:$W$46,21,FALSE))","v":"-"},{"$f":"IF(AQ37=\"\",\"\",VLOOKUP(AQ37,'【記載例】（ユニット型）シフト記号表'!$C$5:$W$46,21,FALSE))","v":7},{"$f":"IF(AR37=\"\",\"\",VLOOKUP(AR37,'【記載例】（ユニット型）シフト記号表'!$C$5:$W$46,21,FALSE))","v":7},{"$f":"IF(AS37=\"\",\"\",VLOOKUP(AS37,'【記載例】（ユニット型）シフト記号表'!$C$5:$W$46,21,FALSE))","v":7},{"$f":"IF(AT37=\"\",\"\",VLOOKUP(AT37,'【記載例】（ユニット型）シフト記号表'!$C$5:$W$46,21,FALSE))","v":7},{"$f":"IF(AU37=\"\",\"\",VLOOKUP(AU37,'【記載例】（ユニット型）シフト記号表'!$C$5:$W$46,21,FALSE))","v":7},{"$f":"IF(AV37=\"\",\"\",VLOOKUP(AV37,'【記載例】（ユニット型）シフト記号表'!$C$5:$W$46,21,FALSE))","v":"-"},{"$f":"IF(AW37=\"\",\"\",VLOOKUP(AW37,'【記載例】（ユニット型）シフト記号表'!$C$5:$W$46,21,FALSE))","v":"-"},{"$f":"IF(AX37=\"\",\"\",VLOOKUP(AX37,'【記載例】（ユニット型）シフト記号表'!$C$5:$W$46,21,FALSE))","v":7},{"$f":"IF(AY37=\"\",\"\",VLOOKUP(AY37,'【記載例】（ユニット型）シフト記号表'!$C$5:$W$46,21,FALSE))","v":7},{"$f":"IF(AZ37=\"\",\"\",VLOOKUP(AZ37,'【記載例】（ユニット型）シフト記号表'!$C$5:$W$46,21,FALSE))","v":7},{"$f":"IF(BA37=\"\",\"\",VLOOKUP(BA37,'【記載例】（ユニット型）シフト記号表'!$C$5:$W$46,21,FALSE))","v":7},{"$f":"IF(BB37=\"\",\"\",VLOOKUP(BB37,'【記載例】（ユニット型）シフト記号表'!$C$5:$W$46,21,FALSE))","v":7},{"$f":"IF(BC37=\"\",\"\",VLOOKUP(BC37,'【記載例】（ユニット型）シフト記号表'!$C$5:$W$46,21,FALSE))","v":""},{"$f":"IF(BD37=\"\",\"\",VLOOKUP(BD37,'【記載例】（ユニット型）シフト記号表'!$C$5:$W$46,21,FALSE))","v":""},{"$f":"IF(BE37=\"\",\"\",VLOOKUP(BE37,'【記載例】（ユニット型）シフト記号表'!$C$5:$W$46,21,FALSE))","v":""},{"$f":"IF($BI$3=\"計画\",SUM(AA38:BB38),IF($BI$3=\"実績\",SUM(AA38:BE38),\"\"))","v":140},null,{"$f":"IF($BI$3=\"計画\",BF38/4,IF($BI$3=\"実績\",(BF38/($BI$7/7)),\"\"))","v":35}]
[null,null,null,null,null,null,null,null,{"$f":"G38","v":"看護職員"},null,{"$f":"M38","v":"A"},null,null,null,null,null,null,null,null,null,null,"夜勤時間帯の勤務時間数",null,null,null,null,{"$f":"IF(AA37=\"\",\"\",VLOOKUP(AA37,'【記載例】（ユニット型）シフト記号表'!$C$5:$Y$46,23,FALSE))","v":"-"},{"$f":"IF(AB37=\"\",\"\",VLOOKUP(AB37,'【記載例】（ユニット型）シフト記号表'!$C$5:$Y$46,23,FALSE))","v":"-"},{"$f":"IF(AC37=\"\",\"\",VLOOKUP(AC37,'【記載例】（ユニット型）シフト記号表'!$C$5:$Y$46,23,FALSE))","v":1},{"$f":"IF(AD37=\"\",\"\",VLOOKUP(AD37,'【記載例】（ユニット型）シフト記号表'!$C$5:$Y$46,23,FALSE))","v":1},{"$f":"IF(AE37=\"\",\"\",VLOOKUP(AE37,'【記載例】（ユニット型）シフト記号表'!$C$5:$Y$46,23,FALSE))","v":1},{"$f":"IF(AF37=\"\",\"\",VLOOKUP(AF37,'【記載例】（ユニット型）シフト記号表'!$C$5:$Y$46,23,FALSE))","v":1},{"$f":"IF(AG37=\"\",\"\",VLOOKUP(AG37,'【記載例】（ユニット型）シフト記号表'!$C$5:$Y$46,23,FALSE))","v":1},{"$f":"IF(AH37=\"\",\"\",VLOOKUP(AH37,'【記載例】（ユニット型）シフト記号表'!$C$5:$Y$46,23,FALSE))","v":"-"},{"$f":"IF(AI37=\"\",\"\",VLOOKUP(AI37,'【記載例】（ユニット型）シフト記号表'!$C$5:$Y$46,23,FALSE))","v":"-"},{"$f":"IF(AJ37=\"\",\"\",VLOOKUP(AJ37,'【記載例】（ユニット型）シフト記号表'!$C$5:$Y$46,23,FALSE))","v":1},{"$f":"IF(AK37=\"\",\"\",VLOOKUP(AK37,'【記載例】（ユニット型）シフト記号表'!$C$5:$Y$46,23,FALSE))","v":1},{"$f":"IF(AL37=\"\",\"\",VLOOKUP(AL37,'【記載例】（ユニット型）シフト記号表'!$C$5:$Y$46,23,FALSE))","v":1},{"$f":"IF(AM37=\"\",\"\",VLOOKUP(AM37,'【記載例】（ユニット型）シフト記号表'!$C$5:$Y$46,23,FALSE))","v":1},{"$f":"IF(AN37=\"\",\"\",VLOOKUP(AN37,'【記載例】（ユニット型）シフト記号表'!$C$5:$Y$46,23,FALSE))","v":1},{"$f":"IF(AO37=\"\",\"\",VLOOKUP(AO37,'【記載例】（ユニット型）シフト記号表'!$C$5:$Y$46,23,FALSE))","v":"-"},{"$f":"IF(AP37=\"\",\"\",VLOOKUP(AP37,'【記載例】（ユニット型）シフト記号表'!$C$5:$Y$46,23,FALSE))","v":"-"},{"$f":"IF(AQ37=\"\",\"\",VLOOKUP(AQ37,'【記載例】（ユニット型）シフト記号表'!$C$5:$Y$46,23,FALSE))","v":1},{"$f":"IF(AR37=\"\",\"\",VLOOKUP(AR37,'【記載例】（ユニット型）シフト記号表'!$C$5:$Y$46,23,FALSE))","v":1},{"$f":"IF(AS37=\"\",\"\",VLOOKUP(AS37,'【記載例】（ユニット型）シフト記号表'!$C$5:$Y$46,23,FALSE))","v":1},{"$f":"IF(AT37=\"\",\"\",VLOOKUP(AT37,'【記載例】（ユニット型）シフト記号表'!$C$5:$Y$46,23,FALSE))","v":1},{"$f":"IF(AU37=\"\",\"\",VLOOKUP(AU37,'【記載例】（ユニット型）シフト記号表'!$C$5:$Y$46,23,FALSE))","v":1},{"$f":"IF(AV37=\"\",\"\",VLOOKUP(AV37,'【記載例】（ユニット型）シフト記号表'!$C$5:$Y$46,23,FALSE))","v":"-"},{"$f":"IF(AW37=\"\",\"\",VLOOKUP(AW37,'【記載例】（ユニット型）シフト記号表'!$C$5:$Y$46,23,FALSE))","v":"-"},{"$f":"IF(AX37=\"\",\"\",VLOOKUP(AX37,'【記載例】（ユニット型）シフト記号表'!$C$5:$Y$46,23,FALSE))","v":1},{"$f":"IF(AY37=\"\",\"\",VLOOKUP(AY37,'【記載例】（ユニット型）シフト記号表'!$C$5:$Y$46,23,FALSE))","v":1},{"$f":"IF(AZ37=\"\",\"\",VLOOKUP(AZ37,'【記載例】（ユニット型）シフト記号表'!$C$5:$Y$46,23,FALSE))","v":1},{"$f":"IF(BA37=\"\",\"\",VLOOKUP(BA37,'【記載例】（ユニット型）シフト記号表'!$C$5:$Y$46,23,FALSE))","v":1},{"$f":"IF(BB37=\"\",\"\",VLOOKUP(BB37,'【記載例】（ユニット型）シフト記号表'!$C$5:$Y$46,23,FALSE))","v":1},{"$f":"IF(BC37=\"\",\"\",VLOOKUP(BC37,'【記載例】（ユニット型）シフト記号表'!$C$5:$Y$46,23,FALSE))","v":""},{"$f":"IF(BD37=\"\",\"\",VLOOKUP(BD37,'【記載例】（ユニット型）シフト記号表'!$C$5:$Y$46,23,FALSE))","v":""},{"$f":"IF(BE37=\"\",\"\",VLOOKUP(BE37,'【記載例】（ユニット型）シフト記号表'!$C$5:$Y$46,23,FALSE))","v":""},{"$f":"IF($BI$3=\"計画\",SUM(AA39:BB39),IF($BI$3=\"実績\",SUM(AA39:BE39),\"\"))","v":20},null,{"$f":"IF($BI$3=\"計画\",BF39/4,IF($BI$3=\"実績\",(BF39/($BI$7/7)),\"\"))","v":5}]
[null,null,null,null,null,null,null,null,null,null,null,null,null,null,null,null,null,null,"○○　F子",null,null,"シフト記号",null,null,null,null,"b","b","b","休","休","b","b","b","b","b","休","休","b","b","b","b","b","休","休","b","b","b","b","b","休","休","b","b"]
[null,{"$f":"B38+1","v":8},null,null,null,null,"看護職員",null,null,null,null,null,"A",null,"看護師",null,null,null,null,null,null,"日中の勤務時間数",null,null,null,null,{"$f":"IF(AA40=\"\",\"\",VLOOKUP(AA40,'【記載例】（ユニット型）シフト記号表'!$C$5:$W$46,21,FALSE))","v":7},{"$f":"IF(AB40=\"\",\"\",VLOOKUP(AB40,'【記載例】（ユニット型）シフト記号表'!$C$5:$W$46,21,FALSE))","v":7},{"$f":"IF(AC40=\"\",\"\",VLOOKUP(AC40,'【記載例】（ユニット型）シフト記号表'!$C$5:$W$46,21,FALSE))","v":7},{"$f":"IF(AD40=\"\",\"\",VLOOKUP(AD40,'【記載例】（ユニット型）シフト記号表'!$C$5:$W$46,21,FALSE))","v":"-"},{"$f":"IF(AE40=\"\",\"\",VLOOKUP(AE40,'【記載例】（ユニット型）シフト記号表'!$C$5:$W$46,21,FALSE))","v":"-"},{"$f":"IF(AF40=\"\",\"\",VLOOKUP(AF40,'【記載例】（ユニット型）シフト記号表'!$C$5:$W$46,21,FALSE))","v":7},{"$f":"IF(AG40=\"\",\"\",VLOOKUP(AG40,'【記載例】（ユニット型）シフト記号表'!$C$5:$W$46,21,FALSE))","v":7},{"$f":"IF(AH40=\"\",\"\",VLOOKUP(AH40,'【記載例】（ユニット型）シフト記号表'!$C$5:$W$46,21,FALSE))","v":7},{"$f":"IF(AI40=\"\",\"\",VLOOKUP(AI40,'【記載例】（ユニット型）シフト記号表'!$C$5:$W$46,21,FALSE))","v":7},{"$f":"IF(AJ40=\"\",\"\",VLOOKUP(AJ40,'【記載例】（ユニット型）シフト記号表'!$C$5:$W$46,21,FALSE))","v":7},{"$f":"IF(AK40=\"\",\"\",VLOOKUP(AK40,'【記載例】（ユニット型）シフト記号表'!$C$5:$W$46,21,FALSE))","v":"-"},{"$f":"IF(AL40=\"\",\"\",VLOOKUP(AL40,'【記載例】（ユニット型）シフト記号表'!$C$5:$W$46,21,FALSE))","v":"-"},{"$f":"IF(AM40=\"\",\"\",VLOOKUP(AM40,'【記載例】（ユニット型）シフト記号表'!$C$5:$W$46,21,FALSE))","v":7},{"$f":"IF(AN40=\"\",\"\",VLOOKUP(AN40,'【記載例】（ユニット型）シフト記号表'!$C$5:$W$46,21,FALSE))","v":7},{"$f":"IF(AO40=\"\",\"\",VLOOKUP(AO40,'【記載例】（ユニット型）シフト記号表'!$C$5:$W$46,21,FALSE))","v":7},{"$f":"IF(AP40=\"\",\"\",VLOOKUP(AP40,'【記載例】（ユニット型）シフト記号表'!$C$5:$W$46,21,FALSE))","v":7},{"$f":"IF(AQ40=\"\",\"\",VLOOKUP(AQ40,'【記載例】（ユニット型）シフト記号表'!$C$5:$W$46,21,FALSE))","v":7},{"$f":"IF(AR40=\"\",\"\",VLOOKUP(AR40,'【記載例】（ユニット型）シフト記号表'!$C$5:$W$46,21,FALSE))","v":"-"},{"$f":"IF(AS40=\"\",\"\",VLOOKUP(AS40,'【記載例】（ユニット型）シフト記号表'!$C$5:$W$46,21,FALSE))","v":"-"},{"$f":"IF(AT40=\"\",\"\",VLOOKUP(AT40,'【記載例】（ユニット型）シフト記号表'!$C$5:$W$46,21,FALSE))","v":7},{"$f":"IF(AU40=\"\",\"\",VLOOKUP(AU40,'【記載例】（ユニット型）シフト記号表'!$C$5:$W$46,21,FALSE))","v":7},{"$f":"IF(AV40=\"\",\"\",VLOOKUP(AV40,'【記載例】（ユニット型）シフト記号表'!$C$5:$W$46,21,FALSE))","v":7},{"$f":"IF(AW40=\"\",\"\",VLOOKUP(AW40,'【記載例】（ユニット型）シフト記号表'!$C$5:$W$46,21,FALSE))","v":7},{"$f":"IF(AX40=\"\",\"\",VLOOKUP(AX40,'【記載例】（ユニット型）シフト記号表'!$C$5:$W$46,21,FALSE))","v":7},{"$f":"IF(AY40=\"\",\"\",VLOOKUP(AY40,'【記載例】（ユニット型）シフト記号表'!$C$5:$W$46,21,FALSE))","v":"-"},{"$f":"IF(AZ40=\"\",\"\",VLOOKUP(AZ40,'【記載例】（ユニット型）シフト記号表'!$C$5:$W$46,21,FALSE))","v":"-"},{"$f":"IF(BA40=\"\",\"\",VLOOKUP(BA40,'【記載例】（ユニット型）シフト記号表'!$C$5:$W$46,21,FALSE))","v":7},{"$f":"IF(BB40=\"\",\"\",VLOOKUP(BB40,'【記載例】（ユニット型）シフト記号表'!$C$5:$W$46,21,FALSE))","v":7},{"$f":"IF(BC40=\"\",\"\",VLOOKUP(BC40,'【記載例】（ユニット型）シフト記号表'!$C$5:$W$46,21,FALSE))","v":""},{"$f":"IF(BD40=\"\",\"\",VLOOKUP(BD40,'【記載例】（ユニット型）シフト記号表'!$C$5:$W$46,21,FALSE))","v":""},{"$f":"IF(BE40=\"\",\"\",VLOOKUP(BE40,'【記載例】（ユニット型）シフト記号表'!$C$5:$W$46,21,FALSE))","v":""},{"$f":"IF($BI$3=\"計画\",SUM(AA41:BB41),IF($BI$3=\"実績\",SUM(AA41:BE41),\"\"))","v":140},null,{"$f":"IF($BI$3=\"計画\",BF41/4,IF($BI$3=\"実績\",(BF41/($BI$7/7)),\"\"))","v":35}]
[null,null,null,null,null,null,null,null,{"$f":"G41","v":"看護職員"},null,{"$f":"M41","v":"A"},null,null,null,null,null,null,null,null,null,null,"夜勤時間帯の勤務時間数",null,null,null,null,{"$f":"IF(AA40=\"\",\"\",VLOOKUP(AA40,'【記載例】（ユニット型）シフト記号表'!$C$5:$Y$46,23,FALSE))","v":1},{"$f":"IF(AB40=\"\",\"\",VLOOKUP(AB40,'【記載例】（ユニット型）シフト記号表'!$C$5:$Y$46,23,FALSE))","v":1},{"$f":"IF(AC40=\"\",\"\",VLOOKUP(AC40,'【記載例】（ユニット型）シフト記号表'!$C$5:$Y$46,23,FALSE))","v":1},{"$f":"IF(AD40=\"\",\"\",VLOOKUP(AD40,'【記載例】（ユニット型）シフト記号表'!$C$5:$Y$46,23,FALSE))","v":"-"},{"$f":"IF(AE40=\"\",\"\",VLOOKUP(AE40,'【記載例】（ユニット型）シフト記号表'!$C$5:$Y$46,23,FALSE))","v":"-"},{"$f":"IF(AF40=\"\",\"\",VLOOKUP(AF40,'【記載例】（ユニット型）シフト記号表'!$C$5:$Y$46,23,FALSE))","v":1},{"$f":"IF(AG40=\"\",\"\",VLOOKUP(AG40,'【記載例】（ユニット型）シフト記号表'!$C$5:$Y$46,23,FALSE))","v":1},{"$f":"IF(AH40=\"\",\"\",VLOOKUP(AH40,'【記載例】（ユニット型）シフト記号表'!$C$5:$Y$46,23,FALSE))","v":1},{"$f":"IF(AI40=\"\",\"\",VLOOKUP(AI40,'【記載例】（ユニット型）シフト記号表'!$C$5:$Y$46,23,FALSE))","v":1},{"$f":"IF(AJ40=\"\",\"\",VLOOKUP(AJ40,'【記載例】（ユニット型）シフト記号表'!$C$5:$Y$46,23,FALSE))","v":1},{"$f":"IF(AK40=\"\",\"\",VLOOKUP(AK40,'【記載例】（ユニット型）シフト記号表'!$C$5:$Y$46,23,FALSE))","v":"-"},{"$f":"IF(AL40=\"\",\"\",VLOOKUP(AL40,'【記載例】（ユニット型）シフト記号表'!$C$5:$Y$46,23,FALSE))","v":"-"},{"$f":"IF(AM40=\"\",\"\",VLOOKUP(AM40,'【記載例】（ユニット型）シフト記号表'!$C$5:$Y$46,23,FALSE))","v":1},{"$f":"IF(AN40=\"\",\"\",VLOOKUP(AN40,'【記載例】（ユニット型）シフト記号表'!$C$5:$Y$46,23,FALSE))","v":1},{"$f":"IF(AO40=\"\",\"\",VLOOKUP(AO40,'【記載例】（ユニット型）シフト記号表'!$C$5:$Y$46,23,FALSE))","v":1},{"$f":"IF(AP40=\"\",\"\",VLOOKUP(AP40,'【記載例】（ユニット型）シフト記号表'!$C$5:$Y$46,23,FALSE))","v":1},{"$f":"IF(AQ40=\"\",\"\",VLOOKUP(AQ40,'【記載例】（ユニット型）シフト記号表'!$C$5:$Y$46,23,FALSE))","v":1},{"$f":"IF(AR40=\"\",\"\",VLOOKUP(AR40,'【記載例】（ユニット型）シフト記号表'!$C$5:$Y$46,23,FALSE))","v":"-"},{"$f":"IF(AS40=\"\",\"\",VLOOKUP(AS40,'【記載例】（ユニット型）シフト記号表'!$C$5:$Y$46,23,FALSE))","v":"-"},{"$f":"IF(AT40=\"\",\"\",VLOOKUP(AT40,'【記載例】（ユニット型）シフト記号表'!$C$5:$Y$46,23,FALSE))","v":1},{"$f":"IF(AU40=\"\",\"\",VLOOKUP(AU40,'【記載例】（ユニット型）シフト記号表'!$C$5:$Y$46,23,FALSE))","v":1},{"$f":"IF(AV40=\"\",\"\",VLOOKUP(AV40,'【記載例】（ユニット型）シフト記号表'!$C$5:$Y$46,23,FALSE))","v":1},{"$f":"IF(AW40=\"\",\"\",VLOOKUP(AW40,'【記載例】（ユニット型）シフト記号表'!$C$5:$Y$46,23,FALSE))","v":1},{"$f":"IF(AX40=\"\",\"\",VLOOKUP(AX40,'【記載例】（ユニット型）シフト記号表'!$C$5:$Y$46,23,FALSE))","v":1},{"$f":"IF(AY40=\"\",\"\",VLOOKUP(AY40,'【記載例】（ユニット型）シフト記号表'!$C$5:$Y$46,23,FALSE))","v":"-"},{"$f":"IF(AZ40=\"\",\"\",VLOOKUP(AZ40,'【記載例】（ユニット型）シフト記号表'!$C$5:$Y$46,23,FALSE))","v":"-"},{"$f":"IF(BA40=\"\",\"\",VLOOKUP(BA40,'【記載例】（ユニット型）シフト記号表'!$C$5:$Y$46,23,FALSE))","v":1},{"$f":"IF(BB40=\"\",\"\",VLOOKUP(BB40,'【記載例】（ユニット型）シフト記号表'!$C$5:$Y$46,23,FALSE))","v":1},{"$f":"IF(BC40=\"\",\"\",VLOOKUP(BC40,'【記載例】（ユニット型）シフト記号表'!$C$5:$Y$46,23,FALSE))","v":""},{"$f":"IF(BD40=\"\",\"\",VLOOKUP(BD40,'【記載例】（ユニット型）シフト記号表'!$C$5:$Y$46,23,FALSE))","v":""},{"$f":"IF(BE40=\"\",\"\",VLOOKUP(BE40,'【記載例】（ユニット型）シフト記号表'!$C$5:$Y$46,23,FALSE))","v":""},{"$f":"IF($BI$3=\"計画\",SUM(AA42:BB42),IF($BI$3=\"実績\",SUM(AA42:BE42),\"\"))","v":20},null,{"$f":"IF($BI$3=\"計画\",BF42/4,IF($BI$3=\"実績\",(BF42/($BI$7/7)),\"\"))","v":5}]
[null,null,"◎","ユニット１",null,null,null,null,null,null,null,null,null,null,null,null,null,null,"○○　G太",null,null,"シフト記号",null,null,null,null,"o","休","a","a","休","d","休","休","o","休","a","a","休","d","d","休","o","休","a","a","休","d","休","休","o","休","a","a"]
[null,{"$f":"B41+1","v":9},null,null,null,null,"看護職員",null,null,null,null,null,"A",null,"看護師",null,null,null,null,null,null,"日中の勤務時間数",null,null,null,null,{"$f":"IF(AA43=\"\",\"\",VLOOKUP(AA43,'【記載例】（ユニット型）シフト記号表'!$C$5:$W$46,21,FALSE))","v":2},{"$f":"IF(AB43=\"\",\"\",VLOOKUP(AB43,'【記載例】（ユニット型）シフト記号表'!$C$5:$W$46,21,FALSE))","v":"-"},{"$f":"IF(AC43=\"\",\"\",VLOOKUP(AC43,'【記載例】（ユニット型）シフト記号表'!$C$5:$W$46,21,FALSE))","v":5.9999999999999991},{"$f":"IF(AD43=\"\",\"\",VLOOKUP(AD43,'【記載例】（ユニット型）シフト記号表'!$C$5:$W$46,21,FALSE))","v":5.9999999999999991},{"$f":"IF(AE43=\"\",\"\",VLOOKUP(AE43,'【記載例】（ユニット型）シフト記号表'!$C$5:$W$46,21,FALSE))","v":"-"},{"$f":"IF(AF43=\"\",\"\",VLOOKUP(AF43,'【記載例】（ユニット型）シフト記号表'!$C$5:$W$46,21,FALSE))","v":5.0000000000000009},{"$f":"IF(AG43=\"\",\"\",VLOOKUP(AG43,'【記載例】（ユニット型）シフト記号表'!$C$5:$W$46,21,FALSE))","v":"-"},{"$f":"IF(AH43=\"\",\"\",VLOOKUP(AH43,'【記載例】（ユニット型）シフト記号表'!$C$5:$W$46,21,FALSE))","v":"-"},{"$f":"IF(AI43=\"\",\"\",VLOOKUP(AI43,'【記載例】（ユニット型）シフト記号表'!$C$5:$W$46,21,FALSE))","v":2},{"$f":"IF(AJ43=\"\",\"\",VLOOKUP(AJ43,'【記載例】（ユニット型）シフト記号表'!$C$5:$W$46,21,FALSE))","v":"-"},{"$f":"IF(AK43=\"\",\"\",VLOOKUP(AK43,'【記載例】（ユニット型）シフト記号表'!$C$5:$W$46,21,FALSE))","v":5.9999999999999991},{"$f":"IF(AL43=\"\",\"\",VLOOKUP(AL43,'【記載例】（ユニット型）シフト記号表'!$C$5:$W$46,21,FALSE))","v":5.9999999999999991},{"$f":"IF(AM43=\"\",\"\",VLOOKUP(AM43,'【記載例】（ユニット型）シフト記号表'!$C$5:$W$46,21,FALSE))","v":"-"},{"$f":"IF(AN43=\"\",\"\",VLOOKUP(AN43,'【記載例】（ユニット型）シフト記号表'!$C$5:$W$46,21,FALSE))","v":5.0000000000000009},{"$f":"IF(AO43=\"\",\"\",VLOOKUP(AO43,'【記載例】（ユニット型）シフト記号表'!$C$5:$W$46,21,FALSE))","v":5.0000000000000009},{"$f":"IF(AP43=\"\",\"\",VLOOKUP(AP43,'【記載例】（ユニット型）シフト記号表'!$C$5:$W$46,21,FALSE))","v":"-"},{"$f":"IF(AQ43=\"\",\"\",VLOOKUP(AQ43,'【記載例】（ユニット型）シフト記号表'!$C$5:$W$46,21,FALSE))","v":2},{"$f":"IF(AR43=\"\",\"\",VLOOKUP(AR43,'【記載例】（ユニット型）シフト記号表'!$C$5:$W$46,21,FALSE))","v":"-"},{"$f":"IF(AS43=\"\",\"\",VLOOKUP(AS43,'【記載例】（ユニット型）シフト記号表'!$C$5:$W$46,21,FALSE))","v":5.9999999999999991},{"$f":"IF(AT43=\"\",\"\",VLOOKUP(AT43,'【記載例】（ユニット型）シフト記号表'!$C$5:$W$46,21,FALSE))","v":5.9999999999999991},{"$f":"IF(AU43=\"\",\"\",VLOOKUP(AU43,'【記載例】（ユニット型）シフト記号表'!$C$5:$W$46,21,FALSE))","v":"-"},{"$f":"IF(AV43=\"\",\"\",VLOOKUP(AV43,'【記載例】（ユニット型）シフト記号表'!$C$5:$W$46,21,FALSE))","v":5.0000000000000009},{"$f":"IF(AW43=\"\",\"\",VLOOKUP(AW43,'【記載例】（ユニット型）シフト記号表'!$C$5:$W$46,21,FALSE))","v":"-"},{"$f":"IF(AX43=\"\",\"\",VLOOKUP(AX43,'【記載例】（ユニット型）シフト記号表'!$C$5:$W$46,21,FALSE))","v":"-"},{"$f":"IF(AY43=\"\",\"\",VLOOKUP(AY43,'【記載例】（ユニット型）シフト記号表'!$C$5:$W$46,21,FALSE))","v":2},{"$f":"IF(AZ43=\"\",\"\",VLOOKUP(AZ43,'【記載例】（ユニット型）シフト記号表'!$C$5:$W$46,21,FALSE))","v":"-"},{"$f":"IF(BA43=\"\",\"\",VLOOKUP(BA43,'【記載例】（ユニット型）シフト記号表'!$C$5:$W$46,21,FALSE))","v":5.9999999999999991},{"$f":"IF(BB43=\"\",\"\",VLOOKUP(BB43,'【記載例】（ユニット型）シフト記号表'!$C$5:$W$46,21,FALSE))","v":5.9999999999999991},{"$f":"IF(BC43=\"\",\"\",VLOOKUP(BC43,'【記載例】（ユニット型）シフト記号表'!$C$5:$W$46,21,FALSE))","v":""},{"$f":"IF(BD43=\"\",\"\",VLOOKUP(BD43,'【記載例】（ユニット型）シフト記号表'!$C$5:$W$46,21,FALSE))","v":""},{"$f":"IF(BE43=\"\",\"\",VLOOKUP(BE43,'【記載例】（ユニット型）シフト記号表'!$C$5:$W$46,21,FALSE))","v":""},{"$f":"IF($BI$3=\"計画\",SUM(AA44:BB44),IF($BI$3=\"実績\",SUM(AA44:BE44),\"\"))","v":76},null,{"$f":"IF($BI$3=\"計画\",BF44/4,IF($BI$3=\"実績\",(BF44/($BI$7/7)),\"\"))","v":19}]
[null,null,null,null,null,null,null,null,{"$f":"G44","v":"看護職員"},null,{"$f":"M44","v":"A"},null,null,null,null,null,null,null,null,null,null,"夜勤時間帯の勤務時間数",null,null,null,null,{"$f":"IF(AA43=\"\",\"\",VLOOKUP(AA43,'【記載例】（ユニット型）シフト記号表'!$C$5:$Y$46,23,FALSE))","v":14},{"$f":"IF(AB43=\"\",\"\",VLOOKUP(AB43,'【記載例】（ユニット型）シフト記号表'!$C$5:$Y$46,23,FALSE))","v":"-"},{"$f":"IF(AC43=\"\",\"\",VLOOKUP(AC43,'【記載例】（ユニット型）シフト記号表'!$C$5:$Y$46,23,FALSE))","v":1.9999999999999991},{"$f":"IF(AD43=\"\",\"\",VLOOKUP(AD43,'【記載例】（ユニット型）シフト記号表'!$C$5:$Y$46,23,FALSE))","v":1.9999999999999991},{"$f":"IF(AE43=\"\",\"\",VLOOKUP(AE43,'【記載例】（ユニット型）シフト記号表'!$C$5:$Y$46,23,FALSE))","v":"-"},{"$f":"IF(AF43=\"\",\"\",VLOOKUP(AF43,'【記載例】（ユニット型）シフト記号表'!$C$5:$Y$46,23,FALSE))","v":2.9999999999999991},{"$f":"IF(AG43=\"\",\"\",VLOOKUP(AG43,'【記載例】（ユニット型）シフト記号表'!$C$5:$Y$46,23,FALSE))","v":"-"},{"$f":"IF(AH43=\"\",\"\",VLOOKUP(AH43,'【記載例】（ユニット型）シフト記号表'!$C$5:$Y$46,23,FALSE))","v":"-"},{"$f":"IF(AI43=\"\",\"\",VLOOKUP(AI43,'【記載例】（ユニット型）シフト記号表'!$C$5:$Y$46,23,FALSE))","v":14},{"$f":"IF(AJ43=\"\",\"\",VLOOKUP(AJ43,'【記載例】（ユニット型）シフト記号表'!$C$5:$Y$46,23,FALSE))","v":"-"},{"$f":"IF(AK43=\"\",\"\",VLOOKUP(AK43,'【記載例】（ユニット型）シフト記号表'!$C$5:$Y$46,23,FALSE))","v":1.9999999999999991},{"$f":"IF(AL43=\"\",\"\",VLOOKUP(AL43,'【記載例】（ユニット型）シフト記号表'!$C$5:$Y$46,23,FALSE))","v":1.9999999999999991},{"$f":"IF(AM43=\"\",\"\",VLOOKUP(AM43,'【記載例】（ユニット型）シフト記号表'!$C$5:$Y$46,23,FALSE))","v":"-"},{"$f":"IF(AN43=\"\",\"\",VLOOKUP(AN43,'【記載例】（ユニット型）シフト記号表'!$C$5:$Y$46,23,FALSE))","v":2.9999999999999991},{"$f":"IF(AO43=\"\",\"\",VLOOKUP(AO43,'【記載例】（ユニット型）シフト記号表'!$C$5:$Y$46,23,FALSE))","v":2.9999999999999991},{"$f":"IF(AP43=\"\",\"\",VLOOKUP(AP43,'【記載例】（ユニット型）シフト記号表'!$C$5:$Y$46,23,FALSE))","v":"-"},{"$f":"IF(AQ43=\"\",\"\",VLOOKUP(AQ43,'【記載例】（ユニット型）シフト記号表'!$C$5:$Y$46,23,FALSE))","v":14},{"$f":"IF(AR43=\"\",\"\",VLOOKUP(AR43,'【記載例】（ユニット型）シフト記号表'!$C$5:$Y$46,23,FALSE))","v":"-"},{"$f":"IF(AS43=\"\",\"\",VLOOKUP(AS43,'【記載例】（ユニット型）シフト記号表'!$C$5:$Y$46,23,FALSE))","v":1.9999999999999991},{"$f":"IF(AT43=\"\",\"\",VLOOKUP(AT43,'【記載例】（ユニット型）シフト記号表'!$C$5:$Y$46,23,FALSE))","v":1.9999999999999991},{"$f":"IF(AU43=\"\",\"\",VLOOKUP(AU43,'【記載例】（ユニット型）シフト記号表'!$C$5:$Y$46,23,FALSE))","v":"-"},{"$f":"IF(AV43=\"\",\"\",VLOOKUP(AV43,'【記載例】（ユニット型）シフト記号表'!$C$5:$Y$46,23,FALSE))","v":2.9999999999999991},{"$f":"IF(AW43=\"\",\"\",VLOOKUP(AW43,'【記載例】（ユニット型）シフト記号表'!$C$5:$Y$46,23,FALSE))","v":"-"},{"$f":"IF(AX43=\"\",\"\",VLOOKUP(AX43,'【記載例】（ユニット型）シフト記号表'!$C$5:$Y$46,23,FALSE))","v":"-"},{"$f":"IF(AY43=\"\",\"\",VLOOKUP(AY43,'【記載例】（ユニット型）シフト記号表'!$C$5:$Y$46,23,FALSE))","v":14},{"$f":"IF(AZ43=\"\",\"\",VLOOKUP(AZ43,'【記載例】（ユニット型）シフト記号表'!$C$5:$Y$46,23,FALSE))","v":"-"},{"$f":"IF(BA43=\"\",\"\",VLOOKUP(BA43,'【記載例】（ユニット型）シフト記号表'!$C$5:$Y$46,23,FALSE))","v":1.9999999999999991},{"$f":"IF(BB43=\"\",\"\",VLOOKUP(BB43,'【記載例】（ユニット型）シフト記号表'!$C$5:$Y$46,23,FALSE))","v":1.9999999999999991},{"$f":"IF(BC43=\"\",\"\",VLOOKUP(BC43,'【記載例】（ユニット型）シフト記号表'!$C$5:$Y$46,23,FALSE))","v":""},{"$f":"IF(BD43=\"\",\"\",VLOOKUP(BD43,'【記載例】（ユニット型）シフト記号表'!$C$5:$Y$46,23,FALSE))","v":""},{"$f":"IF(BE43=\"\",\"\",VLOOKUP(BE43,'【記載例】（ユニット型）シフト記号表'!$C$5:$Y$46,23,FALSE))","v":""},{"$f":"IF($BI$3=\"計画\",SUM(AA45:BB45),IF($BI$3=\"実績\",SUM(AA45:BE45),\"\"))","v":84},null,{"$f":"IF($BI$3=\"計画\",BF45/4,IF($BI$3=\"実績\",(BF45/($BI$7/7)),\"\"))","v":21}]
[null,null,null,"ユニット１",null,null,null,null,null,null,null,null,null,null,null,null,null,null,"○○　H美",null,null,"シフト記号",null,null,null,null,"休","o","休","d","a","休","d","d","休","o","休","d","a","休","d","a","休","o","休","d","休","休","d","a","休","o","休","d"]
[null,{"$f":"B44+1","v":10},null,null,null,null,"介護職員",null,null,null,null,null,"A",null,"介護福祉士",null,null,null,null,null,null,"日中の勤務時間数",null,null,null,null,{"$f":"IF(AA46=\"\",\"\",VLOOKUP(AA46,'【記載例】（ユニット型）シフト記号表'!$C$5:$W$46,21,FALSE))","v":"-"},{"$f":"IF(AB46=\"\",\"\",VLOOKUP(AB46,'【記載例】（ユニット型）シフト記号表'!$C$5:$W$46,21,FALSE))","v":2},{"$f":"IF(AC46=\"\",\"\",VLOOKUP(AC46,'【記載例】（ユニット型）シフト記号表'!$C$5:$W$46,21,FALSE))","v":"-"},{"$f":"IF(AD46=\"\",\"\",VLOOKUP(AD46,'【記載例】（ユニット型）シフト記号表'!$C$5:$W$46,21,FALSE))","v":5.0000000000000009},{"$f":"IF(AE46=\"\",\"\",VLOOKUP(AE46,'【記載例】（ユニット型）シフト記号表'!$C$5:$W$46,21,FALSE))","v":5.9999999999999991},{"$f":"IF(AF46=\"\",\"\",VLOOKUP(AF46,'【記載例】（ユニット型）シフト記号表'!$C$5:$W$46,21,FALSE))","v":"-"},{"$f":"IF(AG46=\"\",\"\",VLOOKUP(AG46,'【記載例】（ユニット型）シフト記号表'!$C$5:$W$46,21,FALSE))","v":5.0000000000000009},{"$f":"IF(AH46=\"\",\"\",VLOOKUP(AH46,'【記載例】（ユニット型）シフト記号表'!$C$5:$W$46,21,FALSE))","v":5.0000000000000009},{"$f":"IF(AI46=\"\",\"\",VLOOKUP(AI46,'【記載例】（ユニット型）シフト記号表'!$C$5:$W$46,21,FALSE))","v":"-"},{"$f":"IF(AJ46=\"\",\"\",VLOOKUP(AJ46,'【記載例】（ユニット型）シフト記号表'!$C$5:$W$46,21,FALSE))","v":2},{"$f":"IF(AK46=\"\",\"\",VLOOKUP(AK46,'【記載例】（ユニット型）シフト記号表'!$C$5:$W$46,21,FALSE))","v":"-"},{"$f":"IF(AL46=\"\",\"\",VLOOKUP(AL46,'【記載例】（ユニット型）シフト記号表'!$C$5:$W$46,21,FALSE))","v":5.0000000000000009},{"$f":"IF(AM46=\"\",\"\",VLOOKUP(AM46,'【記載例】（ユニット型）シフト記号表'!$C$5:$W$46,21,FALSE))","v":5.9999999999999991},{"$f":"IF(AN46=\"\",\"\",VLOOKUP(AN46,'【記載例】（ユニット型）シフト記号表'!$C$5:$W$46,21,FALSE))","v":"-"},{"$f":"IF(AO46=\"\",\"\",VLOOKUP(AO46,'【記載例】（ユニット型）シフト記号表'!$C$5:$W$46,21,FALSE))","v":5.0000000000000009},{"$f":"IF(AP46=\"\",\"\",VLOOKUP(AP46,'【記載例】（ユニット型）シフト記号表'!$C$5:$W$46,21,FALSE))","v":5.9999999999999991},{"$f":"IF(AQ46=\"\",\"\",VLOOKUP(AQ46,'【記載例】（ユニット型）シフト記号表'!$C$5:$W$46,21,FALSE))","v":"-"},{"$f":"IF(AR46=\"\",\"\",VLOOKUP(AR46,'【記載例】（ユニット型）シフト記号表'!$C$5:$W$46,21,FALSE))","v":2},{"$f":"IF(AS46=\"\",\"\",VLOOKUP(AS46,'【記載例】（ユニット型）シフト記号表'!$C$5:$W$46,21,FALSE))","v":"-"},{"$f":"IF(AT46=\"\",\"\",VLOOKUP(AT46,'【記載例】（ユニット型）シフト記号表'!$C$5:$W$46,21,FALSE))","v":5.0000000000000009},{"$f":"IF(AU46=\"\",\"\",VLOOKUP(AU46,'【記載例】（ユニット型）シフト記号表'!$C$5:$W$46,21,FALSE))","v":"-"},{"$f":"IF(AV46=\"\",\"\",VLOOKUP(AV46,'【記載例】（ユニット型）シフト記号表'!$C$5:$W$46,21,FALSE))","v":"-"},{"$f":"IF(AW46=\"\",\"\",VLOOKUP(AW46,'【記載例】（ユニット型）シフト記号表'!$C$5:$W$46,21,FALSE))","v":5.0000000000000009},{"$f":"IF(AX46=\"\",\"\",VLOOKUP(AX46,'【記載例】（ユニット型）シフト記号表'!$C$5:$W$46,21,FALSE))","v":5.9999999999999991},{"$f":"IF(AY46=\"\",\"\",VLOOKUP(AY46,'【記載例】（ユニット型）シフト記号表'!$C$5:$W$46,21,FALSE))","v":"-"},{"$f":"IF(AZ46=\"\",\"\",VLOOKUP(AZ46,'【記載例】（ユニット型）シフト記号表'!$C$5:$W$46,21,FALSE))","v":2},{"$f":"IF(BA46=\"\",\"\",VLOOKUP(BA46,'【記載例】（ユニット型）シフト記号表'!$C$5:$W$46,21,FALSE))","v":"-"},{"$f":"IF(BB46=\"\",\"\",VLOOKUP(BB46,'【記載例】（ユニット型）シフト記号表'!$C$5:$W$46,21,FALSE))","v":5.0000000000000009},{"$f":"IF(BC46=\"\",\"\",VLOOKUP(BC46,'【記載例】（ユニット型）シフト記号表'!$C$5:$W$46,21,FALSE))","v":""},{"$f":"IF(BD46=\"\",\"\",VLOOKUP(BD46,'【記載例】（ユニット型）シフト記号表'!$C$5:$W$46,21,FALSE))","v":""},{"$f":"IF(BE46=\"\",\"\",VLOOKUP(BE46,'【記載例】（ユニット型）シフト記号表'!$C$5:$W$46,21,FALSE))","v":""},{"$f":"IF($BI$3=\"計画\",SUM(AA47:BB47),IF($BI$3=\"実績\",SUM(AA47:BE47),\"\"))","v":72},null,{"$f":"IF($BI$3=\"計画\",BF47/4,IF($BI$3=\"実績\",(BF47/($BI$7/7)),\"\"))","v":18}]
[null,null,null,null,null,null,null,null,{"$f":"G47","v":"介護職員"},null,{"$f":"M47","v":"A"},null,null,null,null,null,null,null,null,null,null,"夜勤時間帯の勤務時間数",null,null,null,null,{"$f":"IF(AA46=\"\",\"\",VLOOKUP(AA46,'【記載例】（ユニット型）シフト記号表'!$C$5:$Y$46,23,FALSE))","v":"-"},{"$f":"IF(AB46=\"\",\"\",VLOOKUP(AB46,'【記載例】（ユニット型）シフト記号表'!$C$5:$Y$46,23,FALSE))","v":14},{"$f":"IF(AC46=\"\",\"\",VLOOKUP(AC46,'【記載例】（ユニット型）シフト記号表'!$C$5:$Y$46,23,FALSE))","v":"-"},{"$f":"IF(AD46=\"\",\"\",VLOOKUP(AD46,'【記載例】（ユニット型）シフト記号表'!$C$5:$Y$46,23,FALSE))","v":2.9999999999999991},{"$f":"IF(AE46=\"\",\"\",VLOOKUP(AE46,'【記載例】（ユニット型）シフト記号表'!$C$5:$Y$46,23,FALSE))","v":1.9999999999999991},{"$f":"IF(AF46=\"\",\"\",VLOOKUP(AF46,'【記載例】（ユニット型）シフト記号表'!$C$5:$Y$46,23,FALSE))","v":"-"},{"$f":"IF(AG46=\"\",\"\",VLOOKUP(AG46,'【記載例】（ユニット型）シフト記号表'!$C$5:$Y$46,23,FALSE))","v":2.9999999999999991},{"$f":"IF(AH46=\"\",\"\",VLOOKUP(AH46,'【記載例】（ユニット型）シフト記号表'!$C$5:$Y$46,23,FALSE))","v":2.9999999999999991},{"$f":"IF(AI46=\"\",\"\",VLOOKUP(AI46,'【記載例】（ユニット型）シフト記号表'!$C$5:$Y$46,23,FALSE))","v":"-"},{"$f":"IF(AJ46=\"\",\"\",VLOOKUP(AJ46,'【記載例】（ユニット型）シフト記号表'!$C$5:$Y$46,23,FALSE))","v":14},{"$f":"IF(AK46=\"\",\"\",VLOOKUP(AK46,'【記載例】（ユニット型）シフト記号表'!$C$5:$Y$46,23,FALSE))","v":"-"},{"$f":"IF(AL46=\"\",\"\",VLOOKUP(AL46,'【記載例】（ユニット型）シフト記号表'!$C$5:$Y$46,23,FALSE))","v":2.9999999999999991},{"$f":"IF(AM46=\"\",\"\",VLOOKUP(AM46,'【記載例】（ユニット型）シフト記号表'!$C$5:$Y$46,23,FALSE))","v":1.9999999999999991},{"$f":"IF(AN46=\"\",\"\",VLOOKUP(AN46,'【記載例】（ユニット型）シフト記号表'!$C$5:$Y$46,23,FALSE))","v":"-"},{"$f":"IF(AO46=\"\",\"\",VLOOKUP(AO46,'【記載例】（ユニット型）シフト記号表'!$C$5:$Y$46,23,FALSE))","v":2.9999999999999991},{"$f":"IF(AP46=\"\",\"\",VLOOKUP(AP46,'【記載例】（ユニット型）シフト記号表'!$C$5:$Y$46,23,FALSE))","v":1.9999999999999991},{"$f":"IF(AQ46=\"\",\"\",VLOOKUP(AQ46,'【記載例】（ユニット型）シフト記号表'!$C$5:$Y$46,23,FALSE))","v":"-"},{"$f":"IF(AR46=\"\",\"\",VLOOKUP(AR46,'【記載例】（ユニット型）シフト記号表'!$C$5:$Y$46,23,FALSE))","v":14},{"$f":"IF(AS46=\"\",\"\",VLOOKUP(AS46,'【記載例】（ユニット型）シフト記号表'!$C$5:$Y$46,23,FALSE))","v":"-"},{"$f":"IF(AT46=\"\",\"\",VLOOKUP(AT46,'【記載例】（ユニット型）シフト記号表'!$C$5:$Y$46,23,FALSE))","v":2.9999999999999991},{"$f":"IF(AU46=\"\",\"\",VLOOKUP(AU46,'【記載例】（ユニット型）シフト記号表'!$C$5:$Y$46,23,FALSE))","v":"-"},{"$f":"IF(AV46=\"\",\"\",VLOOKUP(AV46,'【記載例】（ユニット型）シフト記号表'!$C$5:$Y$46,23,FALSE))","v":"-"},{"$f":"IF(AW46=\"\",\"\",VLOOKUP(AW46,'【記載例】（ユニット型）シフト記号表'!$C$5:$Y$46,23,FALSE))","v":2.9999999999999991},{"$f":"IF(AX46=\"\",\"\",VLOOKUP(AX46,'【記載例】（ユニット型）シフト記号表'!$C$5:$Y$46,23,FALSE))","v":1.9999999999999991},{"$f":"IF(AY46=\"\",\"\",VLOOKUP(AY46,'【記載例】（ユニット型）シフト記号表'!$C$5:$Y$46,23,FALSE))","v":"-"},{"$f":"IF(AZ46=\"\",\"\",VLOOKUP(AZ46,'【記載例】（ユニット型）シフト記号表'!$C$5:$Y$46,23,FALSE))","v":14},{"$f":"IF(BA46=\"\",\"\",VLOOKUP(BA46,'【記載例】（ユニット型）シフト記号表'!$C$5:$Y$46,23,FALSE))","v":"-"},{"$f":"IF(BB46=\"\",\"\",VLOOKUP(BB46,'【記載例】（ユニット型）シフト記号表'!$C$5:$Y$46,23,FALSE))","v":2.9999999999999991},{"$f":"IF(BC46=\"\",\"\",VLOOKUP(BC46,'【記載例】（ユニット型）シフト記号表'!$C$5:$Y$46,23,FALSE))","v":""},{"$f":"IF(BD46=\"\",\"\",VLOOKUP(BD46,'【記載例】（ユニット型）シフト記号表'!$C$5:$Y$46,23,FALSE))","v":""},{"$f":"IF(BE46=\"\",\"\",VLOOKUP(BE46,'【記載例】（ユニット型）シフト記号表'!$C$5:$Y$46,23,FALSE))","v":""},{"$f":"IF($BI$3=\"計画\",SUM(AA48:BB48),IF($BI$3=\"実績\",SUM(AA48:BE48),\"\"))","v":88},null,{"$f":"IF($BI$3=\"計画\",BF48/4,IF($BI$3=\"実績\",(BF48/($BI$7/7)),\"\"))","v":22}]
[null,null,null,"ユニット１",null,null,null,null,null,null,null,null,null,null,null,null,null,null,"○○　J太郎",null,null,"シフト記号",null,null,null,null,"d","休","o","休","d","a","休","a","d","休","o","休","d","休","a","d","休","休","o","休","a","a","休","d","a","休","o","休"]
[null,{"$f":"B47+1","v":11},null,null,null,null,"介護職員",null,null,null,null,null,"A",null,"ー",null,null,null,null,null,null,"日中の勤務時間数",null,null,null,null,{"$f":"IF(AA49=\"\",\"\",VLOOKUP(AA49,'【記載例】（ユニット型）シフト記号表'!$C$5:$W$46,21,FALSE))","v":5.0000000000000009},{"$f":"IF(AB49=\"\",\"\",VLOOKUP(AB49,'【記載例】（ユニット型）シフト記号表'!$C$5:$W$46,21,FALSE))","v":"-"},{"$f":"IF(AC49=\"\",\"\",VLOOKUP(AC49,'【記載例】（ユニット型）シフト記号表'!$C$5:$W$46,21,FALSE))","v":2},{"$f":"IF(AD49=\"\",\"\",VLOOKUP(AD49,'【記載例】（ユニット型）シフト記号表'!$C$5:$W$46,21,FALSE))","v":"-"},{"$f":"IF(AE49=\"\",\"\",VLOOKUP(AE49,'【記載例】（ユニット型）シフト記号表'!$C$5:$W$46,21,FALSE))","v":5.0000000000000009},{"$f":"IF(AF49=\"\",\"\",VLOOKUP(AF49,'【記載例】（ユニット型）シフト記号表'!$C$5:$W$46,21,FALSE))","v":5.9999999999999991},{"$f":"IF(AG49=\"\",\"\",VLOOKUP(AG49,'【記載例】（ユニット型）シフト記号表'!$C$5:$W$46,21,FALSE))","v":"-"},{"$f":"IF(AH49=\"\",\"\",VLOOKUP(AH49,'【記載例】（ユニット型）シフト記号表'!$C$5:$W$46,21,FALSE))","v":5.9999999999999991},{"$f":"IF(AI49=\"\",\"\",VLOOKUP(AI49,'【記載例】（ユニット型）シフト記号表'!$C$5:$W$46,21,FALSE))","v":5.0000000000000009},{"$f":"IF(AJ49=\"\",\"\",VLOOKUP(AJ49,'【記載例】（ユニット型）シフト記号表'!$C$5:$W$46,21,FALSE))","v":"-"},{"$f":"IF(AK49=\"\",\"\",VLOOKUP(AK49,'【記載例】（ユニット型）シフト記号表'!$C$5:$W$46,21,FALSE))","v":2},{"$f":"IF(AL49=\"\",\"\",VLOOKUP(AL49,'【記載例】（ユニット型）シフト記号表'!$C$5:$W$46,21,FALSE))","v":"-"},{"$f":"IF(AM49=\"\",\"\",VLOOKUP(AM49,'【記載例】（ユニット型）シフト記号表'!$C$5:$W$46,21,FALSE))","v":5.0000000000000009},{"$f":"IF(AN49=\"\",\"\",VLOOKUP(AN49,'【記載例】（ユニット型）シフト記号表'!$C$5:$W$46,21,FALSE))","v":"-"},{"$f":"IF(AO49=\"\",\"\",VLOOKUP(AO49,'【記載例】（ユニット型）シフト記号表'!$C$5:$W$46,21,FALSE))","v":5.9999999999999991},{"$f":"IF(AP49=\"\",\"\",VLOOKUP(AP49,'【記載例】（ユニット型）シフト記号表'!$C$5:$W$46,21,FALSE))","v":5.0000000000000009},{"$f":"IF(AQ49=\"\",\"\",VLOOKUP(AQ49,'【記載例】（ユニット型）シフト記号表'!$C$5:$W$46,21,FALSE))","v":"-"},{"$f":"IF(AR49=\"\",\"\",VLOOKUP(AR49,'【記載例】（ユニット型）シフト記号表'!$C$5:$W$46,21,FALSE))","v":"-"},{"$f":"IF(AS49=\"\",\"\",VLOOKUP(AS49,'【記載例】（ユニット型）シフト記号表'!$C$5:$W$46,21,FALSE))","v":2},{"$f":"IF(AT49=\"\",\"\",VLOOKUP(AT49,'【記載例】（ユニット型）シフト記号表'!$C$5:$W$46,21,FALSE))","v":"-"},{"$f":"IF(AU49=\"\",\"\",VLOOKUP(AU49,'【記載例】（ユニット型）シフト記号表'!$C$5:$W$46,21,FALSE))","v":5.9999999999999991},{"$f":"IF(AV49=\"\",\"\",VLOOKUP(AV49,'【記載例】（ユニット型）シフト記号表'!$C$5:$W$46,21,FALSE))","v":5.9999999999999991},{"$f":"IF(AW49=\"\",\"\",VLOOKUP(AW49,'【記載例】（ユニット型）シフト記号表'!$C$5:$W$46,21,FALSE))","v":"-"},{"$f":"IF(AX49=\"\",\"\",VLOOKUP(AX49,'【記載例】（ユニット型）シフト記号表'!$C$5:$W$46,21,FALSE))","v":5.0000000000000009},{"$f":"IF(AY49=\"\",\"\",VLOOKUP(AY49,'【記載例】（ユニット型）シフト記号表'!$C$5:$W$46,21,FALSE))","v":5.9999999999999991},{"$f":"IF(AZ49=\"\",\"\",VLOOKUP(AZ49,'【記載例】（ユニット型）シフト記号表'!$C$5:$W$46,21,FALSE))","v":"-"},{"$f":"IF(BA49=\"\",\"\",VLOOKUP(BA49,'【記載例】（ユニット型）シフト記号表'!$C$5:$W$46,21,FALSE))","v":2},{"$f":"IF(BB49=\"\",\"\",VLOOKUP(BB49,'【記載例】（ユニット型）シフト記号表'!$C$5:$W$46,21,FALSE))","v":"-"},{"$f":"IF(BC49=\"\",\"\",VLOOKUP(BC49,'【記載例】（ユニット型）シフト記号表'!$C$5:$W$46,21,FALSE))","v":""},{"$f":"IF(BD49=\"\",\"\",VLOOKUP(BD49,'【記載例】（ユニット型）シフト記号表'!$C$5:$W$46,21,FALSE))","v":""},{"$f":"IF(BE49=\"\",\"\",VLOOKUP(BE49,'【記載例】（ユニット型）シフト記号表'!$C$5:$W$46,21,FALSE))","v":""},{"$f":"IF($BI$3=\"計画\",SUM(AA50:BB50),IF($BI$3=\"実績\",SUM(AA50:BE50),\"\"))","v":74},null,{"$f":"IF($BI$3=\"計画\",BF50/4,IF($BI$3=\"実績\",(BF50/($BI$7/7)),\"\"))","v":18.5}]
[null,null,null,null,null,null,null,null,{"$f":"G50","v":"介護職員"},null,{"$f":"M50","v":"A"},null,null,null,null,null,null,null,null,null,null,"夜勤時間帯の勤務時間数",null,null,null,null,{"$f":"IF(AA49=\"\",\"\",VLOOKUP(AA49,'【記載例】（ユニット型）シフト記号表'!$C$5:$Y$46,23,FALSE))","v":2.9999999999999991},{"$f":"IF(AB49=\"\",\"\",VLOOKUP(AB49,'【記載例】（ユニット型）シフト記号表'!$C$5:$Y$46,23,FALSE))","v":"-"},{"$f":"IF(AC49=\"\",\"\",VLOOKUP(AC49,'【記載例】（ユニット型）シフト記号表'!$C$5:$Y$46,23,FALSE))","v":14},{"$f":"IF(AD49=\"\",\"\",VLOOKUP(AD49,'【記載例】（ユニット型）シフト記号表'!$C$5:$Y$46,23,FALSE))","v":"-"},{"$f":"IF(AE49=\"\",\"\",VLOOKUP(AE49,'【記載例】（ユニット型）シフト記号表'!$C$5:$Y$46,23,FALSE))","v":2.9999999999999991},{"$f":"IF(AF49=\"\",\"\",VLOOKUP(AF49,'【記載例】（ユニット型）シフト記号表'!$C$5:$Y$46,23,FALSE))","v":1.9999999999999991},{"$f":"IF(AG49=\"\",\"\",VLOOKUP(AG49,'【記載例】（ユニット型）シフト記号表'!$C$5:$Y$46,23,FALSE))","v":"-"},{"$f":"IF(AH49=\"\",\"\",VLOOKUP(AH49,'【記載例】（ユニット型）シフト記号表'!$C$5:$Y$46,23,FALSE))","v":1.9999999999999991},{"$f":"IF(AI49=\"\",\"\",VLOOKUP(AI49,'【記載例】（ユニット型）シフト記号表'!$C$5:$Y$46,23,FALSE))","v":2.9999999999999991},{"$f":"IF(AJ49=\"\",\"\",VLOOKUP(AJ49,'【記載例】（ユニット型）シフト記号表'!$C$5:$Y$46,23,FALSE))","v":"-"},{"$f":"IF(AK49=\"\",\"\",VLOOKUP(AK49,'【記載例】（ユニット型）シフト記号表'!$C$5:$Y$46,23,FALSE))","v":14},{"$f":"IF(AL49=\"\",\"\",VLOOKUP(AL49,'【記載例】（ユニット型）シフト記号表'!$C$5:$Y$46,23,FALSE))","v":"-"},{"$f":"IF(AM49=\"\",\"\",VLOOKUP(AM49,'【記載例】（ユニット型）シフト記号表'!$C$5:$Y$46,23,FALSE))","v":2.9999999999999991},{"$f":"IF(AN49=\"\",\"\",VLOOKUP(AN49,'【記載例】（ユニット型）シフト記号表'!$C$5:$Y$46,23,FALSE))","v":"-"},{"$f":"IF(AO49=\"\",\"\",VLOOKUP(AO49,'【記載例】（ユニット型）シフト記号表'!$C$5:$Y$46,23,FALSE))","v":1.9999999999999991},{"$f":"IF(AP49=\"\",\"\",VLOOKUP(AP49,'【記載例】（ユニット型）シフト記号表'!$C$5:$Y$46,23,FALSE))","v":2.9999999999999991},{"$f":"IF(AQ49=\"\",\"\",VLOOKUP(AQ49,'【記載例】（ユニット型）シフト記号表'!$C$5:$Y$46,23,FALSE))","v":"-"},{"$f":"IF(AR49=\"\",\"\",VLOOKUP(AR49,'【記載例】（ユニット型）シフト記号表'!$C$5:$Y$46,23,FALSE))","v":"-"},{"$f":"IF(AS49=\"\",\"\",VLOOKUP(AS49,'【記載例】（ユニット型）シフト記号表'!$C$5:$Y$46,23,FALSE))","v":14},{"$f":"IF(AT49=\"\",\"\",VLOOKUP(AT49,'【記載例】（ユニット型）シフト記号表'!$C$5:$Y$46,23,FALSE))","v":"-"},{"$f":"IF(AU49=\"\",\"\",VLOOKUP(AU49,'【記載例】（ユニット型）シフト記号表'!$C$5:$Y$46,23,FALSE))","v":1.9999999999999991},{"$f":"IF(AV49=\"\",\"\",VLOOKUP(AV49,'【記載例】（ユニット型）シフト記号表'!$C$5:$Y$46,23,FALSE))","v":1.9999999999999991},{"$f":"IF(AW49=\"\",\"\",VLOOKUP(AW49,'【記載例】（ユニット型）シフト記号表'!$C$5:$Y$46,23,FALSE))","v":"-"},{"$f":"IF(AX49=\"\",\"\",VLOOKUP(AX49,'【記載例】（ユニット型）シフト記号表'!$C$5:$Y$46,23,FALSE))","v":2.9999999999999991},{"$f":"IF(AY49=\"\",\"\",VLOOKUP(AY49,'【記載例】（ユニット型）シフト記号表'!$C$5:$Y$46,23,FALSE))","v":1.9999999999999991},{"$f":"IF(AZ49=\"\",\"\",VLOOKUP(AZ49,'【記載例】（ユニット型）シフト記号表'!$C$5:$Y$46,23,FALSE))","v":"-"},{"$f":"IF(BA49=\"\",\"\",VLOOKUP(BA49,'【記載例】（ユニット型）シフト記号表'!$C$5:$Y$46,23,FALSE))","v":14},{"$f":"IF(BB49=\"\",\"\",VLOOKUP(BB49,'【記載例】（ユニット型）シフト記号表'!$C$5:$Y$46,23,FALSE))","v":"-"},{"$f":"IF(BC49=\"\",\"\",VLOOKUP(BC49,'【記載例】（ユニット型）シフト記号表'!$C$5:$Y$46,23,FALSE))","v":""},{"$f":"IF(BD49=\"\",\"\",VLOOKUP(BD49,'【記載例】（ユニット型）シフト記号表'!$C$5:$Y$46,23,FALSE))","v":""},{"$f":"IF(BE49=\"\",\"\",VLOOKUP(BE49,'【記載例】（ユニット型）シフト記号表'!$C$5:$Y$46,23,FALSE))","v":""},{"$f":"IF($BI$3=\"計画\",SUM(AA51:BB51),IF($BI$3=\"実績\",SUM(AA51:BE51),\"\"))","v":86},null,{"$f":"IF($BI$3=\"計画\",BF51/4,IF($BI$3=\"実績\",(BF51/($BI$7/7)),\"\"))","v":21.5}]
[null,null,null,"ユニット１",null,null,null,null,null,null,null,null,null,null,null,null,null,null,"○○　K子",null,null,"シフト記号",null,null,null,null,"a","d","休","o","休","休","a","d","d","a","休","o","休","休","d","休","d","d","休","o","休","d","a","休","d","休","休","o"]
[null,{"$f":"B50+1","v":12},null,null,null,null,"介護職員",null,null,null,null,null,"A",null,"ー",null,null,null,null,null,null,"日中の勤務時間数",null,null,null,null,{"$f":"IF(AA52=\"\",\"\",VLOOKUP(AA52,'【記載例】（ユニット型）シフト記号表'!$C$5:$W$46,21,FALSE))","v":5.9999999999999991},{"$f":"IF(AB52=\"\",\"\",VLOOKUP(AB52,'【記載例】（ユニット型）シフト記号表'!$C$5:$W$46,21,FALSE))","v":5.0000000000000009},{"$f":"IF(AC52=\"\",\"\",VLOOKUP(AC52,'【記載例】（ユニット型）シフト記号表'!$C$5:$W$46,21,FALSE))","v":"-"},{"$f":"IF(AD52=\"\",\"\",VLOOKUP(AD52,'【記載例】（ユニット型）シフト記号表'!$C$5:$W$46,21,FALSE))","v":2},{"$f":"IF(AE52=\"\",\"\",VLOOKUP(AE52,'【記載例】（ユニット型）シフト記号表'!$C$5:$W$46,21,FALSE))","v":"-"},{"$f":"IF(AF52=\"\",\"\",VLOOKUP(AF52,'【記載例】（ユニット型）シフト記号表'!$C$5:$W$46,21,FALSE))","v":"-"},{"$f":"IF(AG52=\"\",\"\",VLOOKUP(AG52,'【記載例】（ユニット型）シフト記号表'!$C$5:$W$46,21,FALSE))","v":5.9999999999999991},{"$f":"IF(AH52=\"\",\"\",VLOOKUP(AH52,'【記載例】（ユニット型）シフト記号表'!$C$5:$W$46,21,FALSE))","v":5.0000000000000009},{"$f":"IF(AI52=\"\",\"\",VLOOKUP(AI52,'【記載例】（ユニット型）シフト記号表'!$C$5:$W$46,21,FALSE))","v":5.0000000000000009},{"$f":"IF(AJ52=\"\",\"\",VLOOKUP(AJ52,'【記載例】（ユニット型）シフト記号表'!$C$5:$W$46,21,FALSE))","v":5.9999999999999991},{"$f":"IF(AK52=\"\",\"\",VLOOKUP(AK52,'【記載例】（ユニット型）シフト記号表'!$C$5:$W$46,21,FALSE))","v":"-"},{"$f":"IF(AL52=\"\",\"\",VLOOKUP(AL52,'【記載例】（ユニット型）シフト記号表'!$C$5:$W$46,21,FALSE))","v":2},{"$f":"IF(AM52=\"\",\"\",VLOOKUP(AM52,'【記載例】（ユニット型）シフト記号表'!$C$5:$W$46,21,FALSE))","v":"-"},{"$f":"IF(AN52=\"\",\"\",VLOOKUP(AN52,'【記載例】（ユニット型）シフト記号表'!$C$5:$W$46,21,FALSE))","v":"-"},{"$f":"IF(AO52=\"\",\"\",VLOOKUP(AO52,'【記載例】（ユニット型）シフト記号表'!$C$5:$W$46,21,FALSE))","v":5.0000000000000009},{"$f":"IF(AP52=\"\",\"\",VLOOKUP(AP52,'【記載例】（ユニット型）シフト記号表'!$C$5:$W$46,21,FALSE))","v":"-"},{"$f":"IF(AQ52=\"\",\"\",VLOOKUP(AQ52,'【記載例】（ユニット型）シフト記号表'!$C$5:$W$46,21,FALSE))","v":5.0000000000000009},{"$f":"IF(AR52=\"\",\"\",VLOOKUP(AR52,'【記載例】（ユニット型）シフト記号表'!$C$5:$W$46,21,FALSE))","v":5.0000000000000009},{"$f":"IF(AS52=\"\",\"\",VLOOKUP(AS52,'【記載例】（ユニット型）シフト記号表'!$C$5:$W$46,21,FALSE))","v":"-"},{"$f":"IF(AT52=\"\",\"\",VLOOKUP(AT52,'【記載例】（ユニット型）シフト記号表'!$C$5:$W$46,21,FALSE))","v":2},{"$f":"IF(AU52=\"\",\"\",VLOOKUP(AU52,'【記載例】（ユニット型）シフト記号表'!$C$5:$W$46,21,FALSE))","v":"-"},{"$f":"IF(AV52=\"\",\"\",VLOOKUP(AV52,'【記載例】（ユニット型）シフト記号表'!$C$5:$W$46,21,FALSE))","v":5.0000000000000009},{"$f":"IF(AW52=\"\",\"\",VLOOKUP(AW52,'【記載例】（ユニット型）シフト記号表'!$C$5:$W$46,21,FALSE))","v":5.9999999999999991},{"$f":"IF(AX52=\"\",\"\",VLOOKUP(AX52,'【記載例】（ユニット型）シフト記号表'!$C$5:$W$46,21,FALSE))","v":"-"},{"$f":"IF(AY52=\"\",\"\",VLOOKUP(AY52,'【記載例】（ユニット型）シフト記号表'!$C$5:$W$46,21,FALSE))","v":5.0000000000000009},{"$f":"IF(AZ52=\"\",\"\",VLOOKUP(AZ52,'【記載例】（ユニット型）シフト記号表'!$C$5:$W$46,21,FALSE))","v":"-"},{"$f":"IF(BA52=\"\",\"\",VLOOKUP(BA52,'【記載例】（ユニット型）シフト記号表'!$C$5:$W$46,21,FALSE))","v":"-"},{"$f":"IF(BB52=\"\",\"\",VLOOKUP(BB52,'【記載例】（ユニット型）シフト記号表'!$C$5:$W$46,21,FALSE))","v":2},{"$f":"IF(BC52=\"\",\"\",VLOOKUP(BC52,'【記載例】（ユニット型）シフト記号表'!$C$5:$W$46,21,FALSE))","v":""},{"$f":"IF(BD52=\"\",\"\",VLOOKUP(BD52,'【記載例】（ユニット型）シフト記号表'!$C$5:$W$46,21,FALSE))","v":""},{"$f":"IF(BE52=\"\",\"\",VLOOKUP(BE52,'【記載例】（ユニット型）シフト記号表'!$C$5:$W$46,21,FALSE))","v":""},{"$f":"IF($BI$3=\"計画\",SUM(AA53:BB53),IF($BI$3=\"実績\",SUM(AA53:BE53),\"\"))","v":72},null,{"$f":"IF($BI$3=\"計画\",BF53/4,IF($BI$3=\"実績\",(BF53/($BI$7/7)),\"\"))","v":18}]
[null,null,null,null,null,null,null,null,{"$f":"G53","v":"介護職員"},null,{"$f":"M53","v":"A"},null,null,null,null,null,null,null,null,null,null,"夜勤時間帯の勤務時間数",null,null,null,null,{"$f":"IF(AA52=\"\",\"\",VLOOKUP(AA52,'【記載例】（ユニット型）シフト記号表'!$C$5:$Y$46,23,FALSE))","v":1.9999999999999991},{"$f":"IF(AB52=\"\",\"\",VLOOKUP(AB52,'【記載例】（ユニット型）シフト記号表'!$C$5:$Y$46,23,FALSE))","v":2.9999999999999991},{"$f":"IF(AC52=\"\",\"\",VLOOKUP(AC52,'【記載例】（ユニット型）シフト記号表'!$C$5:$Y$46,23,FALSE))","v":"-"},{"$f":"IF(AD52=\"\",\"\",VLOOKUP(AD52,'【記載例】（ユニット型）シフト記号表'!$C$5:$Y$46,23,FALSE))","v":14},{"$f":"IF(AE52=\"\",\"\",VLOOKUP(AE52,'【記載例】（ユニット型）シフト記号表'!$C$5:$Y$46,23,FALSE))","v":"-"},{"$f":"IF(AF52=\"\",\"\",VLOOKUP(AF52,'【記載例】（ユニット型）シフト記号表'!$C$5:$Y$46,23,FALSE))","v":"-"},{"$f":"IF(AG52=\"\",\"\",VLOOKUP(AG52,'【記載例】（ユニット型）シフト記号表'!$C$5:$Y$46,23,FALSE))","v":1.9999999999999991},{"$f":"IF(AH52=\"\",\"\",VLOOKUP(AH52,'【記載例】（ユニット型）シフト記号表'!$C$5:$Y$46,23,FALSE))","v":2.9999999999999991},{"$f":"IF(AI52=\"\",\"\",VLOOKUP(AI52,'【記載例】（ユニット型）シフト記号表'!$C$5:$Y$46,23,FALSE))","v":2.9999999999999991},{"$f":"IF(AJ52=\"\",\"\",VLOOKUP(AJ52,'【記載例】（ユニット型）シフト記号表'!$C$5:$Y$46,23,FALSE))","v":1.9999999999999991},{"$f":"IF(AK52=\"\",\"\",VLOOKUP(AK52,'【記載例】（ユニット型）シフト記号表'!$C$5:$Y$46,23,FALSE))","v":"-"},{"$f":"IF(AL52=\"\",\"\",VLOOKUP(AL52,'【記載例】（ユニット型）シフト記号表'!$C$5:$Y$46,23,FALSE))","v":14},{"$f":"IF(AM52=\"\",\"\",VLOOKUP(AM52,'【記載例】（ユニット型）シフト記号表'!$C$5:$Y$46,23,FALSE))","v":"-"},{"$f":"IF(AN52=\"\",\"\",VLOOKUP(AN52,'【記載例】（ユニット型）シフト記号表'!$C$5:$Y$46,23,FALSE))","v":"-"},{"$f":"IF(AO52=\"\",\"\",VLOOKUP(AO52,'【記載例】（ユニット型）シフト記号表'!$C$5:$Y$46,23,FALSE))","v":2.9999999999999991},{"$f":"IF(AP52=\"\",\"\",VLOOKUP(AP52,'【記載例】（ユニット型）シフト記号表'!$C$5:$Y$46,23,FALSE))","v":"-"},{"$f":"IF(AQ52=\"\",\"\",VLOOKUP(AQ52,'【記載例】（ユニット型）シフト記号表'!$C$5:$Y$46,23,FALSE))","v":2.9999999999999991},{"$f":"IF(AR52=\"\",\"\",VLOOKUP(AR52,'【記載例】（ユニット型）シフト記号表'!$C$5:$Y$46,23,FALSE))","v":2.9999999999999991},{"$f":"IF(AS52=\"\",\"\",VLOOKUP(AS52,'【記載例】（ユニット型）シフト記号表'!$C$5:$Y$46,23,FALSE))","v":"-"},{"$f":"IF(AT52=\"\",\"\",VLOOKUP(AT52,'【記載例】（ユニット型）シフト記号表'!$C$5:$Y$46,23,FALSE))","v":14},{"$f":"IF(AU52=\"\",\"\",VLOOKUP(AU52,'【記載例】（ユニット型）シフト記号表'!$C$5:$Y$46,23,FALSE))","v":"-"},{"$f":"IF(AV52=\"\",\"\",VLOOKUP(AV52,'【記載例】（ユニット型）シフト記号表'!$C$5:$Y$46,23,FALSE))","v":2.9999999999999991},{"$f":"IF(AW52=\"\",\"\",VLOOKUP(AW52,'【記載例】（ユニット型）シフト記号表'!$C$5:$Y$46,23,FALSE))","v":1.9999999999999991},{"$f":"IF(AX52=\"\",\"\",VLOOKUP(AX52,'【記載例】（ユニット型）シフト記号表'!$C$5:$Y$46,23,FALSE))","v":"-"},{"$f":"IF(AY52=\"\",\"\",VLOOKUP(AY52,'【記載例】（ユニット型）シフト記号表'!$C$5:$Y$46,23,FALSE))","v":2.9999999999999991},{"$f":"IF(AZ52=\"\",\"\",VLOOKUP(AZ52,'【記載例】（ユニット型）シフト記号表'!$C$5:$Y$46,23,FALSE))","v":"-"},{"$f":"IF(BA52=\"\",\"\",VLOOKUP(BA52,'【記載例】（ユニット型）シフト記号表'!$C$5:$Y$46,23,FALSE))","v":"-"},{"$f":"IF(BB52=\"\",\"\",VLOOKUP(BB52,'【記載例】（ユニット型）シフト記号表'!$C$5:$Y$46,23,FALSE))","v":14},{"$f":"IF(BC52=\"\",\"\",VLOOKUP(BC52,'【記載例】（ユニット型）シフト記号表'!$C$5:$Y$46,23,FALSE))","v":""},{"$f":"IF(BD52=\"\",\"\",VLOOKUP(BD52,'【記載例】（ユニット型）シフト記号表'!$C$5:$Y$46,23,FALSE))","v":""},{"$f":"IF(BE52=\"\",\"\",VLOOKUP(BE52,'【記載例】（ユニット型）シフト記号表'!$C$5:$Y$46,23,FALSE))","v":""},{"$f":"IF($BI$3=\"計画\",SUM(AA54:BB54),IF($BI$3=\"実績\",SUM(AA54:BE54),\"\"))","v":88},null,{"$f":"IF($BI$3=\"計画\",BF54/4,IF($BI$3=\"実績\",(BF54/($BI$7/7)),\"\"))","v":22}]
[null,null,null,"ユニット１",null,null,null,null,null,null,null,null,null,null,null,null,null,null,"○○　L太",null,null,"シフト記号",null,null,null,null,"休","a","d","休","d","d","休","休","a","d","d","休","休","a","休","休","a","a","d","休","d","休","d","d","休","d","a","休"]
[null,{"$f":"B53+1","v":13},null,null,null,null,"介護職員",null,null,null,null,null,"C",null,"ー",null,null,null,null,null,null,"日中の勤務時間数",null,null,null,null,{"$f":"IF(AA55=\"\",\"\",VLOOKUP(AA55,'【記載例】（ユニット型）シフト記号表'!$C$5:$W$46,21,FALSE))","v":"-"},{"$f":"IF(AB55=\"\",\"\",VLOOKUP(AB55,'【記載例】（ユニット型）シフト記号表'!$C$5:$W$46,21,FALSE))","v":5.9999999999999991},{"$f":"IF(AC55=\"\",\"\",VLOOKUP(AC55,'【記載例】（ユニット型）シフト記号表'!$C$5:$W$46,21,FALSE))","v":5.0000000000000009},{"$f":"IF(AD55=\"\",\"\",VLOOKUP(AD55,'【記載例】（ユニット型）シフト記号表'!$C$5:$W$46,21,FALSE))","v":"-"},{"$f":"IF(AE55=\"\",\"\",VLOOKUP(AE55,'【記載例】（ユニット型）シフト記号表'!$C$5:$W$46,21,FALSE))","v":5.0000000000000009},{"$f":"IF(AF55=\"\",\"\",VLOOKUP(AF55,'【記載例】（ユニット型）シフト記号表'!$C$5:$W$46,21,FALSE))","v":5.0000000000000009},{"$f":"IF(AG55=\"\",\"\",VLOOKUP(AG55,'【記載例】（ユニット型）シフト記号表'!$C$5:$W$46,21,FALSE))","v":"-"},{"$f":"IF(AH55=\"\",\"\",VLOOKUP(AH55,'【記載例】（ユニット型）シフト記号表'!$C$5:$W$46,21,FALSE))","v":"-"},{"$f":"IF(AI55=\"\",\"\",VLOOKUP(AI55,'【記載例】（ユニット型）シフト記号表'!$C$5:$W$46,21,FALSE))","v":5.9999999999999991},{"$f":"IF(AJ55=\"\",\"\",VLOOKUP(AJ55,'【記載例】（ユニット型）シフト記号表'!$C$5:$W$46,21,FALSE))","v":5.0000000000000009},{"$f":"IF(AK55=\"\",\"\",VLOOKUP(AK55,'【記載例】（ユニット型）シフト記号表'!$C$5:$W$46,21,FALSE))","v":5.0000000000000009},{"$f":"IF(AL55=\"\",\"\",VLOOKUP(AL55,'【記載例】（ユニット型）シフト記号表'!$C$5:$W$46,21,FALSE))","v":"-"},{"$f":"IF(AM55=\"\",\"\",VLOOKUP(AM55,'【記載例】（ユニット型）シフト記号表'!$C$5:$W$46,21,FALSE))","v":"-"},{"$f":"IF(AN55=\"\",\"\",VLOOKUP(AN55,'【記載例】（ユニット型）シフト記号表'!$C$5:$W$46,21,FALSE))","v":5.9999999999999991},{"$f":"IF(AO55=\"\",\"\",VLOOKUP(AO55,'【記載例】（ユニット型）シフト記号表'!$C$5:$W$46,21,FALSE))","v":"-"},{"$f":"IF(AP55=\"\",\"\",VLOOKUP(AP55,'【記載例】（ユニット型）シフト記号表'!$C$5:$W$46,21,FALSE))","v":"-"},{"$f":"IF(AQ55=\"\",\"\",VLOOKUP(AQ55,'【記載例】（ユニット型）シフト記号表'!$C$5:$W$46,21,FALSE))","v":5.9999999999999991},{"$f":"IF(AR55=\"\",\"\",VLOOKUP(AR55,'【記載例】（ユニット型）シフト記号表'!$C$5:$W$46,21,FALSE))","v":5.9999999999999991},{"$f":"IF(AS55=\"\",\"\",VLOOKUP(AS55,'【記載例】（ユニット型）シフト記号表'!$C$5:$W$46,21,FALSE))","v":5.0000000000000009},{"$f":"IF(AT55=\"\",\"\",VLOOKUP(AT55,'【記載例】（ユニット型）シフト記号表'!$C$5:$W$46,21,FALSE))","v":"-"},{"$f":"IF(AU55=\"\",\"\",VLOOKUP(AU55,'【記載例】（ユニット型）シフト記号表'!$C$5:$W$46,21,FALSE))","v":5.0000000000000009},{"$f":"IF(AV55=\"\",\"\",VLOOKUP(AV55,'【記載例】（ユニット型）シフト記号表'!$C$5:$W$46,21,FALSE))","v":"-"},{"$f":"IF(AW55=\"\",\"\",VLOOKUP(AW55,'【記載例】（ユニット型）シフト記号表'!$C$5:$W$46,21,FALSE))","v":5.0000000000000009},{"$f":"IF(AX55=\"\",\"\",VLOOKUP(AX55,'【記載例】（ユニット型）シフト記号表'!$C$5:$W$46,21,FALSE))","v":5.0000000000000009},{"$f":"IF(AY55=\"\",\"\",VLOOKUP(AY55,'【記載例】（ユニット型）シフト記号表'!$C$5:$W$46,21,FALSE))","v":"-"},{"$f":"IF(AZ55=\"\",\"\",VLOOKUP(AZ55,'【記載例】（ユニット型）シフト記号表'!$C$5:$W$46,21,FALSE))","v":5.0000000000000009},{"$f":"IF(BA55=\"\",\"\",VLOOKUP(BA55,'【記載例】（ユニット型）シフト記号表'!$C$5:$W$46,21,FALSE))","v":5.9999999999999991},{"$f":"IF(BB55=\"\",\"\",VLOOKUP(BB55,'【記載例】（ユニット型）シフト記号表'!$C$5:$W$46,21,FALSE))","v":"-"},{"$f":"IF(BC55=\"\",\"\",VLOOKUP(BC55,'【記載例】（ユニット型）シフト記号表'!$C$5:$W$46,21,FALSE))","v":""},{"$f":"IF(BD55=\"\",\"\",VLOOKUP(BD55,'【記載例】（ユニット型）シフト記号表'!$C$5:$W$46,21,FALSE))","v":""},{"$f":"IF(BE55=\"\",\"\",VLOOKUP(BE55,'【記載例】（ユニット型）シフト記号表'!$C$5:$W$46,21,FALSE))","v":""},{"$f":"IF($BI$3=\"計画\",SUM(AA56:BB56),IF($BI$3=\"実績\",SUM(AA56:BE56),\"\"))","v":86},null,{"$f":"IF($BI$3=\"計画\",BF56/4,IF($BI$3=\"実績\",(BF56/($BI$7/7)),\"\"))","v":21.5}]
[null,null,null,null,null,null,null,null,{"$f":"G56","v":"介護職員"},null,{"$f":"M56","v":"C"},null,null,null,null,null,null,null,null,null,null,"夜勤時間帯の勤務時間数",null,null,null,null,{"$f":"IF(AA55=\"\",\"\",VLOOKUP(AA55,'【記載例】（ユニット型）シフト記号表'!$C$5:$Y$46,23,FALSE))","v":"-"},{"$f":"IF(AB55=\"\",\"\",VLOOKUP(AB55,'【記載例】（ユニット型）シフト記号表'!$C$5:$Y$46,23,FALSE))","v":1.9999999999999991},{"$f":"IF(AC55=\"\",\"\",VLOOKUP(AC55,'【記載例】（ユニット型）シフト記号表'!$C$5:$Y$46,23,FALSE))","v":2.9999999999999991},{"$f":"IF(AD55=\"\",\"\",VLOOKUP(AD55,'【記載例】（ユニット型）シフト記号表'!$C$5:$Y$46,23,FALSE))","v":"-"},{"$f":"IF(AE55=\"\",\"\",VLOOKUP(AE55,'【記載例】（ユニット型）シフト記号表'!$C$5:$Y$46,23,FALSE))","v":2.9999999999999991},{"$f":"IF(AF55=\"\",\"\",VLOOKUP(AF55,'【記載例】（ユニット型）シフト記号表'!$C$5:$Y$46,23,FALSE))","v":2.9999999999999991},{"$f":"IF(AG55=\"\",\"\",VLOOKUP(AG55,'【記載例】（ユニット型）シフト記号表'!$C$5:$Y$46,23,FALSE))","v":"-"},{"$f":"IF(AH55=\"\",\"\",VLOOKUP(AH55,'【記載例】（ユニット型）シフト記号表'!$C$5:$Y$46,23,FALSE))","v":"-"},{"$f":"IF(AI55=\"\",\"\",VLOOKUP(AI55,'【記載例】（ユニット型）シフト記号表'!$C$5:$Y$46,23,FALSE))","v":1.9999999999999991},{"$f":"IF(AJ55=\"\",\"\",VLOOKUP(AJ55,'【記載例】（ユニット型）シフト記号表'!$C$5:$Y$46,23,FALSE))","v":2.9999999999999991},{"$f":"IF(AK55=\"\",\"\",VLOOKUP(AK55,'【記載例】（ユニット型）シフト記号表'!$C$5:$Y$46,23,FALSE))","v":2.9999999999999991},{"$f":"IF(AL55=\"\",\"\",VLOOKUP(AL55,'【記載例】（ユニット型）シフト記号表'!$C$5:$Y$46,23,FALSE))","v":"-"},{"$f":"IF(AM55=\"\",\"\",VLOOKUP(AM55,'【記載例】（ユニット型）シフト記号表'!$C$5:$Y$46,23,FALSE))","v":"-"},{"$f":"IF(AN55=\"\",\"\",VLOOKUP(AN55,'【記載例】（ユニット型）シフト記号表'!$C$5:$Y$46,23,FALSE))","v":1.9999999999999991},{"$f":"IF(AO55=\"\",\"\",VLOOKUP(AO55,'【記載例】（ユニット型）シフト記号表'!$C$5:$Y$46,23,FALSE))","v":"-"},{"$f":"IF(AP55=\"\",\"\",VLOOKUP(AP55,'【記載例】（ユニット型）シフト記号表'!$C$5:$Y$46,23,FALSE))","v":"-"},{"$f":"IF(AQ55=\"\",\"\",VLOOKUP(AQ55,'【記載例】（ユニット型）シフト記号表'!$C$5:$Y$46,23,FALSE))","v":1.9999999999999991},{"$f":"IF(AR55=\"\",\"\",VLOOKUP(AR55,'【記載例】（ユニット型）シフト記号表'!$C$5:$Y$46,23,FALSE))","v":1.9999999999999991},{"$f":"IF(AS55=\"\",\"\",VLOOKUP(AS55,'【記載例】（ユニット型）シフト記号表'!$C$5:$Y$46,23,FALSE))","v":2.9999999999999991},{"$f":"IF(AT55=\"\",\"\",VLOOKUP(AT55,'【記載例】（ユニット型）シフト記号表'!$C$5:$Y$46,23,FALSE))","v":"-"},{"$f":"IF(AU55=\"\",\"\",VLOOKUP(AU55,'【記載例】（ユニット型）シフト記号表'!$C$5:$Y$46,23,FALSE))","v":2.9999999999999991},{"$f":"IF(AV55=\"\",\"\",VLOOKUP(AV55,'【記載例】（ユニット型）シフト記号表'!$C$5:$Y$46,23,FALSE))","v":"-"},{"$f":"IF(AW55=\"\",\"\",VLOOKUP(AW55,'【記載例】（ユニット型）シフト記号表'!$C$5:$Y$46,23,FALSE))","v":2.9999999999999991},{"$f":"IF(AX55=\"\",\"\",VLOOKUP(AX55,'【記載例】（ユニット型）シフト記号表'!$C$5:$Y$46,23,FALSE))","v":2.9999999999999991},{"$f":"IF(AY55=\"\",\"\",VLOOKUP(AY55,'【記載例】（ユニット型）シフト記号表'!$C$5:$Y$46,23,FALSE))","v":"-"},{"$f":"IF(AZ55=\"\",\"\",VLOOKUP(AZ55,'【記載例】（ユニット型）シフト記号表'!$C$5:$Y$46,23,FALSE))","v":2.9999999999999991},{"$f":"IF(BA55=\"\",\"\",VLOOKUP(BA55,'【記載例】（ユニット型）シフト記号表'!$C$5:$Y$46,23,FALSE))","v":1.9999999999999991},{"$f":"IF(BB55=\"\",\"\",VLOOKUP(BB55,'【記載例】（ユニット型）シフト記号表'!$C$5:$Y$46,23,FALSE))","v":"-"},{"$f":"IF(BC55=\"\",\"\",VLOOKUP(BC55,'【記載例】（ユニット型）シフト記号表'!$C$5:$Y$46,23,FALSE))","v":""},{"$f":"IF(BD55=\"\",\"\",VLOOKUP(BD55,'【記載例】（ユニット型）シフト記号表'!$C$5:$Y$46,23,FALSE))","v":""},{"$f":"IF(BE55=\"\",\"\",VLOOKUP(BE55,'【記載例】（ユニット型）シフト記号表'!$C$5:$Y$46,23,FALSE))","v":""},{"$f":"IF($BI$3=\"計画\",SUM(AA57:BB57),IF($BI$3=\"実績\",SUM(AA57:BE57),\"\"))","v":41.999999999999993},null,{"$f":"IF($BI$3=\"計画\",BF57/4,IF($BI$3=\"実績\",(BF57/($BI$7/7)),\"\"))","v":10.499999999999998}]
[null,null,"○","ユニット２",null,null,null,null,null,null,null,null,null,null,null,null,null,null,"○○　M子",null,null,"シフト記号",null,null,null,null,"d","d","休","休","o","休","a","a","休","d","d","休","o","休","a","a","休","d","休","休","o","休","a","a","休","a","d","d"]
[null,{"$f":"B56+1","v":14},null,null,null,null,"看護職員",null,null,null,null,null,"A",null,"看護師",null,null,null,null,null,null,"日中の勤務時間数",null,null,null,null,{"$f":"IF(AA58=\"\",\"\",VLOOKUP(AA58,'【記載例】（ユニット型）シフト記号表'!$C$5:$W$46,21,FALSE))","v":5.0000000000000009},{"$f":"IF(AB58=\"\",\"\",VLOOKUP(AB58,'【記載例】（ユニット型）シフト記号表'!$C$5:$W$46,21,FALSE))","v":5.0000000000000009},{"$f":"IF(AC58=\"\",\"\",VLOOKUP(AC58,'【記載例】（ユニット型）シフト記号表'!$C$5:$W$46,21,FALSE))","v":"-"},{"$f":"IF(AD58=\"\",\"\",VLOOKUP(AD58,'【記載例】（ユニット型）シフト記号表'!$C$5:$W$46,21,FALSE))","v":"-"},{"$f":"IF(AE58=\"\",\"\",VLOOKUP(AE58,'【記載例】（ユニット型）シフト記号表'!$C$5:$W$46,21,FALSE))","v":2},{"$f":"IF(AF58=\"\",\"\",VLOOKUP(AF58,'【記載例】（ユニット型）シフト記号表'!$C$5:$W$46,21,FALSE))","v":"-"},{"$f":"IF(AG58=\"\",\"\",VLOOKUP(AG58,'【記載例】（ユニット型）シフト記号表'!$C$5:$W$46,21,FALSE))","v":5.9999999999999991},{"$f":"IF(AH58=\"\",\"\",VLOOKUP(AH58,'【記載例】（ユニット型）シフト記号表'!$C$5:$W$46,21,FALSE))","v":5.9999999999999991},{"$f":"IF(AI58=\"\",\"\",VLOOKUP(AI58,'【記載例】（ユニット型）シフト記号表'!$C$5:$W$46,21,FALSE))","v":"-"},{"$f":"IF(AJ58=\"\",\"\",VLOOKUP(AJ58,'【記載例】（ユニット型）シフト記号表'!$C$5:$W$46,21,FALSE))","v":5.0000000000000009},{"$f":"IF(AK58=\"\",\"\",VLOOKUP(AK58,'【記載例】（ユニット型）シフト記号表'!$C$5:$W$46,21,FALSE))","v":5.0000000000000009},{"$f":"IF(AL58=\"\",\"\",VLOOKUP(AL58,'【記載例】（ユニット型）シフト記号表'!$C$5:$W$46,21,FALSE))","v":"-"},{"$f":"IF(AM58=\"\",\"\",VLOOKUP(AM58,'【記載例】（ユニット型）シフト記号表'!$C$5:$W$46,21,FALSE))","v":2},{"$f":"IF(AN58=\"\",\"\",VLOOKUP(AN58,'【記載例】（ユニット型）シフト記号表'!$C$5:$W$46,21,FALSE))","v":"-"},{"$f":"IF(AO58=\"\",\"\",VLOOKUP(AO58,'【記載例】（ユニット型）シフト記号表'!$C$5:$W$46,21,FALSE))","v":5.9999999999999991},{"$f":"IF(AP58=\"\",\"\",VLOOKUP(AP58,'【記載例】（ユニット型）シフト記号表'!$C$5:$W$46,21,FALSE))","v":5.9999999999999991},{"$f":"IF(AQ58=\"\",\"\",VLOOKUP(AQ58,'【記載例】（ユニット型）シフト記号表'!$C$5:$W$46,21,FALSE))","v":"-"},{"$f":"IF(AR58=\"\",\"\",VLOOKUP(AR58,'【記載例】（ユニット型）シフト記号表'!$C$5:$W$46,21,FALSE))","v":5.0000000000000009},{"$f":"IF(AS58=\"\",\"\",VLOOKUP(AS58,'【記載例】（ユニット型）シフト記号表'!$C$5:$W$46,21,FALSE))","v":"-"},{"$f":"IF(AT58=\"\",\"\",VLOOKUP(AT58,'【記載例】（ユニット型）シフト記号表'!$C$5:$W$46,21,FALSE))","v":"-"},{"$f":"IF(AU58=\"\",\"\",VLOOKUP(AU58,'【記載例】（ユニット型）シフト記号表'!$C$5:$W$46,21,FALSE))","v":2},{"$f":"IF(AV58=\"\",\"\",VLOOKUP(AV58,'【記載例】（ユニット型）シフト記号表'!$C$5:$W$46,21,FALSE))","v":"-"},{"$f":"IF(AW58=\"\",\"\",VLOOKUP(AW58,'【記載例】（ユニット型）シフト記号表'!$C$5:$W$46,21,FALSE))","v":5.9999999999999991},{"$f":"IF(AX58=\"\",\"\",VLOOKUP(AX58,'【記載例】（ユニット型）シフト記号表'!$C$5:$W$46,21,FALSE))","v":5.9999999999999991},{"$f":"IF(AY58=\"\",\"\",VLOOKUP(AY58,'【記載例】（ユニット型）シフト記号表'!$C$5:$W$46,21,FALSE))","v":"-"},{"$f":"IF(AZ58=\"\",\"\",VLOOKUP(AZ58,'【記載例】（ユニット型）シフト記号表'!$C$5:$W$46,21,FALSE))","v":5.9999999999999991},{"$f":"IF(BA58=\"\",\"\",VLOOKUP(BA58,'【記載例】（ユニット型）シフト記号表'!$C$5:$W$46,21,FALSE))","v":5.0000000000000009},{"$f":"IF(BB58=\"\",\"\",VLOOKUP(BB58,'【記載例】（ユニット型）シフト記号表'!$C$5:$W$46,21,FALSE))","v":5.0000000000000009},{"$f":"IF(BC58=\"\",\"\",VLOOKUP(BC58,'【記載例】（ユニット型）シフト記号表'!$C$5:$W$46,21,FALSE))","v":""},{"$f":"IF(BD58=\"\",\"\",VLOOKUP(BD58,'【記載例】（ユニット型）シフト記号表'!$C$5:$W$46,21,FALSE))","v":""},{"$f":"IF(BE58=\"\",\"\",VLOOKUP(BE58,'【記載例】（ユニット型）シフト記号表'!$C$5:$W$46,21,FALSE))","v":""},{"$f":"IF($BI$3=\"計画\",SUM(AA59:BB59),IF($BI$3=\"実績\",SUM(AA59:BE59),\"\"))","v":83},null,{"$f":"IF($BI$3=\"計画\",BF59/4,IF($BI$3=\"実績\",(BF59/($BI$7/7)),\"\"))","v":20.75}]
[null,null,null,null,null,null,null,null,{"$f":"G59","v":"看護職員"},null,{"$f":"M59","v":"A"},null,null,null,null,null,null,null,null,null,null,"夜勤時間帯の勤務時間数",null,null,null,null,{"$f":"IF(AA58=\"\",\"\",VLOOKUP(AA58,'【記載例】（ユニット型）シフト記号表'!$C$5:$Y$46,23,FALSE))","v":2.9999999999999991},{"$f":"IF(AB58=\"\",\"\",VLOOKUP(AB58,'【記載例】（ユニット型）シフト記号表'!$C$5:$Y$46,23,FALSE))","v":2.9999999999999991},{"$f":"IF(AC58=\"\",\"\",VLOOKUP(AC58,'【記載例】（ユニット型）シフト記号表'!$C$5:$Y$46,23,FALSE))","v":"-"},{"$f":"IF(AD58=\"\",\"\",VLOOKUP(AD58,'【記載例】（ユニット型）シフト記号表'!$C$5:$Y$46,23,FALSE))","v":"-"},{"$f":"IF(AE58=\"\",\"\",VLOOKUP(AE58,'【記載例】（ユニット型）シフト記号表'!$C$5:$Y$46,23,FALSE))","v":14},{"$f":"IF(AF58=\"\",\"\",VLOOKUP(AF58,'【記載例】（ユニット型）シフト記号表'!$C$5:$Y$46,23,FALSE))","v":"-"},{"$f":"IF(AG58=\"\",\"\",VLOOKUP(AG58,'【記載例】（ユニット型）シフト記号表'!$C$5:$Y$46,23,FALSE))","v":1.9999999999999991},{"$f":"IF(AH58=\"\",\"\",VLOOKUP(AH58,'【記載例】（ユニット型）シフト記号表'!$C$5:$Y$46,23,FALSE))","v":1.9999999999999991},{"$f":"IF(AI58=\"\",\"\",VLOOKUP(AI58,'【記載例】（ユニット型）シフト記号表'!$C$5:$Y$46,23,FALSE))","v":"-"},{"$f":"IF(AJ58=\"\",\"\",VLOOKUP(AJ58,'【記載例】（ユニット型）シフト記号表'!$C$5:$Y$46,23,FALSE))","v":2.9999999999999991},{"$f":"IF(AK58=\"\",\"\",VLOOKUP(AK58,'【記載例】（ユニット型）シフト記号表'!$C$5:$Y$46,23,FALSE))","v":2.9999999999999991},{"$f":"IF(AL58=\"\",\"\",VLOOKUP(AL58,'【記載例】（ユニット型）シフト記号表'!$C$5:$Y$46,23,FALSE))","v":"-"},{"$f":"IF(AM58=\"\",\"\",VLOOKUP(AM58,'【記載例】（ユニット型）シフト記号表'!$C$5:$Y$46,23,FALSE))","v":14},{"$f":"IF(AN58=\"\",\"\",VLOOKUP(AN58,'【記載例】（ユニット型）シフト記号表'!$C$5:$Y$46,23,FALSE))","v":"-"},{"$f":"IF(AO58=\"\",\"\",VLOOKUP(AO58,'【記載例】（ユニット型）シフト記号表'!$C$5:$Y$46,23,FALSE))","v":1.9999999999999991},{"$f":"IF(AP58=\"\",\"\",VLOOKUP(AP58,'【記載例】（ユニット型）シフト記号表'!$C$5:$Y$46,23,FALSE))","v":1.9999999999999991},{"$f":"IF(AQ58=\"\",\"\",VLOOKUP(AQ58,'【記載例】（ユニット型）シフト記号表'!$C$5:$Y$46,23,FALSE))","v":"-"},{"$f":"IF(AR58=\"\",\"\",VLOOKUP(AR58,'【記載例】（ユニット型）シフト記号表'!$C$5:$Y$46,23,FALSE))","v":2.9999999999999991},{"$f":"IF(AS58=\"\",\"\",VLOOKUP(AS58,'【記載例】（ユニット型）シフト記号表'!$C$5:$Y$46,23,FALSE))","v":"-"},{"$f":"IF(AT58=\"\",\"\",VLOOKUP(AT58,'【記載例】（ユニット型）シフト記号表'!$C$5:$Y$46,23,FALSE))","v":"-"},{"$f":"IF(AU58=\"\",\"\",VLOOKUP(AU58,'【記載例】（ユニット型）シフト記号表'!$C$5:$Y$46,23,FALSE))","v":14},{"$f":"IF(AV58=\"\",\"\",VLOOKUP(AV58,'【記載例】（ユニット型）シフト記号表'!$C$5:$Y$46,23,FALSE))","v":"-"},{"$f":"IF(AW58=\"\",\"\",VLOOKUP(AW58,'【記載例】（ユニット型）シフト記号表'!$C$5:$Y$46,23,FALSE))","v":1.9999999999999991},{"$f":"IF(AX58=\"\",\"\",VLOOKUP(AX58,'【記載例】（ユニット型）シフト記号表'!$C$5:$Y$46,23,FALSE))","v":1.9999999999999991},{"$f":"IF(AY58=\"\",\"\",VLOOKUP(AY58,'【記載例】（ユニット型）シフト記号表'!$C$5:$Y$46,23,FALSE))","v":"-"},{"$f":"IF(AZ58=\"\",\"\",VLOOKUP(AZ58,'【記載例】（ユニット型）シフト記号表'!$C$5:$Y$46,23,FALSE))","v":1.9999999999999991},{"$f":"IF(BA58=\"\",\"\",VLOOKUP(BA58,'【記載例】（ユニット型）シフト記号表'!$C$5:$Y$46,23,FALSE))","v":2.9999999999999991},{"$f":"IF(BB58=\"\",\"\",VLOOKUP(BB58,'【記載例】（ユニット型）シフト記号表'!$C$5:$Y$46,23,FALSE))","v":2.9999999999999991},{"$f":"IF(BC58=\"\",\"\",VLOOKUP(BC58,'【記載例】（ユニット型）シフト記号表'!$C$5:$Y$46,23,FALSE))","v":""},{"$f":"IF(BD58=\"\",\"\",VLOOKUP(BD58,'【記載例】（ユニット型）シフト記号表'!$C$5:$Y$46,23,FALSE))","v":""},{"$f":"IF(BE58=\"\",\"\",VLOOKUP(BE58,'【記載例】（ユニット型）シフト記号表'!$C$5:$Y$46,23,FALSE))","v":""},{"$f":"IF($BI$3=\"計画\",SUM(AA60:BB60),IF($BI$3=\"実績\",SUM(AA60:BE60),\"\"))","v":77},null,{"$f":"IF($BI$3=\"計画\",BF60/4,IF($BI$3=\"実績\",(BF60/($BI$7/7)),\"\"))","v":19.25}]
[null,null,null,"ユニット２",null,null,null,null,null,null,null,null,null,null,null,null,null,null,"○○　N男",null,null,"シフト記号",null,null,null,null,"休","a","d","d","休","o","休","d","休","d","d","休","休","o","休","d","d","d","a","a","休","o","休","a","d","休","休","a"]
[null,{"$f":"B59+1","v":15},null,null,null,null,"介護職員",null,null,null,null,null,"A",null,"介護福祉士",null,null,null,null,null,null,"日中の勤務時間数",null,null,null,null,{"$f":"IF(AA61=\"\",\"\",VLOOKUP(AA61,'【記載例】（ユニット型）シフト記号表'!$C$5:$W$46,21,FALSE))","v":"-"},{"$f":"IF(AB61=\"\",\"\",VLOOKUP(AB61,'【記載例】（ユニット型）シフト記号表'!$C$5:$W$46,21,FALSE))","v":5.9999999999999991},{"$f":"IF(AC61=\"\",\"\",VLOOKUP(AC61,'【記載例】（ユニット型）シフト記号表'!$C$5:$W$46,21,FALSE))","v":5.0000000000000009},{"$f":"IF(AD61=\"\",\"\",VLOOKUP(AD61,'【記載例】（ユニット型）シフト記号表'!$C$5:$W$46,21,FALSE))","v":5.0000000000000009},{"$f":"IF(AE61=\"\",\"\",VLOOKUP(AE61,'【記載例】（ユニット型）シフト記号表'!$C$5:$W$46,21,FALSE))","v":"-"},{"$f":"IF(AF61=\"\",\"\",VLOOKUP(AF61,'【記載例】（ユニット型）シフト記号表'!$C$5:$W$46,21,FALSE))","v":2},{"$f":"IF(AG61=\"\",\"\",VLOOKUP(AG61,'【記載例】（ユニット型）シフト記号表'!$C$5:$W$46,21,FALSE))","v":"-"},{"$f":"IF(AH61=\"\",\"\",VLOOKUP(AH61,'【記載例】（ユニット型）シフト記号表'!$C$5:$W$46,21,FALSE))","v":5.0000000000000009},{"$f":"IF(AI61=\"\",\"\",VLOOKUP(AI61,'【記載例】（ユニット型）シフト記号表'!$C$5:$W$46,21,FALSE))","v":"-"},{"$f":"IF(AJ61=\"\",\"\",VLOOKUP(AJ61,'【記載例】（ユニット型）シフト記号表'!$C$5:$W$46,21,FALSE))","v":5.0000000000000009},{"$f":"IF(AK61=\"\",\"\",VLOOKUP(AK61,'【記載例】（ユニット型）シフト記号表'!$C$5:$W$46,21,FALSE))","v":5.0000000000000009},{"$f":"IF(AL61=\"\",\"\",VLOOKUP(AL61,'【記載例】（ユニット型）シフト記号表'!$C$5:$W$46,21,FALSE))","v":"-"},{"$f":"IF(AM61=\"\",\"\",VLOOKUP(AM61,'【記載例】（ユニット型）シフト記号表'!$C$5:$W$46,21,FALSE))","v":"-"},{"$f":"IF(AN61=\"\",\"\",VLOOKUP(AN61,'【記載例】（ユニット型）シフト記号表'!$C$5:$W$46,21,FALSE))","v":2},{"$f":"IF(AO61=\"\",\"\",VLOOKUP(AO61,'【記載例】（ユニット型）シフト記号表'!$C$5:$W$46,21,FALSE))","v":"-"},{"$f":"IF(AP61=\"\",\"\",VLOOKUP(AP61,'【記載例】（ユニット型）シフト記号表'!$C$5:$W$46,21,FALSE))","v":5.0000000000000009},{"$f":"IF(AQ61=\"\",\"\",VLOOKUP(AQ61,'【記載例】（ユニット型）シフト記号表'!$C$5:$W$46,21,FALSE))","v":5.0000000000000009},{"$f":"IF(AR61=\"\",\"\",VLOOKUP(AR61,'【記載例】（ユニット型）シフト記号表'!$C$5:$W$46,21,FALSE))","v":5.0000000000000009},{"$f":"IF(AS61=\"\",\"\",VLOOKUP(AS61,'【記載例】（ユニット型）シフト記号表'!$C$5:$W$46,21,FALSE))","v":5.9999999999999991},{"$f":"IF(AT61=\"\",\"\",VLOOKUP(AT61,'【記載例】（ユニット型）シフト記号表'!$C$5:$W$46,21,FALSE))","v":5.9999999999999991},{"$f":"IF(AU61=\"\",\"\",VLOOKUP(AU61,'【記載例】（ユニット型）シフト記号表'!$C$5:$W$46,21,FALSE))","v":"-"},{"$f":"IF(AV61=\"\",\"\",VLOOKUP(AV61,'【記載例】（ユニット型）シフト記号表'!$C$5:$W$46,21,FALSE))","v":2},{"$f":"IF(AW61=\"\",\"\",VLOOKUP(AW61,'【記載例】（ユニット型）シフト記号表'!$C$5:$W$46,21,FALSE))","v":"-"},{"$f":"IF(AX61=\"\",\"\",VLOOKUP(AX61,'【記載例】（ユニット型）シフト記号表'!$C$5:$W$46,21,FALSE))","v":5.9999999999999991},{"$f":"IF(AY61=\"\",\"\",VLOOKUP(AY61,'【記載例】（ユニット型）シフト記号表'!$C$5:$W$46,21,FALSE))","v":5.0000000000000009},{"$f":"IF(AZ61=\"\",\"\",VLOOKUP(AZ61,'【記載例】（ユニット型）シフト記号表'!$C$5:$W$46,21,FALSE))","v":"-"},{"$f":"IF(BA61=\"\",\"\",VLOOKUP(BA61,'【記載例】（ユニット型）シフト記号表'!$C$5:$W$46,21,FALSE))","v":"-"},{"$f":"IF(BB61=\"\",\"\",VLOOKUP(BB61,'【記載例】（ユニット型）シフト記号表'!$C$5:$W$46,21,FALSE))","v":5.9999999999999991},{"$f":"IF(BC61=\"\",\"\",VLOOKUP(BC61,'【記載例】（ユニット型）シフト記号表'!$C$5:$W$46,21,FALSE))","v":""},{"$f":"IF(BD61=\"\",\"\",VLOOKUP(BD61,'【記載例】（ユニット型）シフト記号表'!$C$5:$W$46,21,FALSE))","v":""},{"$f":"IF(BE61=\"\",\"\",VLOOKUP(BE61,'【記載例】（ユニット型）シフト記号表'!$C$5:$W$46,21,FALSE))","v":""},{"$f":"IF($BI$3=\"計画\",SUM(AA62:BB62),IF($BI$3=\"実績\",SUM(AA62:BE62),\"\"))","v":81},null,{"$f":"IF($BI$3=\"計画\",BF62/4,IF($BI$3=\"実績\",(BF62/($BI$7/7)),\"\"))","v":20.25}]
[null,null,null,null,null,null,null,null,{"$f":"G62","v":"介護職員"},null,{"$f":"M62","v":"A"},null,null,null,null,null,null,null,null,null,null,"夜勤時間帯の勤務時間数",null,null,null,null,{"$f":"IF(AA61=\"\",\"\",VLOOKUP(AA61,'【記載例】（ユニット型）シフト記号表'!$C$5:$Y$46,23,FALSE))","v":"-"},{"$f":"IF(AB61=\"\",\"\",VLOOKUP(AB61,'【記載例】（ユニット型）シフト記号表'!$C$5:$Y$46,23,FALSE))","v":1.9999999999999991},{"$f":"IF(AC61=\"\",\"\",VLOOKUP(AC61,'【記載例】（ユニット型）シフト記号表'!$C$5:$Y$46,23,FALSE))","v":2.9999999999999991},{"$f":"IF(AD61=\"\",\"\",VLOOKUP(AD61,'【記載例】（ユニット型）シフト記号表'!$C$5:$Y$46,23,FALSE))","v":2.9999999999999991},{"$f":"IF(AE61=\"\",\"\",VLOOKUP(AE61,'【記載例】（ユニット型）シフト記号表'!$C$5:$Y$46,23,FALSE))","v":"-"},{"$f":"IF(AF61=\"\",\"\",VLOOKUP(AF61,'【記載例】（ユニット型）シフト記号表'!$C$5:$Y$46,23,FALSE))","v":14},{"$f":"IF(AG61=\"\",\"\",VLOOKUP(AG61,'【記載例】（ユニット型）シフト記号表'!$C$5:$Y$46,23,FALSE))","v":"-"},{"$f":"IF(AH61=\"\",\"\",VLOOKUP(AH61,'【記載例】（ユニット型）シフト記号表'!$C$5:$Y$46,23,FALSE))","v":2.9999999999999991},{"$f":"IF(AI61=\"\",\"\",VLOOKUP(AI61,'【記載例】（ユニット型）シフト記号表'!$C$5:$Y$46,23,FALSE))","v":"-"},{"$f":"IF(AJ61=\"\",\"\",VLOOKUP(AJ61,'【記載例】（ユニット型）シフト記号表'!$C$5:$Y$46,23,FALSE))","v":2.9999999999999991},{"$f":"IF(AK61=\"\",\"\",VLOOKUP(AK61,'【記載例】（ユニット型）シフト記号表'!$C$5:$Y$46,23,FALSE))","v":2.9999999999999991},{"$f":"IF(AL61=\"\",\"\",VLOOKUP(AL61,'【記載例】（ユニット型）シフト記号表'!$C$5:$Y$46,23,FALSE))","v":"-"},{"$f":"IF(AM61=\"\",\"\",VLOOKUP(AM61,'【記載例】（ユニット型）シフト記号表'!$C$5:$Y$46,23,FALSE))","v":"-"},{"$f":"IF(AN61=\"\",\"\",VLOOKUP(AN61,'【記載例】（ユニット型）シフト記号表'!$C$5:$Y$46,23,FALSE))","v":14},{"$f":"IF(AO61=\"\",\"\",VLOOKUP(AO61,'【記載例】（ユニット型）シフト記号表'!$C$5:$Y$46,23,FALSE))","v":"-"},{"$f":"IF(AP61=\"\",\"\",VLOOKUP(AP61,'【記載例】（ユニット型）シフト記号表'!$C$5:$Y$46,23,FALSE))","v":2.9999999999999991},{"$f":"IF(AQ61=\"\",\"\",VLOOKUP(AQ61,'【記載例】（ユニット型）シフト記号表'!$C$5:$Y$46,23,FALSE))","v":2.9999999999999991},{"$f":"IF(AR61=\"\",\"\",VLOOKUP(AR61,'【記載例】（ユニット型）シフト記号表'!$C$5:$Y$46,23,FALSE))","v":2.9999999999999991},{"$f":"IF(AS61=\"\",\"\",VLOOKUP(AS61,'【記載例】（ユニット型）シフト記号表'!$C$5:$Y$46,23,FALSE))","v":1.9999999999999991},{"$f":"IF(AT61=\"\",\"\",VLOOKUP(AT61,'【記載例】（ユニット型）シフト記号表'!$C$5:$Y$46,23,FALSE))","v":1.9999999999999991},{"$f":"IF(AU61=\"\",\"\",VLOOKUP(AU61,'【記載例】（ユニット型）シフト記号表'!$C$5:$Y$46,23,FALSE))","v":"-"},{"$f":"IF(AV61=\"\",\"\",VLOOKUP(AV61,'【記載例】（ユニット型）シフト記号表'!$C$5:$Y$46,23,FALSE))","v":14},{"$f":"IF(AW61=\"\",\"\",VLOOKUP(AW61,'【記載例】（ユニット型）シフト記号表'!$C$5:$Y$46,23,FALSE))","v":"-"},{"$f":"IF(AX61=\"\",\"\",VLOOKUP(AX61,'【記載例】（ユニット型）シフト記号表'!$C$5:$Y$46,23,FALSE))","v":1.9999999999999991},{"$f":"IF(AY61=\"\",\"\",VLOOKUP(AY61,'【記載例】（ユニット型）シフト記号表'!$C$5:$Y$46,23,FALSE))","v":2.9999999999999991},{"$f":"IF(AZ61=\"\",\"\",VLOOKUP(AZ61,'【記載例】（ユニット型）シフト記号表'!$C$5:$Y$46,23,FALSE))","v":"-"},{"$f":"IF(BA61=\"\",\"\",VLOOKUP(BA61,'【記載例】（ユニット型）シフト記号表'!$C$5:$Y$46,23,FALSE))","v":"-"},{"$f":"IF(BB61=\"\",\"\",VLOOKUP(BB61,'【記載例】（ユニット型）シフト記号表'!$C$5:$Y$46,23,FALSE))","v":1.9999999999999991},{"$f":"IF(BC61=\"\",\"\",VLOOKUP(BC61,'【記載例】（ユニット型）シフト記号表'!$C$5:$Y$46,23,FALSE))","v":""},{"$f":"IF(BD61=\"\",\"\",VLOOKUP(BD61,'【記載例】（ユニット型）シフト記号表'!$C$5:$Y$46,23,FALSE))","v":""},{"$f":"IF(BE61=\"\",\"\",VLOOKUP(BE61,'【記載例】（ユニット型）シフト記号表'!$C$5:$Y$46,23,FALSE))","v":""},{"$f":"IF($BI$3=\"計画\",SUM(AA63:BB63),IF($BI$3=\"実績\",SUM(AA63:BE63),\"\"))","v":79},null,{"$f":"IF($BI$3=\"計画\",BF63/4,IF($BI$3=\"実績\",(BF63/($BI$7/7)),\"\"))","v":19.75}]
[null,null,null,"ユニット２",null,null,null,null,null,null,null,null,null,null,null,null,null,null,"○○　P子",null,null,"シフト記号",null,null,null,null,"a","休","a","休","d","休","o","休","d","d","a","a","休","d","o","休","a","休","d","d","休","休","o","休","a","d","d","休"]
[null,{"$f":"B62+1","v":16},null,null,null,null,"介護職員",null,null,null,null,null,"A",null,"ー",null,null,null,null,null,null,"日中の勤務時間数",null,null,null,null,{"$f":"IF(AA64=\"\",\"\",VLOOKUP(AA64,'【記載例】（ユニット型）シフト記号表'!$C$5:$W$46,21,FALSE))","v":5.9999999999999991},{"$f":"IF(AB64=\"\",\"\",VLOOKUP(AB64,'【記載例】（ユニット型）シフト記号表'!$C$5:$W$46,21,FALSE))","v":"-"},{"$f":"IF(AC64=\"\",\"\",VLOOKUP(AC64,'【記載例】（ユニット型）シフト記号表'!$C$5:$W$46,21,FALSE))","v":5.9999999999999991},{"$f":"IF(AD64=\"\",\"\",VLOOKUP(AD64,'【記載例】（ユニット型）シフト記号表'!$C$5:$W$46,21,FALSE))","v":"-"},{"$f":"IF(AE64=\"\",\"\",VLOOKUP(AE64,'【記載例】（ユニット型）シフト記号表'!$C$5:$W$46,21,FALSE))","v":5.0000000000000009},{"$f":"IF(AF64=\"\",\"\",VLOOKUP(AF64,'【記載例】（ユニット型）シフト記号表'!$C$5:$W$46,21,FALSE))","v":"-"},{"$f":"IF(AG64=\"\",\"\",VLOOKUP(AG64,'【記載例】（ユニット型）シフト記号表'!$C$5:$W$46,21,FALSE))","v":2},{"$f":"IF(AH64=\"\",\"\",VLOOKUP(AH64,'【記載例】（ユニット型）シフト記号表'!$C$5:$W$46,21,FALSE))","v":"-"},{"$f":"IF(AI64=\"\",\"\",VLOOKUP(AI64,'【記載例】（ユニット型）シフト記号表'!$C$5:$W$46,21,FALSE))","v":5.0000000000000009},{"$f":"IF(AJ64=\"\",\"\",VLOOKUP(AJ64,'【記載例】（ユニット型）シフト記号表'!$C$5:$W$46,21,FALSE))","v":5.0000000000000009},{"$f":"IF(AK64=\"\",\"\",VLOOKUP(AK64,'【記載例】（ユニット型）シフト記号表'!$C$5:$W$46,21,FALSE))","v":5.9999999999999991},{"$f":"IF(AL64=\"\",\"\",VLOOKUP(AL64,'【記載例】（ユニット型）シフト記号表'!$C$5:$W$46,21,FALSE))","v":5.9999999999999991},{"$f":"IF(AM64=\"\",\"\",VLOOKUP(AM64,'【記載例】（ユニット型）シフト記号表'!$C$5:$W$46,21,FALSE))","v":"-"},{"$f":"IF(AN64=\"\",\"\",VLOOKUP(AN64,'【記載例】（ユニット型）シフト記号表'!$C$5:$W$46,21,FALSE))","v":5.0000000000000009},{"$f":"IF(AO64=\"\",\"\",VLOOKUP(AO64,'【記載例】（ユニット型）シフト記号表'!$C$5:$W$46,21,FALSE))","v":2},{"$f":"IF(AP64=\"\",\"\",VLOOKUP(AP64,'【記載例】（ユニット型）シフト記号表'!$C$5:$W$46,21,FALSE))","v":"-"},{"$f":"IF(AQ64=\"\",\"\",VLOOKUP(AQ64,'【記載例】（ユニット型）シフト記号表'!$C$5:$W$46,21,FALSE))","v":5.9999999999999991},{"$f":"IF(AR64=\"\",\"\",VLOOKUP(AR64,'【記載例】（ユニット型）シフト記号表'!$C$5:$W$46,21,FALSE))","v":"-"},{"$f":"IF(AS64=\"\",\"\",VLOOKUP(AS64,'【記載例】（ユニット型）シフト記号表'!$C$5:$W$46,21,FALSE))","v":5.0000000000000009},{"$f":"IF(AT64=\"\",\"\",VLOOKUP(AT64,'【記載例】（ユニット型）シフト記号表'!$C$5:$W$46,21,FALSE))","v":5.0000000000000009},{"$f":"IF(AU64=\"\",\"\",VLOOKUP(AU64,'【記載例】（ユニット型）シフト記号表'!$C$5:$W$46,21,FALSE))","v":"-"},{"$f":"IF(AV64=\"\",\"\",VLOOKUP(AV64,'【記載例】（ユニット型）シフト記号表'!$C$5:$W$46,21,FALSE))","v":"-"},{"$f":"IF(AW64=\"\",\"\",VLOOKUP(AW64,'【記載例】（ユニット型）シフト記号表'!$C$5:$W$46,21,FALSE))","v":2},{"$f":"IF(AX64=\"\",\"\",VLOOKUP(AX64,'【記載例】（ユニット型）シフト記号表'!$C$5:$W$46,21,FALSE))","v":"-"},{"$f":"IF(AY64=\"\",\"\",VLOOKUP(AY64,'【記載例】（ユニット型）シフト記号表'!$C$5:$W$46,21,FALSE))","v":5.9999999999999991},{"$f":"IF(AZ64=\"\",\"\",VLOOKUP(AZ64,'【記載例】（ユニット型）シフト記号表'!$C$5:$W$46,21,FALSE))","v":5.0000000000000009},{"$f":"IF(BA64=\"\",\"\",VLOOKUP(BA64,'【記載例】（ユニット型）シフト記号表'!$C$5:$W$46,21,FALSE))","v":5.0000000000000009},{"$f":"IF(BB64=\"\",\"\",VLOOKUP(BB64,'【記載例】（ユニット型）シフト記号表'!$C$5:$W$46,21,FALSE))","v":"-"},{"$f":"IF(BC64=\"\",\"\",VLOOKUP(BC64,'【記載例】（ユニット型）シフト記号表'!$C$5:$W$46,21,FALSE))","v":""},{"$f":"IF(BD64=\"\",\"\",VLOOKUP(BD64,'【記載例】（ユニット型）シフト記号表'!$C$5:$W$46,21,FALSE))","v":""},{"$f":"IF(BE64=\"\",\"\",VLOOKUP(BE64,'【記載例】（ユニット型）シフト記号表'!$C$5:$W$46,21,FALSE))","v":""},{"$f":"IF($BI$3=\"計画\",SUM(AA65:BB65),IF($BI$3=\"実績\",SUM(AA65:BE65),\"\"))","v":82},null,{"$f":"IF($BI$3=\"計画\",BF65/4,IF($BI$3=\"実績\",(BF65/($BI$7/7)),\"\"))","v":20.5}]
[null,null,null,null,null,null,null,null,{"$f":"G65","v":"介護職員"},null,{"$f":"M65","v":"A"},null,null,null,null,null,null,null,null,null,null,"夜勤時間帯の勤務時間数",null,null,null,null,{"$f":"IF(AA64=\"\",\"\",VLOOKUP(AA64,'【記載例】（ユニット型）シフト記号表'!$C$5:$Y$46,23,FALSE))","v":1.9999999999999991},{"$f":"IF(AB64=\"\",\"\",VLOOKUP(AB64,'【記載例】（ユニット型）シフト記号表'!$C$5:$Y$46,23,FALSE))","v":"-"},{"$f":"IF(AC64=\"\",\"\",VLOOKUP(AC64,'【記載例】（ユニット型）シフト記号表'!$C$5:$Y$46,23,FALSE))","v":1.9999999999999991},{"$f":"IF(AD64=\"\",\"\",VLOOKUP(AD64,'【記載例】（ユニット型）シフト記号表'!$C$5:$Y$46,23,FALSE))","v":"-"},{"$f":"IF(AE64=\"\",\"\",VLOOKUP(AE64,'【記載例】（ユニット型）シフト記号表'!$C$5:$Y$46,23,FALSE))","v":2.9999999999999991},{"$f":"IF(AF64=\"\",\"\",VLOOKUP(AF64,'【記載例】（ユニット型）シフト記号表'!$C$5:$Y$46,23,FALSE))","v":"-"},{"$f":"IF(AG64=\"\",\"\",VLOOKUP(AG64,'【記載例】（ユニット型）シフト記号表'!$C$5:$Y$46,23,FALSE))","v":14},{"$f":"IF(AH64=\"\",\"\",VLOOKUP(AH64,'【記載例】（ユニット型）シフト記号表'!$C$5:$Y$46,23,FALSE))","v":"-"},{"$f":"IF(AI64=\"\",\"\",VLOOKUP(AI64,'【記載例】（ユニット型）シフト記号表'!$C$5:$Y$46,23,FALSE))","v":2.9999999999999991},{"$f":"IF(AJ64=\"\",\"\",VLOOKUP(AJ64,'【記載例】（ユニット型）シフト記号表'!$C$5:$Y$46,23,FALSE))","v":2.9999999999999991},{"$f":"IF(AK64=\"\",\"\",VLOOKUP(AK64,'【記載例】（ユニット型）シフト記号表'!$C$5:$Y$46,23,FALSE))","v":1.9999999999999991},{"$f":"IF(AL64=\"\",\"\",VLOOKUP(AL64,'【記載例】（ユニット型）シフト記号表'!$C$5:$Y$46,23,FALSE))","v":1.9999999999999991},{"$f":"IF(AM64=\"\",\"\",VLOOKUP(AM64,'【記載例】（ユニット型）シフト記号表'!$C$5:$Y$46,23,FALSE))","v":"-"},{"$f":"IF(AN64=\"\",\"\",VLOOKUP(AN64,'【記載例】（ユニット型）シフト記号表'!$C$5:$Y$46,23,FALSE))","v":2.9999999999999991},{"$f":"IF(AO64=\"\",\"\",VLOOKUP(AO64,'【記載例】（ユニット型）シフト記号表'!$C$5:$Y$46,23,FALSE))","v":14},{"$f":"IF(AP64=\"\",\"\",VLOOKUP(AP64,'【記載例】（ユニット型）シフト記号表'!$C$5:$Y$46,23,FALSE))","v":"-"},{"$f":"IF(AQ64=\"\",\"\",VLOOKUP(AQ64,'【記載例】（ユニット型）シフト記号表'!$C$5:$Y$46,23,FALSE))","v":1.9999999999999991},{"$f":"IF(AR64=\"\",\"\",VLOOKUP(AR64,'【記載例】（ユニット型）シフト記号表'!$C$5:$Y$46,23,FALSE))","v":"-"},{"$f":"IF(AS64=\"\",\"\",VLOOKUP(AS64,'【記載例】（ユニット型）シフト記号表'!$C$5:$Y$46,23,FALSE))","v":2.9999999999999991},{"$f":"IF(AT64=\"\",\"\",VLOOKUP(AT64,'【記載例】（ユニット型）シフト記号表'!$C$5:$Y$46,23,FALSE))","v":2.9999999999999991},{"$f":"IF(AU64=\"\",\"\",VLOOKUP(AU64,'【記載例】（ユニット型）シフト記号表'!$C$5:$Y$46,23,FALSE))","v":"-"},{"$f":"IF(AV64=\"\",\"\",VLOOKUP(AV64,'【記載例】（ユニット型）シフト記号表'!$C$5:$Y$46,23,FALSE))","v":"-"},{"$f":"IF(AW64=\"\",\"\",VLOOKUP(AW64,'【記載例】（ユニット型）シフト記号表'!$C$5:$Y$46,23,FALSE))","v":14},{"$f":"IF(AX64=\"\",\"\",VLOOKUP(AX64,'【記載例】（ユニット型）シフト記号表'!$C$5:$Y$46,23,FALSE))","v":"-"},{"$f":"IF(AY64=\"\",\"\",VLOOKUP(AY64,'【記載例】（ユニット型）シフト記号表'!$C$5:$Y$46,23,FALSE))","v":1.9999999999999991},{"$f":"IF(AZ64=\"\",\"\",VLOOKUP(AZ64,'【記載例】（ユニット型）シフト記号表'!$C$5:$Y$46,23,FALSE))","v":2.9999999999999991},{"$f":"IF(BA64=\"\",\"\",VLOOKUP(BA64,'【記載例】（ユニット型）シフト記号表'!$C$5:$Y$46,23,FALSE))","v":2.9999999999999991},{"$f":"IF(BB64=\"\",\"\",VLOOKUP(BB64,'【記載例】（ユニット型）シフト記号表'!$C$5:$Y$46,23,FALSE))","v":"-"},{"$f":"IF(BC64=\"\",\"\",VLOOKUP(BC64,'【記載例】（ユニット型）シフト記号表'!$C$5:$Y$46,23,FALSE))","v":""},{"$f":"IF(BD64=\"\",\"\",VLOOKUP(BD64,'【記載例】（ユニット型）シフト記号表'!$C$5:$Y$46,23,FALSE))","v":""},{"$f":"IF(BE64=\"\",\"\",VLOOKUP(BE64,'【記載例】（ユニット型）シフト記号表'!$C$5:$Y$46,23,FALSE))","v":""},{"$f":"IF($BI$3=\"計画\",SUM(AA66:BB66),IF($BI$3=\"実績\",SUM(AA66:BE66),\"\"))","v":78},null,{"$f":"IF($BI$3=\"計画\",BF66/4,IF($BI$3=\"実績\",(BF66/($BI$7/7)),\"\"))","v":19.5}]
[null,null,null,"ユニット２",null,null,null,null,null,null,null,null,null,null,null,null,null,null,"○○　R次郎",null,null,"シフト記号",null,null,null,null,"休","d","d","a","a","a","休","o","休","a","休","d","d","休","休","o","休","a","休","d","d","d","休","o","休","a","休","d"]
[null,{"$f":"B65+1","v":17},null,null,null,null,"介護職員",null,null,null,null,null,"A",null,"ー",null,null,null,null,null,null,"日中の勤務時間数",null,null,null,null,{"$f":"IF(AA67=\"\",\"\",VLOOKUP(AA67,'【記載例】（ユニット型）シフト記号表'!$C$5:$W$46,21,FALSE))","v":"-"},{"$f":"IF(AB67=\"\",\"\",VLOOKUP(AB67,'【記載例】（ユニット型）シフト記号表'!$C$5:$W$46,21,FALSE))","v":5.0000000000000009},{"$f":"IF(AC67=\"\",\"\",VLOOKUP(AC67,'【記載例】（ユニット型）シフト記号表'!$C$5:$W$46,21,FALSE))","v":5.0000000000000009},{"$f":"IF(AD67=\"\",\"\",VLOOKUP(AD67,'【記載例】（ユニット型）シフト記号表'!$C$5:$W$46,21,FALSE))","v":5.9999999999999991},{"$f":"IF(AE67=\"\",\"\",VLOOKUP(AE67,'【記載例】（ユニット型）シフト記号表'!$C$5:$W$46,21,FALSE))","v":5.9999999999999991},{"$f":"IF(AF67=\"\",\"\",VLOOKUP(AF67,'【記載例】（ユニット型）シフト記号表'!$C$5:$W$46,21,FALSE))","v":5.9999999999999991},{"$f":"IF(AG67=\"\",\"\",VLOOKUP(AG67,'【記載例】（ユニット型）シフト記号表'!$C$5:$W$46,21,FALSE))","v":"-"},{"$f":"IF(AH67=\"\",\"\",VLOOKUP(AH67,'【記載例】（ユニット型）シフト記号表'!$C$5:$W$46,21,FALSE))","v":2},{"$f":"IF(AI67=\"\",\"\",VLOOKUP(AI67,'【記載例】（ユニット型）シフト記号表'!$C$5:$W$46,21,FALSE))","v":"-"},{"$f":"IF(AJ67=\"\",\"\",VLOOKUP(AJ67,'【記載例】（ユニット型）シフト記号表'!$C$5:$W$46,21,FALSE))","v":5.9999999999999991},{"$f":"IF(AK67=\"\",\"\",VLOOKUP(AK67,'【記載例】（ユニット型）シフト記号表'!$C$5:$W$46,21,FALSE))","v":"-"},{"$f":"IF(AL67=\"\",\"\",VLOOKUP(AL67,'【記載例】（ユニット型）シフト記号表'!$C$5:$W$46,21,FALSE))","v":5.0000000000000009},{"$f":"IF(AM67=\"\",\"\",VLOOKUP(AM67,'【記載例】（ユニット型）シフト記号表'!$C$5:$W$46,21,FALSE))","v":5.0000000000000009},{"$f":"IF(AN67=\"\",\"\",VLOOKUP(AN67,'【記載例】（ユニット型）シフト記号表'!$C$5:$W$46,21,FALSE))","v":"-"},{"$f":"IF(AO67=\"\",\"\",VLOOKUP(AO67,'【記載例】（ユニット型）シフト記号表'!$C$5:$W$46,21,FALSE))","v":"-"},{"$f":"IF(AP67=\"\",\"\",VLOOKUP(AP67,'【記載例】（ユニット型）シフト記号表'!$C$5:$W$46,21,FALSE))","v":2},{"$f":"IF(AQ67=\"\",\"\",VLOOKUP(AQ67,'【記載例】（ユニット型）シフト記号表'!$C$5:$W$46,21,FALSE))","v":"-"},{"$f":"IF(AR67=\"\",\"\",VLOOKUP(AR67,'【記載例】（ユニット型）シフト記号表'!$C$5:$W$46,21,FALSE))","v":5.9999999999999991},{"$f":"IF(AS67=\"\",\"\",VLOOKUP(AS67,'【記載例】（ユニット型）シフト記号表'!$C$5:$W$46,21,FALSE))","v":"-"},{"$f":"IF(AT67=\"\",\"\",VLOOKUP(AT67,'【記載例】（ユニット型）シフト記号表'!$C$5:$W$46,21,FALSE))","v":5.0000000000000009},{"$f":"IF(AU67=\"\",\"\",VLOOKUP(AU67,'【記載例】（ユニット型）シフト記号表'!$C$5:$W$46,21,FALSE))","v":5.0000000000000009},{"$f":"IF(AV67=\"\",\"\",VLOOKUP(AV67,'【記載例】（ユニット型）シフト記号表'!$C$5:$W$46,21,FALSE))","v":5.0000000000000009},{"$f":"IF(AW67=\"\",\"\",VLOOKUP(AW67,'【記載例】（ユニット型）シフト記号表'!$C$5:$W$46,21,FALSE))","v":"-"},{"$f":"IF(AX67=\"\",\"\",VLOOKUP(AX67,'【記載例】（ユニット型）シフト記号表'!$C$5:$W$46,21,FALSE))","v":2},{"$f":"IF(AY67=\"\",\"\",VLOOKUP(AY67,'【記載例】（ユニット型）シフト記号表'!$C$5:$W$46,21,FALSE))","v":"-"},{"$f":"IF(AZ67=\"\",\"\",VLOOKUP(AZ67,'【記載例】（ユニット型）シフト記号表'!$C$5:$W$46,21,FALSE))","v":5.9999999999999991},{"$f":"IF(BA67=\"\",\"\",VLOOKUP(BA67,'【記載例】（ユニット型）シフト記号表'!$C$5:$W$46,21,FALSE))","v":"-"},{"$f":"IF(BB67=\"\",\"\",VLOOKUP(BB67,'【記載例】（ユニット型）シフト記号表'!$C$5:$W$46,21,FALSE))","v":5.0000000000000009},{"$f":"IF(BC67=\"\",\"\",VLOOKUP(BC67,'【記載例】（ユニット型）シフト記号表'!$C$5:$W$46,21,FALSE))","v":""},{"$f":"IF(BD67=\"\",\"\",VLOOKUP(BD67,'【記載例】（ユニット型）シフト記号表'!$C$5:$W$46,21,FALSE))","v":""},{"$f":"IF(BE67=\"\",\"\",VLOOKUP(BE67,'【記載例】（ユニット型）シフト記号表'!$C$5:$W$46,21,FALSE))","v":""},{"$f":"IF($BI$3=\"計画\",SUM(AA68:BB68),IF($BI$3=\"実績\",SUM(AA68:BE68),\"\"))","v":82},null,{"$f":"IF($BI$3=\"計画\",BF68/4,IF($BI$3=\"実績\",(BF68/($BI$7/7)),\"\"))","v":20.5}]
[null,null,null,null,null,null,null,null,{"$f":"G68","v":"介護職員"},null,{"$f":"M68","v":"A"},null,null,null,null,null,null,null,null,null,null,"夜勤時間帯の勤務時間数",null,null,null,null,{"$f":"IF(AA67=\"\",\"\",VLOOKUP(AA67,'【記載例】（ユニット型）シフト記号表'!$C$5:$Y$46,23,FALSE))","v":"-"},{"$f":"IF(AB67=\"\",\"\",VLOOKUP(AB67,'【記載例】（ユニット型）シフト記号表'!$C$5:$Y$46,23,FALSE))","v":2.9999999999999991},{"$f":"IF(AC67=\"\",\"\",VLOOKUP(AC67,'【記載例】（ユニット型）シフト記号表'!$C$5:$Y$46,23,FALSE))","v":2.9999999999999991},{"$f":"IF(AD67=\"\",\"\",VLOOKUP(AD67,'【記載例】（ユニット型）シフト記号表'!$C$5:$Y$46,23,FALSE))","v":1.9999999999999991},{"$f":"IF(AE67=\"\",\"\",VLOOKUP(AE67,'【記載例】（ユニット型）シフト記号表'!$C$5:$Y$46,23,FALSE))","v":1.9999999999999991},{"$f":"IF(AF67=\"\",\"\",VLOOKUP(AF67,'【記載例】（ユニット型）シフト記号表'!$C$5:$Y$46,23,FALSE))","v":1.9999999999999991},{"$f":"IF(AG67=\"\",\"\",VLOOKUP(AG67,'【記載例】（ユニット型）シフト記号表'!$C$5:$Y$46,23,FALSE))","v":"-"},{"$f":"IF(AH67=\"\",\"\",VLOOKUP(AH67,'【記載例】（ユニット型）シフト記号表'!$C$5:$Y$46,23,FALSE))","v":14},{"$f":"IF(AI67=\"\",\"\",VLOOKUP(AI67,'【記載例】（ユニット型）シフト記号表'!$C$5:$Y$46,23,FALSE))","v":"-"},{"$f":"IF(AJ67=\"\",\"\",VLOOKUP(AJ67,'【記載例】（ユニット型）シフト記号表'!$C$5:$Y$46,23,FALSE))","v":1.9999999999999991},{"$f":"IF(AK67=\"\",\"\",VLOOKUP(AK67,'【記載例】（ユニット型）シフト記号表'!$C$5:$Y$46,23,FALSE))","v":"-"},{"$f":"IF(AL67=\"\",\"\",VLOOKUP(AL67,'【記載例】（ユニット型）シフト記号表'!$C$5:$Y$46,23,FALSE))","v":2.9999999999999991},{"$f":"IF(AM67=\"\",\"\",VLOOKUP(AM67,'【記載例】（ユニット型）シフト記号表'!$C$5:$Y$46,23,FALSE))","v":2.9999999999999991},{"$f":"IF(AN67=\"\",\"\",VLOOKUP(AN67,'【記載例】（ユニット型）シフト記号表'!$C$5:$Y$46,23,FALSE))","v":"-"},{"$f":"IF(AO67=\"\",\"\",VLOOKUP(AO67,'【記載例】（ユニット型）シフト記号表'!$C$5:$Y$46,23,FALSE))","v":"-"},{"$f":"IF(AP67=\"\",\"\",VLOOKUP(AP67,'【記載例】（ユニット型）シフト記号表'!$C$5:$Y$46,23,FALSE))","v":14},{"$f":"IF(AQ67=\"\",\"\",VLOOKUP(AQ67,'【記載例】（ユニット型）シフト記号表'!$C$5:$Y$46,23,FALSE))","v":"-"},{"$f":"IF(AR67=\"\",\"\",VLOOKUP(AR67,'【記載例】（ユニット型）シフト記号表'!$C$5:$Y$46,23,FALSE))","v":1.9999999999999991},{"$f":"IF(AS67=\"\",\"\",VLOOKUP(AS67,'【記載例】（ユニット型）シフト記号表'!$C$5:$Y$46,23,FALSE))","v":"-"},{"$f":"IF(AT67=\"\",\"\",VLOOKUP(AT67,'【記載例】（ユニット型）シフト記号表'!$C$5:$Y$46,23,FALSE))","v":2.9999999999999991},{"$f":"IF(AU67=\"\",\"\",VLOOKUP(AU67,'【記載例】（ユニット型）シフト記号表'!$C$5:$Y$46,23,FALSE))","v":2.9999999999999991},{"$f":"IF(AV67=\"\",\"\",VLOOKUP(AV67,'【記載例】（ユニット型）シフト記号表'!$C$5:$Y$46,23,FALSE))","v":2.9999999999999991},{"$f":"IF(AW67=\"\",\"\",VLOOKUP(AW67,'【記載例】（ユニット型）シフト記号表'!$C$5:$Y$46,23,FALSE))","v":"-"},{"$f":"IF(AX67=\"\",\"\",VLOOKUP(AX67,'【記載例】（ユニット型）シフト記号表'!$C$5:$Y$46,23,FALSE))","v":14},{"$f":"IF(AY67=\"\",\"\",VLOOKUP(AY67,'【記載例】（ユニット型）シフト記号表'!$C$5:$Y$46,23,FALSE))","v":"-"},{"$f":"IF(AZ67=\"\",\"\",VLOOKUP(AZ67,'【記載例】（ユニット型）シフト記号表'!$C$5:$Y$46,23,FALSE))","v":1.9999999999999991},{"$f":"IF(BA67=\"\",\"\",VLOOKUP(BA67,'【記載例】（ユニット型）シフト記号表'!$C$5:$Y$46,23,FALSE))","v":"-"},{"$f":"IF(BB67=\"\",\"\",VLOOKUP(BB67,'【記載例】（ユニット型）シフト記号表'!$C$5:$Y$46,23,FALSE))","v":2.9999999999999991},{"$f":"IF(BC67=\"\",\"\",VLOOKUP(BC67,'【記載例】（ユニット型）シフト記号表'!$C$5:$Y$46,23,FALSE))","v":""},{"$f":"IF(BD67=\"\",\"\",VLOOKUP(BD67,'【記載例】（ユニット型）シフト記号表'!$C$5:$Y$46,23,FALSE))","v":""},{"$f":"IF(BE67=\"\",\"\",VLOOKUP(BE67,'【記載例】（ユニット型）シフト記号表'!$C$5:$Y$46,23,FALSE))","v":""},{"$f":"IF($BI$3=\"計画\",SUM(AA69:BB69),IF($BI$3=\"実績\",SUM(AA69:BE69),\"\"))","v":78},null,{"$f":"IF($BI$3=\"計画\",BF69/4,IF($BI$3=\"実績\",(BF69/($BI$7/7)),\"\"))","v":19.5}]
[null,null,null,"ユニット２",null,null,null,null,null,null,null,null,null,null,null,null,null,null,"○○　S子",null,null,"シフト記号",null,null,null,null,"d","休","休","d","休","d","d","休","d","休","休","d","a","a","d","休","d","休","d","休","a","a","d","休","d","休","a","休"]
[null,{"$f":"B68+1","v":18},null,null,null,null,"介護職員",null,null,null,null,null,"C",null,"ー",null,null,null,null,null,null,"日中の勤務時間数",null,null,null,null,{"$f":"IF(AA70=\"\",\"\",VLOOKUP(AA70,'【記載例】（ユニット型）シフト記号表'!$C$5:$W$46,21,FALSE))","v":5.0000000000000009},{"$f":"IF(AB70=\"\",\"\",VLOOKUP(AB70,'【記載例】（ユニット型）シフト記号表'!$C$5:$W$46,21,FALSE))","v":"-"},{"$f":"IF(AC70=\"\",\"\",VLOOKUP(AC70,'【記載例】（ユニット型）シフト記号表'!$C$5:$W$46,21,FALSE))","v":"-"},{"$f":"IF(AD70=\"\",\"\",VLOOKUP(AD70,'【記載例】（ユニット型）シフト記号表'!$C$5:$W$46,21,FALSE))","v":5.0000000000000009},{"$f":"IF(AE70=\"\",\"\",VLOOKUP(AE70,'【記載例】（ユニット型）シフト記号表'!$C$5:$W$46,21,FALSE))","v":"-"},{"$f":"IF(AF70=\"\",\"\",VLOOKUP(AF70,'【記載例】（ユニット型）シフト記号表'!$C$5:$W$46,21,FALSE))","v":5.0000000000000009},{"$f":"IF(AG70=\"\",\"\",VLOOKUP(AG70,'【記載例】（ユニット型）シフト記号表'!$C$5:$W$46,21,FALSE))","v":5.0000000000000009},{"$f":"IF(AH70=\"\",\"\",VLOOKUP(AH70,'【記載例】（ユニット型）シフト記号表'!$C$5:$W$46,21,FALSE))","v":"-"},{"$f":"IF(AI70=\"\",\"\",VLOOKUP(AI70,'【記載例】（ユニット型）シフト記号表'!$C$5:$W$46,21,FALSE))","v":5.0000000000000009},{"$f":"IF(AJ70=\"\",\"\",VLOOKUP(AJ70,'【記載例】（ユニット型）シフト記号表'!$C$5:$W$46,21,FALSE))","v":"-"},{"$f":"IF(AK70=\"\",\"\",VLOOKUP(AK70,'【記載例】（ユニット型）シフト記号表'!$C$5:$W$46,21,FALSE))","v":"-"},{"$f":"IF(AL70=\"\",\"\",VLOOKUP(AL70,'【記載例】（ユニット型）シフト記号表'!$C$5:$W$46,21,FALSE))","v":5.0000000000000009},{"$f":"IF(AM70=\"\",\"\",VLOOKUP(AM70,'【記載例】（ユニット型）シフト記号表'!$C$5:$W$46,21,FALSE))","v":5.9999999999999991},{"$f":"IF(AN70=\"\",\"\",VLOOKUP(AN70,'【記載例】（ユニット型）シフト記号表'!$C$5:$W$46,21,FALSE))","v":5.9999999999999991},{"$f":"IF(AO70=\"\",\"\",VLOOKUP(AO70,'【記載例】（ユニット型）シフト記号表'!$C$5:$W$46,21,FALSE))","v":5.0000000000000009},{"$f":"IF(AP70=\"\",\"\",VLOOKUP(AP70,'【記載例】（ユニット型）シフト記号表'!$C$5:$W$46,21,FALSE))","v":"-"},{"$f":"IF(AQ70=\"\",\"\",VLOOKUP(AQ70,'【記載例】（ユニット型）シフト記号表'!$C$5:$W$46,21,FALSE))","v":5.0000000000000009},{"$f":"IF(AR70=\"\",\"\",VLOOKUP(AR70,'【記載例】（ユニット型）シフト記号表'!$C$5:$W$46,21,FALSE))","v":"-"},{"$f":"IF(AS70=\"\",\"\",VLOOKUP(AS70,'【記載例】（ユニット型）シフト記号表'!$C$5:$W$46,21,FALSE))","v":5.0000000000000009},{"$f":"IF(AT70=\"\",\"\",VLOOKUP(AT70,'【記載例】（ユニット型）シフト記号表'!$C$5:$W$46,21,FALSE))","v":"-"},{"$f":"IF(AU70=\"\",\"\",VLOOKUP(AU70,'【記載例】（ユニット型）シフト記号表'!$C$5:$W$46,21,FALSE))","v":5.9999999999999991},{"$f":"IF(AV70=\"\",\"\",VLOOKUP(AV70,'【記載例】（ユニット型）シフト記号表'!$C$5:$W$46,21,FALSE))","v":5.9999999999999991},{"$f":"IF(AW70=\"\",\"\",VLOOKUP(AW70,'【記載例】（ユニット型）シフト記号表'!$C$5:$W$46,21,FALSE))","v":5.0000000000000009},{"$f":"IF(AX70=\"\",\"\",VLOOKUP(AX70,'【記載例】（ユニット型）シフト記号表'!$C$5:$W$46,21,FALSE))","v":"-"},{"$f":"IF(AY70=\"\",\"\",VLOOKUP(AY70,'【記載例】（ユニット型）シフト記号表'!$C$5:$W$46,21,FALSE))","v":5.0000000000000009},{"$f":"IF(AZ70=\"\",\"\",VLOOKUP(AZ70,'【記載例】（ユニット型）シフト記号表'!$C$5:$W$46,21,FALSE))","v":"-"},{"$f":"IF(BA70=\"\",\"\",VLOOKUP(BA70,'【記載例】（ユニット型）シフト記号表'!$C$5:$W$46,21,FALSE))","v":5.9999999999999991},{"$f":"IF(BB70=\"\",\"\",VLOOKUP(BB70,'【記載例】（ユニット型）シフト記号表'!$C$5:$W$46,21,FALSE))","v":"-"},{"$f":"IF(BC70=\"\",\"\",VLOOKUP(BC70,'【記載例】（ユニット型）シフト記号表'!$C$5:$W$46,21,FALSE))","v":""},{"$f":"IF(BD70=\"\",\"\",VLOOKUP(BD70,'【記載例】（ユニット型）シフト記号表'!$C$5:$W$46,21,FALSE))","v":""},{"$f":"IF(BE70=\"\",\"\",VLOOKUP(BE70,'【記載例】（ユニット型）シフト記号表'!$C$5:$W$46,21,FALSE))","v":""},{"$f":"IF($BI$3=\"計画\",SUM(AA71:BB71),IF($BI$3=\"実績\",SUM(AA71:BE71),\"\"))","v":85},null,{"$f":"IF($BI$3=\"計画\",BF71/4,IF($BI$3=\"実績\",(BF71/($BI$7/7)),\"\"))","v":21.25}]
[null,null,null,null,null,null,null,null,{"$f":"G71","v":"介護職員"},null,{"$f":"M71","v":"C"},null,null,null,null,null,null,null,null,null,null,"夜勤時間帯の勤務時間数",null,null,null,null,{"$f":"IF(AA70=\"\",\"\",VLOOKUP(AA70,'【記載例】（ユニット型）シフト記号表'!$C$5:$Y$46,23,FALSE))","v":2.9999999999999991},{"$f":"IF(AB70=\"\",\"\",VLOOKUP(AB70,'【記載例】（ユニット型）シフト記号表'!$C$5:$Y$46,23,FALSE))","v":"-"},{"$f":"IF(AC70=\"\",\"\",VLOOKUP(AC70,'【記載例】（ユニット型）シフト記号表'!$C$5:$Y$46,23,FALSE))","v":"-"},{"$f":"IF(AD70=\"\",\"\",VLOOKUP(AD70,'【記載例】（ユニット型）シフト記号表'!$C$5:$Y$46,23,FALSE))","v":2.9999999999999991},{"$f":"IF(AE70=\"\",\"\",VLOOKUP(AE70,'【記載例】（ユニット型）シフト記号表'!$C$5:$Y$46,23,FALSE))","v":"-"},{"$f":"IF(AF70=\"\",\"\",VLOOKUP(AF70,'【記載例】（ユニット型）シフト記号表'!$C$5:$Y$46,23,FALSE))","v":2.9999999999999991},{"$f":"IF(AG70=\"\",\"\",VLOOKUP(AG70,'【記載例】（ユニット型）シフト記号表'!$C$5:$Y$46,23,FALSE))","v":2.9999999999999991},{"$f":"IF(AH70=\"\",\"\",VLOOKUP(AH70,'【記載例】（ユニット型）シフト記号表'!$C$5:$Y$46,23,FALSE))","v":"-"},{"$f":"IF(AI70=\"\",\"\",VLOOKUP(AI70,'【記載例】（ユニット型）シフト記号表'!$C$5:$Y$46,23,FALSE))","v":2.9999999999999991},{"$f":"IF(AJ70=\"\",\"\",VLOOKUP(AJ70,'【記載例】（ユニット型）シフト記号表'!$C$5:$Y$46,23,FALSE))","v":"-"},{"$f":"IF(AK70=\"\",\"\",VLOOKUP(AK70,'【記載例】（ユニット型）シフト記号表'!$C$5:$Y$46,23,FALSE))","v":"-"},{"$f":"IF(AL70=\"\",\"\",VLOOKUP(AL70,'【記載例】（ユニット型）シフト記号表'!$C$5:$Y$46,23,FALSE))","v":2.9999999999999991},{"$f":"IF(AM70=\"\",\"\",VLOOKUP(AM70,'【記載例】（ユニット型）シフト記号表'!$C$5:$Y$46,23,FALSE))","v":1.9999999999999991},{"$f":"IF(AN70=\"\",\"\",VLOOKUP(AN70,'【記載例】（ユニット型）シフト記号表'!$C$5:$Y$46,23,FALSE))","v":1.9999999999999991},{"$f":"IF(AO70=\"\",\"\",VLOOKUP(AO70,'【記載例】（ユニット型）シフト記号表'!$C$5:$Y$46,23,FALSE))","v":2.9999999999999991},{"$f":"IF(AP70=\"\",\"\",VLOOKUP(AP70,'【記載例】（ユニット型）シフト記号表'!$C$5:$Y$46,23,FALSE))","v":"-"},{"$f":"IF(AQ70=\"\",\"\",VLOOKUP(AQ70,'【記載例】（ユニット型）シフト記号表'!$C$5:$Y$46,23,FALSE))","v":2.9999999999999991},{"$f":"IF(AR70=\"\",\"\",VLOOKUP(AR70,'【記載例】（ユニット型）シフト記号表'!$C$5:$Y$46,23,FALSE))","v":"-"},{"$f":"IF(AS70=\"\",\"\",VLOOKUP(AS70,'【記載例】（ユニット型）シフト記号表'!$C$5:$Y$46,23,FALSE))","v":2.9999999999999991},{"$f":"IF(AT70=\"\",\"\",VLOOKUP(AT70,'【記載例】（ユニット型）シフト記号表'!$C$5:$Y$46,23,FALSE))","v":"-"},{"$f":"IF(AU70=\"\",\"\",VLOOKUP(AU70,'【記載例】（ユニット型）シフト記号表'!$C$5:$Y$46,23,FALSE))","v":1.9999999999999991},{"$f":"IF(AV70=\"\",\"\",VLOOKUP(AV70,'【記載例】（ユニット型）シフト記号表'!$C$5:$Y$46,23,FALSE))","v":1.9999999999999991},{"$f":"IF(AW70=\"\",\"\",VLOOKUP(AW70,'【記載例】（ユニット型）シフト記号表'!$C$5:$Y$46,23,FALSE))","v":2.9999999999999991},{"$f":"IF(AX70=\"\",\"\",VLOOKUP(AX70,'【記載例】（ユニット型）シフト記号表'!$C$5:$Y$46,23,FALSE))","v":"-"},{"$f":"IF(AY70=\"\",\"\",VLOOKUP(AY70,'【記載例】（ユニット型）シフト記号表'!$C$5:$Y$46,23,FALSE))","v":2.9999999999999991},{"$f":"IF(AZ70=\"\",\"\",VLOOKUP(AZ70,'【記載例】（ユニット型）シフト記号表'!$C$5:$Y$46,23,FALSE))","v":"-"},{"$f":"IF(BA70=\"\",\"\",VLOOKUP(BA70,'【記載例】（ユニット型）シフト記号表'!$C$5:$Y$46,23,FALSE))","v":1.9999999999999991},{"$f":"IF(BB70=\"\",\"\",VLOOKUP(BB70,'【記載例】（ユニット型）シフト記号表'!$C$5:$Y$46,23,FALSE))","v":"-"},{"$f":"IF(BC70=\"\",\"\",VLOOKUP(BC70,'【記載例】（ユニット型）シフト記号表'!$C$5:$Y$46,23,FALSE))","v":""},{"$f":"IF(BD70=\"\",\"\",VLOOKUP(BD70,'【記載例】（ユニット型）シフト記号表'!$C$5:$Y$46,23,FALSE))","v":""},{"$f":"IF(BE70=\"\",\"\",VLOOKUP(BE70,'【記載例】（ユニット型）シフト記号表'!$C$5:$Y$46,23,FALSE))","v":""},{"$f":"IF($BI$3=\"計画\",SUM(AA72:BB72),IF($BI$3=\"実績\",SUM(AA72:BE72),\"\"))","v":42.999999999999993},null,{"$f":"IF($BI$3=\"計画\",BF72/4,IF($BI$3=\"実績\",(BF72/($BI$7/7)),\"\"))","v":10.749999999999998}]
[null,null,"◎","ユニット３",null,null,null,null,null,null,null,null,null,null,null,null,null,null,"○○　T太",null,null,"シフト記号",null,null,null,null,"o","休","a","a","休","d","休","休","o","休","a","a","休","d","d","休","o","休","a","a","休","d","休","休","o","休","a","a"]
[null,{"$f":"B71+1","v":19},null,null,null,null,"看護職員",null,null,null,null,null,"A",null,"看護師",null,null,null,null,null,null,"日中の勤務時間数",null,null,null,null,{"$f":"IF(AA73=\"\",\"\",VLOOKUP(AA73,'【記載例】（ユニット型）シフト記号表'!$C$5:$W$46,21,FALSE))","v":2},{"$f":"IF(AB73=\"\",\"\",VLOOKUP(AB73,'【記載例】（ユニット型）シフト記号表'!$C$5:$W$46,21,FALSE))","v":"-"},{"$f":"IF(AC73=\"\",\"\",VLOOKUP(AC73,'【記載例】（ユニット型）シフト記号表'!$C$5:$W$46,21,FALSE))","v":5.9999999999999991},{"$f":"IF(AD73=\"\",\"\",VLOOKUP(AD73,'【記載例】（ユニット型）シフト記号表'!$C$5:$W$46,21,FALSE))","v":5.9999999999999991},{"$f":"IF(AE73=\"\",\"\",VLOOKUP(AE73,'【記載例】（ユニット型）シフト記号表'!$C$5:$W$46,21,FALSE))","v":"-"},{"$f":"IF(AF73=\"\",\"\",VLOOKUP(AF73,'【記載例】（ユニット型）シフト記号表'!$C$5:$W$46,21,FALSE))","v":5.0000000000000009},{"$f":"IF(AG73=\"\",\"\",VLOOKUP(AG73,'【記載例】（ユニット型）シフト記号表'!$C$5:$W$46,21,FALSE))","v":"-"},{"$f":"IF(AH73=\"\",\"\",VLOOKUP(AH73,'【記載例】（ユニット型）シフト記号表'!$C$5:$W$46,21,FALSE))","v":"-"},{"$f":"IF(AI73=\"\",\"\",VLOOKUP(AI73,'【記載例】（ユニット型）シフト記号表'!$C$5:$W$46,21,FALSE))","v":2},{"$f":"IF(AJ73=\"\",\"\",VLOOKUP(AJ73,'【記載例】（ユニット型）シフト記号表'!$C$5:$W$46,21,FALSE))","v":"-"},{"$f":"IF(AK73=\"\",\"\",VLOOKUP(AK73,'【記載例】（ユニット型）シフト記号表'!$C$5:$W$46,21,FALSE))","v":5.9999999999999991},{"$f":"IF(AL73=\"\",\"\",VLOOKUP(AL73,'【記載例】（ユニット型）シフト記号表'!$C$5:$W$46,21,FALSE))","v":5.9999999999999991},{"$f":"IF(AM73=\"\",\"\",VLOOKUP(AM73,'【記載例】（ユニット型）シフト記号表'!$C$5:$W$46,21,FALSE))","v":"-"},{"$f":"IF(AN73=\"\",\"\",VLOOKUP(AN73,'【記載例】（ユニット型）シフト記号表'!$C$5:$W$46,21,FALSE))","v":5.0000000000000009},{"$f":"IF(AO73=\"\",\"\",VLOOKUP(AO73,'【記載例】（ユニット型）シフト記号表'!$C$5:$W$46,21,FALSE))","v":5.0000000000000009},{"$f":"IF(AP73=\"\",\"\",VLOOKUP(AP73,'【記載例】（ユニット型）シフト記号表'!$C$5:$W$46,21,FALSE))","v":"-"},{"$f":"IF(AQ73=\"\",\"\",VLOOKUP(AQ73,'【記載例】（ユニット型）シフト記号表'!$C$5:$W$46,21,FALSE))","v":2},{"$f":"IF(AR73=\"\",\"\",VLOOKUP(AR73,'【記載例】（ユニット型）シフト記号表'!$C$5:$W$46,21,FALSE))","v":"-"},{"$f":"IF(AS73=\"\",\"\",VLOOKUP(AS73,'【記載例】（ユニット型）シフト記号表'!$C$5:$W$46,21,FALSE))","v":5.9999999999999991},{"$f":"IF(AT73=\"\",\"\",VLOOKUP(AT73,'【記載例】（ユニット型）シフト記号表'!$C$5:$W$46,21,FALSE))","v":5.9999999999999991},{"$f":"IF(AU73=\"\",\"\",VLOOKUP(AU73,'【記載例】（ユニット型）シフト記号表'!$C$5:$W$46,21,FALSE))","v":"-"},{"$f":"IF(AV73=\"\",\"\",VLOOKUP(AV73,'【記載例】（ユニット型）シフト記号表'!$C$5:$W$46,21,FALSE))","v":5.0000000000000009},{"$f":"IF(AW73=\"\",\"\",VLOOKUP(AW73,'【記載例】（ユニット型）シフト記号表'!$C$5:$W$46,21,FALSE))","v":"-"},{"$f":"IF(AX73=\"\",\"\",VLOOKUP(AX73,'【記載例】（ユニット型）シフト記号表'!$C$5:$W$46,21,FALSE))","v":"-"},{"$f":"IF(AY73=\"\",\"\",VLOOKUP(AY73,'【記載例】（ユニット型）シフト記号表'!$C$5:$W$46,21,FALSE))","v":2},{"$f":"IF(AZ73=\"\",\"\",VLOOKUP(AZ73,'【記載例】（ユニット型）シフト記号表'!$C$5:$W$46,21,FALSE))","v":"-"},{"$f":"IF(BA73=\"\",\"\",VLOOKUP(BA73,'【記載例】（ユニット型）シフト記号表'!$C$5:$W$46,21,FALSE))","v":5.9999999999999991},{"$f":"IF(BB73=\"\",\"\",VLOOKUP(BB73,'【記載例】（ユニット型）シフト記号表'!$C$5:$W$46,21,FALSE))","v":5.9999999999999991},{"$f":"IF(BC73=\"\",\"\",VLOOKUP(BC73,'【記載例】（ユニット型）シフト記号表'!$C$5:$W$46,21,FALSE))","v":""},{"$f":"IF(BD73=\"\",\"\",VLOOKUP(BD73,'【記載例】（ユニット型）シフト記号表'!$C$5:$W$46,21,FALSE))","v":""},{"$f":"IF(BE73=\"\",\"\",VLOOKUP(BE73,'【記載例】（ユニット型）シフト記号表'!$C$5:$W$46,21,FALSE))","v":""},{"$f":"IF($BI$3=\"計画\",SUM(AA74:BB74),IF($BI$3=\"実績\",SUM(AA74:BE74),\"\"))","v":76},null,{"$f":"IF($BI$3=\"計画\",BF74/4,IF($BI$3=\"実績\",(BF74/($BI$7/7)),\"\"))","v":19}]
[null,null,null,null,null,null,null,null,{"$f":"G74","v":"看護職員"},null,{"$f":"M74","v":"A"},null,null,null,null,null,null,null,null,null,null,"夜勤時間帯の勤務時間数",null,null,null,null,{"$f":"IF(AA73=\"\",\"\",VLOOKUP(AA73,'【記載例】（ユニット型）シフト記号表'!$C$5:$Y$46,23,FALSE))","v":14},{"$f":"IF(AB73=\"\",\"\",VLOOKUP(AB73,'【記載例】（ユニット型）シフト記号表'!$C$5:$Y$46,23,FALSE))","v":"-"},{"$f":"IF(AC73=\"\",\"\",VLOOKUP(AC73,'【記載例】（ユニット型）シフト記号表'!$C$5:$Y$46,23,FALSE))","v":1.9999999999999991},{"$f":"IF(AD73=\"\",\"\",VLOOKUP(AD73,'【記載例】（ユニット型）シフト記号表'!$C$5:$Y$46,23,FALSE))","v":1.9999999999999991},{"$f":"IF(AE73=\"\",\"\",VLOOKUP(AE73,'【記載例】（ユニット型）シフト記号表'!$C$5:$Y$46,23,FALSE))","v":"-"},{"$f":"IF(AF73=\"\",\"\",VLOOKUP(AF73,'【記載例】（ユニット型）シフト記号表'!$C$5:$Y$46,23,FALSE))","v":2.9999999999999991},{"$f":"IF(AG73=\"\",\"\",VLOOKUP(AG73,'【記載例】（ユニット型）シフト記号表'!$C$5:$Y$46,23,FALSE))","v":"-"},{"$f":"IF(AH73=\"\",\"\",VLOOKUP(AH73,'【記載例】（ユニット型）シフト記号表'!$C$5:$Y$46,23,FALSE))","v":"-"},{"$f":"IF(AI73=\"\",\"\",VLOOKUP(AI73,'【記載例】（ユニット型）シフト記号表'!$C$5:$Y$46,23,FALSE))","v":14},{"$f":"IF(AJ73=\"\",\"\",VLOOKUP(AJ73,'【記載例】（ユニット型）シフト記号表'!$C$5:$Y$46,23,FALSE))","v":"-"},{"$f":"IF(AK73=\"\",\"\",VLOOKUP(AK73,'【記載例】（ユニット型）シフト記号表'!$C$5:$Y$46,23,FALSE))","v":1.9999999999999991},{"$f":"IF(AL73=\"\",\"\",VLOOKUP(AL73,'【記載例】（ユニット型）シフト記号表'!$C$5:$Y$46,23,FALSE))","v":1.9999999999999991},{"$f":"IF(AM73=\"\",\"\",VLOOKUP(AM73,'【記載例】（ユニット型）シフト記号表'!$C$5:$Y$46,23,FALSE))","v":"-"},{"$f":"IF(AN73=\"\",\"\",VLOOKUP(AN73,'【記載例】（ユニット型）シフト記号表'!$C$5:$Y$46,23,FALSE))","v":2.9999999999999991},{"$f":"IF(AO73=\"\",\"\",VLOOKUP(AO73,'【記載例】（ユニット型）シフト記号表'!$C$5:$Y$46,23,FALSE))","v":2.9999999999999991},{"$f":"IF(AP73=\"\",\"\",VLOOKUP(AP73,'【記載例】（ユニット型）シフト記号表'!$C$5:$Y$46,23,FALSE))","v":"-"},{"$f":"IF(AQ73=\"\",\"\",VLOOKUP(AQ73,'【記載例】（ユニット型）シフト記号表'!$C$5:$Y$46,23,FALSE))","v":14},{"$f":"IF(AR73=\"\",\"\",VLOOKUP(AR73,'【記載例】（ユニット型）シフト記号表'!$C$5:$Y$46,23,FALSE))","v":"-"},{"$f":"IF(AS73=\"\",\"\",VLOOKUP(AS73,'【記載例】（ユニット型）シフト記号表'!$C$5:$Y$46,23,FALSE))","v":1.9999999999999991},{"$f":"IF(AT73=\"\",\"\",VLOOKUP(AT73,'【記載例】（ユニット型）シフト記号表'!$C$5:$Y$46,23,FALSE))","v":1.9999999999999991},{"$f":"IF(AU73=\"\",\"\",VLOOKUP(AU73,'【記載例】（ユニット型）シフト記号表'!$C$5:$Y$46,23,FALSE))","v":"-"},{"$f":"IF(AV73=\"\",\"\",VLOOKUP(AV73,'【記載例】（ユニット型）シフト記号表'!$C$5:$Y$46,23,FALSE))","v":2.9999999999999991},{"$f":"IF(AW73=\"\",\"\",VLOOKUP(AW73,'【記載例】（ユニット型）シフト記号表'!$C$5:$Y$46,23,FALSE))","v":"-"},{"$f":"IF(AX73=\"\",\"\",VLOOKUP(AX73,'【記載例】（ユニット型）シフト記号表'!$C$5:$Y$46,23,FALSE))","v":"-"},{"$f":"IF(AY73=\"\",\"\",VLOOKUP(AY73,'【記載例】（ユニット型）シフト記号表'!$C$5:$Y$46,23,FALSE))","v":14},{"$f":"IF(AZ73=\"\",\"\",VLOOKUP(AZ73,'【記載例】（ユニット型）シフト記号表'!$C$5:$Y$46,23,FALSE))","v":"-"},{"$f":"IF(BA73=\"\",\"\",VLOOKUP(BA73,'【記載例】（ユニット型）シフト記号表'!$C$5:$Y$46,23,FALSE))","v":1.9999999999999991},{"$f":"IF(BB73=\"\",\"\",VLOOKUP(BB73,'【記載例】（ユニット型）シフト記号表'!$C$5:$Y$46,23,FALSE))","v":1.9999999999999991},{"$f":"IF(BC73=\"\",\"\",VLOOKUP(BC73,'【記載例】（ユニット型）シフト記号表'!$C$5:$Y$46,23,FALSE))","v":""},{"$f":"IF(BD73=\"\",\"\",VLOOKUP(BD73,'【記載例】（ユニット型）シフト記号表'!$C$5:$Y$46,23,FALSE))","v":""},{"$f":"IF(BE73=\"\",\"\",VLOOKUP(BE73,'【記載例】（ユニット型）シフト記号表'!$C$5:$Y$46,23,FALSE))","v":""},{"$f":"IF($BI$3=\"計画\",SUM(AA75:BB75),IF($BI$3=\"実績\",SUM(AA75:BE75),\"\"))","v":84},null,{"$f":"IF($BI$3=\"計画\",BF75/4,IF($BI$3=\"実績\",(BF75/($BI$7/7)),\"\"))","v":21}]
[null,null,null,"ユニット３",null,null,null,null,null,null,null,null,null,null,null,null,null,null,"○○　U子",null,null,"シフト記号",null,null,null,null,"休","o","休","d","a","休","d","d","休","o","休","d","a","休","d","a","休","o","休","d","休","休","d","a","休","o","休","d"]
[null,{"$f":"B74+1","v":20},null,null,null,null,"介護職員",null,null,null,null,null,"A",null,"介護福祉士",null,null,null,null,null,null,"日中の勤務時間数",null,null,null,null,{"$f":"IF(AA76=\"\",\"\",VLOOKUP(AA76,'【記載例】（ユニット型）シフト記号表'!$C$5:$W$46,21,FALSE))","v":"-"},{"$f":"IF(AB76=\"\",\"\",VLOOKUP(AB76,'【記載例】（ユニット型）シフト記号表'!$C$5:$W$46,21,FALSE))","v":2},{"$f":"IF(AC76=\"\",\"\",VLOOKUP(AC76,'【記載例】（ユニット型）シフト記号表'!$C$5:$W$46,21,FALSE))","v":"-"},{"$f":"IF(AD76=\"\",\"\",VLOOKUP(AD76,'【記載例】（ユニット型）シフト記号表'!$C$5:$W$46,21,FALSE))","v":5.0000000000000009},{"$f":"IF(AE76=\"\",\"\",VLOOKUP(AE76,'【記載例】（ユニット型）シフト記号表'!$C$5:$W$46,21,FALSE))","v":5.9999999999999991},{"$f":"IF(AF76=\"\",\"\",VLOOKUP(AF76,'【記載例】（ユニット型）シフト記号表'!$C$5:$W$46,21,FALSE))","v":"-"},{"$f":"IF(AG76=\"\",\"\",VLOOKUP(AG76,'【記載例】（ユニット型）シフト記号表'!$C$5:$W$46,21,FALSE))","v":5.0000000000000009},{"$f":"IF(AH76=\"\",\"\",VLOOKUP(AH76,'【記載例】（ユニット型）シフト記号表'!$C$5:$W$46,21,FALSE))","v":5.0000000000000009},{"$f":"IF(AI76=\"\",\"\",VLOOKUP(AI76,'【記載例】（ユニット型）シフト記号表'!$C$5:$W$46,21,FALSE))","v":"-"},{"$f":"IF(AJ76=\"\",\"\",VLOOKUP(AJ76,'【記載例】（ユニット型）シフト記号表'!$C$5:$W$46,21,FALSE))","v":2},{"$f":"IF(AK76=\"\",\"\",VLOOKUP(AK76,'【記載例】（ユニット型）シフト記号表'!$C$5:$W$46,21,FALSE))","v":"-"},{"$f":"IF(AL76=\"\",\"\",VLOOKUP(AL76,'【記載例】（ユニット型）シフト記号表'!$C$5:$W$46,21,FALSE))","v":5.0000000000000009},{"$f":"IF(AM76=\"\",\"\",VLOOKUP(AM76,'【記載例】（ユニット型）シフト記号表'!$C$5:$W$46,21,FALSE))","v":5.9999999999999991},{"$f":"IF(AN76=\"\",\"\",VLOOKUP(AN76,'【記載例】（ユニット型）シフト記号表'!$C$5:$W$46,21,FALSE))","v":"-"},{"$f":"IF(AO76=\"\",\"\",VLOOKUP(AO76,'【記載例】（ユニット型）シフト記号表'!$C$5:$W$46,21,FALSE))","v":5.0000000000000009},{"$f":"IF(AP76=\"\",\"\",VLOOKUP(AP76,'【記載例】（ユニット型）シフト記号表'!$C$5:$W$46,21,FALSE))","v":5.9999999999999991},{"$f":"IF(AQ76=\"\",\"\",VLOOKUP(AQ76,'【記載例】（ユニット型）シフト記号表'!$C$5:$W$46,21,FALSE))","v":"-"},{"$f":"IF(AR76=\"\",\"\",VLOOKUP(AR76,'【記載例】（ユニット型）シフト記号表'!$C$5:$W$46,21,FALSE))","v":2},{"$f":"IF(AS76=\"\",\"\",VLOOKUP(AS76,'【記載例】（ユニット型）シフト記号表'!$C$5:$W$46,21,FALSE))","v":"-"},{"$f":"IF(AT76=\"\",\"\",VLOOKUP(AT76,'【記載例】（ユニット型）シフト記号表'!$C$5:$W$46,21,FALSE))","v":5.0000000000000009},{"$f":"IF(AU76=\"\",\"\",VLOOKUP(AU76,'【記載例】（ユニット型）シフト記号表'!$C$5:$W$46,21,FALSE))","v":"-"},{"$f":"IF(AV76=\"\",\"\",VLOOKUP(AV76,'【記載例】（ユニット型）シフト記号表'!$C$5:$W$46,21,FALSE))","v":"-"},{"$f":"IF(AW76=\"\",\"\",VLOOKUP(AW76,'【記載例】（ユニット型）シフト記号表'!$C$5:$W$46,21,FALSE))","v":5.0000000000000009},{"$f":"IF(AX76=\"\",\"\",VLOOKUP(AX76,'【記載例】（ユニット型）シフト記号表'!$C$5:$W$46,21,FALSE))","v":5.9999999999999991},{"$f":"IF(AY76=\"\",\"\",VLOOKUP(AY76,'【記載例】（ユニット型）シフト記号表'!$C$5:$W$46,21,FALSE))","v":"-"},{"$f":"IF(AZ76=\"\",\"\",VLOOKUP(AZ76,'【記載例】（ユニット型）シフト記号表'!$C$5:$W$46,21,FALSE))","v":2},{"$f":"IF(BA76=\"\",\"\",VLOOKUP(BA76,'【記載例】（ユニット型）シフト記号表'!$C$5:$W$46,21,FALSE))","v":"-"},{"$f":"IF(BB76=\"\",\"\",VLOOKUP(BB76,'【記載例】（ユニット型）シフト記号表'!$C$5:$W$46,21,FALSE))","v":5.0000000000000009},{"$f":"IF(BC76=\"\",\"\",VLOOKUP(BC76,'【記載例】（ユニット型）シフト記号表'!$C$5:$W$46,21,FALSE))","v":""},{"$f":"IF(BD76=\"\",\"\",VLOOKUP(BD76,'【記載例】（ユニット型）シフト記号表'!$C$5:$W$46,21,FALSE))","v":""},{"$f":"IF(BE76=\"\",\"\",VLOOKUP(BE76,'【記載例】（ユニット型）シフト記号表'!$C$5:$W$46,21,FALSE))","v":""},{"$f":"IF($BI$3=\"計画\",SUM(AA77:BB77),IF($BI$3=\"実績\",SUM(AA77:BE77),\"\"))","v":72},null,{"$f":"IF($BI$3=\"計画\",BF77/4,IF($BI$3=\"実績\",(BF77/($BI$7/7)),\"\"))","v":18}]
[null,null,null,null,null,null,null,null,{"$f":"G77","v":"介護職員"},null,{"$f":"M77","v":"A"},null,null,null,null,null,null,null,null,null,null,"夜勤時間帯の勤務時間数",null,null,null,null,{"$f":"IF(AA76=\"\",\"\",VLOOKUP(AA76,'【記載例】（ユニット型）シフト記号表'!$C$5:$Y$46,23,FALSE))","v":"-"},{"$f":"IF(AB76=\"\",\"\",VLOOKUP(AB76,'【記載例】（ユニット型）シフト記号表'!$C$5:$Y$46,23,FALSE))","v":14},{"$f":"IF(AC76=\"\",\"\",VLOOKUP(AC76,'【記載例】（ユニット型）シフト記号表'!$C$5:$Y$46,23,FALSE))","v":"-"},{"$f":"IF(AD76=\"\",\"\",VLOOKUP(AD76,'【記載例】（ユニット型）シフト記号表'!$C$5:$Y$46,23,FALSE))","v":2.9999999999999991},{"$f":"IF(AE76=\"\",\"\",VLOOKUP(AE76,'【記載例】（ユニット型）シフト記号表'!$C$5:$Y$46,23,FALSE))","v":1.9999999999999991},{"$f":"IF(AF76=\"\",\"\",VLOOKUP(AF76,'【記載例】（ユニット型）シフト記号表'!$C$5:$Y$46,23,FALSE))","v":"-"},{"$f":"IF(AG76=\"\",\"\",VLOOKUP(AG76,'【記載例】（ユニット型）シフト記号表'!$C$5:$Y$46,23,FALSE))","v":2.9999999999999991},{"$f":"IF(AH76=\"\",\"\",VLOOKUP(AH76,'【記載例】（ユニット型）シフト記号表'!$C$5:$Y$46,23,FALSE))","v":2.9999999999999991},{"$f":"IF(AI76=\"\",\"\",VLOOKUP(AI76,'【記載例】（ユニット型）シフト記号表'!$C$5:$Y$46,23,FALSE))","v":"-"},{"$f":"IF(AJ76=\"\",\"\",VLOOKUP(AJ76,'【記載例】（ユニット型）シフト記号表'!$C$5:$Y$46,23,FALSE))","v":14},{"$f":"IF(AK76=\"\",\"\",VLOOKUP(AK76,'【記載例】（ユニット型）シフト記号表'!$C$5:$Y$46,23,FALSE))","v":"-"},{"$f":"IF(AL76=\"\",\"\",VLOOKUP(AL76,'【記載例】（ユニット型）シフト記号表'!$C$5:$Y$46,23,FALSE))","v":2.9999999999999991},{"$f":"IF(AM76=\"\",\"\",VLOOKUP(AM76,'【記載例】（ユニット型）シフト記号表'!$C$5:$Y$46,23,FALSE))","v":1.9999999999999991},{"$f":"IF(AN76=\"\",\"\",VLOOKUP(AN76,'【記載例】（ユニット型）シフト記号表'!$C$5:$Y$46,23,FALSE))","v":"-"},{"$f":"IF(AO76=\"\",\"\",VLOOKUP(AO76,'【記載例】（ユニット型）シフト記号表'!$C$5:$Y$46,23,FALSE))","v":2.9999999999999991},{"$f":"IF(AP76=\"\",\"\",VLOOKUP(AP76,'【記載例】（ユニット型）シフト記号表'!$C$5:$Y$46,23,FALSE))","v":1.9999999999999991},{"$f":"IF(AQ76=\"\",\"\",VLOOKUP(AQ76,'【記載例】（ユニット型）シフト記号表'!$C$5:$Y$46,23,FALSE))","v":"-"},{"$f":"IF(AR76=\"\",\"\",VLOOKUP(AR76,'【記載例】（ユニット型）シフト記号表'!$C$5:$Y$46,23,FALSE))","v":14},{"$f":"IF(AS76=\"\",\"\",VLOOKUP(AS76,'【記載例】（ユニット型）シフト記号表'!$C$5:$Y$46,23,FALSE))","v":"-"},{"$f":"IF(AT76=\"\",\"\",VLOOKUP(AT76,'【記載例】（ユニット型）シフト記号表'!$C$5:$Y$46,23,FALSE))","v":2.9999999999999991},{"$f":"IF(AU76=\"\",\"\",VLOOKUP(AU76,'【記載例】（ユニット型）シフト記号表'!$C$5:$Y$46,23,FALSE))","v":"-"},{"$f":"IF(AV76=\"\",\"\",VLOOKUP(AV76,'【記載例】（ユニット型）シフト記号表'!$C$5:$Y$46,23,FALSE))","v":"-"},{"$f":"IF(AW76=\"\",\"\",VLOOKUP(AW76,'【記載例】（ユニット型）シフト記号表'!$C$5:$Y$46,23,FALSE))","v":2.9999999999999991},{"$f":"IF(AX76=\"\",\"\",VLOOKUP(AX76,'【記載例】（ユニット型）シフト記号表'!$C$5:$Y$46,23,FALSE))","v":1.9999999999999991},{"$f":"IF(AY76=\"\",\"\",VLOOKUP(AY76,'【記載例】（ユニット型）シフト記号表'!$C$5:$Y$46,23,FALSE))","v":"-"},{"$f":"IF(AZ76=\"\",\"\",VLOOKUP(AZ76,'【記載例】（ユニット型）シフト記号表'!$C$5:$Y$46,23,FALSE))","v":14},{"$f":"IF(BA76=\"\",\"\",VLOOKUP(BA76,'【記載例】（ユニット型）シフト記号表'!$C$5:$Y$46,23,FALSE))","v":"-"},{"$f":"IF(BB76=\"\",\"\",VLOOKUP(BB76,'【記載例】（ユニット型）シフト記号表'!$C$5:$Y$46,23,FALSE))","v":2.9999999999999991},{"$f":"IF(BC76=\"\",\"\",VLOOKUP(BC76,'【記載例】（ユニット型）シフト記号表'!$C$5:$Y$46,23,FALSE))","v":""},{"$f":"IF(BD76=\"\",\"\",VLOOKUP(BD76,'【記載例】（ユニット型）シフト記号表'!$C$5:$Y$46,23,FALSE))","v":""},{"$f":"IF(BE76=\"\",\"\",VLOOKUP(BE76,'【記載例】（ユニット型）シフト記号表'!$C$5:$Y$46,23,FALSE))","v":""},{"$f":"IF($BI$3=\"計画\",SUM(AA78:BB78),IF($BI$3=\"実績\",SUM(AA78:BE78),\"\"))","v":88},null,{"$f":"IF($BI$3=\"計画\",BF78/4,IF($BI$3=\"実績\",(BF78/($BI$7/7)),\"\"))","v":22}]
[null,null,null,"ユニット３",null,null,null,null,null,null,null,null,null,null,null,null,null,null,"○○　V男",null,null,"シフト記号",null,null,null,null,"d","休","o","休","d","a","休","a","d","休","o","休","d","休","a","d","休","休","o","休","a","a","休","d","a","休","o","休"]
[null,{"$f":"B77+1","v":21},null,null,null,null,"介護職員",null,null,null,null,null,"A",null,"ー",null,null,null,null,null,null,"日中の勤務時間数",null,null,null,null,{"$f":"IF(AA79=\"\",\"\",VLOOKUP(AA79,'【記載例】（ユニット型）シフト記号表'!$C$5:$W$46,21,FALSE))","v":5.0000000000000009},{"$f":"IF(AB79=\"\",\"\",VLOOKUP(AB79,'【記載例】（ユニット型）シフト記号表'!$C$5:$W$46,21,FALSE))","v":"-"},{"$f":"IF(AC79=\"\",\"\",VLOOKUP(AC79,'【記載例】（ユニット型）シフト記号表'!$C$5:$W$46,21,FALSE))","v":2},{"$f":"IF(AD79=\"\",\"\",VLOOKUP(AD79,'【記載例】（ユニット型）シフト記号表'!$C$5:$W$46,21,FALSE))","v":"-"},{"$f":"IF(AE79=\"\",\"\",VLOOKUP(AE79,'【記載例】（ユニット型）シフト記号表'!$C$5:$W$46,21,FALSE))","v":5.0000000000000009},{"$f":"IF(AF79=\"\",\"\",VLOOKUP(AF79,'【記載例】（ユニット型）シフト記号表'!$C$5:$W$46,21,FALSE))","v":5.9999999999999991},{"$f":"IF(AG79=\"\",\"\",VLOOKUP(AG79,'【記載例】（ユニット型）シフト記号表'!$C$5:$W$46,21,FALSE))","v":"-"},{"$f":"IF(AH79=\"\",\"\",VLOOKUP(AH79,'【記載例】（ユニット型）シフト記号表'!$C$5:$W$46,21,FALSE))","v":5.9999999999999991},{"$f":"IF(AI79=\"\",\"\",VLOOKUP(AI79,'【記載例】（ユニット型）シフト記号表'!$C$5:$W$46,21,FALSE))","v":5.0000000000000009},{"$f":"IF(AJ79=\"\",\"\",VLOOKUP(AJ79,'【記載例】（ユニット型）シフト記号表'!$C$5:$W$46,21,FALSE))","v":"-"},{"$f":"IF(AK79=\"\",\"\",VLOOKUP(AK79,'【記載例】（ユニット型）シフト記号表'!$C$5:$W$46,21,FALSE))","v":2},{"$f":"IF(AL79=\"\",\"\",VLOOKUP(AL79,'【記載例】（ユニット型）シフト記号表'!$C$5:$W$46,21,FALSE))","v":"-"},{"$f":"IF(AM79=\"\",\"\",VLOOKUP(AM79,'【記載例】（ユニット型）シフト記号表'!$C$5:$W$46,21,FALSE))","v":5.0000000000000009},{"$f":"IF(AN79=\"\",\"\",VLOOKUP(AN79,'【記載例】（ユニット型）シフト記号表'!$C$5:$W$46,21,FALSE))","v":"-"},{"$f":"IF(AO79=\"\",\"\",VLOOKUP(AO79,'【記載例】（ユニット型）シフト記号表'!$C$5:$W$46,21,FALSE))","v":5.9999999999999991},{"$f":"IF(AP79=\"\",\"\",VLOOKUP(AP79,'【記載例】（ユニット型）シフト記号表'!$C$5:$W$46,21,FALSE))","v":5.0000000000000009},{"$f":"IF(AQ79=\"\",\"\",VLOOKUP(AQ79,'【記載例】（ユニット型）シフト記号表'!$C$5:$W$46,21,FALSE))","v":"-"},{"$f":"IF(AR79=\"\",\"\",VLOOKUP(AR79,'【記載例】（ユニット型）シフト記号表'!$C$5:$W$46,21,FALSE))","v":"-"},{"$f":"IF(AS79=\"\",\"\",VLOOKUP(AS79,'【記載例】（ユニット型）シフト記号表'!$C$5:$W$46,21,FALSE))","v":2},{"$f":"IF(AT79=\"\",\"\",VLOOKUP(AT79,'【記載例】（ユニット型）シフト記号表'!$C$5:$W$46,21,FALSE))","v":"-"},{"$f":"IF(AU79=\"\",\"\",VLOOKUP(AU79,'【記載例】（ユニット型）シフト記号表'!$C$5:$W$46,21,FALSE))","v":5.9999999999999991},{"$f":"IF(AV79=\"\",\"\",VLOOKUP(AV79,'【記載例】（ユニット型）シフト記号表'!$C$5:$W$46,21,FALSE))","v":5.9999999999999991},{"$f":"IF(AW79=\"\",\"\",VLOOKUP(AW79,'【記載例】（ユニット型）シフト記号表'!$C$5:$W$46,21,FALSE))","v":"-"},{"$f":"IF(AX79=\"\",\"\",VLOOKUP(AX79,'【記載例】（ユニット型）シフト記号表'!$C$5:$W$46,21,FALSE))","v":5.0000000000000009},{"$f":"IF(AY79=\"\",\"\",VLOOKUP(AY79,'【記載例】（ユニット型）シフト記号表'!$C$5:$W$46,21,FALSE))","v":5.9999999999999991},{"$f":"IF(AZ79=\"\",\"\",VLOOKUP(AZ79,'【記載例】（ユニット型）シフト記号表'!$C$5:$W$46,21,FALSE))","v":"-"},{"$f":"IF(BA79=\"\",\"\",VLOOKUP(BA79,'【記載例】（ユニット型）シフト記号表'!$C$5:$W$46,21,FALSE))","v":2},{"$f":"IF(BB79=\"\",\"\",VLOOKUP(BB79,'【記載例】（ユニット型）シフト記号表'!$C$5:$W$46,21,FALSE))","v":"-"},{"$f":"IF(BC79=\"\",\"\",VLOOKUP(BC79,'【記載例】（ユニット型）シフト記号表'!$C$5:$W$46,21,FALSE))","v":""},{"$f":"IF(BD79=\"\",\"\",VLOOKUP(BD79,'【記載例】（ユニット型）シフト記号表'!$C$5:$W$46,21,FALSE))","v":""},{"$f":"IF(BE79=\"\",\"\",VLOOKUP(BE79,'【記載例】（ユニット型）シフト記号表'!$C$5:$W$46,21,FALSE))","v":""},{"$f":"IF($BI$3=\"計画\",SUM(AA80:BB80),IF($BI$3=\"実績\",SUM(AA80:BE80),\"\"))","v":74},null,{"$f":"IF($BI$3=\"計画\",BF80/4,IF($BI$3=\"実績\",(BF80/($BI$7/7)),\"\"))","v":18.5}]
[null,null,null,null,null,null,null,null,{"$f":"G80","v":"介護職員"},null,{"$f":"M80","v":"A"},null,null,null,null,null,null,null,null,null,null,"夜勤時間帯の勤務時間数",null,null,null,null,{"$f":"IF(AA79=\"\",\"\",VLOOKUP(AA79,'【記載例】（ユニット型）シフト記号表'!$C$5:$Y$46,23,FALSE))","v":2.9999999999999991},{"$f":"IF(AB79=\"\",\"\",VLOOKUP(AB79,'【記載例】（ユニット型）シフト記号表'!$C$5:$Y$46,23,FALSE))","v":"-"},{"$f":"IF(AC79=\"\",\"\",VLOOKUP(AC79,'【記載例】（ユニット型）シフト記号表'!$C$5:$Y$46,23,FALSE))","v":14},{"$f":"IF(AD79=\"\",\"\",VLOOKUP(AD79,'【記載例】（ユニット型）シフト記号表'!$C$5:$Y$46,23,FALSE))","v":"-"},{"$f":"IF(AE79=\"\",\"\",VLOOKUP(AE79,'【記載例】（ユニット型）シフト記号表'!$C$5:$Y$46,23,FALSE))","v":2.9999999999999991},{"$f":"IF(AF79=\"\",\"\",VLOOKUP(AF79,'【記載例】（ユニット型）シフト記号表'!$C$5:$Y$46,23,FALSE))","v":1.9999999999999991},{"$f":"IF(AG79=\"\",\"\",VLOOKUP(AG79,'【記載例】（ユニット型）シフト記号表'!$C$5:$Y$46,23,FALSE))","v":"-"},{"$f":"IF(AH79=\"\",\"\",VLOOKUP(AH79,'【記載例】（ユニット型）シフト記号表'!$C$5:$Y$46,23,FALSE))","v":1.9999999999999991},{"$f":"IF(AI79=\"\",\"\",VLOOKUP(AI79,'【記載例】（ユニット型）シフト記号表'!$C$5:$Y$46,23,FALSE))","v":2.9999999999999991},{"$f":"IF(AJ79=\"\",\"\",VLOOKUP(AJ79,'【記載例】（ユニット型）シフト記号表'!$C$5:$Y$46,23,FALSE))","v":"-"},{"$f":"IF(AK79=\"\",\"\",VLOOKUP(AK79,'【記載例】（ユニット型）シフト記号表'!$C$5:$Y$46,23,FALSE))","v":14},{"$f":"IF(AL79=\"\",\"\",VLOOKUP(AL79,'【記載例】（ユニット型）シフト記号表'!$C$5:$Y$46,23,FALSE))","v":"-"},{"$f":"IF(AM79=\"\",\"\",VLOOKUP(AM79,'【記載例】（ユニット型）シフト記号表'!$C$5:$Y$46,23,FALSE))","v":2.9999999999999991},{"$f":"IF(AN79=\"\",\"\",VLOOKUP(AN79,'【記載例】（ユニット型）シフト記号表'!$C$5:$Y$46,23,FALSE))","v":"-"},{"$f":"IF(AO79=\"\",\"\",VLOOKUP(AO79,'【記載例】（ユニット型）シフト記号表'!$C$5:$Y$46,23,FALSE))","v":1.9999999999999991},{"$f":"IF(AP79=\"\",\"\",VLOOKUP(AP79,'【記載例】（ユニット型）シフト記号表'!$C$5:$Y$46,23,FALSE))","v":2.9999999999999991},{"$f":"IF(AQ79=\"\",\"\",VLOOKUP(AQ79,'【記載例】（ユニット型）シフト記号表'!$C$5:$Y$46,23,FALSE))","v":"-"},{"$f":"IF(AR79=\"\",\"\",VLOOKUP(AR79,'【記載例】（ユニット型）シフト記号表'!$C$5:$Y$46,23,FALSE))","v":"-"},{"$f":"IF(AS79=\"\",\"\",VLOOKUP(AS79,'【記載例】（ユニット型）シフト記号表'!$C$5:$Y$46,23,FALSE))","v":14},{"$f":"IF(AT79=\"\",\"\",VLOOKUP(AT79,'【記載例】（ユニット型）シフト記号表'!$C$5:$Y$46,23,FALSE))","v":"-"},{"$f":"IF(AU79=\"\",\"\",VLOOKUP(AU79,'【記載例】（ユニット型）シフト記号表'!$C$5:$Y$46,23,FALSE))","v":1.9999999999999991},{"$f":"IF(AV79=\"\",\"\",VLOOKUP(AV79,'【記載例】（ユニット型）シフト記号表'!$C$5:$Y$46,23,FALSE))","v":1.9999999999999991},{"$f":"IF(AW79=\"\",\"\",VLOOKUP(AW79,'【記載例】（ユニット型）シフト記号表'!$C$5:$Y$46,23,FALSE))","v":"-"},{"$f":"IF(AX79=\"\",\"\",VLOOKUP(AX79,'【記載例】（ユニット型）シフト記号表'!$C$5:$Y$46,23,FALSE))","v":2.9999999999999991},{"$f":"IF(AY79=\"\",\"\",VLOOKUP(AY79,'【記載例】（ユニット型）シフト記号表'!$C$5:$Y$46,23,FALSE))","v":1.9999999999999991},{"$f":"IF(AZ79=\"\",\"\",VLOOKUP(AZ79,'【記載例】（ユニット型）シフト記号表'!$C$5:$Y$46,23,FALSE))","v":"-"},{"$f":"IF(BA79=\"\",\"\",VLOOKUP(BA79,'【記載例】（ユニット型）シフト記号表'!$C$5:$Y$46,23,FALSE))","v":14},{"$f":"IF(BB79=\"\",\"\",VLOOKUP(BB79,'【記載例】（ユニット型）シフト記号表'!$C$5:$Y$46,23,FALSE))","v":"-"},{"$f":"IF(BC79=\"\",\"\",VLOOKUP(BC79,'【記載例】（ユニット型）シフト記号表'!$C$5:$Y$46,23,FALSE))","v":""},{"$f":"IF(BD79=\"\",\"\",VLOOKUP(BD79,'【記載例】（ユニット型）シフト記号表'!$C$5:$Y$46,23,FALSE))","v":""},{"$f":"IF(BE79=\"\",\"\",VLOOKUP(BE79,'【記載例】（ユニット型）シフト記号表'!$C$5:$Y$46,23,FALSE))","v":""},{"$f":"IF($BI$3=\"計画\",SUM(AA81:BB81),IF($BI$3=\"実績\",SUM(AA81:BE81),\"\"))","v":86},null,{"$f":"IF($BI$3=\"計画\",BF81/4,IF($BI$3=\"実績\",(BF81/($BI$7/7)),\"\"))","v":21.5}]
[null,null,null,"ユニット３",null,null,null,null,null,null,null,null,null,null,null,null,null,null,"○○　W子",null,null,"シフト記号",null,null,null,null,"a","d","休","o","休","休","a","d","d","a","休","o","休","休","d","休","d","d","休","o","休","d","a","休","d","休","休","o"]
[null,{"$f":"B80+1","v":22},null,null,null,null,"介護職員",null,null,null,null,null,"A",null,"ー",null,null,null,null,null,null,"日中の勤務時間数",null,null,null,null,{"$f":"IF(AA82=\"\",\"\",VLOOKUP(AA82,'【記載例】（ユニット型）シフト記号表'!$C$5:$W$46,21,FALSE))","v":5.9999999999999991},{"$f":"IF(AB82=\"\",\"\",VLOOKUP(AB82,'【記載例】（ユニット型）シフト記号表'!$C$5:$W$46,21,FALSE))","v":5.0000000000000009},{"$f":"IF(AC82=\"\",\"\",VLOOKUP(AC82,'【記載例】（ユニット型）シフト記号表'!$C$5:$W$46,21,FALSE))","v":"-"},{"$f":"IF(AD82=\"\",\"\",VLOOKUP(AD82,'【記載例】（ユニット型）シフト記号表'!$C$5:$W$46,21,FALSE))","v":2},{"$f":"IF(AE82=\"\",\"\",VLOOKUP(AE82,'【記載例】（ユニット型）シフト記号表'!$C$5:$W$46,21,FALSE))","v":"-"},{"$f":"IF(AF82=\"\",\"\",VLOOKUP(AF82,'【記載例】（ユニット型）シフト記号表'!$C$5:$W$46,21,FALSE))","v":"-"},{"$f":"IF(AG82=\"\",\"\",VLOOKUP(AG82,'【記載例】（ユニット型）シフト記号表'!$C$5:$W$46,21,FALSE))","v":5.9999999999999991},{"$f":"IF(AH82=\"\",\"\",VLOOKUP(AH82,'【記載例】（ユニット型）シフト記号表'!$C$5:$W$46,21,FALSE))","v":5.0000000000000009},{"$f":"IF(AI82=\"\",\"\",VLOOKUP(AI82,'【記載例】（ユニット型）シフト記号表'!$C$5:$W$46,21,FALSE))","v":5.0000000000000009},{"$f":"IF(AJ82=\"\",\"\",VLOOKUP(AJ82,'【記載例】（ユニット型）シフト記号表'!$C$5:$W$46,21,FALSE))","v":5.9999999999999991},{"$f":"IF(AK82=\"\",\"\",VLOOKUP(AK82,'【記載例】（ユニット型）シフト記号表'!$C$5:$W$46,21,FALSE))","v":"-"},{"$f":"IF(AL82=\"\",\"\",VLOOKUP(AL82,'【記載例】（ユニット型）シフト記号表'!$C$5:$W$46,21,FALSE))","v":2},{"$f":"IF(AM82=\"\",\"\",VLOOKUP(AM82,'【記載例】（ユニット型）シフト記号表'!$C$5:$W$46,21,FALSE))","v":"-"},{"$f":"IF(AN82=\"\",\"\",VLOOKUP(AN82,'【記載例】（ユニット型）シフト記号表'!$C$5:$W$46,21,FALSE))","v":"-"},{"$f":"IF(AO82=\"\",\"\",VLOOKUP(AO82,'【記載例】（ユニット型）シフト記号表'!$C$5:$W$46,21,FALSE))","v":5.0000000000000009},{"$f":"IF(AP82=\"\",\"\",VLOOKUP(AP82,'【記載例】（ユニット型）シフト記号表'!$C$5:$W$46,21,FALSE))","v":"-"},{"$f":"IF(AQ82=\"\",\"\",VLOOKUP(AQ82,'【記載例】（ユニット型）シフト記号表'!$C$5:$W$46,21,FALSE))","v":5.0000000000000009},{"$f":"IF(AR82=\"\",\"\",VLOOKUP(AR82,'【記載例】（ユニット型）シフト記号表'!$C$5:$W$46,21,FALSE))","v":5.0000000000000009},{"$f":"IF(AS82=\"\",\"\",VLOOKUP(AS82,'【記載例】（ユニット型）シフト記号表'!$C$5:$W$46,21,FALSE))","v":"-"},{"$f":"IF(AT82=\"\",\"\",VLOOKUP(AT82,'【記載例】（ユニット型）シフト記号表'!$C$5:$W$46,21,FALSE))","v":2},{"$f":"IF(AU82=\"\",\"\",VLOOKUP(AU82,'【記載例】（ユニット型）シフト記号表'!$C$5:$W$46,21,FALSE))","v":"-"},{"$f":"IF(AV82=\"\",\"\",VLOOKUP(AV82,'【記載例】（ユニット型）シフト記号表'!$C$5:$W$46,21,FALSE))","v":5.0000000000000009},{"$f":"IF(AW82=\"\",\"\",VLOOKUP(AW82,'【記載例】（ユニット型）シフト記号表'!$C$5:$W$46,21,FALSE))","v":5.9999999999999991},{"$f":"IF(AX82=\"\",\"\",VLOOKUP(AX82,'【記載例】（ユニット型）シフト記号表'!$C$5:$W$46,21,FALSE))","v":"-"},{"$f":"IF(AY82=\"\",\"\",VLOOKUP(AY82,'【記載例】（ユニット型）シフト記号表'!$C$5:$W$46,21,FALSE))","v":5.0000000000000009},{"$f":"IF(AZ82=\"\",\"\",VLOOKUP(AZ82,'【記載例】（ユニット型）シフト記号表'!$C$5:$W$46,21,FALSE))","v":"-"},{"$f":"IF(BA82=\"\",\"\",VLOOKUP(BA82,'【記載例】（ユニット型）シフト記号表'!$C$5:$W$46,21,FALSE))","v":"-"},{"$f":"IF(BB82=\"\",\"\",VLOOKUP(BB82,'【記載例】（ユニット型）シフト記号表'!$C$5:$W$46,21,FALSE))","v":2},{"$f":"IF(BC82=\"\",\"\",VLOOKUP(BC82,'【記載例】（ユニット型）シフト記号表'!$C$5:$W$46,21,FALSE))","v":""},{"$f":"IF(BD82=\"\",\"\",VLOOKUP(BD82,'【記載例】（ユニット型）シフト記号表'!$C$5:$W$46,21,FALSE))","v":""},{"$f":"IF(BE82=\"\",\"\",VLOOKUP(BE82,'【記載例】（ユニット型）シフト記号表'!$C$5:$W$46,21,FALSE))","v":""},{"$f":"IF($BI$3=\"計画\",SUM(AA83:BB83),IF($BI$3=\"実績\",SUM(AA83:BE83),\"\"))","v":72},null,{"$f":"IF($BI$3=\"計画\",BF83/4,IF($BI$3=\"実績\",(BF83/($BI$7/7)),\"\"))","v":18}]
[null,null,null,null,null,null,null,null,{"$f":"G83","v":"介護職員"},null,{"$f":"M83","v":"A"},null,null,null,null,null,null,null,null,null,null,"夜勤時間帯の勤務時間数",null,null,null,null,{"$f":"IF(AA82=\"\",\"\",VLOOKUP(AA82,'【記載例】（ユニット型）シフト記号表'!$C$5:$Y$46,23,FALSE))","v":1.9999999999999991},{"$f":"IF(AB82=\"\",\"\",VLOOKUP(AB82,'【記載例】（ユニット型）シフト記号表'!$C$5:$Y$46,23,FALSE))","v":2.9999999999999991},{"$f":"IF(AC82=\"\",\"\",VLOOKUP(AC82,'【記載例】（ユニット型）シフト記号表'!$C$5:$Y$46,23,FALSE))","v":"-"},{"$f":"IF(AD82=\"\",\"\",VLOOKUP(AD82,'【記載例】（ユニット型）シフト記号表'!$C$5:$Y$46,23,FALSE))","v":14},{"$f":"IF(AE82=\"\",\"\",VLOOKUP(AE82,'【記載例】（ユニット型）シフト記号表'!$C$5:$Y$46,23,FALSE))","v":"-"},{"$f":"IF(AF82=\"\",\"\",VLOOKUP(AF82,'【記載例】（ユニット型）シフト記号表'!$C$5:$Y$46,23,FALSE))","v":"-"},{"$f":"IF(AG82=\"\",\"\",VLOOKUP(AG82,'【記載例】（ユニット型）シフト記号表'!$C$5:$Y$46,23,FALSE))","v":1.9999999999999991},{"$f":"IF(AH82=\"\",\"\",VLOOKUP(AH82,'【記載例】（ユニット型）シフト記号表'!$C$5:$Y$46,23,FALSE))","v":2.9999999999999991},{"$f":"IF(AI82=\"\",\"\",VLOOKUP(AI82,'【記載例】（ユニット型）シフト記号表'!$C$5:$Y$46,23,FALSE))","v":2.9999999999999991},{"$f":"IF(AJ82=\"\",\"\",VLOOKUP(AJ82,'【記載例】（ユニット型）シフト記号表'!$C$5:$Y$46,23,FALSE))","v":1.9999999999999991},{"$f":"IF(AK82=\"\",\"\",VLOOKUP(AK82,'【記載例】（ユニット型）シフト記号表'!$C$5:$Y$46,23,FALSE))","v":"-"},{"$f":"IF(AL82=\"\",\"\",VLOOKUP(AL82,'【記載例】（ユニット型）シフト記号表'!$C$5:$Y$46,23,FALSE))","v":14},{"$f":"IF(AM82=\"\",\"\",VLOOKUP(AM82,'【記載例】（ユニット型）シフト記号表'!$C$5:$Y$46,23,FALSE))","v":"-"},{"$f":"IF(AN82=\"\",\"\",VLOOKUP(AN82,'【記載例】（ユニット型）シフト記号表'!$C$5:$Y$46,23,FALSE))","v":"-"},{"$f":"IF(AO82=\"\",\"\",VLOOKUP(AO82,'【記載例】（ユニット型）シフト記号表'!$C$5:$Y$46,23,FALSE))","v":2.9999999999999991},{"$f":"IF(AP82=\"\",\"\",VLOOKUP(AP82,'【記載例】（ユニット型）シフト記号表'!$C$5:$Y$46,23,FALSE))","v":"-"},{"$f":"IF(AQ82=\"\",\"\",VLOOKUP(AQ82,'【記載例】（ユニット型）シフト記号表'!$C$5:$Y$46,23,FALSE))","v":2.9999999999999991},{"$f":"IF(AR82=\"\",\"\",VLOOKUP(AR82,'【記載例】（ユニット型）シフト記号表'!$C$5:$Y$46,23,FALSE))","v":2.9999999999999991},{"$f":"IF(AS82=\"\",\"\",VLOOKUP(AS82,'【記載例】（ユニット型）シフト記号表'!$C$5:$Y$46,23,FALSE))","v":"-"},{"$f":"IF(AT82=\"\",\"\",VLOOKUP(AT82,'【記載例】（ユニット型）シフト記号表'!$C$5:$Y$46,23,FALSE))","v":14},{"$f":"IF(AU82=\"\",\"\",VLOOKUP(AU82,'【記載例】（ユニット型）シフト記号表'!$C$5:$Y$46,23,FALSE))","v":"-"},{"$f":"IF(AV82=\"\",\"\",VLOOKUP(AV82,'【記載例】（ユニット型）シフト記号表'!$C$5:$Y$46,23,FALSE))","v":2.9999999999999991},{"$f":"IF(AW82=\"\",\"\",VLOOKUP(AW82,'【記載例】（ユニット型）シフト記号表'!$C$5:$Y$46,23,FALSE))","v":1.9999999999999991},{"$f":"IF(AX82=\"\",\"\",VLOOKUP(AX82,'【記載例】（ユニット型）シフト記号表'!$C$5:$Y$46,23,FALSE))","v":"-"},{"$f":"IF(AY82=\"\",\"\",VLOOKUP(AY82,'【記載例】（ユニット型）シフト記号表'!$C$5:$Y$46,23,FALSE))","v":2.9999999999999991},{"$f":"IF(AZ82=\"\",\"\",VLOOKUP(AZ82,'【記載例】（ユニット型）シフト記号表'!$C$5:$Y$46,23,FALSE))","v":"-"},{"$f":"IF(BA82=\"\",\"\",VLOOKUP(BA82,'【記載例】（ユニット型）シフト記号表'!$C$5:$Y$46,23,FALSE))","v":"-"},{"$f":"IF(BB82=\"\",\"\",VLOOKUP(BB82,'【記載例】（ユニット型）シフト記号表'!$C$5:$Y$46,23,FALSE))","v":14},{"$f":"IF(BC82=\"\",\"\",VLOOKUP(BC82,'【記載例】（ユニット型）シフト記号表'!$C$5:$Y$46,23,FALSE))","v":""},{"$f":"IF(BD82=\"\",\"\",VLOOKUP(BD82,'【記載例】（ユニット型）シフト記号表'!$C$5:$Y$46,23,FALSE))","v":""},{"$f":"IF(BE82=\"\",\"\",VLOOKUP(BE82,'【記載例】（ユニット型）シフト記号表'!$C$5:$Y$46,23,FALSE))","v":""},{"$f":"IF($BI$3=\"計画\",SUM(AA84:BB84),IF($BI$3=\"実績\",SUM(AA84:BE84),\"\"))","v":88},null,{"$f":"IF($BI$3=\"計画\",BF84/4,IF($BI$3=\"実績\",(BF84/($BI$7/7)),\"\"))","v":22}]
[null,null,null,"ユニット３",null,null,null,null,null,null,null,null,null,null,null,null,null,null,"○○　X太郎",null,null,"シフト記号",null,null,null,null,"休","a","d","休","d","d","休","休","a","d","d","休","休","a","休","休","a","a","d","休","d","休","d","d","休","d","a","休"]
[null,{"$f":"B83+1","v":23},null,null,null,null,"介護職員",null,null,null,null,null,"C",null,"ー",null,null,null,null,null,null,"日中の勤務時間数",null,null,null,null,{"$f":"IF(AA85=\"\",\"\",VLOOKUP(AA85,'【記載例】（ユニット型）シフト記号表'!$C$5:$W$46,21,FALSE))","v":"-"},{"$f":"IF(AB85=\"\",\"\",VLOOKUP(AB85,'【記載例】（ユニット型）シフト記号表'!$C$5:$W$46,21,FALSE))","v":5.9999999999999991},{"$f":"IF(AC85=\"\",\"\",VLOOKUP(AC85,'【記載例】（ユニット型）シフト記号表'!$C$5:$W$46,21,FALSE))","v":5.0000000000000009},{"$f":"IF(AD85=\"\",\"\",VLOOKUP(AD85,'【記載例】（ユニット型）シフト記号表'!$C$5:$W$46,21,FALSE))","v":"-"},{"$f":"IF(AE85=\"\",\"\",VLOOKUP(AE85,'【記載例】（ユニット型）シフト記号表'!$C$5:$W$46,21,FALSE))","v":5.0000000000000009},{"$f":"IF(AF85=\"\",\"\",VLOOKUP(AF85,'【記載例】（ユニット型）シフト記号表'!$C$5:$W$46,21,FALSE))","v":5.0000000000000009},{"$f":"IF(AG85=\"\",\"\",VLOOKUP(AG85,'【記載例】（ユニット型）シフト記号表'!$C$5:$W$46,21,FALSE))","v":"-"},{"$f":"IF(AH85=\"\",\"\",VLOOKUP(AH85,'【記載例】（ユニット型）シフト記号表'!$C$5:$W$46,21,FALSE))","v":"-"},{"$f":"IF(AI85=\"\",\"\",VLOOKUP(AI85,'【記載例】（ユニット型）シフト記号表'!$C$5:$W$46,21,FALSE))","v":5.9999999999999991},{"$f":"IF(AJ85=\"\",\"\",VLOOKUP(AJ85,'【記載例】（ユニット型）シフト記号表'!$C$5:$W$46,21,FALSE))","v":5.0000000000000009},{"$f":"IF(AK85=\"\",\"\",VLOOKUP(AK85,'【記載例】（ユニット型）シフト記号表'!$C$5:$W$46,21,FALSE))","v":5.0000000000000009},{"$f":"IF(AL85=\"\",\"\",VLOOKUP(AL85,'【記載例】（ユニット型）シフト記号表'!$C$5:$W$46,21,FALSE))","v":"-"},{"$f":"IF(AM85=\"\",\"\",VLOOKUP(AM85,'【記載例】（ユニット型）シフト記号表'!$C$5:$W$46,21,FALSE))","v":"-"},{"$f":"IF(AN85=\"\",\"\",VLOOKUP(AN85,'【記載例】（ユニット型）シフト記号表'!$C$5:$W$46,21,FALSE))","v":5.9999999999999991},{"$f":"IF(AO85=\"\",\"\",VLOOKUP(AO85,'【記載例】（ユニット型）シフト記号表'!$C$5:$W$46,21,FALSE))","v":"-"},{"$f":"IF(AP85=\"\",\"\",VLOOKUP(AP85,'【記載例】（ユニット型）シフト記号表'!$C$5:$W$46,21,FALSE))","v":"-"},{"$f":"IF(AQ85=\"\",\"\",VLOOKUP(AQ85,'【記載例】（ユニット型）シフト記号表'!$C$5:$W$46,21,FALSE))","v":5.9999999999999991},{"$f":"IF(AR85=\"\",\"\",VLOOKUP(AR85,'【記載例】（ユニット型）シフト記号表'!$C$5:$W$46,21,FALSE))","v":5.9999999999999991},{"$f":"IF(AS85=\"\",\"\",VLOOKUP(AS85,'【記載例】（ユニット型）シフト記号表'!$C$5:$W$46,21,FALSE))","v":5.0000000000000009},{"$f":"IF(AT85=\"\",\"\",VLOOKUP(AT85,'【記載例】（ユニット型）シフト記号表'!$C$5:$W$46,21,FALSE))","v":"-"},{"$f":"IF(AU85=\"\",\"\",VLOOKUP(AU85,'【記載例】（ユニット型）シフト記号表'!$C$5:$W$46,21,FALSE))","v":5.0000000000000009},{"$f":"IF(AV85=\"\",\"\",VLOOKUP(AV85,'【記載例】（ユニット型）シフト記号表'!$C$5:$W$46,21,FALSE))","v":"-"},{"$f":"IF(AW85=\"\",\"\",VLOOKUP(AW85,'【記載例】（ユニット型）シフト記号表'!$C$5:$W$46,21,FALSE))","v":5.0000000000000009},{"$f":"IF(AX85=\"\",\"\",VLOOKUP(AX85,'【記載例】（ユニット型）シフト記号表'!$C$5:$W$46,21,FALSE))","v":5.0000000000000009},{"$f":"IF(AY85=\"\",\"\",VLOOKUP(AY85,'【記載例】（ユニット型）シフト記号表'!$C$5:$W$46,21,FALSE))","v":"-"},{"$f":"IF(AZ85=\"\",\"\",VLOOKUP(AZ85,'【記載例】（ユニット型）シフト記号表'!$C$5:$W$46,21,FALSE))","v":5.0000000000000009},{"$f":"IF(BA85=\"\",\"\",VLOOKUP(BA85,'【記載例】（ユニット型）シフト記号表'!$C$5:$W$46,21,FALSE))","v":5.9999999999999991},{"$f":"IF(BB85=\"\",\"\",VLOOKUP(BB85,'【記載例】（ユニット型）シフト記号表'!$C$5:$W$46,21,FALSE))","v":"-"},{"$f":"IF(BC85=\"\",\"\",VLOOKUP(BC85,'【記載例】（ユニット型）シフト記号表'!$C$5:$W$46,21,FALSE))","v":""},{"$f":"IF(BD85=\"\",\"\",VLOOKUP(BD85,'【記載例】（ユニット型）シフト記号表'!$C$5:$W$46,21,FALSE))","v":""},{"$f":"IF(BE85=\"\",\"\",VLOOKUP(BE85,'【記載例】（ユニット型）シフト記号表'!$C$5:$W$46,21,FALSE))","v":""},{"$f":"IF($BI$3=\"計画\",SUM(AA86:BB86),IF($BI$3=\"実績\",SUM(AA86:BE86),\"\"))","v":86},null,{"$f":"IF($BI$3=\"計画\",BF86/4,IF($BI$3=\"実績\",(BF86/($BI$7/7)),\"\"))","v":21.5}]
[null,null,null,null,null,null,null,null,{"$f":"G86","v":"介護職員"},null,{"$f":"M86","v":"C"},null,null,null,null,null,null,null,null,null,null,"夜勤時間帯の勤務時間数",null,null,null,null,{"$f":"IF(AA85=\"\",\"\",VLOOKUP(AA85,'【記載例】（ユニット型）シフト記号表'!$C$5:$Y$46,23,FALSE))","v":"-"},{"$f":"IF(AB85=\"\",\"\",VLOOKUP(AB85,'【記載例】（ユニット型）シフト記号表'!$C$5:$Y$46,23,FALSE))","v":1.9999999999999991},{"$f":"IF(AC85=\"\",\"\",VLOOKUP(AC85,'【記載例】（ユニット型）シフト記号表'!$C$5:$Y$46,23,FALSE))","v":2.9999999999999991},{"$f":"IF(AD85=\"\",\"\",VLOOKUP(AD85,'【記載例】（ユニット型）シフト記号表'!$C$5:$Y$46,23,FALSE))","v":"-"},{"$f":"IF(AE85=\"\",\"\",VLOOKUP(AE85,'【記載例】（ユニット型）シフト記号表'!$C$5:$Y$46,23,FALSE))","v":2.9999999999999991},{"$f":"IF(AF85=\"\",\"\",VLOOKUP(AF85,'【記載例】（ユニット型）シフト記号表'!$C$5:$Y$46,23,FALSE))","v":2.9999999999999991},{"$f":"IF(AG85=\"\",\"\",VLOOKUP(AG85,'【記載例】（ユニット型）シフト記号表'!$C$5:$Y$46,23,FALSE))","v":"-"},{"$f":"IF(AH85=\"\",\"\",VLOOKUP(AH85,'【記載例】（ユニット型）シフト記号表'!$C$5:$Y$46,23,FALSE))","v":"-"},{"$f":"IF(AI85=\"\",\"\",VLOOKUP(AI85,'【記載例】（ユニット型）シフト記号表'!$C$5:$Y$46,23,FALSE))","v":1.9999999999999991},{"$f":"IF(AJ85=\"\",\"\",VLOOKUP(AJ85,'【記載例】（ユニット型）シフト記号表'!$C$5:$Y$46,23,FALSE))","v":2.9999999999999991},{"$f":"IF(AK85=\"\",\"\",VLOOKUP(AK85,'【記載例】（ユニット型）シフト記号表'!$C$5:$Y$46,23,FALSE))","v":2.9999999999999991},{"$f":"IF(AL85=\"\",\"\",VLOOKUP(AL85,'【記載例】（ユニット型）シフト記号表'!$C$5:$Y$46,23,FALSE))","v":"-"},{"$f":"IF(AM85=\"\",\"\",VLOOKUP(AM85,'【記載例】（ユニット型）シフト記号表'!$C$5:$Y$46,23,FALSE))","v":"-"},{"$f":"IF(AN85=\"\",\"\",VLOOKUP(AN85,'【記載例】（ユニット型）シフト記号表'!$C$5:$Y$46,23,FALSE))","v":1.9999999999999991},{"$f":"IF(AO85=\"\",\"\",VLOOKUP(AO85,'【記載例】（ユニット型）シフト記号表'!$C$5:$Y$46,23,FALSE))","v":"-"},{"$f":"IF(AP85=\"\",\"\",VLOOKUP(AP85,'【記載例】（ユニット型）シフト記号表'!$C$5:$Y$46,23,FALSE))","v":"-"},{"$f":"IF(AQ85=\"\",\"\",VLOOKUP(AQ85,'【記載例】（ユニット型）シフト記号表'!$C$5:$Y$46,23,FALSE))","v":1.9999999999999991},{"$f":"IF(AR85=\"\",\"\",VLOOKUP(AR85,'【記載例】（ユニット型）シフト記号表'!$C$5:$Y$46,23,FALSE))","v":1.9999999999999991},{"$f":"IF(AS85=\"\",\"\",VLOOKUP(AS85,'【記載例】（ユニット型）シフト記号表'!$C$5:$Y$46,23,FALSE))","v":2.9999999999999991},{"$f":"IF(AT85=\"\",\"\",VLOOKUP(AT85,'【記載例】（ユニット型）シフト記号表'!$C$5:$Y$46,23,FALSE))","v":"-"},{"$f":"IF(AU85=\"\",\"\",VLOOKUP(AU85,'【記載例】（ユニット型）シフト記号表'!$C$5:$Y$46,23,FALSE))","v":2.9999999999999991},{"$f":"IF(AV85=\"\",\"\",VLOOKUP(AV85,'【記載例】（ユニット型）シフト記号表'!$C$5:$Y$46,23,FALSE))","v":"-"},{"$f":"IF(AW85=\"\",\"\",VLOOKUP(AW85,'【記載例】（ユニット型）シフト記号表'!$C$5:$Y$46,23,FALSE))","v":2.9999999999999991},{"$f":"IF(AX85=\"\",\"\",VLOOKUP(AX85,'【記載例】（ユニット型）シフト記号表'!$C$5:$Y$46,23,FALSE))","v":2.9999999999999991},{"$f":"IF(AY85=\"\",\"\",VLOOKUP(AY85,'【記載例】（ユニット型）シフト記号表'!$C$5:$Y$46,23,FALSE))","v":"-"},{"$f":"IF(AZ85=\"\",\"\",VLOOKUP(AZ85,'【記載例】（ユニット型）シフト記号表'!$C$5:$Y$46,23,FALSE))","v":2.9999999999999991},{"$f":"IF(BA85=\"\",\"\",VLOOKUP(BA85,'【記載例】（ユニット型）シフト記号表'!$C$5:$Y$46,23,FALSE))","v":1.9999999999999991},{"$f":"IF(BB85=\"\",\"\",VLOOKUP(BB85,'【記載例】（ユニット型）シフト記号表'!$C$5:$Y$46,23,FALSE))","v":"-"},{"$f":"IF(BC85=\"\",\"\",VLOOKUP(BC85,'【記載例】（ユニット型）シフト記号表'!$C$5:$Y$46,23,FALSE))","v":""},{"$f":"IF(BD85=\"\",\"\",VLOOKUP(BD85,'【記載例】（ユニット型）シフト記号表'!$C$5:$Y$46,23,FALSE))","v":""},{"$f":"IF(BE85=\"\",\"\",VLOOKUP(BE85,'【記載例】（ユニット型）シフト記号表'!$C$5:$Y$46,23,FALSE))","v":""},{"$f":"IF($BI$3=\"計画\",SUM(AA87:BB87),IF($BI$3=\"実績\",SUM(AA87:BE87),\"\"))","v":41.999999999999993},null,{"$f":"IF($BI$3=\"計画\",BF87/4,IF($BI$3=\"実績\",(BF87/($BI$7/7)),\"\"))","v":10.499999999999998}]
[null,null,"○","ユニット４",null,null,null,null,null,null,null,null,null,null,null,null,null,null,"○○　Y子",null,null,"シフト記号",null,null,null,null,"d","d","休","休","o","休","a","a","休","d","d","休","o","休","a","a","休","d","休","休","o","休","a","a","休","a","d","d"]
[null,{"$f":"B86+1","v":24},null,null,null,null,"看護職員",null,null,null,null,null,"A",null,"看護師",null,null,null,null,null,null,"日中の勤務時間数",null,null,null,null,{"$f":"IF(AA88=\"\",\"\",VLOOKUP(AA88,'【記載例】（ユニット型）シフト記号表'!$C$5:$W$46,21,FALSE))","v":5.0000000000000009},{"$f":"IF(AB88=\"\",\"\",VLOOKUP(AB88,'【記載例】（ユニット型）シフト記号表'!$C$5:$W$46,21,FALSE))","v":5.0000000000000009},{"$f":"IF(AC88=\"\",\"\",VLOOKUP(AC88,'【記載例】（ユニット型）シフト記号表'!$C$5:$W$46,21,FALSE))","v":"-"},{"$f":"IF(AD88=\"\",\"\",VLOOKUP(AD88,'【記載例】（ユニット型）シフト記号表'!$C$5:$W$46,21,FALSE))","v":"-"},{"$f":"IF(AE88=\"\",\"\",VLOOKUP(AE88,'【記載例】（ユニット型）シフト記号表'!$C$5:$W$46,21,FALSE))","v":2},{"$f":"IF(AF88=\"\",\"\",VLOOKUP(AF88,'【記載例】（ユニット型）シフト記号表'!$C$5:$W$46,21,FALSE))","v":"-"},{"$f":"IF(AG88=\"\",\"\",VLOOKUP(AG88,'【記載例】（ユニット型）シフト記号表'!$C$5:$W$46,21,FALSE))","v":5.9999999999999991},{"$f":"IF(AH88=\"\",\"\",VLOOKUP(AH88,'【記載例】（ユニット型）シフト記号表'!$C$5:$W$46,21,FALSE))","v":5.9999999999999991},{"$f":"IF(AI88=\"\",\"\",VLOOKUP(AI88,'【記載例】（ユニット型）シフト記号表'!$C$5:$W$46,21,FALSE))","v":"-"},{"$f":"IF(AJ88=\"\",\"\",VLOOKUP(AJ88,'【記載例】（ユニット型）シフト記号表'!$C$5:$W$46,21,FALSE))","v":5.0000000000000009},{"$f":"IF(AK88=\"\",\"\",VLOOKUP(AK88,'【記載例】（ユニット型）シフト記号表'!$C$5:$W$46,21,FALSE))","v":5.0000000000000009},{"$f":"IF(AL88=\"\",\"\",VLOOKUP(AL88,'【記載例】（ユニット型）シフト記号表'!$C$5:$W$46,21,FALSE))","v":"-"},{"$f":"IF(AM88=\"\",\"\",VLOOKUP(AM88,'【記載例】（ユニット型）シフト記号表'!$C$5:$W$46,21,FALSE))","v":2},{"$f":"IF(AN88=\"\",\"\",VLOOKUP(AN88,'【記載例】（ユニット型）シフト記号表'!$C$5:$W$46,21,FALSE))","v":"-"},{"$f":"IF(AO88=\"\",\"\",VLOOKUP(AO88,'【記載例】（ユニット型）シフト記号表'!$C$5:$W$46,21,FALSE))","v":5.9999999999999991},{"$f":"IF(AP88=\"\",\"\",VLOOKUP(AP88,'【記載例】（ユニット型）シフト記号表'!$C$5:$W$46,21,FALSE))","v":5.9999999999999991},{"$f":"IF(AQ88=\"\",\"\",VLOOKUP(AQ88,'【記載例】（ユニット型）シフト記号表'!$C$5:$W$46,21,FALSE))","v":"-"},{"$f":"IF(AR88=\"\",\"\",VLOOKUP(AR88,'【記載例】（ユニット型）シフト記号表'!$C$5:$W$46,21,FALSE))","v":5.0000000000000009},{"$f":"IF(AS88=\"\",\"\",VLOOKUP(AS88,'【記載例】（ユニット型）シフト記号表'!$C$5:$W$46,21,FALSE))","v":"-"},{"$f":"IF(AT88=\"\",\"\",VLOOKUP(AT88,'【記載例】（ユニット型）シフト記号表'!$C$5:$W$46,21,FALSE))","v":"-"},{"$f":"IF(AU88=\"\",\"\",VLOOKUP(AU88,'【記載例】（ユニット型）シフト記号表'!$C$5:$W$46,21,FALSE))","v":2},{"$f":"IF(AV88=\"\",\"\",VLOOKUP(AV88,'【記載例】（ユニット型）シフト記号表'!$C$5:$W$46,21,FALSE))","v":"-"},{"$f":"IF(AW88=\"\",\"\",VLOOKUP(AW88,'【記載例】（ユニット型）シフト記号表'!$C$5:$W$46,21,FALSE))","v":5.9999999999999991},{"$f":"IF(AX88=\"\",\"\",VLOOKUP(AX88,'【記載例】（ユニット型）シフト記号表'!$C$5:$W$46,21,FALSE))","v":5.9999999999999991},{"$f":"IF(AY88=\"\",\"\",VLOOKUP(AY88,'【記載例】（ユニット型）シフト記号表'!$C$5:$W$46,21,FALSE))","v":"-"},{"$f":"IF(AZ88=\"\",\"\",VLOOKUP(AZ88,'【記載例】（ユニット型）シフト記号表'!$C$5:$W$46,21,FALSE))","v":5.9999999999999991},{"$f":"IF(BA88=\"\",\"\",VLOOKUP(BA88,'【記載例】（ユニット型）シフト記号表'!$C$5:$W$46,21,FALSE))","v":5.0000000000000009},{"$f":"IF(BB88=\"\",\"\",VLOOKUP(BB88,'【記載例】（ユニット型）シフト記号表'!$C$5:$W$46,21,FALSE))","v":5.0000000000000009},{"$f":"IF(BC88=\"\",\"\",VLOOKUP(BC88,'【記載例】（ユニット型）シフト記号表'!$C$5:$W$46,21,FALSE))","v":""},{"$f":"IF(BD88=\"\",\"\",VLOOKUP(BD88,'【記載例】（ユニット型）シフト記号表'!$C$5:$W$46,21,FALSE))","v":""},{"$f":"IF(BE88=\"\",\"\",VLOOKUP(BE88,'【記載例】（ユニット型）シフト記号表'!$C$5:$W$46,21,FALSE))","v":""},{"$f":"IF($BI$3=\"計画\",SUM(AA89:BB89),IF($BI$3=\"実績\",SUM(AA89:BE89),\"\"))","v":83},null,{"$f":"IF($BI$3=\"計画\",BF89/4,IF($BI$3=\"実績\",(BF89/($BI$7/7)),\"\"))","v":20.75}]
[null,null,null,null,null,null,null,null,{"$f":"G89","v":"看護職員"},null,{"$f":"M89","v":"A"},null,null,null,null,null,null,null,null,null,null,"夜勤時間帯の勤務時間数",null,null,null,null,{"$f":"IF(AA88=\"\",\"\",VLOOKUP(AA88,'【記載例】（ユニット型）シフト記号表'!$C$5:$Y$46,23,FALSE))","v":2.9999999999999991},{"$f":"IF(AB88=\"\",\"\",VLOOKUP(AB88,'【記載例】（ユニット型）シフト記号表'!$C$5:$Y$46,23,FALSE))","v":2.9999999999999991},{"$f":"IF(AC88=\"\",\"\",VLOOKUP(AC88,'【記載例】（ユニット型）シフト記号表'!$C$5:$Y$46,23,FALSE))","v":"-"},{"$f":"IF(AD88=\"\",\"\",VLOOKUP(AD88,'【記載例】（ユニット型）シフト記号表'!$C$5:$Y$46,23,FALSE))","v":"-"},{"$f":"IF(AE88=\"\",\"\",VLOOKUP(AE88,'【記載例】（ユニット型）シフト記号表'!$C$5:$Y$46,23,FALSE))","v":14},{"$f":"IF(AF88=\"\",\"\",VLOOKUP(AF88,'【記載例】（ユニット型）シフト記号表'!$C$5:$Y$46,23,FALSE))","v":"-"},{"$f":"IF(AG88=\"\",\"\",VLOOKUP(AG88,'【記載例】（ユニット型）シフト記号表'!$C$5:$Y$46,23,FALSE))","v":1.9999999999999991},{"$f":"IF(AH88=\"\",\"\",VLOOKUP(AH88,'【記載例】（ユニット型）シフト記号表'!$C$5:$Y$46,23,FALSE))","v":1.9999999999999991},{"$f":"IF(AI88=\"\",\"\",VLOOKUP(AI88,'【記載例】（ユニット型）シフト記号表'!$C$5:$Y$46,23,FALSE))","v":"-"},{"$f":"IF(AJ88=\"\",\"\",VLOOKUP(AJ88,'【記載例】（ユニット型）シフト記号表'!$C$5:$Y$46,23,FALSE))","v":2.9999999999999991},{"$f":"IF(AK88=\"\",\"\",VLOOKUP(AK88,'【記載例】（ユニット型）シフト記号表'!$C$5:$Y$46,23,FALSE))","v":2.9999999999999991},{"$f":"IF(AL88=\"\",\"\",VLOOKUP(AL88,'【記載例】（ユニット型）シフト記号表'!$C$5:$Y$46,23,FALSE))","v":"-"},{"$f":"IF(AM88=\"\",\"\",VLOOKUP(AM88,'【記載例】（ユニット型）シフト記号表'!$C$5:$Y$46,23,FALSE))","v":14},{"$f":"IF(AN88=\"\",\"\",VLOOKUP(AN88,'【記載例】（ユニット型）シフト記号表'!$C$5:$Y$46,23,FALSE))","v":"-"},{"$f":"IF(AO88=\"\",\"\",VLOOKUP(AO88,'【記載例】（ユニット型）シフト記号表'!$C$5:$Y$46,23,FALSE))","v":1.9999999999999991},{"$f":"IF(AP88=\"\",\"\",VLOOKUP(AP88,'【記載例】（ユニット型）シフト記号表'!$C$5:$Y$46,23,FALSE))","v":1.9999999999999991},{"$f":"IF(AQ88=\"\",\"\",VLOOKUP(AQ88,'【記載例】（ユニット型）シフト記号表'!$C$5:$Y$46,23,FALSE))","v":"-"},{"$f":"IF(AR88=\"\",\"\",VLOOKUP(AR88,'【記載例】（ユニット型）シフト記号表'!$C$5:$Y$46,23,FALSE))","v":2.9999999999999991},{"$f":"IF(AS88=\"\",\"\",VLOOKUP(AS88,'【記載例】（ユニット型）シフト記号表'!$C$5:$Y$46,23,FALSE))","v":"-"},{"$f":"IF(AT88=\"\",\"\",VLOOKUP(AT88,'【記載例】（ユニット型）シフト記号表'!$C$5:$Y$46,23,FALSE))","v":"-"},{"$f":"IF(AU88=\"\",\"\",VLOOKUP(AU88,'【記載例】（ユニット型）シフト記号表'!$C$5:$Y$46,23,FALSE))","v":14},{"$f":"IF(AV88=\"\",\"\",VLOOKUP(AV88,'【記載例】（ユニット型）シフト記号表'!$C$5:$Y$46,23,FALSE))","v":"-"},{"$f":"IF(AW88=\"\",\"\",VLOOKUP(AW88,'【記載例】（ユニット型）シフト記号表'!$C$5:$Y$46,23,FALSE))","v":1.9999999999999991},{"$f":"IF(AX88=\"\",\"\",VLOOKUP(AX88,'【記載例】（ユニット型）シフト記号表'!$C$5:$Y$46,23,FALSE))","v":1.9999999999999991},{"$f":"IF(AY88=\"\",\"\",VLOOKUP(AY88,'【記載例】（ユニット型）シフト記号表'!$C$5:$Y$46,23,FALSE))","v":"-"},{"$f":"IF(AZ88=\"\",\"\",VLOOKUP(AZ88,'【記載例】（ユニット型）シフト記号表'!$C$5:$Y$46,23,FALSE))","v":1.9999999999999991},{"$f":"IF(BA88=\"\",\"\",VLOOKUP(BA88,'【記載例】（ユニット型）シフト記号表'!$C$5:$Y$46,23,FALSE))","v":2.9999999999999991},{"$f":"IF(BB88=\"\",\"\",VLOOKUP(BB88,'【記載例】（ユニット型）シフト記号表'!$C$5:$Y$46,23,FALSE))","v":2.9999999999999991},{"$f":"IF(BC88=\"\",\"\",VLOOKUP(BC88,'【記載例】（ユニット型）シフト記号表'!$C$5:$Y$46,23,FALSE))","v":""},{"$f":"IF(BD88=\"\",\"\",VLOOKUP(BD88,'【記載例】（ユニット型）シフト記号表'!$C$5:$Y$46,23,FALSE))","v":""},{"$f":"IF(BE88=\"\",\"\",VLOOKUP(BE88,'【記載例】（ユニット型）シフト記号表'!$C$5:$Y$46,23,FALSE))","v":""},{"$f":"IF($BI$3=\"計画\",SUM(AA90:BB90),IF($BI$3=\"実績\",SUM(AA90:BE90),\"\"))","v":77},null,{"$f":"IF($BI$3=\"計画\",BF90/4,IF($BI$3=\"実績\",(BF90/($BI$7/7)),\"\"))","v":19.25}]
[null,null,null,"ユニット４",null,null,null,null,null,null,null,null,null,null,null,null,null,null,"○○　Z男",null,null,"シフト記号",null,null,null,null,"休","a","d","d","休","o","休","d","休","d","d","休","休","o","休","d","d","d","a","a","休","o","休","a","d","休","休","a"]
[null,{"$f":"B89+1","v":25},null,null,null,null,"介護職員",null,null,null,null,null,"A",null,"介護福祉士",null,null,null,null,null,null,"日中の勤務時間数",null,null,null,null,{"$f":"IF(AA91=\"\",\"\",VLOOKUP(AA91,'【記載例】（ユニット型）シフト記号表'!$C$5:$W$46,21,FALSE))","v":"-"},{"$f":"IF(AB91=\"\",\"\",VLOOKUP(AB91,'【記載例】（ユニット型）シフト記号表'!$C$5:$W$46,21,FALSE))","v":5.9999999999999991},{"$f":"IF(AC91=\"\",\"\",VLOOKUP(AC91,'【記載例】（ユニット型）シフト記号表'!$C$5:$W$46,21,FALSE))","v":5.0000000000000009},{"$f":"IF(AD91=\"\",\"\",VLOOKUP(AD91,'【記載例】（ユニット型）シフト記号表'!$C$5:$W$46,21,FALSE))","v":5.0000000000000009},{"$f":"IF(AE91=\"\",\"\",VLOOKUP(AE91,'【記載例】（ユニット型）シフト記号表'!$C$5:$W$46,21,FALSE))","v":"-"},{"$f":"IF(AF91=\"\",\"\",VLOOKUP(AF91,'【記載例】（ユニット型）シフト記号表'!$C$5:$W$46,21,FALSE))","v":2},{"$f":"IF(AG91=\"\",\"\",VLOOKUP(AG91,'【記載例】（ユニット型）シフト記号表'!$C$5:$W$46,21,FALSE))","v":"-"},{"$f":"IF(AH91=\"\",\"\",VLOOKUP(AH91,'【記載例】（ユニット型）シフト記号表'!$C$5:$W$46,21,FALSE))","v":5.0000000000000009},{"$f":"IF(AI91=\"\",\"\",VLOOKUP(AI91,'【記載例】（ユニット型）シフト記号表'!$C$5:$W$46,21,FALSE))","v":"-"},{"$f":"IF(AJ91=\"\",\"\",VLOOKUP(AJ91,'【記載例】（ユニット型）シフト記号表'!$C$5:$W$46,21,FALSE))","v":5.0000000000000009},{"$f":"IF(AK91=\"\",\"\",VLOOKUP(AK91,'【記載例】（ユニット型）シフト記号表'!$C$5:$W$46,21,FALSE))","v":5.0000000000000009},{"$f":"IF(AL91=\"\",\"\",VLOOKUP(AL91,'【記載例】（ユニット型）シフト記号表'!$C$5:$W$46,21,FALSE))","v":"-"},{"$f":"IF(AM91=\"\",\"\",VLOOKUP(AM91,'【記載例】（ユニット型）シフト記号表'!$C$5:$W$46,21,FALSE))","v":"-"},{"$f":"IF(AN91=\"\",\"\",VLOOKUP(AN91,'【記載例】（ユニット型）シフト記号表'!$C$5:$W$46,21,FALSE))","v":2},{"$f":"IF(AO91=\"\",\"\",VLOOKUP(AO91,'【記載例】（ユニット型）シフト記号表'!$C$5:$W$46,21,FALSE))","v":"-"},{"$f":"IF(AP91=\"\",\"\",VLOOKUP(AP91,'【記載例】（ユニット型）シフト記号表'!$C$5:$W$46,21,FALSE))","v":5.0000000000000009},{"$f":"IF(AQ91=\"\",\"\",VLOOKUP(AQ91,'【記載例】（ユニット型）シフト記号表'!$C$5:$W$46,21,FALSE))","v":5.0000000000000009},{"$f":"IF(AR91=\"\",\"\",VLOOKUP(AR91,'【記載例】（ユニット型）シフト記号表'!$C$5:$W$46,21,FALSE))","v":5.0000000000000009},{"$f":"IF(AS91=\"\",\"\",VLOOKUP(AS91,'【記載例】（ユニット型）シフト記号表'!$C$5:$W$46,21,FALSE))","v":5.9999999999999991},{"$f":"IF(AT91=\"\",\"\",VLOOKUP(AT91,'【記載例】（ユニット型）シフト記号表'!$C$5:$W$46,21,FALSE))","v":5.9999999999999991},{"$f":"IF(AU91=\"\",\"\",VLOOKUP(AU91,'【記載例】（ユニット型）シフト記号表'!$C$5:$W$46,21,FALSE))","v":"-"},{"$f":"IF(AV91=\"\",\"\",VLOOKUP(AV91,'【記載例】（ユニット型）シフト記号表'!$C$5:$W$46,21,FALSE))","v":2},{"$f":"IF(AW91=\"\",\"\",VLOOKUP(AW91,'【記載例】（ユニット型）シフト記号表'!$C$5:$W$46,21,FALSE))","v":"-"},{"$f":"IF(AX91=\"\",\"\",VLOOKUP(AX91,'【記載例】（ユニット型）シフト記号表'!$C$5:$W$46,21,FALSE))","v":5.9999999999999991},{"$f":"IF(AY91=\"\",\"\",VLOOKUP(AY91,'【記載例】（ユニット型）シフト記号表'!$C$5:$W$46,21,FALSE))","v":5.0000000000000009},{"$f":"IF(AZ91=\"\",\"\",VLOOKUP(AZ91,'【記載例】（ユニット型）シフト記号表'!$C$5:$W$46,21,FALSE))","v":"-"},{"$f":"IF(BA91=\"\",\"\",VLOOKUP(BA91,'【記載例】（ユニット型）シフト記号表'!$C$5:$W$46,21,FALSE))","v":"-"},{"$f":"IF(BB91=\"\",\"\",VLOOKUP(BB91,'【記載例】（ユニット型）シフト記号表'!$C$5:$W$46,21,FALSE))","v":5.9999999999999991},{"$f":"IF(BC91=\"\",\"\",VLOOKUP(BC91,'【記載例】（ユニット型）シフト記号表'!$C$5:$W$46,21,FALSE))","v":""},{"$f":"IF(BD91=\"\",\"\",VLOOKUP(BD91,'【記載例】（ユニット型）シフト記号表'!$C$5:$W$46,21,FALSE))","v":""},{"$f":"IF(BE91=\"\",\"\",VLOOKUP(BE91,'【記載例】（ユニット型）シフト記号表'!$C$5:$W$46,21,FALSE))","v":""},{"$f":"IF($BI$3=\"計画\",SUM(AA92:BB92),IF($BI$3=\"実績\",SUM(AA92:BE92),\"\"))","v":81},null,{"$f":"IF($BI$3=\"計画\",BF92/4,IF($BI$3=\"実績\",(BF92/($BI$7/7)),\"\"))","v":20.25}]
[null,null,null,null,null,null,null,null,{"$f":"G92","v":"介護職員"},null,{"$f":"M92","v":"A"},null,null,null,null,null,null,null,null,null,null,"夜勤時間帯の勤務時間数",null,null,null,null,{"$f":"IF(AA91=\"\",\"\",VLOOKUP(AA91,'【記載例】（ユニット型）シフト記号表'!$C$5:$Y$46,23,FALSE))","v":"-"},{"$f":"IF(AB91=\"\",\"\",VLOOKUP(AB91,'【記載例】（ユニット型）シフト記号表'!$C$5:$Y$46,23,FALSE))","v":1.9999999999999991},{"$f":"IF(AC91=\"\",\"\",VLOOKUP(AC91,'【記載例】（ユニット型）シフト記号表'!$C$5:$Y$46,23,FALSE))","v":2.9999999999999991},{"$f":"IF(AD91=\"\",\"\",VLOOKUP(AD91,'【記載例】（ユニット型）シフト記号表'!$C$5:$Y$46,23,FALSE))","v":2.9999999999999991},{"$f":"IF(AE91=\"\",\"\",VLOOKUP(AE91,'【記載例】（ユニット型）シフト記号表'!$C$5:$Y$46,23,FALSE))","v":"-"},{"$f":"IF(AF91=\"\",\"\",VLOOKUP(AF91,'【記載例】（ユニット型）シフト記号表'!$C$5:$Y$46,23,FALSE))","v":14},{"$f":"IF(AG91=\"\",\"\",VLOOKUP(AG91,'【記載例】（ユニット型）シフト記号表'!$C$5:$Y$46,23,FALSE))","v":"-"},{"$f":"IF(AH91=\"\",\"\",VLOOKUP(AH91,'【記載例】（ユニット型）シフト記号表'!$C$5:$Y$46,23,FALSE))","v":2.9999999999999991},{"$f":"IF(AI91=\"\",\"\",VLOOKUP(AI91,'【記載例】（ユニット型）シフト記号表'!$C$5:$Y$46,23,FALSE))","v":"-"},{"$f":"IF(AJ91=\"\",\"\",VLOOKUP(AJ91,'【記載例】（ユニット型）シフト記号表'!$C$5:$Y$46,23,FALSE))","v":2.9999999999999991},{"$f":"IF(AK91=\"\",\"\",VLOOKUP(AK91,'【記載例】（ユニット型）シフト記号表'!$C$5:$Y$46,23,FALSE))","v":2.9999999999999991},{"$f":"IF(AL91=\"\",\"\",VLOOKUP(AL91,'【記載例】（ユニット型）シフト記号表'!$C$5:$Y$46,23,FALSE))","v":"-"},{"$f":"IF(AM91=\"\",\"\",VLOOKUP(AM91,'【記載例】（ユニット型）シフト記号表'!$C$5:$Y$46,23,FALSE))","v":"-"},{"$f":"IF(AN91=\"\",\"\",VLOOKUP(AN91,'【記載例】（ユニット型）シフト記号表'!$C$5:$Y$46,23,FALSE))","v":14},{"$f":"IF(AO91=\"\",\"\",VLOOKUP(AO91,'【記載例】（ユニット型）シフト記号表'!$C$5:$Y$46,23,FALSE))","v":"-"},{"$f":"IF(AP91=\"\",\"\",VLOOKUP(AP91,'【記載例】（ユニット型）シフト記号表'!$C$5:$Y$46,23,FALSE))","v":2.9999999999999991},{"$f":"IF(AQ91=\"\",\"\",VLOOKUP(AQ91,'【記載例】（ユニット型）シフト記号表'!$C$5:$Y$46,23,FALSE))","v":2.9999999999999991},{"$f":"IF(AR91=\"\",\"\",VLOOKUP(AR91,'【記載例】（ユニット型）シフト記号表'!$C$5:$Y$46,23,FALSE))","v":2.9999999999999991},{"$f":"IF(AS91=\"\",\"\",VLOOKUP(AS91,'【記載例】（ユニット型）シフト記号表'!$C$5:$Y$46,23,FALSE))","v":1.9999999999999991},{"$f":"IF(AT91=\"\",\"\",VLOOKUP(AT91,'【記載例】（ユニット型）シフト記号表'!$C$5:$Y$46,23,FALSE))","v":1.9999999999999991},{"$f":"IF(AU91=\"\",\"\",VLOOKUP(AU91,'【記載例】（ユニット型）シフト記号表'!$C$5:$Y$46,23,FALSE))","v":"-"},{"$f":"IF(AV91=\"\",\"\",VLOOKUP(AV91,'【記載例】（ユニット型）シフト記号表'!$C$5:$Y$46,23,FALSE))","v":14},{"$f":"IF(AW91=\"\",\"\",VLOOKUP(AW91,'【記載例】（ユニット型）シフト記号表'!$C$5:$Y$46,23,FALSE))","v":"-"},{"$f":"IF(AX91=\"\",\"\",VLOOKUP(AX91,'【記載例】（ユニット型）シフト記号表'!$C$5:$Y$46,23,FALSE))","v":1.9999999999999991},{"$f":"IF(AY91=\"\",\"\",VLOOKUP(AY91,'【記載例】（ユニット型）シフト記号表'!$C$5:$Y$46,23,FALSE))","v":2.9999999999999991},{"$f":"IF(AZ91=\"\",\"\",VLOOKUP(AZ91,'【記載例】（ユニット型）シフト記号表'!$C$5:$Y$46,23,FALSE))","v":"-"},{"$f":"IF(BA91=\"\",\"\",VLOOKUP(BA91,'【記載例】（ユニット型）シフト記号表'!$C$5:$Y$46,23,FALSE))","v":"-"},{"$f":"IF(BB91=\"\",\"\",VLOOKUP(BB91,'【記載例】（ユニット型）シフト記号表'!$C$5:$Y$46,23,FALSE))","v":1.9999999999999991},{"$f":"IF(BC91=\"\",\"\",VLOOKUP(BC91,'【記載例】（ユニット型）シフト記号表'!$C$5:$Y$46,23,FALSE))","v":""},{"$f":"IF(BD91=\"\",\"\",VLOOKUP(BD91,'【記載例】（ユニット型）シフト記号表'!$C$5:$Y$46,23,FALSE))","v":""},{"$f":"IF(BE91=\"\",\"\",VLOOKUP(BE91,'【記載例】（ユニット型）シフト記号表'!$C$5:$Y$46,23,FALSE))","v":""},{"$f":"IF($BI$3=\"計画\",SUM(AA93:BB93),IF($BI$3=\"実績\",SUM(AA93:BE93),\"\"))","v":79},null,{"$f":"IF($BI$3=\"計画\",BF93/4,IF($BI$3=\"実績\",(BF93/($BI$7/7)),\"\"))","v":19.75}]
[null,null,null,"ユニット４",null,null,null,null,null,null,null,null,null,null,null,null,null,null,"○○　AA三郎",null,null,"シフト記号",null,null,null,null,"a","休","a","休","d","休","o","休","d","d","a","a","休","d","o","休","a","休","d","d","休","休","o","休","a","d","d","休"]
[null,{"$f":"B92+1","v":26},null,null,null,null,"介護職員",null,null,null,null,null,"A",null,"ー",null,null,null,null,null,null,"日中の勤務時間数",null,null,null,null,{"$f":"IF(AA94=\"\",\"\",VLOOKUP(AA94,'【記載例】（ユニット型）シフト記号表'!$C$5:$W$46,21,FALSE))","v":5.9999999999999991},{"$f":"IF(AB94=\"\",\"\",VLOOKUP(AB94,'【記載例】（ユニット型）シフト記号表'!$C$5:$W$46,21,FALSE))","v":"-"},{"$f":"IF(AC94=\"\",\"\",VLOOKUP(AC94,'【記載例】（ユニット型）シフト記号表'!$C$5:$W$46,21,FALSE))","v":5.9999999999999991},{"$f":"IF(AD94=\"\",\"\",VLOOKUP(AD94,'【記載例】（ユニット型）シフト記号表'!$C$5:$W$46,21,FALSE))","v":"-"},{"$f":"IF(AE94=\"\",\"\",VLOOKUP(AE94,'【記載例】（ユニット型）シフト記号表'!$C$5:$W$46,21,FALSE))","v":5.0000000000000009},{"$f":"IF(AF94=\"\",\"\",VLOOKUP(AF94,'【記載例】（ユニット型）シフト記号表'!$C$5:$W$46,21,FALSE))","v":"-"},{"$f":"IF(AG94=\"\",\"\",VLOOKUP(AG94,'【記載例】（ユニット型）シフト記号表'!$C$5:$W$46,21,FALSE))","v":2},{"$f":"IF(AH94=\"\",\"\",VLOOKUP(AH94,'【記載例】（ユニット型）シフト記号表'!$C$5:$W$46,21,FALSE))","v":"-"},{"$f":"IF(AI94=\"\",\"\",VLOOKUP(AI94,'【記載例】（ユニット型）シフト記号表'!$C$5:$W$46,21,FALSE))","v":5.0000000000000009},{"$f":"IF(AJ94=\"\",\"\",VLOOKUP(AJ94,'【記載例】（ユニット型）シフト記号表'!$C$5:$W$46,21,FALSE))","v":5.0000000000000009},{"$f":"IF(AK94=\"\",\"\",VLOOKUP(AK94,'【記載例】（ユニット型）シフト記号表'!$C$5:$W$46,21,FALSE))","v":5.9999999999999991},{"$f":"IF(AL94=\"\",\"\",VLOOKUP(AL94,'【記載例】（ユニット型）シフト記号表'!$C$5:$W$46,21,FALSE))","v":5.9999999999999991},{"$f":"IF(AM94=\"\",\"\",VLOOKUP(AM94,'【記載例】（ユニット型）シフト記号表'!$C$5:$W$46,21,FALSE))","v":"-"},{"$f":"IF(AN94=\"\",\"\",VLOOKUP(AN94,'【記載例】（ユニット型）シフト記号表'!$C$5:$W$46,21,FALSE))","v":5.0000000000000009},{"$f":"IF(AO94=\"\",\"\",VLOOKUP(AO94,'【記載例】（ユニット型）シフト記号表'!$C$5:$W$46,21,FALSE))","v":2},{"$f":"IF(AP94=\"\",\"\",VLOOKUP(AP94,'【記載例】（ユニット型）シフト記号表'!$C$5:$W$46,21,FALSE))","v":"-"},{"$f":"IF(AQ94=\"\",\"\",VLOOKUP(AQ94,'【記載例】（ユニット型）シフト記号表'!$C$5:$W$46,21,FALSE))","v":5.9999999999999991},{"$f":"IF(AR94=\"\",\"\",VLOOKUP(AR94,'【記載例】（ユニット型）シフト記号表'!$C$5:$W$46,21,FALSE))","v":"-"},{"$f":"IF(AS94=\"\",\"\",VLOOKUP(AS94,'【記載例】（ユニット型）シフト記号表'!$C$5:$W$46,21,FALSE))","v":5.0000000000000009},{"$f":"IF(AT94=\"\",\"\",VLOOKUP(AT94,'【記載例】（ユニット型）シフト記号表'!$C$5:$W$46,21,FALSE))","v":5.0000000000000009},{"$f":"IF(AU94=\"\",\"\",VLOOKUP(AU94,'【記載例】（ユニット型）シフト記号表'!$C$5:$W$46,21,FALSE))","v":"-"},{"$f":"IF(AV94=\"\",\"\",VLOOKUP(AV94,'【記載例】（ユニット型）シフト記号表'!$C$5:$W$46,21,FALSE))","v":"-"},{"$f":"IF(AW94=\"\",\"\",VLOOKUP(AW94,'【記載例】（ユニット型）シフト記号表'!$C$5:$W$46,21,FALSE))","v":2},{"$f":"IF(AX94=\"\",\"\",VLOOKUP(AX94,'【記載例】（ユニット型）シフト記号表'!$C$5:$W$46,21,FALSE))","v":"-"},{"$f":"IF(AY94=\"\",\"\",VLOOKUP(AY94,'【記載例】（ユニット型）シフト記号表'!$C$5:$W$46,21,FALSE))","v":5.9999999999999991},{"$f":"IF(AZ94=\"\",\"\",VLOOKUP(AZ94,'【記載例】（ユニット型）シフト記号表'!$C$5:$W$46,21,FALSE))","v":5.0000000000000009},{"$f":"IF(BA94=\"\",\"\",VLOOKUP(BA94,'【記載例】（ユニット型）シフト記号表'!$C$5:$W$46,21,FALSE))","v":5.0000000000000009},{"$f":"IF(BB94=\"\",\"\",VLOOKUP(BB94,'【記載例】（ユニット型）シフト記号表'!$C$5:$W$46,21,FALSE))","v":"-"},{"$f":"IF(BC94=\"\",\"\",VLOOKUP(BC94,'【記載例】（ユニット型）シフト記号表'!$C$5:$W$46,21,FALSE))","v":""},{"$f":"IF(BD94=\"\",\"\",VLOOKUP(BD94,'【記載例】（ユニット型）シフト記号表'!$C$5:$W$46,21,FALSE))","v":""},{"$f":"IF(BE94=\"\",\"\",VLOOKUP(BE94,'【記載例】（ユニット型）シフト記号表'!$C$5:$W$46,21,FALSE))","v":""},{"$f":"IF($BI$3=\"計画\",SUM(AA95:BB95),IF($BI$3=\"実績\",SUM(AA95:BE95),\"\"))","v":82},null,{"$f":"IF($BI$3=\"計画\",BF95/4,IF($BI$3=\"実績\",(BF95/($BI$7/7)),\"\"))","v":20.5}]
[null,null,null,null,null,null,null,null,{"$f":"G95","v":"介護職員"},null,{"$f":"M95","v":"A"},null,null,null,null,null,null,null,null,null,null,"夜勤時間帯の勤務時間数",null,null,null,null,{"$f":"IF(AA94=\"\",\"\",VLOOKUP(AA94,'【記載例】（ユニット型）シフト記号表'!$C$5:$Y$46,23,FALSE))","v":1.9999999999999991},{"$f":"IF(AB94=\"\",\"\",VLOOKUP(AB94,'【記載例】（ユニット型）シフト記号表'!$C$5:$Y$46,23,FALSE))","v":"-"},{"$f":"IF(AC94=\"\",\"\",VLOOKUP(AC94,'【記載例】（ユニット型）シフト記号表'!$C$5:$Y$46,23,FALSE))","v":1.9999999999999991},{"$f":"IF(AD94=\"\",\"\",VLOOKUP(AD94,'【記載例】（ユニット型）シフト記号表'!$C$5:$Y$46,23,FALSE))","v":"-"},{"$f":"IF(AE94=\"\",\"\",VLOOKUP(AE94,'【記載例】（ユニット型）シフト記号表'!$C$5:$Y$46,23,FALSE))","v":2.9999999999999991},{"$f":"IF(AF94=\"\",\"\",VLOOKUP(AF94,'【記載例】（ユニット型）シフト記号表'!$C$5:$Y$46,23,FALSE))","v":"-"},{"$f":"IF(AG94=\"\",\"\",VLOOKUP(AG94,'【記載例】（ユニット型）シフト記号表'!$C$5:$Y$46,23,FALSE))","v":14},{"$f":"IF(AH94=\"\",\"\",VLOOKUP(AH94,'【記載例】（ユニット型）シフト記号表'!$C$5:$Y$46,23,FALSE))","v":"-"},{"$f":"IF(AI94=\"\",\"\",VLOOKUP(AI94,'【記載例】（ユニット型）シフト記号表'!$C$5:$Y$46,23,FALSE))","v":2.9999999999999991},{"$f":"IF(AJ94=\"\",\"\",VLOOKUP(AJ94,'【記載例】（ユニット型）シフト記号表'!$C$5:$Y$46,23,FALSE))","v":2.9999999999999991},{"$f":"IF(AK94=\"\",\"\",VLOOKUP(AK94,'【記載例】（ユニット型）シフト記号表'!$C$5:$Y$46,23,FALSE))","v":1.9999999999999991},{"$f":"IF(AL94=\"\",\"\",VLOOKUP(AL94,'【記載例】（ユニット型）シフト記号表'!$C$5:$Y$46,23,FALSE))","v":1.9999999999999991},{"$f":"IF(AM94=\"\",\"\",VLOOKUP(AM94,'【記載例】（ユニット型）シフト記号表'!$C$5:$Y$46,23,FALSE))","v":"-"},{"$f":"IF(AN94=\"\",\"\",VLOOKUP(AN94,'【記載例】（ユニット型）シフト記号表'!$C$5:$Y$46,23,FALSE))","v":2.9999999999999991},{"$f":"IF(AO94=\"\",\"\",VLOOKUP(AO94,'【記載例】（ユニット型）シフト記号表'!$C$5:$Y$46,23,FALSE))","v":14},{"$f":"IF(AP94=\"\",\"\",VLOOKUP(AP94,'【記載例】（ユニット型）シフト記号表'!$C$5:$Y$46,23,FALSE))","v":"-"},{"$f":"IF(AQ94=\"\",\"\",VLOOKUP(AQ94,'【記載例】（ユニット型）シフト記号表'!$C$5:$Y$46,23,FALSE))","v":1.9999999999999991},{"$f":"IF(AR94=\"\",\"\",VLOOKUP(AR94,'【記載例】（ユニット型）シフト記号表'!$C$5:$Y$46,23,FALSE))","v":"-"},{"$f":"IF(AS94=\"\",\"\",VLOOKUP(AS94,'【記載例】（ユニット型）シフト記号表'!$C$5:$Y$46,23,FALSE))","v":2.9999999999999991},{"$f":"IF(AT94=\"\",\"\",VLOOKUP(AT94,'【記載例】（ユニット型）シフト記号表'!$C$5:$Y$46,23,FALSE))","v":2.9999999999999991},{"$f":"IF(AU94=\"\",\"\",VLOOKUP(AU94,'【記載例】（ユニット型）シフト記号表'!$C$5:$Y$46,23,FALSE))","v":"-"},{"$f":"IF(AV94=\"\",\"\",VLOOKUP(AV94,'【記載例】（ユニット型）シフト記号表'!$C$5:$Y$46,23,FALSE))","v":"-"},{"$f":"IF(AW94=\"\",\"\",VLOOKUP(AW94,'【記載例】（ユニット型）シフト記号表'!$C$5:$Y$46,23,FALSE))","v":14},{"$f":"IF(AX94=\"\",\"\",VLOOKUP(AX94,'【記載例】（ユニット型）シフト記号表'!$C$5:$Y$46,23,FALSE))","v":"-"},{"$f":"IF(AY94=\"\",\"\",VLOOKUP(AY94,'【記載例】（ユニット型）シフト記号表'!$C$5:$Y$46,23,FALSE))","v":1.9999999999999991},{"$f":"IF(AZ94=\"\",\"\",VLOOKUP(AZ94,'【記載例】（ユニット型）シフト記号表'!$C$5:$Y$46,23,FALSE))","v":2.9999999999999991},{"$f":"IF(BA94=\"\",\"\",VLOOKUP(BA94,'【記載例】（ユニット型）シフト記号表'!$C$5:$Y$46,23,FALSE))","v":2.9999999999999991},{"$f":"IF(BB94=\"\",\"\",VLOOKUP(BB94,'【記載例】（ユニット型）シフト記号表'!$C$5:$Y$46,23,FALSE))","v":"-"},{"$f":"IF(BC94=\"\",\"\",VLOOKUP(BC94,'【記載例】（ユニット型）シフト記号表'!$C$5:$Y$46,23,FALSE))","v":""},{"$f":"IF(BD94=\"\",\"\",VLOOKUP(BD94,'【記載例】（ユニット型）シフト記号表'!$C$5:$Y$46,23,FALSE))","v":""},{"$f":"IF(BE94=\"\",\"\",VLOOKUP(BE94,'【記載例】（ユニット型）シフト記号表'!$C$5:$Y$46,23,FALSE))","v":""},{"$f":"IF($BI$3=\"計画\",SUM(AA96:BB96),IF($BI$3=\"実績\",SUM(AA96:BE96),\"\"))","v":78},null,{"$f":"IF($BI$3=\"計画\",BF96/4,IF($BI$3=\"実績\",(BF96/($BI$7/7)),\"\"))","v":19.5}]
[null,null,null,"ユニット４",null,null,null,null,null,null,null,null,null,null,null,null,null,null,"○○　BB子",null,null,"シフト記号",null,null,null,null,"休","d","d","a","a","a","休","o","休","a","休","d","d","休","休","o","休","a","休","d","d","d","休","o","休","a","休","d"]
[null,{"$f":"B95+1","v":27},null,null,null,null,"介護職員",null,null,null,null,null,"A",null,"ー",null,null,null,null,null,null,"日中の勤務時間数",null,null,null,null,{"$f":"IF(AA97=\"\",\"\",VLOOKUP(AA97,'【記載例】（ユニット型）シフト記号表'!$C$5:$W$46,21,FALSE))","v":"-"},{"$f":"IF(AB97=\"\",\"\",VLOOKUP(AB97,'【記載例】（ユニット型）シフト記号表'!$C$5:$W$46,21,FALSE))","v":5.0000000000000009},{"$f":"IF(AC97=\"\",\"\",VLOOKUP(AC97,'【記載例】（ユニット型）シフト記号表'!$C$5:$W$46,21,FALSE))","v":5.0000000000000009},{"$f":"IF(AD97=\"\",\"\",VLOOKUP(AD97,'【記載例】（ユニット型）シフト記号表'!$C$5:$W$46,21,FALSE))","v":5.9999999999999991},{"$f":"IF(AE97=\"\",\"\",VLOOKUP(AE97,'【記載例】（ユニット型）シフト記号表'!$C$5:$W$46,21,FALSE))","v":5.9999999999999991},{"$f":"IF(AF97=\"\",\"\",VLOOKUP(AF97,'【記載例】（ユニット型）シフト記号表'!$C$5:$W$46,21,FALSE))","v":5.9999999999999991},{"$f":"IF(AG97=\"\",\"\",VLOOKUP(AG97,'【記載例】（ユニット型）シフト記号表'!$C$5:$W$46,21,FALSE))","v":"-"},{"$f":"IF(AH97=\"\",\"\",VLOOKUP(AH97,'【記載例】（ユニット型）シフト記号表'!$C$5:$W$46,21,FALSE))","v":2},{"$f":"IF(AI97=\"\",\"\",VLOOKUP(AI97,'【記載例】（ユニット型）シフト記号表'!$C$5:$W$46,21,FALSE))","v":"-"},{"$f":"IF(AJ97=\"\",\"\",VLOOKUP(AJ97,'【記載例】（ユニット型）シフト記号表'!$C$5:$W$46,21,FALSE))","v":5.9999999999999991},{"$f":"IF(AK97=\"\",\"\",VLOOKUP(AK97,'【記載例】（ユニット型）シフト記号表'!$C$5:$W$46,21,FALSE))","v":"-"},{"$f":"IF(AL97=\"\",\"\",VLOOKUP(AL97,'【記載例】（ユニット型）シフト記号表'!$C$5:$W$46,21,FALSE))","v":5.0000000000000009},{"$f":"IF(AM97=\"\",\"\",VLOOKUP(AM97,'【記載例】（ユニット型）シフト記号表'!$C$5:$W$46,21,FALSE))","v":5.0000000000000009},{"$f":"IF(AN97=\"\",\"\",VLOOKUP(AN97,'【記載例】（ユニット型）シフト記号表'!$C$5:$W$46,21,FALSE))","v":"-"},{"$f":"IF(AO97=\"\",\"\",VLOOKUP(AO97,'【記載例】（ユニット型）シフト記号表'!$C$5:$W$46,21,FALSE))","v":"-"},{"$f":"IF(AP97=\"\",\"\",VLOOKUP(AP97,'【記載例】（ユニット型）シフト記号表'!$C$5:$W$46,21,FALSE))","v":2},{"$f":"IF(AQ97=\"\",\"\",VLOOKUP(AQ97,'【記載例】（ユニット型）シフト記号表'!$C$5:$W$46,21,FALSE))","v":"-"},{"$f":"IF(AR97=\"\",\"\",VLOOKUP(AR97,'【記載例】（ユニット型）シフト記号表'!$C$5:$W$46,21,FALSE))","v":5.9999999999999991},{"$f":"IF(AS97=\"\",\"\",VLOOKUP(AS97,'【記載例】（ユニット型）シフト記号表'!$C$5:$W$46,21,FALSE))","v":"-"},{"$f":"IF(AT97=\"\",\"\",VLOOKUP(AT97,'【記載例】（ユニット型）シフト記号表'!$C$5:$W$46,21,FALSE))","v":5.0000000000000009},{"$f":"IF(AU97=\"\",\"\",VLOOKUP(AU97,'【記載例】（ユニット型）シフト記号表'!$C$5:$W$46,21,FALSE))","v":5.0000000000000009},{"$f":"IF(AV97=\"\",\"\",VLOOKUP(AV97,'【記載例】（ユニット型）シフト記号表'!$C$5:$W$46,21,FALSE))","v":5.0000000000000009},{"$f":"IF(AW97=\"\",\"\",VLOOKUP(AW97,'【記載例】（ユニット型）シフト記号表'!$C$5:$W$46,21,FALSE))","v":"-"},{"$f":"IF(AX97=\"\",\"\",VLOOKUP(AX97,'【記載例】（ユニット型）シフト記号表'!$C$5:$W$46,21,FALSE))","v":2},{"$f":"IF(AY97=\"\",\"\",VLOOKUP(AY97,'【記載例】（ユニット型）シフト記号表'!$C$5:$W$46,21,FALSE))","v":"-"},{"$f":"IF(AZ97=\"\",\"\",VLOOKUP(AZ97,'【記載例】（ユニット型）シフト記号表'!$C$5:$W$46,21,FALSE))","v":5.9999999999999991},{"$f":"IF(BA97=\"\",\"\",VLOOKUP(BA97,'【記載例】（ユニット型）シフト記号表'!$C$5:$W$46,21,FALSE))","v":"-"},{"$f":"IF(BB97=\"\",\"\",VLOOKUP(BB97,'【記載例】（ユニット型）シフト記号表'!$C$5:$W$46,21,FALSE))","v":5.0000000000000009},{"$f":"IF(BC97=\"\",\"\",VLOOKUP(BC97,'【記載例】（ユニット型）シフト記号表'!$C$5:$W$46,21,FALSE))","v":""},{"$f":"IF(BD97=\"\",\"\",VLOOKUP(BD97,'【記載例】（ユニット型）シフト記号表'!$C$5:$W$46,21,FALSE))","v":""},{"$f":"IF(BE97=\"\",\"\",VLOOKUP(BE97,'【記載例】（ユニット型）シフト記号表'!$C$5:$W$46,21,FALSE))","v":""},{"$f":"IF($BI$3=\"計画\",SUM(AA98:BB98),IF($BI$3=\"実績\",SUM(AA98:BE98),\"\"))","v":82},null,{"$f":"IF($BI$3=\"計画\",BF98/4,IF($BI$3=\"実績\",(BF98/($BI$7/7)),\"\"))","v":20.5}]
[null,null,null,null,null,null,null,null,{"$f":"G98","v":"介護職員"},null,{"$f":"M98","v":"A"},null,null,null,null,null,null,null,null,null,null,"夜勤時間帯の勤務時間数",null,null,null,null,{"$f":"IF(AA97=\"\",\"\",VLOOKUP(AA97,'【記載例】（ユニット型）シフト記号表'!$C$5:$Y$46,23,FALSE))","v":"-"},{"$f":"IF(AB97=\"\",\"\",VLOOKUP(AB97,'【記載例】（ユニット型）シフト記号表'!$C$5:$Y$46,23,FALSE))","v":2.9999999999999991},{"$f":"IF(AC97=\"\",\"\",VLOOKUP(AC97,'【記載例】（ユニット型）シフト記号表'!$C$5:$Y$46,23,FALSE))","v":2.9999999999999991},{"$f":"IF(AD97=\"\",\"\",VLOOKUP(AD97,'【記載例】（ユニット型）シフト記号表'!$C$5:$Y$46,23,FALSE))","v":1.9999999999999991},{"$f":"IF(AE97=\"\",\"\",VLOOKUP(AE97,'【記載例】（ユニット型）シフト記号表'!$C$5:$Y$46,23,FALSE))","v":1.9999999999999991},{"$f":"IF(AF97=\"\",\"\",VLOOKUP(AF97,'【記載例】（ユニット型）シフト記号表'!$C$5:$Y$46,23,FALSE))","v":1.9999999999999991},{"$f":"IF(AG97=\"\",\"\",VLOOKUP(AG97,'【記載例】（ユニット型）シフト記号表'!$C$5:$Y$46,23,FALSE))","v":"-"},{"$f":"IF(AH97=\"\",\"\",VLOOKUP(AH97,'【記載例】（ユニット型）シフト記号表'!$C$5:$Y$46,23,FALSE))","v":14},{"$f":"IF(AI97=\"\",\"\",VLOOKUP(AI97,'【記載例】（ユニット型）シフト記号表'!$C$5:$Y$46,23,FALSE))","v":"-"},{"$f":"IF(AJ97=\"\",\"\",VLOOKUP(AJ97,'【記載例】（ユニット型）シフト記号表'!$C$5:$Y$46,23,FALSE))","v":1.9999999999999991},{"$f":"IF(AK97=\"\",\"\",VLOOKUP(AK97,'【記載例】（ユニット型）シフト記号表'!$C$5:$Y$46,23,FALSE))","v":"-"},{"$f":"IF(AL97=\"\",\"\",VLOOKUP(AL97,'【記載例】（ユニット型）シフト記号表'!$C$5:$Y$46,23,FALSE))","v":2.9999999999999991},{"$f":"IF(AM97=\"\",\"\",VLOOKUP(AM97,'【記載例】（ユニット型）シフト記号表'!$C$5:$Y$46,23,FALSE))","v":2.9999999999999991},{"$f":"IF(AN97=\"\",\"\",VLOOKUP(AN97,'【記載例】（ユニット型）シフト記号表'!$C$5:$Y$46,23,FALSE))","v":"-"},{"$f":"IF(AO97=\"\",\"\",VLOOKUP(AO97,'【記載例】（ユニット型）シフト記号表'!$C$5:$Y$46,23,FALSE))","v":"-"},{"$f":"IF(AP97=\"\",\"\",VLOOKUP(AP97,'【記載例】（ユニット型）シフト記号表'!$C$5:$Y$46,23,FALSE))","v":14},{"$f":"IF(AQ97=\"\",\"\",VLOOKUP(AQ97,'【記載例】（ユニット型）シフト記号表'!$C$5:$Y$46,23,FALSE))","v":"-"},{"$f":"IF(AR97=\"\",\"\",VLOOKUP(AR97,'【記載例】（ユニット型）シフト記号表'!$C$5:$Y$46,23,FALSE))","v":1.9999999999999991},{"$f":"IF(AS97=\"\",\"\",VLOOKUP(AS97,'【記載例】（ユニット型）シフト記号表'!$C$5:$Y$46,23,FALSE))","v":"-"},{"$f":"IF(AT97=\"\",\"\",VLOOKUP(AT97,'【記載例】（ユニット型）シフト記号表'!$C$5:$Y$46,23,FALSE))","v":2.9999999999999991},{"$f":"IF(AU97=\"\",\"\",VLOOKUP(AU97,'【記載例】（ユニット型）シフト記号表'!$C$5:$Y$46,23,FALSE))","v":2.9999999999999991},{"$f":"IF(AV97=\"\",\"\",VLOOKUP(AV97,'【記載例】（ユニット型）シフト記号表'!$C$5:$Y$46,23,FALSE))","v":2.9999999999999991},{"$f":"IF(AW97=\"\",\"\",VLOOKUP(AW97,'【記載例】（ユニット型）シフト記号表'!$C$5:$Y$46,23,FALSE))","v":"-"},{"$f":"IF(AX97=\"\",\"\",VLOOKUP(AX97,'【記載例】（ユニット型）シフト記号表'!$C$5:$Y$46,23,FALSE))","v":14},{"$f":"IF(AY97=\"\",\"\",VLOOKUP(AY97,'【記載例】（ユニット型）シフト記号表'!$C$5:$Y$46,23,FALSE))","v":"-"},{"$f":"IF(AZ97=\"\",\"\",VLOOKUP(AZ97,'【記載例】（ユニット型）シフト記号表'!$C$5:$Y$46,23,FALSE))","v":1.9999999999999991},{"$f":"IF(BA97=\"\",\"\",VLOOKUP(BA97,'【記載例】（ユニット型）シフト記号表'!$C$5:$Y$46,23,FALSE))","v":"-"},{"$f":"IF(BB97=\"\",\"\",VLOOKUP(BB97,'【記載例】（ユニット型）シフト記号表'!$C$5:$Y$46,23,FALSE))","v":2.9999999999999991},{"$f":"IF(BC97=\"\",\"\",VLOOKUP(BC97,'【記載例】（ユニット型）シフト記号表'!$C$5:$Y$46,23,FALSE))","v":""},{"$f":"IF(BD97=\"\",\"\",VLOOKUP(BD97,'【記載例】（ユニット型）シフト記号表'!$C$5:$Y$46,23,FALSE))","v":""},{"$f":"IF(BE97=\"\",\"\",VLOOKUP(BE97,'【記載例】（ユニット型）シフト記号表'!$C$5:$Y$46,23,FALSE))","v":""},{"$f":"IF($BI$3=\"計画\",SUM(AA99:BB99),IF($BI$3=\"実績\",SUM(AA99:BE99),\"\"))","v":78},null,{"$f":"IF($BI$3=\"計画\",BF99/4,IF($BI$3=\"実績\",(BF99/($BI$7/7)),\"\"))","v":19.5}]
[null,null,null,"ユニット４",null,null,null,null,null,null,null,null,null,null,null,null,null,null,"○○　CC次郎",null,null,"シフト記号",null,null,null,null,"d","休","休","d","休","d","d","休","d","休","休","d","a","a","d","休","d","休","d","休","a","a","d","休","d","休","a","休"]
[null,{"$f":"B98+1","v":28},null,null,null,null,"介護職員",null,null,null,null,null,"C",null,"ー",null,null,null,null,null,null,"日中の勤務時間数",null,null,null,null,{"$f":"IF(AA100=\"\",\"\",VLOOKUP(AA100,'【記載例】（ユニット型）シフト記号表'!$C$5:$W$46,21,FALSE))","v":5.0000000000000009},{"$f":"IF(AB100=\"\",\"\",VLOOKUP(AB100,'【記載例】（ユニット型）シフト記号表'!$C$5:$W$46,21,FALSE))","v":"-"},{"$f":"IF(AC100=\"\",\"\",VLOOKUP(AC100,'【記載例】（ユニット型）シフト記号表'!$C$5:$W$46,21,FALSE))","v":"-"},{"$f":"IF(AD100=\"\",\"\",VLOOKUP(AD100,'【記載例】（ユニット型）シフト記号表'!$C$5:$W$46,21,FALSE))","v":5.0000000000000009},{"$f":"IF(AE100=\"\",\"\",VLOOKUP(AE100,'【記載例】（ユニット型）シフト記号表'!$C$5:$W$46,21,FALSE))","v":"-"},{"$f":"IF(AF100=\"\",\"\",VLOOKUP(AF100,'【記載例】（ユニット型）シフト記号表'!$C$5:$W$46,21,FALSE))","v":5.0000000000000009},{"$f":"IF(AG100=\"\",\"\",VLOOKUP(AG100,'【記載例】（ユニット型）シフト記号表'!$C$5:$W$46,21,FALSE))","v":5.0000000000000009},{"$f":"IF(AH100=\"\",\"\",VLOOKUP(AH100,'【記載例】（ユニット型）シフト記号表'!$C$5:$W$46,21,FALSE))","v":"-"},{"$f":"IF(AI100=\"\",\"\",VLOOKUP(AI100,'【記載例】（ユニット型）シフト記号表'!$C$5:$W$46,21,FALSE))","v":5.0000000000000009},{"$f":"IF(AJ100=\"\",\"\",VLOOKUP(AJ100,'【記載例】（ユニット型）シフト記号表'!$C$5:$W$46,21,FALSE))","v":"-"},{"$f":"IF(AK100=\"\",\"\",VLOOKUP(AK100,'【記載例】（ユニット型）シフト記号表'!$C$5:$W$46,21,FALSE))","v":"-"},{"$f":"IF(AL100=\"\",\"\",VLOOKUP(AL100,'【記載例】（ユニット型）シフト記号表'!$C$5:$W$46,21,FALSE))","v":5.0000000000000009},{"$f":"IF(AM100=\"\",\"\",VLOOKUP(AM100,'【記載例】（ユニット型）シフト記号表'!$C$5:$W$46,21,FALSE))","v":5.9999999999999991},{"$f":"IF(AN100=\"\",\"\",VLOOKUP(AN100,'【記載例】（ユニット型）シフト記号表'!$C$5:$W$46,21,FALSE))","v":5.9999999999999991},{"$f":"IF(AO100=\"\",\"\",VLOOKUP(AO100,'【記載例】（ユニット型）シフト記号表'!$C$5:$W$46,21,FALSE))","v":5.0000000000000009},{"$f":"IF(AP100=\"\",\"\",VLOOKUP(AP100,'【記載例】（ユニット型）シフト記号表'!$C$5:$W$46,21,FALSE))","v":"-"},{"$f":"IF(AQ100=\"\",\"\",VLOOKUP(AQ100,'【記載例】（ユニット型）シフト記号表'!$C$5:$W$46,21,FALSE))","v":5.0000000000000009},{"$f":"IF(AR100=\"\",\"\",VLOOKUP(AR100,'【記載例】（ユニット型）シフト記号表'!$C$5:$W$46,21,FALSE))","v":"-"},{"$f":"IF(AS100=\"\",\"\",VLOOKUP(AS100,'【記載例】（ユニット型）シフト記号表'!$C$5:$W$46,21,FALSE))","v":5.0000000000000009},{"$f":"IF(AT100=\"\",\"\",VLOOKUP(AT100,'【記載例】（ユニット型）シフト記号表'!$C$5:$W$46,21,FALSE))","v":"-"},{"$f":"IF(AU100=\"\",\"\",VLOOKUP(AU100,'【記載例】（ユニット型）シフト記号表'!$C$5:$W$46,21,FALSE))","v":5.9999999999999991},{"$f":"IF(AV100=\"\",\"\",VLOOKUP(AV100,'【記載例】（ユニット型）シフト記号表'!$C$5:$W$46,21,FALSE))","v":5.9999999999999991},{"$f":"IF(AW100=\"\",\"\",VLOOKUP(AW100,'【記載例】（ユニット型）シフト記号表'!$C$5:$W$46,21,FALSE))","v":5.0000000000000009},{"$f":"IF(AX100=\"\",\"\",VLOOKUP(AX100,'【記載例】（ユニット型）シフト記号表'!$C$5:$W$46,21,FALSE))","v":"-"},{"$f":"IF(AY100=\"\",\"\",VLOOKUP(AY100,'【記載例】（ユニット型）シフト記号表'!$C$5:$W$46,21,FALSE))","v":5.0000000000000009},{"$f":"IF(AZ100=\"\",\"\",VLOOKUP(AZ100,'【記載例】（ユニット型）シフト記号表'!$C$5:$W$46,21,FALSE))","v":"-"},{"$f":"IF(BA100=\"\",\"\",VLOOKUP(BA100,'【記載例】（ユニット型）シフト記号表'!$C$5:$W$46,21,FALSE))","v":5.9999999999999991},{"$f":"IF(BB100=\"\",\"\",VLOOKUP(BB100,'【記載例】（ユニット型）シフト記号表'!$C$5:$W$46,21,FALSE))","v":"-"},{"$f":"IF(BC100=\"\",\"\",VLOOKUP(BC100,'【記載例】（ユニット型）シフト記号表'!$C$5:$W$46,21,FALSE))","v":""},{"$f":"IF(BD100=\"\",\"\",VLOOKUP(BD100,'【記載例】（ユニット型）シフト記号表'!$C$5:$W$46,21,FALSE))","v":""},{"$f":"IF(BE100=\"\",\"\",VLOOKUP(BE100,'【記載例】（ユニット型）シフト記号表'!$C$5:$W$46,21,FALSE))","v":""},{"$f":"IF($BI$3=\"計画\",SUM(AA101:BB101),IF($BI$3=\"実績\",SUM(AA101:BE101),\"\"))","v":85},null,{"$f":"IF($BI$3=\"計画\",BF101/4,IF($BI$3=\"実績\",(BF101/($BI$7/7)),\"\"))","v":21.25}]
[null,null,null,null,null,null,null,null,{"$f":"G101","v":"介護職員"},null,{"$f":"M101","v":"C"},null,null,null,null,null,null,null,null,null,null,"夜勤時間帯の勤務時間数",null,null,null,null,{"$f":"IF(AA100=\"\",\"\",VLOOKUP(AA100,'【記載例】（ユニット型）シフト記号表'!$C$5:$Y$46,23,FALSE))","v":2.9999999999999991},{"$f":"IF(AB100=\"\",\"\",VLOOKUP(AB100,'【記載例】（ユニット型）シフト記号表'!$C$5:$Y$46,23,FALSE))","v":"-"},{"$f":"IF(AC100=\"\",\"\",VLOOKUP(AC100,'【記載例】（ユニット型）シフト記号表'!$C$5:$Y$46,23,FALSE))","v":"-"},{"$f":"IF(AD100=\"\",\"\",VLOOKUP(AD100,'【記載例】（ユニット型）シフト記号表'!$C$5:$Y$46,23,FALSE))","v":2.9999999999999991},{"$f":"IF(AE100=\"\",\"\",VLOOKUP(AE100,'【記載例】（ユニット型）シフト記号表'!$C$5:$Y$46,23,FALSE))","v":"-"},{"$f":"IF(AF100=\"\",\"\",VLOOKUP(AF100,'【記載例】（ユニット型）シフト記号表'!$C$5:$Y$46,23,FALSE))","v":2.9999999999999991},{"$f":"IF(AG100=\"\",\"\",VLOOKUP(AG100,'【記載例】（ユニット型）シフト記号表'!$C$5:$Y$46,23,FALSE))","v":2.9999999999999991},{"$f":"IF(AH100=\"\",\"\",VLOOKUP(AH100,'【記載例】（ユニット型）シフト記号表'!$C$5:$Y$46,23,FALSE))","v":"-"},{"$f":"IF(AI100=\"\",\"\",VLOOKUP(AI100,'【記載例】（ユニット型）シフト記号表'!$C$5:$Y$46,23,FALSE))","v":2.9999999999999991},{"$f":"IF(AJ100=\"\",\"\",VLOOKUP(AJ100,'【記載例】（ユニット型）シフト記号表'!$C$5:$Y$46,23,FALSE))","v":"-"},{"$f":"IF(AK100=\"\",\"\",VLOOKUP(AK100,'【記載例】（ユニット型）シフト記号表'!$C$5:$Y$46,23,FALSE))","v":"-"},{"$f":"IF(AL100=\"\",\"\",VLOOKUP(AL100,'【記載例】（ユニット型）シフト記号表'!$C$5:$Y$46,23,FALSE))","v":2.9999999999999991},{"$f":"IF(AM100=\"\",\"\",VLOOKUP(AM100,'【記載例】（ユニット型）シフト記号表'!$C$5:$Y$46,23,FALSE))","v":1.9999999999999991},{"$f":"IF(AN100=\"\",\"\",VLOOKUP(AN100,'【記載例】（ユニット型）シフト記号表'!$C$5:$Y$46,23,FALSE))","v":1.9999999999999991},{"$f":"IF(AO100=\"\",\"\",VLOOKUP(AO100,'【記載例】（ユニット型）シフト記号表'!$C$5:$Y$46,23,FALSE))","v":2.9999999999999991},{"$f":"IF(AP100=\"\",\"\",VLOOKUP(AP100,'【記載例】（ユニット型）シフト記号表'!$C$5:$Y$46,23,FALSE))","v":"-"},{"$f":"IF(AQ100=\"\",\"\",VLOOKUP(AQ100,'【記載例】（ユニット型）シフト記号表'!$C$5:$Y$46,23,FALSE))","v":2.9999999999999991},{"$f":"IF(AR100=\"\",\"\",VLOOKUP(AR100,'【記載例】（ユニット型）シフト記号表'!$C$5:$Y$46,23,FALSE))","v":"-"},{"$f":"IF(AS100=\"\",\"\",VLOOKUP(AS100,'【記載例】（ユニット型）シフト記号表'!$C$5:$Y$46,23,FALSE))","v":2.9999999999999991},{"$f":"IF(AT100=\"\",\"\",VLOOKUP(AT100,'【記載例】（ユニット型）シフト記号表'!$C$5:$Y$46,23,FALSE))","v":"-"},{"$f":"IF(AU100=\"\",\"\",VLOOKUP(AU100,'【記載例】（ユニット型）シフト記号表'!$C$5:$Y$46,23,FALSE))","v":1.9999999999999991},{"$f":"IF(AV100=\"\",\"\",VLOOKUP(AV100,'【記載例】（ユニット型）シフト記号表'!$C$5:$Y$46,23,FALSE))","v":1.9999999999999991},{"$f":"IF(AW100=\"\",\"\",VLOOKUP(AW100,'【記載例】（ユニット型）シフト記号表'!$C$5:$Y$46,23,FALSE))","v":2.9999999999999991},{"$f":"IF(AX100=\"\",\"\",VLOOKUP(AX100,'【記載例】（ユニット型）シフト記号表'!$C$5:$Y$46,23,FALSE))","v":"-"},{"$f":"IF(AY100=\"\",\"\",VLOOKUP(AY100,'【記載例】（ユニット型）シフト記号表'!$C$5:$Y$46,23,FALSE))","v":2.9999999999999991},{"$f":"IF(AZ100=\"\",\"\",VLOOKUP(AZ100,'【記載例】（ユニット型）シフト記号表'!$C$5:$Y$46,23,FALSE))","v":"-"},{"$f":"IF(BA100=\"\",\"\",VLOOKUP(BA100,'【記載例】（ユニット型）シフト記号表'!$C$5:$Y$46,23,FALSE))","v":1.9999999999999991},{"$f":"IF(BB100=\"\",\"\",VLOOKUP(BB100,'【記載例】（ユニット型）シフト記号表'!$C$5:$Y$46,23,FALSE))","v":"-"},{"$f":"IF(BC100=\"\",\"\",VLOOKUP(BC100,'【記載例】（ユニット型）シフト記号表'!$C$5:$Y$46,23,FALSE))","v":""},{"$f":"IF(BD100=\"\",\"\",VLOOKUP(BD100,'【記載例】（ユニット型）シフト記号表'!$C$5:$Y$46,23,FALSE))","v":""},{"$f":"IF(BE100=\"\",\"\",VLOOKUP(BE100,'【記載例】（ユニット型）シフト記号表'!$C$5:$Y$46,23,FALSE))","v":""},{"$f":"IF($BI$3=\"計画\",SUM(AA102:BB102),IF($BI$3=\"実績\",SUM(AA102:BE102),\"\"))","v":42.999999999999993},null,{"$f":"IF($BI$3=\"計画\",BF102/4,IF($BI$3=\"実績\",(BF102/($BI$7/7)),\"\"))","v":10.749999999999998}]
[null,null,null,null,null,null,null,null,null,null,null,null,null,null,null,null,null,null,null,null,null,"シフト記号"]
[null,{"$f":"B101+1","v":29},null,null,null,null,null,null,null,null,null,null,null,null,null,null,null,null,null,null,null,"日中の勤務時間数",null,null,null,null,{"$f":"IF(AA103=\"\",\"\",VLOOKUP(AA103,'【記載例】（ユニット型）シフト記号表'!$C$5:$W$46,21,FALSE))","v":""},{"$f":"IF(AB103=\"\",\"\",VLOOKUP(AB103,'【記載例】（ユニット型）シフト記号表'!$C$5:$W$46,21,FALSE))","v":""},{"$f":"IF(AC103=\"\",\"\",VLOOKUP(AC103,'【記載例】（ユニット型）シフト記号表'!$C$5:$W$46,21,FALSE))","v":""},{"$f":"IF(AD103=\"\",\"\",VLOOKUP(AD103,'【記載例】（ユニット型）シフト記号表'!$C$5:$W$46,21,FALSE))","v":""},{"$f":"IF(AE103=\"\",\"\",VLOOKUP(AE103,'【記載例】（ユニット型）シフト記号表'!$C$5:$W$46,21,FALSE))","v":""},{"$f":"IF(AF103=\"\",\"\",VLOOKUP(AF103,'【記載例】（ユニット型）シフト記号表'!$C$5:$W$46,21,FALSE))","v":""},{"$f":"IF(AG103=\"\",\"\",VLOOKUP(AG103,'【記載例】（ユニット型）シフト記号表'!$C$5:$W$46,21,FALSE))","v":""},{"$f":"IF(AH103=\"\",\"\",VLOOKUP(AH103,'【記載例】（ユニット型）シフト記号表'!$C$5:$W$46,21,FALSE))","v":""},{"$f":"IF(AI103=\"\",\"\",VLOOKUP(AI103,'【記載例】（ユニット型）シフト記号表'!$C$5:$W$46,21,FALSE))","v":""},{"$f":"IF(AJ103=\"\",\"\",VLOOKUP(AJ103,'【記載例】（ユニット型）シフト記号表'!$C$5:$W$46,21,FALSE))","v":""},{"$f":"IF(AK103=\"\",\"\",VLOOKUP(AK103,'【記載例】（ユニット型）シフト記号表'!$C$5:$W$46,21,FALSE))","v":""},{"$f":"IF(AL103=\"\",\"\",VLOOKUP(AL103,'【記載例】（ユニット型）シフト記号表'!$C$5:$W$46,21,FALSE))","v":""},{"$f":"IF(AM103=\"\",\"\",VLOOKUP(AM103,'【記載例】（ユニット型）シフト記号表'!$C$5:$W$46,21,FALSE))","v":""},{"$f":"IF(AN103=\"\",\"\",VLOOKUP(AN103,'【記載例】（ユニット型）シフト記号表'!$C$5:$W$46,21,FALSE))","v":""},{"$f":"IF(AO103=\"\",\"\",VLOOKUP(AO103,'【記載例】（ユニット型）シフト記号表'!$C$5:$W$46,21,FALSE))","v":""},{"$f":"IF(AP103=\"\",\"\",VLOOKUP(AP103,'【記載例】（ユニット型）シフト記号表'!$C$5:$W$46,21,FALSE))","v":""},{"$f":"IF(AQ103=\"\",\"\",VLOOKUP(AQ103,'【記載例】（ユニット型）シフト記号表'!$C$5:$W$46,21,FALSE))","v":""},{"$f":"IF(AR103=\"\",\"\",VLOOKUP(AR103,'【記載例】（ユニット型）シフト記号表'!$C$5:$W$46,21,FALSE))","v":""},{"$f":"IF(AS103=\"\",\"\",VLOOKUP(AS103,'【記載例】（ユニット型）シフト記号表'!$C$5:$W$46,21,FALSE))","v":""},{"$f":"IF(AT103=\"\",\"\",VLOOKUP(AT103,'【記載例】（ユニット型）シフト記号表'!$C$5:$W$46,21,FALSE))","v":""},{"$f":"IF(AU103=\"\",\"\",VLOOKUP(AU103,'【記載例】（ユニット型）シフト記号表'!$C$5:$W$46,21,FALSE))","v":""},{"$f":"IF(AV103=\"\",\"\",VLOOKUP(AV103,'【記載例】（ユニット型）シフト記号表'!$C$5:$W$46,21,FALSE))","v":""},{"$f":"IF(AW103=\"\",\"\",VLOOKUP(AW103,'【記載例】（ユニット型）シフト記号表'!$C$5:$W$46,21,FALSE))","v":""},{"$f":"IF(AX103=\"\",\"\",VLOOKUP(AX103,'【記載例】（ユニット型）シフト記号表'!$C$5:$W$46,21,FALSE))","v":""},{"$f":"IF(AY103=\"\",\"\",VLOOKUP(AY103,'【記載例】（ユニット型）シフト記号表'!$C$5:$W$46,21,FALSE))","v":""},{"$f":"IF(AZ103=\"\",\"\",VLOOKUP(AZ103,'【記載例】（ユニット型）シフト記号表'!$C$5:$W$46,21,FALSE))","v":""},{"$f":"IF(BA103=\"\",\"\",VLOOKUP(BA103,'【記載例】（ユニット型）シフト記号表'!$C$5:$W$46,21,FALSE))","v":""},{"$f":"IF(BB103=\"\",\"\",VLOOKUP(BB103,'【記載例】（ユニット型）シフト記号表'!$C$5:$W$46,21,FALSE))","v":""},{"$f":"IF(BC103=\"\",\"\",VLOOKUP(BC103,'【記載例】（ユニット型）シフト記号表'!$C$5:$W$46,21,FALSE))","v":""},{"$f":"IF(BD103=\"\",\"\",VLOOKUP(BD103,'【記載例】（ユニット型）シフト記号表'!$C$5:$W$46,21,FALSE))","v":""},{"$f":"IF(BE103=\"\",\"\",VLOOKUP(BE103,'【記載例】（ユニット型）シフト記号表'!$C$5:$W$46,21,FALSE))","v":""},{"$f":"IF($BI$3=\"計画\",SUM(AA104:BB104),IF($BI$3=\"実績\",SUM(AA104:BE104),\"\"))","v":0},null,{"$f":"IF($BI$3=\"計画\",BF104/4,IF($BI$3=\"実績\",(BF104/($BI$7/7)),\"\"))","v":0}]
[null,null,null,null,null,null,null,null,{"$f":"G104","v":0},null,{"$f":"M104","v":0},null,null,null,null,null,null,null,null,null,null,"夜勤時間帯の勤務時間数",null,null,null,null,{"$f":"IF(AA103=\"\",\"\",VLOOKUP(AA103,'【記載例】（ユニット型）シフト記号表'!$C$5:$Y$46,23,FALSE))","v":""},{"$f":"IF(AB103=\"\",\"\",VLOOKUP(AB103,'【記載例】（ユニット型）シフト記号表'!$C$5:$Y$46,23,FALSE))","v":""},{"$f":"IF(AC103=\"\",\"\",VLOOKUP(AC103,'【記載例】（ユニット型）シフト記号表'!$C$5:$Y$46,23,FALSE))","v":""},{"$f":"IF(AD103=\"\",\"\",VLOOKUP(AD103,'【記載例】（ユニット型）シフト記号表'!$C$5:$Y$46,23,FALSE))","v":""},{"$f":"IF(AE103=\"\",\"\",VLOOKUP(AE103,'【記載例】（ユニット型）シフト記号表'!$C$5:$Y$46,23,FALSE))","v":""},{"$f":"IF(AF103=\"\",\"\",VLOOKUP(AF103,'【記載例】（ユニット型）シフト記号表'!$C$5:$Y$46,23,FALSE))","v":""},{"$f":"IF(AG103=\"\",\"\",VLOOKUP(AG103,'【記載例】（ユニット型）シフト記号表'!$C$5:$Y$46,23,FALSE))","v":""},{"$f":"IF(AH103=\"\",\"\",VLOOKUP(AH103,'【記載例】（ユニット型）シフト記号表'!$C$5:$Y$46,23,FALSE))","v":""},{"$f":"IF(AI103=\"\",\"\",VLOOKUP(AI103,'【記載例】（ユニット型）シフト記号表'!$C$5:$Y$46,23,FALSE))","v":""},{"$f":"IF(AJ103=\"\",\"\",VLOOKUP(AJ103,'【記載例】（ユニット型）シフト記号表'!$C$5:$Y$46,23,FALSE))","v":""},{"$f":"IF(AK103=\"\",\"\",VLOOKUP(AK103,'【記載例】（ユニット型）シフト記号表'!$C$5:$Y$46,23,FALSE))","v":""},{"$f":"IF(AL103=\"\",\"\",VLOOKUP(AL103,'【記載例】（ユニット型）シフト記号表'!$C$5:$Y$46,23,FALSE))","v":""},{"$f":"IF(AM103=\"\",\"\",VLOOKUP(AM103,'【記載例】（ユニット型）シフト記号表'!$C$5:$Y$46,23,FALSE))","v":""},{"$f":"IF(AN103=\"\",\"\",VLOOKUP(AN103,'【記載例】（ユニット型）シフト記号表'!$C$5:$Y$46,23,FALSE))","v":""},{"$f":"IF(AO103=\"\",\"\",VLOOKUP(AO103,'【記載例】（ユニット型）シフト記号表'!$C$5:$Y$46,23,FALSE))","v":""},{"$f":"IF(AP103=\"\",\"\",VLOOKUP(AP103,'【記載例】（ユニット型）シフト記号表'!$C$5:$Y$46,23,FALSE))","v":""},{"$f":"IF(AQ103=\"\",\"\",VLOOKUP(AQ103,'【記載例】（ユニット型）シフト記号表'!$C$5:$Y$46,23,FALSE))","v":""},{"$f":"IF(AR103=\"\",\"\",VLOOKUP(AR103,'【記載例】（ユニット型）シフト記号表'!$C$5:$Y$46,23,FALSE))","v":""},{"$f":"IF(AS103=\"\",\"\",VLOOKUP(AS103,'【記載例】（ユニット型）シフト記号表'!$C$5:$Y$46,23,FALSE))","v":""},{"$f":"IF(AT103=\"\",\"\",VLOOKUP(AT103,'【記載例】（ユニット型）シフト記号表'!$C$5:$Y$46,23,FALSE))","v":""},{"$f":"IF(AU103=\"\",\"\",VLOOKUP(AU103,'【記載例】（ユニット型）シフト記号表'!$C$5:$Y$46,23,FALSE))","v":""},{"$f":"IF(AV103=\"\",\"\",VLOOKUP(AV103,'【記載例】（ユニット型）シフト記号表'!$C$5:$Y$46,23,FALSE))","v":""},{"$f":"IF(AW103=\"\",\"\",VLOOKUP(AW103,'【記載例】（ユニット型）シフト記号表'!$C$5:$Y$46,23,FALSE))","v":""},{"$f":"IF(AX103=\"\",\"\",VLOOKUP(AX103,'【記載例】（ユニット型）シフト記号表'!$C$5:$Y$46,23,FALSE))","v":""},{"$f":"IF(AY103=\"\",\"\",VLOOKUP(AY103,'【記載例】（ユニット型）シフト記号表'!$C$5:$Y$46,23,FALSE))","v":""},{"$f":"IF(AZ103=\"\",\"\",VLOOKUP(AZ103,'【記載例】（ユニット型）シフト記号表'!$C$5:$Y$46,23,FALSE))","v":""},{"$f":"IF(BA103=\"\",\"\",VLOOKUP(BA103,'【記載例】（ユニット型）シフト記号表'!$C$5:$Y$46,23,FALSE))","v":""},{"$f":"IF(BB103=\"\",\"\",VLOOKUP(BB103,'【記載例】（ユニット型）シフト記号表'!$C$5:$Y$46,23,FALSE))","v":""},{"$f":"IF(BC103=\"\",\"\",VLOOKUP(BC103,'【記載例】（ユニット型）シフト記号表'!$C$5:$Y$46,23,FALSE))","v":""},{"$f":"IF(BD103=\"\",\"\",VLOOKUP(BD103,'【記載例】（ユニット型）シフト記号表'!$C$5:$Y$46,23,FALSE))","v":""},{"$f":"IF(BE103=\"\",\"\",VLOOKUP(BE103,'【記載例】（ユニット型）シフト記号表'!$C$5:$Y$46,23,FALSE))","v":""},{"$f":"IF($BI$3=\"計画\",SUM(AA105:BB105),IF($BI$3=\"実績\",SUM(AA105:BE105),\"\"))","v":0},null,{"$f":"IF($BI$3=\"計画\",BF105/4,IF($BI$3=\"実績\",(BF105/($BI$7/7)),\"\"))","v":0}]
[null,null,null,null,null,null,null,null,null,null,null,null,null,null,null,null,null,null,null,null,null,"シフト記号"]
[null,{"$f":"B104+1","v":30},null,null,null,null,null,null,null,null,null,null,null,null,null,null,null,null,null,null,null,"日中の勤務時間数",null,null,null,null,{"$f":"IF(AA106=\"\",\"\",VLOOKUP(AA106,'【記載例】（ユニット型）シフト記号表'!$C$5:$W$46,21,FALSE))","v":""},{"$f":"IF(AB106=\"\",\"\",VLOOKUP(AB106,'【記載例】（ユニット型）シフト記号表'!$C$5:$W$46,21,FALSE))","v":""},{"$f":"IF(AC106=\"\",\"\",VLOOKUP(AC106,'【記載例】（ユニット型）シフト記号表'!$C$5:$W$46,21,FALSE))","v":""},{"$f":"IF(AD106=\"\",\"\",VLOOKUP(AD106,'【記載例】（ユニット型）シフト記号表'!$C$5:$W$46,21,FALSE))","v":""},{"$f":"IF(AE106=\"\",\"\",VLOOKUP(AE106,'【記載例】（ユニット型）シフト記号表'!$C$5:$W$46,21,FALSE))","v":""},{"$f":"IF(AF106=\"\",\"\",VLOOKUP(AF106,'【記載例】（ユニット型）シフト記号表'!$C$5:$W$46,21,FALSE))","v":""},{"$f":"IF(AG106=\"\",\"\",VLOOKUP(AG106,'【記載例】（ユニット型）シフト記号表'!$C$5:$W$46,21,FALSE))","v":""},{"$f":"IF(AH106=\"\",\"\",VLOOKUP(AH106,'【記載例】（ユニット型）シフト記号表'!$C$5:$W$46,21,FALSE))","v":""},{"$f":"IF(AI106=\"\",\"\",VLOOKUP(AI106,'【記載例】（ユニット型）シフト記号表'!$C$5:$W$46,21,FALSE))","v":""},{"$f":"IF(AJ106=\"\",\"\",VLOOKUP(AJ106,'【記載例】（ユニット型）シフト記号表'!$C$5:$W$46,21,FALSE))","v":""},{"$f":"IF(AK106=\"\",\"\",VLOOKUP(AK106,'【記載例】（ユニット型）シフト記号表'!$C$5:$W$46,21,FALSE))","v":""},{"$f":"IF(AL106=\"\",\"\",VLOOKUP(AL106,'【記載例】（ユニット型）シフト記号表'!$C$5:$W$46,21,FALSE))","v":""},{"$f":"IF(AM106=\"\",\"\",VLOOKUP(AM106,'【記載例】（ユニット型）シフト記号表'!$C$5:$W$46,21,FALSE))","v":""},{"$f":"IF(AN106=\"\",\"\",VLOOKUP(AN106,'【記載例】（ユニット型）シフト記号表'!$C$5:$W$46,21,FALSE))","v":""},{"$f":"IF(AO106=\"\",\"\",VLOOKUP(AO106,'【記載例】（ユニット型）シフト記号表'!$C$5:$W$46,21,FALSE))","v":""},{"$f":"IF(AP106=\"\",\"\",VLOOKUP(AP106,'【記載例】（ユニット型）シフト記号表'!$C$5:$W$46,21,FALSE))","v":""},{"$f":"IF(AQ106=\"\",\"\",VLOOKUP(AQ106,'【記載例】（ユニット型）シフト記号表'!$C$5:$W$46,21,FALSE))","v":""},{"$f":"IF(AR106=\"\",\"\",VLOOKUP(AR106,'【記載例】（ユニット型）シフト記号表'!$C$5:$W$46,21,FALSE))","v":""},{"$f":"IF(AS106=\"\",\"\",VLOOKUP(AS106,'【記載例】（ユニット型）シフト記号表'!$C$5:$W$46,21,FALSE))","v":""},{"$f":"IF(AT106=\"\",\"\",VLOOKUP(AT106,'【記載例】（ユニット型）シフト記号表'!$C$5:$W$46,21,FALSE))","v":""},{"$f":"IF(AU106=\"\",\"\",VLOOKUP(AU106,'【記載例】（ユニット型）シフト記号表'!$C$5:$W$46,21,FALSE))","v":""},{"$f":"IF(AV106=\"\",\"\",VLOOKUP(AV106,'【記載例】（ユニット型）シフト記号表'!$C$5:$W$46,21,FALSE))","v":""},{"$f":"IF(AW106=\"\",\"\",VLOOKUP(AW106,'【記載例】（ユニット型）シフト記号表'!$C$5:$W$46,21,FALSE))","v":""},{"$f":"IF(AX106=\"\",\"\",VLOOKUP(AX106,'【記載例】（ユニット型）シフト記号表'!$C$5:$W$46,21,FALSE))","v":""},{"$f":"IF(AY106=\"\",\"\",VLOOKUP(AY106,'【記載例】（ユニット型）シフト記号表'!$C$5:$W$46,21,FALSE))","v":""},{"$f":"IF(AZ106=\"\",\"\",VLOOKUP(AZ106,'【記載例】（ユニット型）シフト記号表'!$C$5:$W$46,21,FALSE))","v":""},{"$f":"IF(BA106=\"\",\"\",VLOOKUP(BA106,'【記載例】（ユニット型）シフト記号表'!$C$5:$W$46,21,FALSE))","v":""},{"$f":"IF(BB106=\"\",\"\",VLOOKUP(BB106,'【記載例】（ユニット型）シフト記号表'!$C$5:$W$46,21,FALSE))","v":""},{"$f":"IF(BC106=\"\",\"\",VLOOKUP(BC106,'【記載例】（ユニット型）シフト記号表'!$C$5:$W$46,21,FALSE))","v":""},{"$f":"IF(BD106=\"\",\"\",VLOOKUP(BD106,'【記載例】（ユニット型）シフト記号表'!$C$5:$W$46,21,FALSE))","v":""},{"$f":"IF(BE106=\"\",\"\",VLOOKUP(BE106,'【記載例】（ユニット型）シフト記号表'!$C$5:$W$46,21,FALSE))","v":""},{"$f":"IF($BI$3=\"計画\",SUM(AA107:BB107),IF($BI$3=\"実績\",SUM(AA107:BE107),\"\"))","v":0},null,{"$f":"IF($BI$3=\"計画\",BF107/4,IF($BI$3=\"実績\",(BF107/($BI$7/7)),\"\"))","v":0}]
[null,null,null,null,null,null,null,null,{"$f":"G107","v":0},null,{"$f":"M107","v":0},null,null,null,null,null,null,null,null,null,null,"夜勤時間帯の勤務時間数",null,null,null,null,{"$f":"IF(AA106=\"\",\"\",VLOOKUP(AA106,'【記載例】（ユニット型）シフト記号表'!$C$5:$Y$46,23,FALSE))","v":""},{"$f":"IF(AB106=\"\",\"\",VLOOKUP(AB106,'【記載例】（ユニット型）シフト記号表'!$C$5:$Y$46,23,FALSE))","v":""},{"$f":"IF(AC106=\"\",\"\",VLOOKUP(AC106,'【記載例】（ユニット型）シフト記号表'!$C$5:$Y$46,23,FALSE))","v":""},{"$f":"IF(AD106=\"\",\"\",VLOOKUP(AD106,'【記載例】（ユニット型）シフト記号表'!$C$5:$Y$46,23,FALSE))","v":""},{"$f":"IF(AE106=\"\",\"\",VLOOKUP(AE106,'【記載例】（ユニット型）シフト記号表'!$C$5:$Y$46,23,FALSE))","v":""},{"$f":"IF(AF106=\"\",\"\",VLOOKUP(AF106,'【記載例】（ユニット型）シフト記号表'!$C$5:$Y$46,23,FALSE))","v":""},{"$f":"IF(AG106=\"\",\"\",VLOOKUP(AG106,'【記載例】（ユニット型）シフト記号表'!$C$5:$Y$46,23,FALSE))","v":""},{"$f":"IF(AH106=\"\",\"\",VLOOKUP(AH106,'【記載例】（ユニット型）シフト記号表'!$C$5:$Y$46,23,FALSE))","v":""},{"$f":"IF(AI106=\"\",\"\",VLOOKUP(AI106,'【記載例】（ユニット型）シフト記号表'!$C$5:$Y$46,23,FALSE))","v":""},{"$f":"IF(AJ106=\"\",\"\",VLOOKUP(AJ106,'【記載例】（ユニット型）シフト記号表'!$C$5:$Y$46,23,FALSE))","v":""},{"$f":"IF(AK106=\"\",\"\",VLOOKUP(AK106,'【記載例】（ユニット型）シフト記号表'!$C$5:$Y$46,23,FALSE))","v":""},{"$f":"IF(AL106=\"\",\"\",VLOOKUP(AL106,'【記載例】（ユニット型）シフト記号表'!$C$5:$Y$46,23,FALSE))","v":""},{"$f":"IF(AM106=\"\",\"\",VLOOKUP(AM106,'【記載例】（ユニット型）シフト記号表'!$C$5:$Y$46,23,FALSE))","v":""},{"$f":"IF(AN106=\"\",\"\",VLOOKUP(AN106,'【記載例】（ユニット型）シフト記号表'!$C$5:$Y$46,23,FALSE))","v":""},{"$f":"IF(AO106=\"\",\"\",VLOOKUP(AO106,'【記載例】（ユニット型）シフト記号表'!$C$5:$Y$46,23,FALSE))","v":""},{"$f":"IF(AP106=\"\",\"\",VLOOKUP(AP106,'【記載例】（ユニット型）シフト記号表'!$C$5:$Y$46,23,FALSE))","v":""},{"$f":"IF(AQ106=\"\",\"\",VLOOKUP(AQ106,'【記載例】（ユニット型）シフト記号表'!$C$5:$Y$46,23,FALSE))","v":""},{"$f":"IF(AR106=\"\",\"\",VLOOKUP(AR106,'【記載例】（ユニット型）シフト記号表'!$C$5:$Y$46,23,FALSE))","v":""},{"$f":"IF(AS106=\"\",\"\",VLOOKUP(AS106,'【記載例】（ユニット型）シフト記号表'!$C$5:$Y$46,23,FALSE))","v":""},{"$f":"IF(AT106=\"\",\"\",VLOOKUP(AT106,'【記載例】（ユニット型）シフト記号表'!$C$5:$Y$46,23,FALSE))","v":""},{"$f":"IF(AU106=\"\",\"\",VLOOKUP(AU106,'【記載例】（ユニット型）シフト記号表'!$C$5:$Y$46,23,FALSE))","v":""},{"$f":"IF(AV106=\"\",\"\",VLOOKUP(AV106,'【記載例】（ユニット型）シフト記号表'!$C$5:$Y$46,23,FALSE))","v":""},{"$f":"IF(AW106=\"\",\"\",VLOOKUP(AW106,'【記載例】（ユニット型）シフト記号表'!$C$5:$Y$46,23,FALSE))","v":""},{"$f":"IF(AX106=\"\",\"\",VLOOKUP(AX106,'【記載例】（ユニット型）シフト記号表'!$C$5:$Y$46,23,FALSE))","v":""},{"$f":"IF(AY106=\"\",\"\",VLOOKUP(AY106,'【記載例】（ユニット型）シフト記号表'!$C$5:$Y$46,23,FALSE))","v":""},{"$f":"IF(AZ106=\"\",\"\",VLOOKUP(AZ106,'【記載例】（ユニット型）シフト記号表'!$C$5:$Y$46,23,FALSE))","v":""},{"$f":"IF(BA106=\"\",\"\",VLOOKUP(BA106,'【記載例】（ユニット型）シフト記号表'!$C$5:$Y$46,23,FALSE))","v":""},{"$f":"IF(BB106=\"\",\"\",VLOOKUP(BB106,'【記載例】（ユニット型）シフト記号表'!$C$5:$Y$46,23,FALSE))","v":""},{"$f":"IF(BC106=\"\",\"\",VLOOKUP(BC106,'【記載例】（ユニット型）シフト記号表'!$C$5:$Y$46,23,FALSE))","v":""},{"$f":"IF(BD106=\"\",\"\",VLOOKUP(BD106,'【記載例】（ユニット型）シフト記号表'!$C$5:$Y$46,23,FALSE))","v":""},{"$f":"IF(BE106=\"\",\"\",VLOOKUP(BE106,'【記載例】（ユニット型）シフト記号表'!$C$5:$Y$46,23,FALSE))","v":""},{"$f":"IF($BI$3=\"計画\",SUM(AA108:BB108),IF($BI$3=\"実績\",SUM(AA108:BE108),\"\"))","v":0},null,{"$f":"IF($BI$3=\"計画\",BF108/4,IF($BI$3=\"実績\",(BF108/($BI$7/7)),\"\"))","v":0}]
[null,null,null,null,null,null,null,null,null,null,null,null,null,null,null,null,null,null,null,null,null,"シフト記号"]
[null,{"$f":"B107+1","v":31},null,null,null,null,null,null,null,null,null,null,null,null,null,null,null,null,null,null,null,"日中の勤務時間数",null,null,null,null,{"$f":"IF(AA109=\"\",\"\",VLOOKUP(AA109,'【記載例】（ユニット型）シフト記号表'!$C$5:$W$46,21,FALSE))","v":""},{"$f":"IF(AB109=\"\",\"\",VLOOKUP(AB109,'【記載例】（ユニット型）シフト記号表'!$C$5:$W$46,21,FALSE))","v":""},{"$f":"IF(AC109=\"\",\"\",VLOOKUP(AC109,'【記載例】（ユニット型）シフト記号表'!$C$5:$W$46,21,FALSE))","v":""},{"$f":"IF(AD109=\"\",\"\",VLOOKUP(AD109,'【記載例】（ユニット型）シフト記号表'!$C$5:$W$46,21,FALSE))","v":""},{"$f":"IF(AE109=\"\",\"\",VLOOKUP(AE109,'【記載例】（ユニット型）シフト記号表'!$C$5:$W$46,21,FALSE))","v":""},{"$f":"IF(AF109=\"\",\"\",VLOOKUP(AF109,'【記載例】（ユニット型）シフト記号表'!$C$5:$W$46,21,FALSE))","v":""},{"$f":"IF(AG109=\"\",\"\",VLOOKUP(AG109,'【記載例】（ユニット型）シフト記号表'!$C$5:$W$46,21,FALSE))","v":""},{"$f":"IF(AH109=\"\",\"\",VLOOKUP(AH109,'【記載例】（ユニット型）シフト記号表'!$C$5:$W$46,21,FALSE))","v":""},{"$f":"IF(AI109=\"\",\"\",VLOOKUP(AI109,'【記載例】（ユニット型）シフト記号表'!$C$5:$W$46,21,FALSE))","v":""},{"$f":"IF(AJ109=\"\",\"\",VLOOKUP(AJ109,'【記載例】（ユニット型）シフト記号表'!$C$5:$W$46,21,FALSE))","v":""},{"$f":"IF(AK109=\"\",\"\",VLOOKUP(AK109,'【記載例】（ユニット型）シフト記号表'!$C$5:$W$46,21,FALSE))","v":""},{"$f":"IF(AL109=\"\",\"\",VLOOKUP(AL109,'【記載例】（ユニット型）シフト記号表'!$C$5:$W$46,21,FALSE))","v":""},{"$f":"IF(AM109=\"\",\"\",VLOOKUP(AM109,'【記載例】（ユニット型）シフト記号表'!$C$5:$W$46,21,FALSE))","v":""},{"$f":"IF(AN109=\"\",\"\",VLOOKUP(AN109,'【記載例】（ユニット型）シフト記号表'!$C$5:$W$46,21,FALSE))","v":""},{"$f":"IF(AO109=\"\",\"\",VLOOKUP(AO109,'【記載例】（ユニット型）シフト記号表'!$C$5:$W$46,21,FALSE))","v":""},{"$f":"IF(AP109=\"\",\"\",VLOOKUP(AP109,'【記載例】（ユニット型）シフト記号表'!$C$5:$W$46,21,FALSE))","v":""},{"$f":"IF(AQ109=\"\",\"\",VLOOKUP(AQ109,'【記載例】（ユニット型）シフト記号表'!$C$5:$W$46,21,FALSE))","v":""},{"$f":"IF(AR109=\"\",\"\",VLOOKUP(AR109,'【記載例】（ユニット型）シフト記号表'!$C$5:$W$46,21,FALSE))","v":""},{"$f":"IF(AS109=\"\",\"\",VLOOKUP(AS109,'【記載例】（ユニット型）シフト記号表'!$C$5:$W$46,21,FALSE))","v":""},{"$f":"IF(AT109=\"\",\"\",VLOOKUP(AT109,'【記載例】（ユニット型）シフト記号表'!$C$5:$W$46,21,FALSE))","v":""},{"$f":"IF(AU109=\"\",\"\",VLOOKUP(AU109,'【記載例】（ユニット型）シフト記号表'!$C$5:$W$46,21,FALSE))","v":""},{"$f":"IF(AV109=\"\",\"\",VLOOKUP(AV109,'【記載例】（ユニット型）シフト記号表'!$C$5:$W$46,21,FALSE))","v":""},{"$f":"IF(AW109=\"\",\"\",VLOOKUP(AW109,'【記載例】（ユニット型）シフト記号表'!$C$5:$W$46,21,FALSE))","v":""},{"$f":"IF(AX109=\"\",\"\",VLOOKUP(AX109,'【記載例】（ユニット型）シフト記号表'!$C$5:$W$46,21,FALSE))","v":""},{"$f":"IF(AY109=\"\",\"\",VLOOKUP(AY109,'【記載例】（ユニット型）シフト記号表'!$C$5:$W$46,21,FALSE))","v":""},{"$f":"IF(AZ109=\"\",\"\",VLOOKUP(AZ109,'【記載例】（ユニット型）シフト記号表'!$C$5:$W$46,21,FALSE))","v":""},{"$f":"IF(BA109=\"\",\"\",VLOOKUP(BA109,'【記載例】（ユニット型）シフト記号表'!$C$5:$W$46,21,FALSE))","v":""},{"$f":"IF(BB109=\"\",\"\",VLOOKUP(BB109,'【記載例】（ユニット型）シフト記号表'!$C$5:$W$46,21,FALSE))","v":""},{"$f":"IF(BC109=\"\",\"\",VLOOKUP(BC109,'【記載例】（ユニット型）シフト記号表'!$C$5:$W$46,21,FALSE))","v":""},{"$f":"IF(BD109=\"\",\"\",VLOOKUP(BD109,'【記載例】（ユニット型）シフト記号表'!$C$5:$W$46,21,FALSE))","v":""},{"$f":"IF(BE109=\"\",\"\",VLOOKUP(BE109,'【記載例】（ユニット型）シフト記号表'!$C$5:$W$46,21,FALSE))","v":""},{"$f":"IF($BI$3=\"計画\",SUM(AA110:BB110),IF($BI$3=\"実績\",SUM(AA110:BE110),\"\"))","v":0},null,{"$f":"IF($BI$3=\"計画\",BF110/4,IF($BI$3=\"実績\",(BF110/($BI$7/7)),\"\"))","v":0}]
[null,null,null,null,null,null,null,null,{"$f":"G110","v":0},null,{"$f":"M110","v":0},null,null,null,null,null,null,null,null,null,null,"夜勤時間帯の勤務時間数",null,null,null,null,{"$f":"IF(AA109=\"\",\"\",VLOOKUP(AA109,'【記載例】（ユニット型）シフト記号表'!$C$5:$Y$46,23,FALSE))","v":""},{"$f":"IF(AB109=\"\",\"\",VLOOKUP(AB109,'【記載例】（ユニット型）シフト記号表'!$C$5:$Y$46,23,FALSE))","v":""},{"$f":"IF(AC109=\"\",\"\",VLOOKUP(AC109,'【記載例】（ユニット型）シフト記号表'!$C$5:$Y$46,23,FALSE))","v":""},{"$f":"IF(AD109=\"\",\"\",VLOOKUP(AD109,'【記載例】（ユニット型）シフト記号表'!$C$5:$Y$46,23,FALSE))","v":""},{"$f":"IF(AE109=\"\",\"\",VLOOKUP(AE109,'【記載例】（ユニット型）シフト記号表'!$C$5:$Y$46,23,FALSE))","v":""},{"$f":"IF(AF109=\"\",\"\",VLOOKUP(AF109,'【記載例】（ユニット型）シフト記号表'!$C$5:$Y$46,23,FALSE))","v":""},{"$f":"IF(AG109=\"\",\"\",VLOOKUP(AG109,'【記載例】（ユニット型）シフト記号表'!$C$5:$Y$46,23,FALSE))","v":""},{"$f":"IF(AH109=\"\",\"\",VLOOKUP(AH109,'【記載例】（ユニット型）シフト記号表'!$C$5:$Y$46,23,FALSE))","v":""},{"$f":"IF(AI109=\"\",\"\",VLOOKUP(AI109,'【記載例】（ユニット型）シフト記号表'!$C$5:$Y$46,23,FALSE))","v":""},{"$f":"IF(AJ109=\"\",\"\",VLOOKUP(AJ109,'【記載例】（ユニット型）シフト記号表'!$C$5:$Y$46,23,FALSE))","v":""},{"$f":"IF(AK109=\"\",\"\",VLOOKUP(AK109,'【記載例】（ユニット型）シフト記号表'!$C$5:$Y$46,23,FALSE))","v":""},{"$f":"IF(AL109=\"\",\"\",VLOOKUP(AL109,'【記載例】（ユニット型）シフト記号表'!$C$5:$Y$46,23,FALSE))","v":""},{"$f":"IF(AM109=\"\",\"\",VLOOKUP(AM109,'【記載例】（ユニット型）シフト記号表'!$C$5:$Y$46,23,FALSE))","v":""},{"$f":"IF(AN109=\"\",\"\",VLOOKUP(AN109,'【記載例】（ユニット型）シフト記号表'!$C$5:$Y$46,23,FALSE))","v":""},{"$f":"IF(AO109=\"\",\"\",VLOOKUP(AO109,'【記載例】（ユニット型）シフト記号表'!$C$5:$Y$46,23,FALSE))","v":""},{"$f":"IF(AP109=\"\",\"\",VLOOKUP(AP109,'【記載例】（ユニット型）シフト記号表'!$C$5:$Y$46,23,FALSE))","v":""},{"$f":"IF(AQ109=\"\",\"\",VLOOKUP(AQ109,'【記載例】（ユニット型）シフト記号表'!$C$5:$Y$46,23,FALSE))","v":""},{"$f":"IF(AR109=\"\",\"\",VLOOKUP(AR109,'【記載例】（ユニット型）シフト記号表'!$C$5:$Y$46,23,FALSE))","v":""},{"$f":"IF(AS109=\"\",\"\",VLOOKUP(AS109,'【記載例】（ユニット型）シフト記号表'!$C$5:$Y$46,23,FALSE))","v":""},{"$f":"IF(AT109=\"\",\"\",VLOOKUP(AT109,'【記載例】（ユニット型）シフト記号表'!$C$5:$Y$46,23,FALSE))","v":""},{"$f":"IF(AU109=\"\",\"\",VLOOKUP(AU109,'【記載例】（ユニット型）シフト記号表'!$C$5:$Y$46,23,FALSE))","v":""},{"$f":"IF(AV109=\"\",\"\",VLOOKUP(AV109,'【記載例】（ユニット型）シフト記号表'!$C$5:$Y$46,23,FALSE))","v":""},{"$f":"IF(AW109=\"\",\"\",VLOOKUP(AW109,'【記載例】（ユニット型）シフト記号表'!$C$5:$Y$46,23,FALSE))","v":""},{"$f":"IF(AX109=\"\",\"\",VLOOKUP(AX109,'【記載例】（ユニット型）シフト記号表'!$C$5:$Y$46,23,FALSE))","v":""},{"$f":"IF(AY109=\"\",\"\",VLOOKUP(AY109,'【記載例】（ユニット型）シフト記号表'!$C$5:$Y$46,23,FALSE))","v":""},{"$f":"IF(AZ109=\"\",\"\",VLOOKUP(AZ109,'【記載例】（ユニット型）シフト記号表'!$C$5:$Y$46,23,FALSE))","v":""},{"$f":"IF(BA109=\"\",\"\",VLOOKUP(BA109,'【記載例】（ユニット型）シフト記号表'!$C$5:$Y$46,23,FALSE))","v":""},{"$f":"IF(BB109=\"\",\"\",VLOOKUP(BB109,'【記載例】（ユニット型）シフト記号表'!$C$5:$Y$46,23,FALSE))","v":""},{"$f":"IF(BC109=\"\",\"\",VLOOKUP(BC109,'【記載例】（ユニット型）シフト記号表'!$C$5:$Y$46,23,FALSE))","v":""},{"$f":"IF(BD109=\"\",\"\",VLOOKUP(BD109,'【記載例】（ユニット型）シフト記号表'!$C$5:$Y$46,23,FALSE))","v":""},{"$f":"IF(BE109=\"\",\"\",VLOOKUP(BE109,'【記載例】（ユニット型）シフト記号表'!$C$5:$Y$46,23,FALSE))","v":""},{"$f":"IF($BI$3=\"計画\",SUM(AA111:BB111),IF($BI$3=\"実績\",SUM(AA111:BE111),\"\"))","v":0},null,{"$f":"IF($BI$3=\"計画\",BF111/4,IF($BI$3=\"実績\",(BF111/($BI$7/7)),\"\"))","v":0}]
[null,null,null,null,null,null,null,null,null,null,null,null,null,null,null,null,null,null,null,null,null,"シフト記号"]
[null,{"$f":"B110+1","v":32},null,null,null,null,null,null,null,null,null,null,null,null,null,null,null,null,null,null,null,"日中の勤務時間数",null,null,null,null,{"$f":"IF(AA112=\"\",\"\",VLOOKUP(AA112,'【記載例】（ユニット型）シフト記号表'!$C$5:$W$46,21,FALSE))","v":""},{"$f":"IF(AB112=\"\",\"\",VLOOKUP(AB112,'【記載例】（ユニット型）シフト記号表'!$C$5:$W$46,21,FALSE))","v":""},{"$f":"IF(AC112=\"\",\"\",VLOOKUP(AC112,'【記載例】（ユニット型）シフト記号表'!$C$5:$W$46,21,FALSE))","v":""},{"$f":"IF(AD112=\"\",\"\",VLOOKUP(AD112,'【記載例】（ユニット型）シフト記号表'!$C$5:$W$46,21,FALSE))","v":""},{"$f":"IF(AE112=\"\",\"\",VLOOKUP(AE112,'【記載例】（ユニット型）シフト記号表'!$C$5:$W$46,21,FALSE))","v":""},{"$f":"IF(AF112=\"\",\"\",VLOOKUP(AF112,'【記載例】（ユニット型）シフト記号表'!$C$5:$W$46,21,FALSE))","v":""},{"$f":"IF(AG112=\"\",\"\",VLOOKUP(AG112,'【記載例】（ユニット型）シフト記号表'!$C$5:$W$46,21,FALSE))","v":""},{"$f":"IF(AH112=\"\",\"\",VLOOKUP(AH112,'【記載例】（ユニット型）シフト記号表'!$C$5:$W$46,21,FALSE))","v":""},{"$f":"IF(AI112=\"\",\"\",VLOOKUP(AI112,'【記載例】（ユニット型）シフト記号表'!$C$5:$W$46,21,FALSE))","v":""},{"$f":"IF(AJ112=\"\",\"\",VLOOKUP(AJ112,'【記載例】（ユニット型）シフト記号表'!$C$5:$W$46,21,FALSE))","v":""},{"$f":"IF(AK112=\"\",\"\",VLOOKUP(AK112,'【記載例】（ユニット型）シフト記号表'!$C$5:$W$46,21,FALSE))","v":""},{"$f":"IF(AL112=\"\",\"\",VLOOKUP(AL112,'【記載例】（ユニット型）シフト記号表'!$C$5:$W$46,21,FALSE))","v":""},{"$f":"IF(AM112=\"\",\"\",VLOOKUP(AM112,'【記載例】（ユニット型）シフト記号表'!$C$5:$W$46,21,FALSE))","v":""},{"$f":"IF(AN112=\"\",\"\",VLOOKUP(AN112,'【記載例】（ユニット型）シフト記号表'!$C$5:$W$46,21,FALSE))","v":""},{"$f":"IF(AO112=\"\",\"\",VLOOKUP(AO112,'【記載例】（ユニット型）シフト記号表'!$C$5:$W$46,21,FALSE))","v":""},{"$f":"IF(AP112=\"\",\"\",VLOOKUP(AP112,'【記載例】（ユニット型）シフト記号表'!$C$5:$W$46,21,FALSE))","v":""},{"$f":"IF(AQ112=\"\",\"\",VLOOKUP(AQ112,'【記載例】（ユニット型）シフト記号表'!$C$5:$W$46,21,FALSE))","v":""},{"$f":"IF(AR112=\"\",\"\",VLOOKUP(AR112,'【記載例】（ユニット型）シフト記号表'!$C$5:$W$46,21,FALSE))","v":""},{"$f":"IF(AS112=\"\",\"\",VLOOKUP(AS112,'【記載例】（ユニット型）シフト記号表'!$C$5:$W$46,21,FALSE))","v":""},{"$f":"IF(AT112=\"\",\"\",VLOOKUP(AT112,'【記載例】（ユニット型）シフト記号表'!$C$5:$W$46,21,FALSE))","v":""},{"$f":"IF(AU112=\"\",\"\",VLOOKUP(AU112,'【記載例】（ユニット型）シフト記号表'!$C$5:$W$46,21,FALSE))","v":""},{"$f":"IF(AV112=\"\",\"\",VLOOKUP(AV112,'【記載例】（ユニット型）シフト記号表'!$C$5:$W$46,21,FALSE))","v":""},{"$f":"IF(AW112=\"\",\"\",VLOOKUP(AW112,'【記載例】（ユニット型）シフト記号表'!$C$5:$W$46,21,FALSE))","v":""},{"$f":"IF(AX112=\"\",\"\",VLOOKUP(AX112,'【記載例】（ユニット型）シフト記号表'!$C$5:$W$46,21,FALSE))","v":""},{"$f":"IF(AY112=\"\",\"\",VLOOKUP(AY112,'【記載例】（ユニット型）シフト記号表'!$C$5:$W$46,21,FALSE))","v":""},{"$f":"IF(AZ112=\"\",\"\",VLOOKUP(AZ112,'【記載例】（ユニット型）シフト記号表'!$C$5:$W$46,21,FALSE))","v":""},{"$f":"IF(BA112=\"\",\"\",VLOOKUP(BA112,'【記載例】（ユニット型）シフト記号表'!$C$5:$W$46,21,FALSE))","v":""},{"$f":"IF(BB112=\"\",\"\",VLOOKUP(BB112,'【記載例】（ユニット型）シフト記号表'!$C$5:$W$46,21,FALSE))","v":""},{"$f":"IF(BC112=\"\",\"\",VLOOKUP(BC112,'【記載例】（ユニット型）シフト記号表'!$C$5:$W$46,21,FALSE))","v":""},{"$f":"IF(BD112=\"\",\"\",VLOOKUP(BD112,'【記載例】（ユニット型）シフト記号表'!$C$5:$W$46,21,FALSE))","v":""},{"$f":"IF(BE112=\"\",\"\",VLOOKUP(BE112,'【記載例】（ユニット型）シフト記号表'!$C$5:$W$46,21,FALSE))","v":""},{"$f":"IF($BI$3=\"計画\",SUM(AA113:BB113),IF($BI$3=\"実績\",SUM(AA113:BE113),\"\"))","v":0},null,{"$f":"IF($BI$3=\"計画\",BF113/4,IF($BI$3=\"実績\",(BF113/($BI$7/7)),\"\"))","v":0}]
[null,null,null,null,null,null,null,null,{"$f":"G113","v":0},null,{"$f":"M113","v":0},null,null,null,null,null,null,null,null,null,null,"夜勤時間帯の勤務時間数",null,null,null,null,{"$f":"IF(AA112=\"\",\"\",VLOOKUP(AA112,'【記載例】（ユニット型）シフト記号表'!$C$5:$Y$46,23,FALSE))","v":""},{"$f":"IF(AB112=\"\",\"\",VLOOKUP(AB112,'【記載例】（ユニット型）シフト記号表'!$C$5:$Y$46,23,FALSE))","v":""},{"$f":"IF(AC112=\"\",\"\",VLOOKUP(AC112,'【記載例】（ユニット型）シフト記号表'!$C$5:$Y$46,23,FALSE))","v":""},{"$f":"IF(AD112=\"\",\"\",VLOOKUP(AD112,'【記載例】（ユニット型）シフト記号表'!$C$5:$Y$46,23,FALSE))","v":""},{"$f":"IF(AE112=\"\",\"\",VLOOKUP(AE112,'【記載例】（ユニット型）シフト記号表'!$C$5:$Y$46,23,FALSE))","v":""},{"$f":"IF(AF112=\"\",\"\",VLOOKUP(AF112,'【記載例】（ユニット型）シフト記号表'!$C$5:$Y$46,23,FALSE))","v":""},{"$f":"IF(AG112=\"\",\"\",VLOOKUP(AG112,'【記載例】（ユニット型）シフト記号表'!$C$5:$Y$46,23,FALSE))","v":""},{"$f":"IF(AH112=\"\",\"\",VLOOKUP(AH112,'【記載例】（ユニット型）シフト記号表'!$C$5:$Y$46,23,FALSE))","v":""},{"$f":"IF(AI112=\"\",\"\",VLOOKUP(AI112,'【記載例】（ユニット型）シフト記号表'!$C$5:$Y$46,23,FALSE))","v":""},{"$f":"IF(AJ112=\"\",\"\",VLOOKUP(AJ112,'【記載例】（ユニット型）シフト記号表'!$C$5:$Y$46,23,FALSE))","v":""},{"$f":"IF(AK112=\"\",\"\",VLOOKUP(AK112,'【記載例】（ユニット型）シフト記号表'!$C$5:$Y$46,23,FALSE))","v":""},{"$f":"IF(AL112=\"\",\"\",VLOOKUP(AL112,'【記載例】（ユニット型）シフト記号表'!$C$5:$Y$46,23,FALSE))","v":""},{"$f":"IF(AM112=\"\",\"\",VLOOKUP(AM112,'【記載例】（ユニット型）シフト記号表'!$C$5:$Y$46,23,FALSE))","v":""},{"$f":"IF(AN112=\"\",\"\",VLOOKUP(AN112,'【記載例】（ユニット型）シフト記号表'!$C$5:$Y$46,23,FALSE))","v":""},{"$f":"IF(AO112=\"\",\"\",VLOOKUP(AO112,'【記載例】（ユニット型）シフト記号表'!$C$5:$Y$46,23,FALSE))","v":""},{"$f":"IF(AP112=\"\",\"\",VLOOKUP(AP112,'【記載例】（ユニット型）シフト記号表'!$C$5:$Y$46,23,FALSE))","v":""},{"$f":"IF(AQ112=\"\",\"\",VLOOKUP(AQ112,'【記載例】（ユニット型）シフト記号表'!$C$5:$Y$46,23,FALSE))","v":""},{"$f":"IF(AR112=\"\",\"\",VLOOKUP(AR112,'【記載例】（ユニット型）シフト記号表'!$C$5:$Y$46,23,FALSE))","v":""},{"$f":"IF(AS112=\"\",\"\",VLOOKUP(AS112,'【記載例】（ユニット型）シフト記号表'!$C$5:$Y$46,23,FALSE))","v":""},{"$f":"IF(AT112=\"\",\"\",VLOOKUP(AT112,'【記載例】（ユニット型）シフト記号表'!$C$5:$Y$46,23,FALSE))","v":""},{"$f":"IF(AU112=\"\",\"\",VLOOKUP(AU112,'【記載例】（ユニット型）シフト記号表'!$C$5:$Y$46,23,FALSE))","v":""},{"$f":"IF(AV112=\"\",\"\",VLOOKUP(AV112,'【記載例】（ユニット型）シフト記号表'!$C$5:$Y$46,23,FALSE))","v":""},{"$f":"IF(AW112=\"\",\"\",VLOOKUP(AW112,'【記載例】（ユニット型）シフト記号表'!$C$5:$Y$46,23,FALSE))","v":""},{"$f":"IF(AX112=\"\",\"\",VLOOKUP(AX112,'【記載例】（ユニット型）シフト記号表'!$C$5:$Y$46,23,FALSE))","v":""},{"$f":"IF(AY112=\"\",\"\",VLOOKUP(AY112,'【記載例】（ユニット型）シフト記号表'!$C$5:$Y$46,23,FALSE))","v":""},{"$f":"IF(AZ112=\"\",\"\",VLOOKUP(AZ112,'【記載例】（ユニット型）シフト記号表'!$C$5:$Y$46,23,FALSE))","v":""},{"$f":"IF(BA112=\"\",\"\",VLOOKUP(BA112,'【記載例】（ユニット型）シフト記号表'!$C$5:$Y$46,23,FALSE))","v":""},{"$f":"IF(BB112=\"\",\"\",VLOOKUP(BB112,'【記載例】（ユニット型）シフト記号表'!$C$5:$Y$46,23,FALSE))","v":""},{"$f":"IF(BC112=\"\",\"\",VLOOKUP(BC112,'【記載例】（ユニット型）シフト記号表'!$C$5:$Y$46,23,FALSE))","v":""},{"$f":"IF(BD112=\"\",\"\",VLOOKUP(BD112,'【記載例】（ユニット型）シフト記号表'!$C$5:$Y$46,23,FALSE))","v":""},{"$f":"IF(BE112=\"\",\"\",VLOOKUP(BE112,'【記載例】（ユニット型）シフト記号表'!$C$5:$Y$46,23,FALSE))","v":""},{"$f":"IF($BI$3=\"計画\",SUM(AA114:BB114),IF($BI$3=\"実績\",SUM(AA114:BE114),\"\"))","v":0},null,{"$f":"IF($BI$3=\"計画\",BF114/4,IF($BI$3=\"実績\",(BF114/($BI$7/7)),\"\"))","v":0}]
[null,null,null,null,null,null,null,null,null,null,null,null,null,null,null,null,null,null,null,null,null,"シフト記号"]
[null,{"$f":"B113+1","v":33},null,null,null,null,null,null,null,null,null,null,null,null,null,null,null,null,null,null,null,"日中の勤務時間数",null,null,null,null,{"$f":"IF(AA115=\"\",\"\",VLOOKUP(AA115,'【記載例】（ユニット型）シフト記号表'!$C$5:$W$46,21,FALSE))","v":""},{"$f":"IF(AB115=\"\",\"\",VLOOKUP(AB115,'【記載例】（ユニット型）シフト記号表'!$C$5:$W$46,21,FALSE))","v":""},{"$f":"IF(AC115=\"\",\"\",VLOOKUP(AC115,'【記載例】（ユニット型）シフト記号表'!$C$5:$W$46,21,FALSE))","v":""},{"$f":"IF(AD115=\"\",\"\",VLOOKUP(AD115,'【記載例】（ユニット型）シフト記号表'!$C$5:$W$46,21,FALSE))","v":""},{"$f":"IF(AE115=\"\",\"\",VLOOKUP(AE115,'【記載例】（ユニット型）シフト記号表'!$C$5:$W$46,21,FALSE))","v":""},{"$f":"IF(AF115=\"\",\"\",VLOOKUP(AF115,'【記載例】（ユニット型）シフト記号表'!$C$5:$W$46,21,FALSE))","v":""},{"$f":"IF(AG115=\"\",\"\",VLOOKUP(AG115,'【記載例】（ユニット型）シフト記号表'!$C$5:$W$46,21,FALSE))","v":""},{"$f":"IF(AH115=\"\",\"\",VLOOKUP(AH115,'【記載例】（ユニット型）シフト記号表'!$C$5:$W$46,21,FALSE))","v":""},{"$f":"IF(AI115=\"\",\"\",VLOOKUP(AI115,'【記載例】（ユニット型）シフト記号表'!$C$5:$W$46,21,FALSE))","v":""},{"$f":"IF(AJ115=\"\",\"\",VLOOKUP(AJ115,'【記載例】（ユニット型）シフト記号表'!$C$5:$W$46,21,FALSE))","v":""},{"$f":"IF(AK115=\"\",\"\",VLOOKUP(AK115,'【記載例】（ユニット型）シフト記号表'!$C$5:$W$46,21,FALSE))","v":""},{"$f":"IF(AL115=\"\",\"\",VLOOKUP(AL115,'【記載例】（ユニット型）シフト記号表'!$C$5:$W$46,21,FALSE))","v":""},{"$f":"IF(AM115=\"\",\"\",VLOOKUP(AM115,'【記載例】（ユニット型）シフト記号表'!$C$5:$W$46,21,FALSE))","v":""},{"$f":"IF(AN115=\"\",\"\",VLOOKUP(AN115,'【記載例】（ユニット型）シフト記号表'!$C$5:$W$46,21,FALSE))","v":""},{"$f":"IF(AO115=\"\",\"\",VLOOKUP(AO115,'【記載例】（ユニット型）シフト記号表'!$C$5:$W$46,21,FALSE))","v":""},{"$f":"IF(AP115=\"\",\"\",VLOOKUP(AP115,'【記載例】（ユニット型）シフト記号表'!$C$5:$W$46,21,FALSE))","v":""},{"$f":"IF(AQ115=\"\",\"\",VLOOKUP(AQ115,'【記載例】（ユニット型）シフト記号表'!$C$5:$W$46,21,FALSE))","v":""},{"$f":"IF(AR115=\"\",\"\",VLOOKUP(AR115,'【記載例】（ユニット型）シフト記号表'!$C$5:$W$46,21,FALSE))","v":""},{"$f":"IF(AS115=\"\",\"\",VLOOKUP(AS115,'【記載例】（ユニット型）シフト記号表'!$C$5:$W$46,21,FALSE))","v":""},{"$f":"IF(AT115=\"\",\"\",VLOOKUP(AT115,'【記載例】（ユニット型）シフト記号表'!$C$5:$W$46,21,FALSE))","v":""},{"$f":"IF(AU115=\"\",\"\",VLOOKUP(AU115,'【記載例】（ユニット型）シフト記号表'!$C$5:$W$46,21,FALSE))","v":""},{"$f":"IF(AV115=\"\",\"\",VLOOKUP(AV115,'【記載例】（ユニット型）シフト記号表'!$C$5:$W$46,21,FALSE))","v":""},{"$f":"IF(AW115=\"\",\"\",VLOOKUP(AW115,'【記載例】（ユニット型）シフト記号表'!$C$5:$W$46,21,FALSE))","v":""},{"$f":"IF(AX115=\"\",\"\",VLOOKUP(AX115,'【記載例】（ユニット型）シフト記号表'!$C$5:$W$46,21,FALSE))","v":""},{"$f":"IF(AY115=\"\",\"\",VLOOKUP(AY115,'【記載例】（ユニット型）シフト記号表'!$C$5:$W$46,21,FALSE))","v":""},{"$f":"IF(AZ115=\"\",\"\",VLOOKUP(AZ115,'【記載例】（ユニット型）シフト記号表'!$C$5:$W$46,21,FALSE))","v":""},{"$f":"IF(BA115=\"\",\"\",VLOOKUP(BA115,'【記載例】（ユニット型）シフト記号表'!$C$5:$W$46,21,FALSE))","v":""},{"$f":"IF(BB115=\"\",\"\",VLOOKUP(BB115,'【記載例】（ユニット型）シフト記号表'!$C$5:$W$46,21,FALSE))","v":""},{"$f":"IF(BC115=\"\",\"\",VLOOKUP(BC115,'【記載例】（ユニット型）シフト記号表'!$C$5:$W$46,21,FALSE))","v":""},{"$f":"IF(BD115=\"\",\"\",VLOOKUP(BD115,'【記載例】（ユニット型）シフト記号表'!$C$5:$W$46,21,FALSE))","v":""},{"$f":"IF(BE115=\"\",\"\",VLOOKUP(BE115,'【記載例】（ユニット型）シフト記号表'!$C$5:$W$46,21,FALSE))","v":""},{"$f":"IF($BI$3=\"計画\",SUM(AA116:BB116),IF($BI$3=\"実績\",SUM(AA116:BE116),\"\"))","v":0},null,{"$f":"IF($BI$3=\"計画\",BF116/4,IF($BI$3=\"実績\",(BF116/($BI$7/7)),\"\"))","v":0}]
[null,null,null,null,null,null,null,null,{"$f":"G116","v":0},null,{"$f":"M116","v":0},null,null,null,null,null,null,null,null,null,null,"夜勤時間帯の勤務時間数",null,null,null,null,{"$f":"IF(AA115=\"\",\"\",VLOOKUP(AA115,'【記載例】（ユニット型）シフト記号表'!$C$5:$Y$46,23,FALSE))","v":""},{"$f":"IF(AB115=\"\",\"\",VLOOKUP(AB115,'【記載例】（ユニット型）シフト記号表'!$C$5:$Y$46,23,FALSE))","v":""},{"$f":"IF(AC115=\"\",\"\",VLOOKUP(AC115,'【記載例】（ユニット型）シフト記号表'!$C$5:$Y$46,23,FALSE))","v":""},{"$f":"IF(AD115=\"\",\"\",VLOOKUP(AD115,'【記載例】（ユニット型）シフト記号表'!$C$5:$Y$46,23,FALSE))","v":""},{"$f":"IF(AE115=\"\",\"\",VLOOKUP(AE115,'【記載例】（ユニット型）シフト記号表'!$C$5:$Y$46,23,FALSE))","v":""},{"$f":"IF(AF115=\"\",\"\",VLOOKUP(AF115,'【記載例】（ユニット型）シフト記号表'!$C$5:$Y$46,23,FALSE))","v":""},{"$f":"IF(AG115=\"\",\"\",VLOOKUP(AG115,'【記載例】（ユニット型）シフト記号表'!$C$5:$Y$46,23,FALSE))","v":""},{"$f":"IF(AH115=\"\",\"\",VLOOKUP(AH115,'【記載例】（ユニット型）シフト記号表'!$C$5:$Y$46,23,FALSE))","v":""},{"$f":"IF(AI115=\"\",\"\",VLOOKUP(AI115,'【記載例】（ユニット型）シフト記号表'!$C$5:$Y$46,23,FALSE))","v":""},{"$f":"IF(AJ115=\"\",\"\",VLOOKUP(AJ115,'【記載例】（ユニット型）シフト記号表'!$C$5:$Y$46,23,FALSE))","v":""},{"$f":"IF(AK115=\"\",\"\",VLOOKUP(AK115,'【記載例】（ユニット型）シフト記号表'!$C$5:$Y$46,23,FALSE))","v":""},{"$f":"IF(AL115=\"\",\"\",VLOOKUP(AL115,'【記載例】（ユニット型）シフト記号表'!$C$5:$Y$46,23,FALSE))","v":""},{"$f":"IF(AM115=\"\",\"\",VLOOKUP(AM115,'【記載例】（ユニット型）シフト記号表'!$C$5:$Y$46,23,FALSE))","v":""},{"$f":"IF(AN115=\"\",\"\",VLOOKUP(AN115,'【記載例】（ユニット型）シフト記号表'!$C$5:$Y$46,23,FALSE))","v":""},{"$f":"IF(AO115=\"\",\"\",VLOOKUP(AO115,'【記載例】（ユニット型）シフト記号表'!$C$5:$Y$46,23,FALSE))","v":""},{"$f":"IF(AP115=\"\",\"\",VLOOKUP(AP115,'【記載例】（ユニット型）シフト記号表'!$C$5:$Y$46,23,FALSE))","v":""},{"$f":"IF(AQ115=\"\",\"\",VLOOKUP(AQ115,'【記載例】（ユニット型）シフト記号表'!$C$5:$Y$46,23,FALSE))","v":""},{"$f":"IF(AR115=\"\",\"\",VLOOKUP(AR115,'【記載例】（ユニット型）シフト記号表'!$C$5:$Y$46,23,FALSE))","v":""},{"$f":"IF(AS115=\"\",\"\",VLOOKUP(AS115,'【記載例】（ユニット型）シフト記号表'!$C$5:$Y$46,23,FALSE))","v":""},{"$f":"IF(AT115=\"\",\"\",VLOOKUP(AT115,'【記載例】（ユニット型）シフト記号表'!$C$5:$Y$46,23,FALSE))","v":""},{"$f":"IF(AU115=\"\",\"\",VLOOKUP(AU115,'【記載例】（ユニット型）シフト記号表'!$C$5:$Y$46,23,FALSE))","v":""},{"$f":"IF(AV115=\"\",\"\",VLOOKUP(AV115,'【記載例】（ユニット型）シフト記号表'!$C$5:$Y$46,23,FALSE))","v":""},{"$f":"IF(AW115=\"\",\"\",VLOOKUP(AW115,'【記載例】（ユニット型）シフト記号表'!$C$5:$Y$46,23,FALSE))","v":""},{"$f":"IF(AX115=\"\",\"\",VLOOKUP(AX115,'【記載例】（ユニット型）シフト記号表'!$C$5:$Y$46,23,FALSE))","v":""},{"$f":"IF(AY115=\"\",\"\",VLOOKUP(AY115,'【記載例】（ユニット型）シフト記号表'!$C$5:$Y$46,23,FALSE))","v":""},{"$f":"IF(AZ115=\"\",\"\",VLOOKUP(AZ115,'【記載例】（ユニット型）シフト記号表'!$C$5:$Y$46,23,FALSE))","v":""},{"$f":"IF(BA115=\"\",\"\",VLOOKUP(BA115,'【記載例】（ユニット型）シフト記号表'!$C$5:$Y$46,23,FALSE))","v":""},{"$f":"IF(BB115=\"\",\"\",VLOOKUP(BB115,'【記載例】（ユニット型）シフト記号表'!$C$5:$Y$46,23,FALSE))","v":""},{"$f":"IF(BC115=\"\",\"\",VLOOKUP(BC115,'【記載例】（ユニット型）シフト記号表'!$C$5:$Y$46,23,FALSE))","v":""},{"$f":"IF(BD115=\"\",\"\",VLOOKUP(BD115,'【記載例】（ユニット型）シフト記号表'!$C$5:$Y$46,23,FALSE))","v":""},{"$f":"IF(BE115=\"\",\"\",VLOOKUP(BE115,'【記載例】（ユニット型）シフト記号表'!$C$5:$Y$46,23,FALSE))","v":""},{"$f":"IF($BI$3=\"計画\",SUM(AA117:BB117),IF($BI$3=\"実績\",SUM(AA117:BE117),\"\"))","v":0},null,{"$f":"IF($BI$3=\"計画\",BF117/4,IF($BI$3=\"実績\",(BF117/($BI$7/7)),\"\"))","v":0}]
[null,null,null,null,null,null,null,null,null,null,null,null,null,null,null,null,null,null,null,null,null,"シフト記号"]
[null,{"$f":"B116+1","v":34},null,null,null,null,null,null,null,null,null,null,null,null,null,null,null,null,null,null,null,"日中の勤務時間数",null,null,null,null,{"$f":"IF(AA118=\"\",\"\",VLOOKUP(AA118,'【記載例】（ユニット型）シフト記号表'!$C$5:$W$46,21,FALSE))","v":""},{"$f":"IF(AB118=\"\",\"\",VLOOKUP(AB118,'【記載例】（ユニット型）シフト記号表'!$C$5:$W$46,21,FALSE))","v":""},{"$f":"IF(AC118=\"\",\"\",VLOOKUP(AC118,'【記載例】（ユニット型）シフト記号表'!$C$5:$W$46,21,FALSE))","v":""},{"$f":"IF(AD118=\"\",\"\",VLOOKUP(AD118,'【記載例】（ユニット型）シフト記号表'!$C$5:$W$46,21,FALSE))","v":""},{"$f":"IF(AE118=\"\",\"\",VLOOKUP(AE118,'【記載例】（ユニット型）シフト記号表'!$C$5:$W$46,21,FALSE))","v":""},{"$f":"IF(AF118=\"\",\"\",VLOOKUP(AF118,'【記載例】（ユニット型）シフト記号表'!$C$5:$W$46,21,FALSE))","v":""},{"$f":"IF(AG118=\"\",\"\",VLOOKUP(AG118,'【記載例】（ユニット型）シフト記号表'!$C$5:$W$46,21,FALSE))","v":""},{"$f":"IF(AH118=\"\",\"\",VLOOKUP(AH118,'【記載例】（ユニット型）シフト記号表'!$C$5:$W$46,21,FALSE))","v":""},{"$f":"IF(AI118=\"\",\"\",VLOOKUP(AI118,'【記載例】（ユニット型）シフト記号表'!$C$5:$W$46,21,FALSE))","v":""},{"$f":"IF(AJ118=\"\",\"\",VLOOKUP(AJ118,'【記載例】（ユニット型）シフト記号表'!$C$5:$W$46,21,FALSE))","v":""},{"$f":"IF(AK118=\"\",\"\",VLOOKUP(AK118,'【記載例】（ユニット型）シフト記号表'!$C$5:$W$46,21,FALSE))","v":""},{"$f":"IF(AL118=\"\",\"\",VLOOKUP(AL118,'【記載例】（ユニット型）シフト記号表'!$C$5:$W$46,21,FALSE))","v":""},{"$f":"IF(AM118=\"\",\"\",VLOOKUP(AM118,'【記載例】（ユニット型）シフト記号表'!$C$5:$W$46,21,FALSE))","v":""},{"$f":"IF(AN118=\"\",\"\",VLOOKUP(AN118,'【記載例】（ユニット型）シフト記号表'!$C$5:$W$46,21,FALSE))","v":""},{"$f":"IF(AO118=\"\",\"\",VLOOKUP(AO118,'【記載例】（ユニット型）シフト記号表'!$C$5:$W$46,21,FALSE))","v":""},{"$f":"IF(AP118=\"\",\"\",VLOOKUP(AP118,'【記載例】（ユニット型）シフト記号表'!$C$5:$W$46,21,FALSE))","v":""},{"$f":"IF(AQ118=\"\",\"\",VLOOKUP(AQ118,'【記載例】（ユニット型）シフト記号表'!$C$5:$W$46,21,FALSE))","v":""},{"$f":"IF(AR118=\"\",\"\",VLOOKUP(AR118,'【記載例】（ユニット型）シフト記号表'!$C$5:$W$46,21,FALSE))","v":""},{"$f":"IF(AS118=\"\",\"\",VLOOKUP(AS118,'【記載例】（ユニット型）シフト記号表'!$C$5:$W$46,21,FALSE))","v":""},{"$f":"IF(AT118=\"\",\"\",VLOOKUP(AT118,'【記載例】（ユニット型）シフト記号表'!$C$5:$W$46,21,FALSE))","v":""},{"$f":"IF(AU118=\"\",\"\",VLOOKUP(AU118,'【記載例】（ユニット型）シフト記号表'!$C$5:$W$46,21,FALSE))","v":""},{"$f":"IF(AV118=\"\",\"\",VLOOKUP(AV118,'【記載例】（ユニット型）シフト記号表'!$C$5:$W$46,21,FALSE))","v":""},{"$f":"IF(AW118=\"\",\"\",VLOOKUP(AW118,'【記載例】（ユニット型）シフト記号表'!$C$5:$W$46,21,FALSE))","v":""},{"$f":"IF(AX118=\"\",\"\",VLOOKUP(AX118,'【記載例】（ユニット型）シフト記号表'!$C$5:$W$46,21,FALSE))","v":""},{"$f":"IF(AY118=\"\",\"\",VLOOKUP(AY118,'【記載例】（ユニット型）シフト記号表'!$C$5:$W$46,21,FALSE))","v":""},{"$f":"IF(AZ118=\"\",\"\",VLOOKUP(AZ118,'【記載例】（ユニット型）シフト記号表'!$C$5:$W$46,21,FALSE))","v":""},{"$f":"IF(BA118=\"\",\"\",VLOOKUP(BA118,'【記載例】（ユニット型）シフト記号表'!$C$5:$W$46,21,FALSE))","v":""},{"$f":"IF(BB118=\"\",\"\",VLOOKUP(BB118,'【記載例】（ユニット型）シフト記号表'!$C$5:$W$46,21,FALSE))","v":""},{"$f":"IF(BC118=\"\",\"\",VLOOKUP(BC118,'【記載例】（ユニット型）シフト記号表'!$C$5:$W$46,21,FALSE))","v":""},{"$f":"IF(BD118=\"\",\"\",VLOOKUP(BD118,'【記載例】（ユニット型）シフト記号表'!$C$5:$W$46,21,FALSE))","v":""},{"$f":"IF(BE118=\"\",\"\",VLOOKUP(BE118,'【記載例】（ユニット型）シフト記号表'!$C$5:$W$46,21,FALSE))","v":""},{"$f":"IF($BI$3=\"計画\",SUM(AA119:BB119),IF($BI$3=\"実績\",SUM(AA119:BE119),\"\"))","v":0},null,{"$f":"IF($BI$3=\"計画\",BF119/4,IF($BI$3=\"実績\",(BF119/($BI$7/7)),\"\"))","v":0}]
[null,null,null,null,null,null,null,null,{"$f":"G119","v":0},null,{"$f":"M119","v":0},null,null,null,null,null,null,null,null,null,null,"夜勤時間帯の勤務時間数",null,null,null,null,{"$f":"IF(AA118=\"\",\"\",VLOOKUP(AA118,'【記載例】（ユニット型）シフト記号表'!$C$5:$Y$46,23,FALSE))","v":""},{"$f":"IF(AB118=\"\",\"\",VLOOKUP(AB118,'【記載例】（ユニット型）シフト記号表'!$C$5:$Y$46,23,FALSE))","v":""},{"$f":"IF(AC118=\"\",\"\",VLOOKUP(AC118,'【記載例】（ユニット型）シフト記号表'!$C$5:$Y$46,23,FALSE))","v":""},{"$f":"IF(AD118=\"\",\"\",VLOOKUP(AD118,'【記載例】（ユニット型）シフト記号表'!$C$5:$Y$46,23,FALSE))","v":""},{"$f":"IF(AE118=\"\",\"\",VLOOKUP(AE118,'【記載例】（ユニット型）シフト記号表'!$C$5:$Y$46,23,FALSE))","v":""},{"$f":"IF(AF118=\"\",\"\",VLOOKUP(AF118,'【記載例】（ユニット型）シフト記号表'!$C$5:$Y$46,23,FALSE))","v":""},{"$f":"IF(AG118=\"\",\"\",VLOOKUP(AG118,'【記載例】（ユニット型）シフト記号表'!$C$5:$Y$46,23,FALSE))","v":""},{"$f":"IF(AH118=\"\",\"\",VLOOKUP(AH118,'【記載例】（ユニット型）シフト記号表'!$C$5:$Y$46,23,FALSE))","v":""},{"$f":"IF(AI118=\"\",\"\",VLOOKUP(AI118,'【記載例】（ユニット型）シフト記号表'!$C$5:$Y$46,23,FALSE))","v":""},{"$f":"IF(AJ118=\"\",\"\",VLOOKUP(AJ118,'【記載例】（ユニット型）シフト記号表'!$C$5:$Y$46,23,FALSE))","v":""},{"$f":"IF(AK118=\"\",\"\",VLOOKUP(AK118,'【記載例】（ユニット型）シフト記号表'!$C$5:$Y$46,23,FALSE))","v":""},{"$f":"IF(AL118=\"\",\"\",VLOOKUP(AL118,'【記載例】（ユニット型）シフト記号表'!$C$5:$Y$46,23,FALSE))","v":""},{"$f":"IF(AM118=\"\",\"\",VLOOKUP(AM118,'【記載例】（ユニット型）シフト記号表'!$C$5:$Y$46,23,FALSE))","v":""},{"$f":"IF(AN118=\"\",\"\",VLOOKUP(AN118,'【記載例】（ユニット型）シフト記号表'!$C$5:$Y$46,23,FALSE))","v":""},{"$f":"IF(AO118=\"\",\"\",VLOOKUP(AO118,'【記載例】（ユニット型）シフト記号表'!$C$5:$Y$46,23,FALSE))","v":""},{"$f":"IF(AP118=\"\",\"\",VLOOKUP(AP118,'【記載例】（ユニット型）シフト記号表'!$C$5:$Y$46,23,FALSE))","v":""},{"$f":"IF(AQ118=\"\",\"\",VLOOKUP(AQ118,'【記載例】（ユニット型）シフト記号表'!$C$5:$Y$46,23,FALSE))","v":""},{"$f":"IF(AR118=\"\",\"\",VLOOKUP(AR118,'【記載例】（ユニット型）シフト記号表'!$C$5:$Y$46,23,FALSE))","v":""},{"$f":"IF(AS118=\"\",\"\",VLOOKUP(AS118,'【記載例】（ユニット型）シフト記号表'!$C$5:$Y$46,23,FALSE))","v":""},{"$f":"IF(AT118=\"\",\"\",VLOOKUP(AT118,'【記載例】（ユニット型）シフト記号表'!$C$5:$Y$46,23,FALSE))","v":""},{"$f":"IF(AU118=\"\",\"\",VLOOKUP(AU118,'【記載例】（ユニット型）シフト記号表'!$C$5:$Y$46,23,FALSE))","v":""},{"$f":"IF(AV118=\"\",\"\",VLOOKUP(AV118,'【記載例】（ユニット型）シフト記号表'!$C$5:$Y$46,23,FALSE))","v":""},{"$f":"IF(AW118=\"\",\"\",VLOOKUP(AW118,'【記載例】（ユニット型）シフト記号表'!$C$5:$Y$46,23,FALSE))","v":""},{"$f":"IF(AX118=\"\",\"\",VLOOKUP(AX118,'【記載例】（ユニット型）シフト記号表'!$C$5:$Y$46,23,FALSE))","v":""},{"$f":"IF(AY118=\"\",\"\",VLOOKUP(AY118,'【記載例】（ユニット型）シフト記号表'!$C$5:$Y$46,23,FALSE))","v":""},{"$f":"IF(AZ118=\"\",\"\",VLOOKUP(AZ118,'【記載例】（ユニット型）シフト記号表'!$C$5:$Y$46,23,FALSE))","v":""},{"$f":"IF(BA118=\"\",\"\",VLOOKUP(BA118,'【記載例】（ユニット型）シフト記号表'!$C$5:$Y$46,23,FALSE))","v":""},{"$f":"IF(BB118=\"\",\"\",VLOOKUP(BB118,'【記載例】（ユニット型）シフト記号表'!$C$5:$Y$46,23,FALSE))","v":""},{"$f":"IF(BC118=\"\",\"\",VLOOKUP(BC118,'【記載例】（ユニット型）シフト記号表'!$C$5:$Y$46,23,FALSE))","v":""},{"$f":"IF(BD118=\"\",\"\",VLOOKUP(BD118,'【記載例】（ユニット型）シフト記号表'!$C$5:$Y$46,23,FALSE))","v":""},{"$f":"IF(BE118=\"\",\"\",VLOOKUP(BE118,'【記載例】（ユニット型）シフト記号表'!$C$5:$Y$46,23,FALSE))","v":""},{"$f":"IF($BI$3=\"計画\",SUM(AA120:BB120),IF($BI$3=\"実績\",SUM(AA120:BE120),\"\"))","v":0},null,{"$f":"IF($BI$3=\"計画\",BF120/4,IF($BI$3=\"実績\",(BF120/($BI$7/7)),\"\"))","v":0}]
[null,null,null,null,null,null,null,null,null,null,null,null,null,null,null,null,null,null,null,null,null,"シフト記号"]
[null,{"$f":"B119+1","v":35},null,null,null,null,null,null,null,null,null,null,null,null,null,null,null,null,null,null,null,"日中の勤務時間数",null,null,null,null,{"$f":"IF(AA121=\"\",\"\",VLOOKUP(AA121,'【記載例】（ユニット型）シフト記号表'!$C$5:$W$46,21,FALSE))","v":""},{"$f":"IF(AB121=\"\",\"\",VLOOKUP(AB121,'【記載例】（ユニット型）シフト記号表'!$C$5:$W$46,21,FALSE))","v":""},{"$f":"IF(AC121=\"\",\"\",VLOOKUP(AC121,'【記載例】（ユニット型）シフト記号表'!$C$5:$W$46,21,FALSE))","v":""},{"$f":"IF(AD121=\"\",\"\",VLOOKUP(AD121,'【記載例】（ユニット型）シフト記号表'!$C$5:$W$46,21,FALSE))","v":""},{"$f":"IF(AE121=\"\",\"\",VLOOKUP(AE121,'【記載例】（ユニット型）シフト記号表'!$C$5:$W$46,21,FALSE))","v":""},{"$f":"IF(AF121=\"\",\"\",VLOOKUP(AF121,'【記載例】（ユニット型）シフト記号表'!$C$5:$W$46,21,FALSE))","v":""},{"$f":"IF(AG121=\"\",\"\",VLOOKUP(AG121,'【記載例】（ユニット型）シフト記号表'!$C$5:$W$46,21,FALSE))","v":""},{"$f":"IF(AH121=\"\",\"\",VLOOKUP(AH121,'【記載例】（ユニット型）シフト記号表'!$C$5:$W$46,21,FALSE))","v":""},{"$f":"IF(AI121=\"\",\"\",VLOOKUP(AI121,'【記載例】（ユニット型）シフト記号表'!$C$5:$W$46,21,FALSE))","v":""},{"$f":"IF(AJ121=\"\",\"\",VLOOKUP(AJ121,'【記載例】（ユニット型）シフト記号表'!$C$5:$W$46,21,FALSE))","v":""},{"$f":"IF(AK121=\"\",\"\",VLOOKUP(AK121,'【記載例】（ユニット型）シフト記号表'!$C$5:$W$46,21,FALSE))","v":""},{"$f":"IF(AL121=\"\",\"\",VLOOKUP(AL121,'【記載例】（ユニット型）シフト記号表'!$C$5:$W$46,21,FALSE))","v":""},{"$f":"IF(AM121=\"\",\"\",VLOOKUP(AM121,'【記載例】（ユニット型）シフト記号表'!$C$5:$W$46,21,FALSE))","v":""},{"$f":"IF(AN121=\"\",\"\",VLOOKUP(AN121,'【記載例】（ユニット型）シフト記号表'!$C$5:$W$46,21,FALSE))","v":""},{"$f":"IF(AO121=\"\",\"\",VLOOKUP(AO121,'【記載例】（ユニット型）シフト記号表'!$C$5:$W$46,21,FALSE))","v":""},{"$f":"IF(AP121=\"\",\"\",VLOOKUP(AP121,'【記載例】（ユニット型）シフト記号表'!$C$5:$W$46,21,FALSE))","v":""},{"$f":"IF(AQ121=\"\",\"\",VLOOKUP(AQ121,'【記載例】（ユニット型）シフト記号表'!$C$5:$W$46,21,FALSE))","v":""},{"$f":"IF(AR121=\"\",\"\",VLOOKUP(AR121,'【記載例】（ユニット型）シフト記号表'!$C$5:$W$46,21,FALSE))","v":""},{"$f":"IF(AS121=\"\",\"\",VLOOKUP(AS121,'【記載例】（ユニット型）シフト記号表'!$C$5:$W$46,21,FALSE))","v":""},{"$f":"IF(AT121=\"\",\"\",VLOOKUP(AT121,'【記載例】（ユニット型）シフト記号表'!$C$5:$W$46,21,FALSE))","v":""},{"$f":"IF(AU121=\"\",\"\",VLOOKUP(AU121,'【記載例】（ユニット型）シフト記号表'!$C$5:$W$46,21,FALSE))","v":""},{"$f":"IF(AV121=\"\",\"\",VLOOKUP(AV121,'【記載例】（ユニット型）シフト記号表'!$C$5:$W$46,21,FALSE))","v":""},{"$f":"IF(AW121=\"\",\"\",VLOOKUP(AW121,'【記載例】（ユニット型）シフト記号表'!$C$5:$W$46,21,FALSE))","v":""},{"$f":"IF(AX121=\"\",\"\",VLOOKUP(AX121,'【記載例】（ユニット型）シフト記号表'!$C$5:$W$46,21,FALSE))","v":""},{"$f":"IF(AY121=\"\",\"\",VLOOKUP(AY121,'【記載例】（ユニット型）シフト記号表'!$C$5:$W$46,21,FALSE))","v":""},{"$f":"IF(AZ121=\"\",\"\",VLOOKUP(AZ121,'【記載例】（ユニット型）シフト記号表'!$C$5:$W$46,21,FALSE))","v":""},{"$f":"IF(BA121=\"\",\"\",VLOOKUP(BA121,'【記載例】（ユニット型）シフト記号表'!$C$5:$W$46,21,FALSE))","v":""},{"$f":"IF(BB121=\"\",\"\",VLOOKUP(BB121,'【記載例】（ユニット型）シフト記号表'!$C$5:$W$46,21,FALSE))","v":""},{"$f":"IF(BC121=\"\",\"\",VLOOKUP(BC121,'【記載例】（ユニット型）シフト記号表'!$C$5:$W$46,21,FALSE))","v":""},{"$f":"IF(BD121=\"\",\"\",VLOOKUP(BD121,'【記載例】（ユニット型）シフト記号表'!$C$5:$W$46,21,FALSE))","v":""},{"$f":"IF(BE121=\"\",\"\",VLOOKUP(BE121,'【記載例】（ユニット型）シフト記号表'!$C$5:$W$46,21,FALSE))","v":""},{"$f":"IF($BI$3=\"計画\",SUM(AA122:BB122),IF($BI$3=\"実績\",SUM(AA122:BE122),\"\"))","v":0},null,{"$f":"IF($BI$3=\"計画\",BF122/4,IF($BI$3=\"実績\",(BF122/($BI$7/7)),\"\"))","v":0}]
[null,null,null,null,null,null,null,null,{"$f":"G122","v":0},null,{"$f":"M122","v":0},null,null,null,null,null,null,null,null,null,null,"夜勤時間帯の勤務時間数",null,null,null,null,{"$f":"IF(AA121=\"\",\"\",VLOOKUP(AA121,'【記載例】（ユニット型）シフト記号表'!$C$5:$Y$46,23,FALSE))","v":""},{"$f":"IF(AB121=\"\",\"\",VLOOKUP(AB121,'【記載例】（ユニット型）シフト記号表'!$C$5:$Y$46,23,FALSE))","v":""},{"$f":"IF(AC121=\"\",\"\",VLOOKUP(AC121,'【記載例】（ユニット型）シフト記号表'!$C$5:$Y$46,23,FALSE))","v":""},{"$f":"IF(AD121=\"\",\"\",VLOOKUP(AD121,'【記載例】（ユニット型）シフト記号表'!$C$5:$Y$46,23,FALSE))","v":""},{"$f":"IF(AE121=\"\",\"\",VLOOKUP(AE121,'【記載例】（ユニット型）シフト記号表'!$C$5:$Y$46,23,FALSE))","v":""},{"$f":"IF(AF121=\"\",\"\",VLOOKUP(AF121,'【記載例】（ユニット型）シフト記号表'!$C$5:$Y$46,23,FALSE))","v":""},{"$f":"IF(AG121=\"\",\"\",VLOOKUP(AG121,'【記載例】（ユニット型）シフト記号表'!$C$5:$Y$46,23,FALSE))","v":""},{"$f":"IF(AH121=\"\",\"\",VLOOKUP(AH121,'【記載例】（ユニット型）シフト記号表'!$C$5:$Y$46,23,FALSE))","v":""},{"$f":"IF(AI121=\"\",\"\",VLOOKUP(AI121,'【記載例】（ユニット型）シフト記号表'!$C$5:$Y$46,23,FALSE))","v":""},{"$f":"IF(AJ121=\"\",\"\",VLOOKUP(AJ121,'【記載例】（ユニット型）シフト記号表'!$C$5:$Y$46,23,FALSE))","v":""},{"$f":"IF(AK121=\"\",\"\",VLOOKUP(AK121,'【記載例】（ユニット型）シフト記号表'!$C$5:$Y$46,23,FALSE))","v":""},{"$f":"IF(AL121=\"\",\"\",VLOOKUP(AL121,'【記載例】（ユニット型）シフト記号表'!$C$5:$Y$46,23,FALSE))","v":""},{"$f":"IF(AM121=\"\",\"\",VLOOKUP(AM121,'【記載例】（ユニット型）シフト記号表'!$C$5:$Y$46,23,FALSE))","v":""},{"$f":"IF(AN121=\"\",\"\",VLOOKUP(AN121,'【記載例】（ユニット型）シフト記号表'!$C$5:$Y$46,23,FALSE))","v":""},{"$f":"IF(AO121=\"\",\"\",VLOOKUP(AO121,'【記載例】（ユニット型）シフト記号表'!$C$5:$Y$46,23,FALSE))","v":""},{"$f":"IF(AP121=\"\",\"\",VLOOKUP(AP121,'【記載例】（ユニット型）シフト記号表'!$C$5:$Y$46,23,FALSE))","v":""},{"$f":"IF(AQ121=\"\",\"\",VLOOKUP(AQ121,'【記載例】（ユニット型）シフト記号表'!$C$5:$Y$46,23,FALSE))","v":""},{"$f":"IF(AR121=\"\",\"\",VLOOKUP(AR121,'【記載例】（ユニット型）シフト記号表'!$C$5:$Y$46,23,FALSE))","v":""},{"$f":"IF(AS121=\"\",\"\",VLOOKUP(AS121,'【記載例】（ユニット型）シフト記号表'!$C$5:$Y$46,23,FALSE))","v":""},{"$f":"IF(AT121=\"\",\"\",VLOOKUP(AT121,'【記載例】（ユニット型）シフト記号表'!$C$5:$Y$46,23,FALSE))","v":""},{"$f":"IF(AU121=\"\",\"\",VLOOKUP(AU121,'【記載例】（ユニット型）シフト記号表'!$C$5:$Y$46,23,FALSE))","v":""},{"$f":"IF(AV121=\"\",\"\",VLOOKUP(AV121,'【記載例】（ユニット型）シフト記号表'!$C$5:$Y$46,23,FALSE))","v":""},{"$f":"IF(AW121=\"\",\"\",VLOOKUP(AW121,'【記載例】（ユニット型）シフト記号表'!$C$5:$Y$46,23,FALSE))","v":""},{"$f":"IF(AX121=\"\",\"\",VLOOKUP(AX121,'【記載例】（ユニット型）シフト記号表'!$C$5:$Y$46,23,FALSE))","v":""},{"$f":"IF(AY121=\"\",\"\",VLOOKUP(AY121,'【記載例】（ユニット型）シフト記号表'!$C$5:$Y$46,23,FALSE))","v":""},{"$f":"IF(AZ121=\"\",\"\",VLOOKUP(AZ121,'【記載例】（ユニット型）シフト記号表'!$C$5:$Y$46,23,FALSE))","v":""},{"$f":"IF(BA121=\"\",\"\",VLOOKUP(BA121,'【記載例】（ユニット型）シフト記号表'!$C$5:$Y$46,23,FALSE))","v":""},{"$f":"IF(BB121=\"\",\"\",VLOOKUP(BB121,'【記載例】（ユニット型）シフト記号表'!$C$5:$Y$46,23,FALSE))","v":""},{"$f":"IF(BC121=\"\",\"\",VLOOKUP(BC121,'【記載例】（ユニット型）シフト記号表'!$C$5:$Y$46,23,FALSE))","v":""},{"$f":"IF(BD121=\"\",\"\",VLOOKUP(BD121,'【記載例】（ユニット型）シフト記号表'!$C$5:$Y$46,23,FALSE))","v":""},{"$f":"IF(BE121=\"\",\"\",VLOOKUP(BE121,'【記載例】（ユニット型）シフト記号表'!$C$5:$Y$46,23,FALSE))","v":""},{"$f":"IF($BI$3=\"計画\",SUM(AA123:BB123),IF($BI$3=\"実績\",SUM(AA123:BE123),\"\"))","v":0},null,{"$f":"IF($BI$3=\"計画\",BF123/4,IF($BI$3=\"実績\",(BF123/($BI$7/7)),\"\"))","v":0}]
[null,null,null,null,null,null,null,null,null,null,null,null,null,null,null,null,null,null,null,null,null,"シフト記号"]
[null,{"$f":"B122+1","v":36},null,null,null,null,null,null,null,null,null,null,null,null,null,null,null,null,null,null,null,"日中の勤務時間数",null,null,null,null,{"$f":"IF(AA124=\"\",\"\",VLOOKUP(AA124,'【記載例】（ユニット型）シフト記号表'!$C$5:$W$46,21,FALSE))","v":""},{"$f":"IF(AB124=\"\",\"\",VLOOKUP(AB124,'【記載例】（ユニット型）シフト記号表'!$C$5:$W$46,21,FALSE))","v":""},{"$f":"IF(AC124=\"\",\"\",VLOOKUP(AC124,'【記載例】（ユニット型）シフト記号表'!$C$5:$W$46,21,FALSE))","v":""},{"$f":"IF(AD124=\"\",\"\",VLOOKUP(AD124,'【記載例】（ユニット型）シフト記号表'!$C$5:$W$46,21,FALSE))","v":""},{"$f":"IF(AE124=\"\",\"\",VLOOKUP(AE124,'【記載例】（ユニット型）シフト記号表'!$C$5:$W$46,21,FALSE))","v":""},{"$f":"IF(AF124=\"\",\"\",VLOOKUP(AF124,'【記載例】（ユニット型）シフト記号表'!$C$5:$W$46,21,FALSE))","v":""},{"$f":"IF(AG124=\"\",\"\",VLOOKUP(AG124,'【記載例】（ユニット型）シフト記号表'!$C$5:$W$46,21,FALSE))","v":""},{"$f":"IF(AH124=\"\",\"\",VLOOKUP(AH124,'【記載例】（ユニット型）シフト記号表'!$C$5:$W$46,21,FALSE))","v":""},{"$f":"IF(AI124=\"\",\"\",VLOOKUP(AI124,'【記載例】（ユニット型）シフト記号表'!$C$5:$W$46,21,FALSE))","v":""},{"$f":"IF(AJ124=\"\",\"\",VLOOKUP(AJ124,'【記載例】（ユニット型）シフト記号表'!$C$5:$W$46,21,FALSE))","v":""},{"$f":"IF(AK124=\"\",\"\",VLOOKUP(AK124,'【記載例】（ユニット型）シフト記号表'!$C$5:$W$46,21,FALSE))","v":""},{"$f":"IF(AL124=\"\",\"\",VLOOKUP(AL124,'【記載例】（ユニット型）シフト記号表'!$C$5:$W$46,21,FALSE))","v":""},{"$f":"IF(AM124=\"\",\"\",VLOOKUP(AM124,'【記載例】（ユニット型）シフト記号表'!$C$5:$W$46,21,FALSE))","v":""},{"$f":"IF(AN124=\"\",\"\",VLOOKUP(AN124,'【記載例】（ユニット型）シフト記号表'!$C$5:$W$46,21,FALSE))","v":""},{"$f":"IF(AO124=\"\",\"\",VLOOKUP(AO124,'【記載例】（ユニット型）シフト記号表'!$C$5:$W$46,21,FALSE))","v":""},{"$f":"IF(AP124=\"\",\"\",VLOOKUP(AP124,'【記載例】（ユニット型）シフト記号表'!$C$5:$W$46,21,FALSE))","v":""},{"$f":"IF(AQ124=\"\",\"\",VLOOKUP(AQ124,'【記載例】（ユニット型）シフト記号表'!$C$5:$W$46,21,FALSE))","v":""},{"$f":"IF(AR124=\"\",\"\",VLOOKUP(AR124,'【記載例】（ユニット型）シフト記号表'!$C$5:$W$46,21,FALSE))","v":""},{"$f":"IF(AS124=\"\",\"\",VLOOKUP(AS124,'【記載例】（ユニット型）シフト記号表'!$C$5:$W$46,21,FALSE))","v":""},{"$f":"IF(AT124=\"\",\"\",VLOOKUP(AT124,'【記載例】（ユニット型）シフト記号表'!$C$5:$W$46,21,FALSE))","v":""},{"$f":"IF(AU124=\"\",\"\",VLOOKUP(AU124,'【記載例】（ユニット型）シフト記号表'!$C$5:$W$46,21,FALSE))","v":""},{"$f":"IF(AV124=\"\",\"\",VLOOKUP(AV124,'【記載例】（ユニット型）シフト記号表'!$C$5:$W$46,21,FALSE))","v":""},{"$f":"IF(AW124=\"\",\"\",VLOOKUP(AW124,'【記載例】（ユニット型）シフト記号表'!$C$5:$W$46,21,FALSE))","v":""},{"$f":"IF(AX124=\"\",\"\",VLOOKUP(AX124,'【記載例】（ユニット型）シフト記号表'!$C$5:$W$46,21,FALSE))","v":""},{"$f":"IF(AY124=\"\",\"\",VLOOKUP(AY124,'【記載例】（ユニット型）シフト記号表'!$C$5:$W$46,21,FALSE))","v":""},{"$f":"IF(AZ124=\"\",\"\",VLOOKUP(AZ124,'【記載例】（ユニット型）シフト記号表'!$C$5:$W$46,21,FALSE))","v":""},{"$f":"IF(BA124=\"\",\"\",VLOOKUP(BA124,'【記載例】（ユニット型）シフト記号表'!$C$5:$W$46,21,FALSE))","v":""},{"$f":"IF(BB124=\"\",\"\",VLOOKUP(BB124,'【記載例】（ユニット型）シフト記号表'!$C$5:$W$46,21,FALSE))","v":""},{"$f":"IF(BC124=\"\",\"\",VLOOKUP(BC124,'【記載例】（ユニット型）シフト記号表'!$C$5:$W$46,21,FALSE))","v":""},{"$f":"IF(BD124=\"\",\"\",VLOOKUP(BD124,'【記載例】（ユニット型）シフト記号表'!$C$5:$W$46,21,FALSE))","v":""},{"$f":"IF(BE124=\"\",\"\",VLOOKUP(BE124,'【記載例】（ユニット型）シフト記号表'!$C$5:$W$46,21,FALSE))","v":""},{"$f":"IF($BI$3=\"計画\",SUM(AA125:BB125),IF($BI$3=\"実績\",SUM(AA125:BE125),\"\"))","v":0},null,{"$f":"IF($BI$3=\"計画\",BF125/4,IF($BI$3=\"実績\",(BF125/($BI$7/7)),\"\"))","v":0}]
[null,null,null,null,null,null,null,null,{"$f":"G125","v":0},null,{"$f":"M125","v":0},null,null,null,null,null,null,null,null,null,null,"夜勤時間帯の勤務時間数",null,null,null,null,{"$f":"IF(AA124=\"\",\"\",VLOOKUP(AA124,'【記載例】（ユニット型）シフト記号表'!$C$5:$Y$46,23,FALSE))","v":""},{"$f":"IF(AB124=\"\",\"\",VLOOKUP(AB124,'【記載例】（ユニット型）シフト記号表'!$C$5:$Y$46,23,FALSE))","v":""},{"$f":"IF(AC124=\"\",\"\",VLOOKUP(AC124,'【記載例】（ユニット型）シフト記号表'!$C$5:$Y$46,23,FALSE))","v":""},{"$f":"IF(AD124=\"\",\"\",VLOOKUP(AD124,'【記載例】（ユニット型）シフト記号表'!$C$5:$Y$46,23,FALSE))","v":""},{"$f":"IF(AE124=\"\",\"\",VLOOKUP(AE124,'【記載例】（ユニット型）シフト記号表'!$C$5:$Y$46,23,FALSE))","v":""},{"$f":"IF(AF124=\"\",\"\",VLOOKUP(AF124,'【記載例】（ユニット型）シフト記号表'!$C$5:$Y$46,23,FALSE))","v":""},{"$f":"IF(AG124=\"\",\"\",VLOOKUP(AG124,'【記載例】（ユニット型）シフト記号表'!$C$5:$Y$46,23,FALSE))","v":""},{"$f":"IF(AH124=\"\",\"\",VLOOKUP(AH124,'【記載例】（ユニット型）シフト記号表'!$C$5:$Y$46,23,FALSE))","v":""},{"$f":"IF(AI124=\"\",\"\",VLOOKUP(AI124,'【記載例】（ユニット型）シフト記号表'!$C$5:$Y$46,23,FALSE))","v":""},{"$f":"IF(AJ124=\"\",\"\",VLOOKUP(AJ124,'【記載例】（ユニット型）シフト記号表'!$C$5:$Y$46,23,FALSE))","v":""},{"$f":"IF(AK124=\"\",\"\",VLOOKUP(AK124,'【記載例】（ユニット型）シフト記号表'!$C$5:$Y$46,23,FALSE))","v":""},{"$f":"IF(AL124=\"\",\"\",VLOOKUP(AL124,'【記載例】（ユニット型）シフト記号表'!$C$5:$Y$46,23,FALSE))","v":""},{"$f":"IF(AM124=\"\",\"\",VLOOKUP(AM124,'【記載例】（ユニット型）シフト記号表'!$C$5:$Y$46,23,FALSE))","v":""},{"$f":"IF(AN124=\"\",\"\",VLOOKUP(AN124,'【記載例】（ユニット型）シフト記号表'!$C$5:$Y$46,23,FALSE))","v":""},{"$f":"IF(AO124=\"\",\"\",VLOOKUP(AO124,'【記載例】（ユニット型）シフト記号表'!$C$5:$Y$46,23,FALSE))","v":""},{"$f":"IF(AP124=\"\",\"\",VLOOKUP(AP124,'【記載例】（ユニット型）シフト記号表'!$C$5:$Y$46,23,FALSE))","v":""},{"$f":"IF(AQ124=\"\",\"\",VLOOKUP(AQ124,'【記載例】（ユニット型）シフト記号表'!$C$5:$Y$46,23,FALSE))","v":""},{"$f":"IF(AR124=\"\",\"\",VLOOKUP(AR124,'【記載例】（ユニット型）シフト記号表'!$C$5:$Y$46,23,FALSE))","v":""},{"$f":"IF(AS124=\"\",\"\",VLOOKUP(AS124,'【記載例】（ユニット型）シフト記号表'!$C$5:$Y$46,23,FALSE))","v":""},{"$f":"IF(AT124=\"\",\"\",VLOOKUP(AT124,'【記載例】（ユニット型）シフト記号表'!$C$5:$Y$46,23,FALSE))","v":""},{"$f":"IF(AU124=\"\",\"\",VLOOKUP(AU124,'【記載例】（ユニット型）シフト記号表'!$C$5:$Y$46,23,FALSE))","v":""},{"$f":"IF(AV124=\"\",\"\",VLOOKUP(AV124,'【記載例】（ユニット型）シフト記号表'!$C$5:$Y$46,23,FALSE))","v":""},{"$f":"IF(AW124=\"\",\"\",VLOOKUP(AW124,'【記載例】（ユニット型）シフト記号表'!$C$5:$Y$46,23,FALSE))","v":""},{"$f":"IF(AX124=\"\",\"\",VLOOKUP(AX124,'【記載例】（ユニット型）シフト記号表'!$C$5:$Y$46,23,FALSE))","v":""},{"$f":"IF(AY124=\"\",\"\",VLOOKUP(AY124,'【記載例】（ユニット型）シフト記号表'!$C$5:$Y$46,23,FALSE))","v":""},{"$f":"IF(AZ124=\"\",\"\",VLOOKUP(AZ124,'【記載例】（ユニット型）シフト記号表'!$C$5:$Y$46,23,FALSE))","v":""},{"$f":"IF(BA124=\"\",\"\",VLOOKUP(BA124,'【記載例】（ユニット型）シフト記号表'!$C$5:$Y$46,23,FALSE))","v":""},{"$f":"IF(BB124=\"\",\"\",VLOOKUP(BB124,'【記載例】（ユニット型）シフト記号表'!$C$5:$Y$46,23,FALSE))","v":""},{"$f":"IF(BC124=\"\",\"\",VLOOKUP(BC124,'【記載例】（ユニット型）シフト記号表'!$C$5:$Y$46,23,FALSE))","v":""},{"$f":"IF(BD124=\"\",\"\",VLOOKUP(BD124,'【記載例】（ユニット型）シフト記号表'!$C$5:$Y$46,23,FALSE))","v":""},{"$f":"IF(BE124=\"\",\"\",VLOOKUP(BE124,'【記載例】（ユニット型）シフト記号表'!$C$5:$Y$46,23,FALSE))","v":""},{"$f":"IF($BI$3=\"計画\",SUM(AA126:BB126),IF($BI$3=\"実績\",SUM(AA126:BE126),\"\"))","v":0},null,{"$f":"IF($BI$3=\"計画\",BF126/4,IF($BI$3=\"実績\",(BF126/($BI$7/7)),\"\"))","v":0}]
[]
[null,null,null,null,null,null,null,null,null,null,null,null,null,"(18)人員基準の確認（看護職員・介護職員）"]
[null,null,null,null,null,null,null,null,null,null,null,null,null,null,"①看護職員",null,null,null,null,null,null,null,null,null,null,null,null,null,null,null,"②介護職員",null,null,null,null,null,null,null,null,null,null,null,null,null,null,null,"③看護職員と介護職員の合計"]
[null,null,null,null,null,null,null,null,null,null,null,null,null,null,"勤務形態",null,"勤務時間数合計",null,null,null,null,"常勤換算の対象時間数",null,null,null,null,"常勤換算方法対象外の",null,null,null,"勤務形態",null,"勤務時間数合計",null,null,null,null,"常勤換算の対象時間数",null,null,null,null,"常勤換算方法対象外の"]
[null,null,null,null,null,null,null,null,null,null,null,null,null,null,null,null,"当月合計",null,"週平均",null,null,"当月合計",null,"週平均",null,null,"常勤の従業者の人数",null,null,null,null,null,"当月合計",null,"週平均",null,null,"当月合計",null,"週平均",null,null,"常勤の従業者の人数",null,null,null,"看護職員",null,null,null,null,"介護職員",null,null,null,null,"合計"]
[null,null,null,null,null,null,null,null,null,null,null,null,null,null,"A",null,{"$f":"SUMIFS($BF$19:$BG$126,$G$19:$H$126,\"看護職員\",$M$19:$N$126,\"A\")+SUMIFS($BF$19:$BG$126,$I$19:$J$126,\"看護職員\",$K$19:$L$126,\"A\")","v":960},null,{"$f":"SUMIFS($BH$19:$BI$126,$G$19:$H$126,\"看護職員\",$M$19:$N$126,\"A\")+SUMIFS($BH$19:$BI$126,$I$19:$J$126,\"看護職員\",$K$19:$L$126,\"A\")","v":240},null,null,0,null,0,null,null,6,null,null,null,"A",null,{"$f":"SUMIFS($BF$19:$BG$126,$G$19:$H$126,\"介護職員\",$M$19:$N$126,\"A\")+SUMIFS($BF$19:$BG$126,$I$19:$J$126,\"介護職員\",$K$19:$L$126,\"A\")","v":1920},null,{"$f":"SUMIFS($BH$19:$BI$126,$G$19:$H$126,\"介護職員\",$M$19:$N$126,\"A\")+SUMIFS($BH$19:$BI$126,$I$19:$J$126,\"介護職員\",$K$19:$L$126,\"A\")","v":480},null,null,0,null,0,null,null,12,null,null,null,{"$f":"Y146","v":6},null,null,null,"＋",{"$f":"AO146","v":15.2},null,null,null,"＝",{"$f":"ROUNDDOWN(AU132+AZ132,1)","v":21.2}]
[null,null,null,null,null,null,null,null,null,null,null,null,null,null,"B",null,{"$f":"SUMIFS($BF$19:$BG$126,$G$19:$H$126,\"看護職員\",$M$19:$N$126,\"B\")+SUMIFS($BF$19:$BG$126,$I$19:$J$126,\"看護職員\",$K$19:$L$126,\"B\")","v":0},null,{"$f":"SUMIFS($BH$19:$BI$126,$G$19:$H$126,\"看護職員\",$M$19:$N$126,\"B\")+SUMIFS($BH$19:$BI$126,$I$19:$J$126,\"看護職員\",$K$19:$L$126,\"B\")","v":0},null,null,0,null,0,null,null,0,null,null,null,"B",null,{"$f":"SUMIFS($BF$19:$BG$126,$G$19:$H$126,\"介護職員\",$M$19:$N$126,\"B\")+SUMIFS($BF$19:$BG$126,$I$19:$J$126,\"介護職員\",$K$19:$L$126,\"B\")","v":0},null,{"$f":"SUMIFS($BH$19:$BI$126,$G$19:$H$126,\"介護職員\",$M$19:$N$126,\"B\")+SUMIFS($BH$19:$BI$126,$I$19:$J$126,\"介護職員\",$K$19:$L$126,\"B\")","v":0},null,null,0,null,0,null,null,0]
[null,null,null,null,null,null,null,null,null,null,null,null,null,null,"C",null,{"$f":"SUMIFS($BF$19:$BG$126,$G$19:$H$126,\"看護職員\",$M$19:$N$126,\"C\")+SUMIFS($BF$19:$BG$126,$I$19:$J$126,\"看護職員\",$K$19:$L$126,\"C\")","v":0},null,{"$f":"SUMIFS($BH$19:$BI$126,$G$19:$H$126,\"看護職員\",$M$19:$N$126,\"C\")+SUMIFS($BH$19:$BI$126,$I$19:$J$126,\"看護職員\",$K$19:$L$126,\"C\")","v":0},null,null,0,null,0,null,null,"-",null,null,null,"C",null,{"$f":"SUMIFS($BF$19:$BG$126,$G$19:$H$126,\"介護職員\",$M$19:$N$126,\"C\")+SUMIFS($BF$19:$BG$126,$I$19:$J$126,\"介護職員\",$K$19:$L$126,\"C\")","v":512},null,{"$f":"SUMIFS($BH$19:$BI$126,$G$19:$H$126,\"介護職員\",$M$19:$N$126,\"C\")+SUMIFS($BH$19:$BI$126,$I$19:$J$126,\"介護職員\",$K$19:$L$126,\"C\")","v":128},null,null,512,null,128,null,null,"-"]
[null,null,null,null,null,null,null,null,null,null,null,null,null,null,"D",null,{"$f":"SUMIFS($BF$19:$BG$126,$G$19:$H$126,\"看護職員\",$M$19:$N$126,\"D\")+SUMIFS($BF$19:$BG$126,$I$19:$J$126,\"看護職員\",$K$19:$L$126,\"D\")","v":0},null,{"$f":"SUMIFS($BH$19:$BI$126,$G$19:$H$126,\"看護職員\",$M$19:$N$126,\"D\")+SUMIFS($BH$19:$BI$126,$I$19:$J$126,\"看護職員\",$K$19:$L$126,\"D\")","v":0},null,null,0,null,0,null,null,"-",null,null,null,"D",null,{"$f":"SUMIFS($BF$19:$BG$126,$G$19:$H$126,\"介護職員\",$M$19:$N$126,\"D\")+SUMIFS($BF$19:$BG$126,$I$19:$J$126,\"介護職員\",$K$19:$L$126,\"D\")","v":0},null,{"$f":"SUMIFS($BH$19:$BI$126,$G$19:$H$126,\"介護職員\",$M$19:$N$126,\"D\")+SUMIFS($BH$19:$BI$126,$I$19:$J$126,\"介護職員\",$K$19:$L$126,\"D\")","v":0},null,null,0,null,0,null,null,"-",null,null,null,"（勤務形態の記号）"]
[null,null,null,null,null,null,null,null,null,null,null,null,null,null,"合計",null,{"$f":"SUM(Q132:R135)","v":960},null,{"$f":"SUM(S132:T135)","v":240},null,null,{"$f":"SUM(V132:W135)","v":0},null,{"$f":"SUM(X132:Y135)","v":0},null,null,{"$f":"SUM(AA132:AB133)","v":6},null,null,null,"合計",null,{"$f":"SUM(AG132:AH135)","v":2432},null,{"$f":"SUM(AI132:AJ135)","v":608},null,null,{"$f":"SUM(AL132:AM135)","v":512},null,{"$f":"SUM(AN132:AO135)","v":128},null,null,{"$f":"SUM(AQ132:AR133)","v":12},null,null,null,"記号",null,"区分"]
[null,null,null,null,null,null,null,null,null,null,null,null,null,null,null,null,null,null,null,null,null,null,null,null,null,null,null,null,null,null,null,null,null,null,null,null,null,null,null,null,null,null,null,null,null,null,"A",null,"常勤で専従"]
[null,null,null,null,null,null,null,null,null,null,null,null,null,null,"■ 常勤換算方法による人数",null,null,null,null,null,null,null,null,null,null,null,null,null,null,null,"■ 常勤換算方法による人数",null,null,null,null,null,null,null,null,null,null,null,null,null,null,null,"B",null,"常勤で兼務"]
[null,null,null,null,null,null,null,null,null,null,null,null,null,null,"常勤換算の",null,null,null,null,"常勤の従業者が",null,null,null,null,null,null,null,null,null,null,"常勤換算の",null,null,null,null,"常勤の従業者が",null,null,null,null,null,null,null,null,null,null,"C",null,"非常勤で専従"]
[null,null,null,null,null,null,null,null,null,null,null,null,null,null,{"$f":"IF($BI$3=\"計画\",\"対象時間数（週平均）\",\"対象時間数（当月合計）\")","v":"対象時間数（週平均）"},null,null,null,null,{"$f":"IF($BI$3=\"計画\",\"週に勤務すべき時間数\",\"当月に勤務すべき時間数\")","v":"週に勤務すべき時間数"},null,null,null,null,"常勤換算後の人数",null,null,null,null,null,{"$f":"IF($BI$3=\"計画\",\"対象時間数（週平均）\",\"対象時間数（当月合計）\")","v":"対象時間数（週平均）"},null,null,null,null,{"$f":"IF($BI$3=\"計画\",\"週に勤務すべき時間数\",\"当月に勤務すべき時間数\")","v":"週に勤務すべき時間数"},null,null,null,null,"常勤換算後の人数",null,null,null,null,null,"D",null,"非常勤で兼務"]
[null,null,null,null,null,null,null,null,null,null,null,null,null,null,{"$f":"IF($BI$3=\"計画\",X136,V136)","v":0},null,null,null,"÷",{"$f":"IF($BI$3=\"計画\",$BE$5,$BI$5)","v":40},null,null,null,"＝",{"$f":"ROUNDDOWN(O141/T141,1)","v":0},null,null,null,null,null,{"$f":"IF($BI$3=\"計画\",AN136,AL136)","v":128},null,null,null,"÷",{"$f":"IF($BI$3=\"計画\",$BE$5,$BI$5)","v":40},null,null,null,"＝",{"$f":"ROUNDDOWN(AE141/AJ141,1)","v":3.2}]
[null,null,null,null,null,null,null,null,null,null,null,null,null,null,null,null,null,null,null,null,null,null,null,null,"（小数点第2位以下切り捨て）",null,null,null,null,null,null,null,null,null,null,null,null,null,null,null,"（小数点第2位以下切り捨て）"]
[null,null,null,null,null,null,null,null,null,null,null,null,null,null,"■ 看護職員の常勤換算方法による人数",null,null,null,null,null,null,null,null,null,null,null,null,null,null,null,"■ 介護職員の常勤換算方法による人数"]
[null,null,null,null,null,null,null,null,null,null,null,null,null,null,"常勤換算方法対象外の",null,null,null,null,null,null,null,null,null,null,null,null,null,null,null,"常勤換算方法対象外の"]
[null,null,null,null,null,null,null,null,null,null,null,null,null,null,"常勤の従業者の人数",null,null,null,null,"常勤換算方法による人数",null,null,null,null,"合計",null,null,null,null,null,"常勤の従業者の人数",null,null,null,null,"常勤換算方法による人数",null,null,null,null,"合計"]
[null,null,null,null,null,null,null,null,null,null,null,null,null,null,{"$f":"AA136","v":6},null,null,null,"＋",{"$f":"Y141","v":0},null,null,null,"＝",{"$f":"ROUNDDOWN(O146+T146,1)","v":6},null,null,null,null,null,{"$f":"AQ136","v":12},null,null,null,"＋",{"$f":"AO141","v":3.2},null,null,null,"＝",{"$f":"ROUNDDOWN(AE146+AJ146,1)","v":15.2}]

{"sheet":"【記載例】（ユニット型）シフト記号表","index":1,"n_rows":47,"n_cols":27,"rows_kept":47,"cut":false,"hidden":false,"merged":[[2,4,2,10],[2,12,2,14],[2,16,2,22]]}
[null,"≪要 提出≫"]
[null,"■シフト記号表（勤務時間帯）",null,null,"※24時間表記",null,null,null,"休憩時間1時間は「1:00」、休憩時間45分は「00:45」と入力してください。"]
[null,null,null,null,"勤務時間",null,null,null,null,null,null,null,"日中（夜勤時間帯以外）の時間帯",null,null,null,"日中（夜勤時間帯以外）の勤務時間",null,null,null,null,null,null,null,"夜勤時間帯"]
[null,"（記号の意味）","記号",null,"始業時間",null,"終業時間",null,"うち、休憩時間",null,"勤務時間",null,"開始",null,"終了",null,"開始",null,"終了",null,"うち、休憩時間",null,"勤務時間",null,"の勤務時間"]
[null,"休：休暇","休","：","-","～","-","（","-","）","-",null,"-","～","-",null,"-","～","-","（","-","）","-",null,"-"]
[null,"出：出張","出","：","-","～","-","（","-","）","-",null,"-","～","-",null,"-","～","-","（","-","）","-",null,"-"]
[null,"研：研修","研","：","-","～","-","（","-","）","-",null,"-","～","-",null,"-","～","-","（","-","）","-",null,"-"]
[null,null,"a","：","07:00:00","～","16:00:00","（","01:00:00","）",{"$f":"IF(OR(E8=\"\",G8=\"\"),\"\",(G8+IF(E8>G8,1,0)-E8-I8)*24)","v":7.9999999999999982},null,{"$f":"'【記載例】（ユニット型）'!$Q$11","v":"09:00:00"},"～",{"$f":"'【記載例】（ユニット型）'!$U$11","v":"17:00:00"},null,{"$f":"IF(E8=\"\",\"\",IF(E8<M8,M8,IF(E8>=O8,\"\",E8)))","v":"09:00:00"},"～",{"$f":"IF(G8=\"\",\"\",IF(G8>E8,IF(G8<O8,G8,O8),O8))","v":"16:00:00"},"（","01:00:00","）",{"$f":"IF(Q8=\"\",\"\",IF((S8+IF(Q8>S8,1,0)-Q8-U8)*24=0,\"\",(S8+IF(Q8>S8,1,0)-Q8-U8)*24))","v":5.9999999999999991},null,{"$f":"IF(W8=\"\",K8,IF(OR(K8-W8=0,K8-W8<0),\"-\",K8-W8))","v":1.9999999999999991}]
[null,null,"b","：","09:00:00","～","18:00:00","（","01:00:00","）",{"$f":"IF(OR(E9=\"\",G9=\"\"),\"\",(G9+IF(E9>G9,1,0)-E9-I9)*24)","v":8},null,{"$f":"'【記載例】（ユニット型）'!$Q$11","v":"09:00:00"},"～",{"$f":"'【記載例】（ユニット型）'!$U$11","v":"17:00:00"},null,"09:00:00","～","17:00:00","（","01:00:00","）",{"$f":"IF(Q9=\"\",\"\",IF((S9+IF(Q9>S9,1,0)-Q9-U9)*24=0,\"\",(S9+IF(Q9>S9,1,0)-Q9-U9)*24))","v":7},null,{"$f":"IF(W9=\"\",K9,IF(OR(K9-W9=0,K9-W9<0),\"-\",K9-W9))","v":1}]
[null,null,"c","：","10:00:00","～","19:00:00","（","01:00:00","）",7.9999999999999982,null,{"$f":"'【記載例】（ユニット型）'!$Q$11","v":"09:00:00"},"～",{"$f":"'【記載例】（ユニット型）'!$U$11","v":"17:00:00"},null,"10:00:00","～","17:00:00","（","01:00:00","）",6,null,1.9999999999999982]
[null,null,"d","：","12:00:00","～","21:00:00","（","01:00:00","）",8,null,{"$f":"'【記載例】（ユニット型）'!$Q$11","v":"09:00:00"},"～",{"$f":"'【記載例】（ユニット型）'!$U$11","v":"17:00:00"},null,"12:00:00","～","17:00:00","（","00:00:00","）",5.0000000000000009,null,2.9999999999999991]
[null,null,"e","：","09:00:00","～","13:00:00","（","00:00:00","）",3.9999999999999991,null,{"$f":"'【記載例】（ユニット型）'!$Q$11","v":"09:00:00"},"～",{"$f":"'【記載例】（ユニット型）'!$U$11","v":"17:00:00"},null,"09:00:00","～","13:00:00","（","00:00:00","）",3.9999999999999991,null,"-"]
[null,null,"f","：","13:00:00","～","17:00:00","（","00:00:00","）",4.0000000000000018,null,{"$f":"'【記載例】（ユニット型）'!$Q$11","v":"09:00:00"},"～",{"$f":"'【記載例】（ユニット型）'!$U$11","v":"17:00:00"},null,"13:00:00","～","17:00:00","（","00:00:00","）",4.0000000000000018,null,"-"]
[null,null,"g","：","14:00:00","～","20:00:00","（","00:00:00","）",6,null,{"$f":"'【記載例】（ユニット型）'!$Q$11","v":"09:00:00"},"～",{"$f":"'【記載例】（ユニット型）'!$U$11","v":"17:00:00"},null,"14:00:00","～","17:00:00","（","00:00:00","）",3,null,3]
[null,null,"h","：","16:00:00","～","09:00:00","（","02:00:00","）",15,null,{"$f":"'【記載例】（ユニット型）'!$Q$11","v":"09:00:00"},"～",{"$f":"'【記載例】（ユニット型）'!$U$11","v":"17:00:00"},null,"16:00:00","～","17:00:00","（","00:00:00","）",1.0000000000000018,null,13.999999999999998]
[null,null,"i","：","06:00:00","～","12:00:00","（","00:00:00","）",6,null,{"$f":"'【記載例】（ユニット型）'!$Q$11","v":"09:00:00"},"～",{"$f":"'【記載例】（ユニット型）'!$U$11","v":"17:00:00"},null,"09:00:00","～","12:00:00","（","00:00:00","）",3,null,3]
[null,null,"j","：",null,"～",null,"（","00:00:00","）","",null,{"$f":"'【記載例】（ユニット型）'!$Q$11","v":"09:00:00"},"～",{"$f":"'【記載例】（ユニット型）'!$U$11","v":"17:00:00"},null,"","～","","（","00:00:00","）","",null,""]
[null,null,"k","：",null,"～",null,"（","00:00:00","）","",null,{"$f":"'【記載例】（ユニット型）'!$Q$11","v":"09:00:00"},"～",{"$f":"'【記載例】（ユニット型）'!$U$11","v":"17:00:00"},null,"","～","","（","00:00:00","）","",null,""]
[null,null,"l","：",null,"～",null,"（","00:00:00","）","",null,{"$f":"'【記載例】（ユニット型）'!$Q$11","v":"09:00:00"},"～",{"$f":"'【記載例】（ユニット型）'!$U$11","v":"17:00:00"},null,"","～","","（","00:00:00","）","",null,""]
[null,null,"m","：",null,"～",null,"（","00:00:00","）","",null,{"$f":"'【記載例】（ユニット型）'!$Q$11","v":"09:00:00"},"～",{"$f":"'【記載例】（ユニット型）'!$U$11","v":"17:00:00"},null,"","～","","（","00:00:00","）","",null,""]
[null,null,"n","：",null,"～",null,"（","00:00:00","）","",null,{"$f":"'【記載例】（ユニット型）'!$Q$11","v":"09:00:00"},"～",{"$f":"'【記載例】（ユニット型）'!$U$11","v":"17:00:00"},null,"","～","","（","00:00:00","）","",null,""]
[null,null,"o","：","16:00:00","～","10:00:00","（","02:00:00","）",16,null,null,"～",null,null,null,"～",null,"（","02:00:00","）",2,null,14]
[null,null,"p","：",null,"～",null,"（",null,"）",2,null,null,"～",null,null,null,"～",null,"（",null,"）",2]
[null,null,"q","：",null,"～",null,"（",null,"）",3,null,null,"～",null,null,null,"～",null,"（",null,"）",3]
[null,null,"r","：",null,"～",null,"（",null,"）",4,null,null,"～",null,null,null,"～",null,"（",null,"）",4]
[null,null,"s","：",null,"～",null,"（",null,"）",5,null,null,"～",null,null,null,"～",null,"（",null,"）",5]
[null,null,"t","：",null,"～",null,"（",null,"）",6,null,null,"～",null,null,null,"～",null,"（",null,"）",6]
[null,null,"u","：",null,"～",null,"（",null,"）",7,null,null,"～",null,null,null,"～",null,"（",null,"）",7]
[null,null,"v","：",null,"～",null,"（",null,"）",8,null,null,"～",null,null,null,"～",null,"（",null,"）",8]
[null,null,"w","：",null,"～",null,"（",null,"）",1,null,null,"～",null,null,null,"～",null,"（",null,"）",null,null,1]
[null,null,"x","：",null,"～",null,"（",null,"）",2,null,null,"～",null,null,null,"～",null,"（",null,"）",null,null,2]
[null,null,"y","：",null,"～",null,"（",null,"）",3,null,null,"～",null,null,null,"～",null,"（",null,"）",null,null,3]
[null,null,"z","：",null,"～",null,"（",null,"）",4,null,null,"～",null,null,null,"～",null,"（",null,"）",null,null,4]
[null,null,"aa","：",null,"～",null,"（",null,"）",5,null,null,"～",null,null,null,"～",null,"（",null,"）",null,null,5]
[null,null,"ab","：",null,"～",null,"（",null,"）",6,null,null,"～",null,null,null,"～",null,"（",null,"）",null,null,6]
[null,null,"ac","：",null,"～",null,"（",null,"）",7,null,null,"～",null,null,null,"～",null,"（",null,"）",null,null,7]
[null,null,"ad","：",null,"～",null,"（",null,"）",8,null,null,"～",null,null,null,"～",null,"（",null,"）",null,null,8]
[null,null,"ae","：",null,"～",null,"（","00:00:00","）",{"$f":"IF(OR(E38=\"\",G38=\"\"),\"\",(G38+IF(E38>G38,1,0)-E38-I38)*24)","v":""},null,{"$f":"'【記載例】（ユニット型）'!$Q$11","v":"09:00:00"},"～",{"$f":"'【記載例】（ユニット型）'!$U$11","v":"17:00:00"},null,{"$f":"IF(E38=\"\",\"\",IF(E38<M38,M38,IF(E38>=O38,\"\",E38)))","v":""},"～",{"$f":"IF(G38=\"\",\"\",IF(G38>E38,IF(G38<O38,G38,O38),O38))","v":""},"（",{"$f":"I38","v":"00:00:00"},"）",{"$f":"IF(Q38=\"\",\"\",IF((S38+IF(Q38>S38,1,0)-Q38-U38)*24=0,\"\",(S38+IF(Q38>S38,1,0)-Q38-U38)*24))","v":""},null,{"$f":"IF(W38=\"\",K38,IF(OR(K38-W38=0,K38-W38<0),\"-\",K38-W38))","v":""}]
[null,null,"af","：",null,"～",null,"（","00:00:00","）","",null,{"$f":"'【記載例】（ユニット型）'!$Q$11","v":"09:00:00"},"～",{"$f":"'【記載例】（ユニット型）'!$U$11","v":"17:00:00"},null,"","～","","（",{"$f":"I39","v":"00:00:00"},"）","",null,{"$f":"IF(W39=\"\",K39,IF(OR(K39-W39=0,K39-W39<0),\"-\",K39-W39))","v":""}]
[null,null,"ag","：",null,"～",null,"（","00:00:00","）","",null,{"$f":"'【記載例】（ユニット型）'!$Q$11","v":"09:00:00"},"～",{"$f":"'【記載例】（ユニット型）'!$U$11","v":"17:00:00"},null,"","～","","（","00:00:00","）","",null,""]
[null,null,"早退(1)","：",null,"～",null,"（","00:00:00","）","",null,{"$f":"'【記載例】（ユニット型）'!$Q$11","v":"09:00:00"},"～",{"$f":"'【記載例】（ユニット型）'!$U$11","v":"17:00:00"},null,"","～","","（","00:00:00","）","",null,"",null,"実績で早退者がいた場合に使用"]
[null,null,"早退(2)","：",null,"～",null,"（","00:00:00","）","",null,{"$f":"'【記載例】（ユニット型）'!$Q$11","v":"09:00:00"},"～",{"$f":"'【記載例】（ユニット型）'!$U$11","v":"17:00:00"},null,"","～","","（","00:00:00","）","",null,"",null,"実績で早退者がいた場合に使用"]
[null,null,"az","：",null,"～",null,"（","00:00:00","）","",null,{"$f":"'【記載例】（ユニット型）'!$Q$11","v":"09:00:00"},"～",{"$f":"'【記載例】（ユニット型）'!$U$11","v":"17:00:00"},null,"","～","","（","00:00:00","）","",null,""]
[null,"1日のうち",null,"：","07:00:00","～","09:30:00","（","00:00:00","）",2.4999999999999991,null,{"$f":"'【記載例】（ユニット型）'!$Q$11","v":"09:00:00"},"～",{"$f":"'【記載例】（ユニット型）'!$U$11","v":"17:00:00"},null,"09:00:00","～","09:30:00","（","00:00:00","）",0.49999999999999956,null,1.9999999999999996]
[null,"朝・夜の2回",null,"：","16:30:00","～","20:00:00","（","00:00:00","）",3.5000000000000009,null,{"$f":"'【記載例】（ユニット型）'!$Q$11","v":"09:00:00"},"～",{"$f":"'【記載例】（ユニット型）'!$U$11","v":"17:00:00"},null,"16:30:00","～","17:00:00","（","00:00:00","）",0.50000000000000089,null,3]
[null,"勤務の場合","ba","：","-","～","-","（","-","）",{"$f":"K44+K45","v":6},null,{"$f":"'【記載例】（ユニット型）'!$Q$11","v":"09:00:00"},"～",{"$f":"'【記載例】（ユニット型）'!$U$11","v":"17:00:00"},null,"","～","17:00:00","（","-","）",{"$f":"W44+W45","v":1.0000000000000004},null,5]
[null,"（プルダウン対象外）→","宿直","：","20:00:00","～","07:00:00","（",null,"）",{"$f":"IF(OR(E47=\"\",G47=\"\"),\"\",(G47+IF(E47>G47,1,0)-E47-I47)*24)","v":11},null,{"$f":"'【記載例】（ユニット型）'!$Q$11","v":"09:00:00"},"～",{"$f":"'【記載例】（ユニット型）'!$U$11","v":"17:00:00"},null,"","～","17:00:00","（","00:00:00","）",{"$f":"IF(Q47=\"\",\"\",IF((S47+IF(Q47>S47,1,0)-Q47-U47)*24=0,\"\",(S47+IF(Q47>S47,1,0)-Q47-U47)*24))","v":""},null,11]

{"sheet":"（ユニット型）介護老人保健施設","index":2,"n_rows":146,"n_cols":66,"rows_kept":146,"cut":false,"hidden":false,"merged":[[0,49,0,64],[1,32,1,33],[1,35,1,36],[1,39,1,40],[1,49,1,64],[2,60,2,63],[10,16,10,18],[10,20,10,22],[9,41,9,42],[9,49,9,50],[9,54,9,55],[9,62,9,63],[11,16,11,18],[11,20,11,22],[4,52,4,53],[4,56,4,57],[4,60,4,61],[6,60,6,61],[8,26,8,27],[11,49,11,50],[11,62,11,63],[13,1,17,1],[13,2,17,2],[13,3,17,5],[13,6,17,7],[13,12,17,13],[13,14,17,17],[13,18,17,20],[13,21,17,25],[13,26,13,56],[20,12,20,13],[20,14,20,17],[20,57,20,58],[20,59,20,60],[13,57,17,58],[13,59,17,60],[13,61,17,65],[14,26,14,32],[14,33,14,39],[14,40,14,46],[14,47,14,53],[14,54,14,56],[18,61,20,65],[21,2,23,2],[21,3,23,5],[21,6,21,7],[21,12,21,13],[21,14,21,17],[21,18,23,20],[21,57,21,58],[21,59,21,60],[18,2,20,2],[18,3,20,5],[18,57,18,58],[18,59,18,60],[19,6,19,7],[19,12,19,13],[19,14,19,17],[19,57,19,58],[19,59,19,60],[20,6,20,7],[20,8,20,9],[18,6,18,7],[18,12,18,13],[18,14,18,17],[18,18,20,20],[20,10,20,11],[21,61,23,65],[22,6,22,7],[22,12,22,13],[22,14,22,17],[22,57,22,58],[22,59,22,60],[23,6,23,7],[23,8,23,9],[23,10,23,11],[23,12,23,13],[23,14,23,17],[23,57,23,58],[23,59,23,60],[24,2,26,2],[24,3,26,5],[24,6,24,7],[24,12,24,13],[24,14,24,17],[24,18,26,20],[24,57,24,58],[24,59,24,60],[24,61,26,65],[25,6,25,7],[25,12,25,13],[25,14,25,17],[25,57,25,58],[25,59,25,60],[26,6,26,7],[26,8,26,9],[26,10,26,11],[26,12,26,13],[26,14,26,17],[26,57,26,58],[26,59,26,60],[27,2,29,2],[27,3,29,5],[27,6,27,7],[27,12,27,13],[27,14,27,17],[27,18,29,20],[30,2,32,2],[30,3,32,5],[30,6,30,7],[30,12,30,13],[30,14,30,17],[27,57,27,58],[27,59,27,60],[27,61,29,65],[28,6,28,7],[28,12,28,13],[28,14,28,17],[28,57,28,58],[28,59,28,60],[29,6,29,7],[29,8,29,9],[30,61,32,65],[31,6,31,7],[31,12,31,13],[31,14,31,17],[31,57,31,58],[31,59,31,60],[32,6,32,7],[29,10,29,11],[29,12,29,13],[29,14,29,17],[29,57,29,58],[29,59,29,60],[32,8,32,9],[32,10,32,11],[32,12,32,13],[32,14,32,17],[32,57,32,58],[32,59,32,60],[30,18,32,20],[30,57,30,58],[30,59,30,60],[33,61,35,65],[34,6,34,7],[34,12,34,13],[34,14,34,17],[34,57,34,58],[34,59,34,60],[35,6,35,7],[35,8,35,9],[33,6,33,7],[33,12,33,13],[33,14,33,17],[33,18,35,20],[35,10,35,11],[35,12,35,13],[35,14,35,17],[35,57,35,58],[35,59,35,60],[36,2,38,2],[36,3,38,5],[36,6,36,7],[36,12,36,13],[36,14,36,17],[36,18,38,20],[36,57,36,58],[36,59,36,60],[33,2,35,2],[33,3,35,5],[33,57,33,58],[33,59,33,60],[36,61,38,65],[37,6,37,7],[37,12,37,13],[37,14,37,17],[37,57,37,58],[37,59,37,60],[38,6,38,7],[38,8,38,9],[38,10,38,11],[38,12,38,13],[38,14,38,17],[38,57,38,58],[38,59,38,60],[39,2,41,2],[39,3,41,5],[39,6,39,7],[39,12,39,13],[39,14,39,17],[39,18,41,20],[39,57,39,58],[39,59,39,60],[39,61,41,65],[40,6,40,7],[40,12,40,13],[40,14,40,17],[40,57,40,58],[40,59,40,60],[41,6,41,7],[41,8,41,9],[41,10,41,11],[41,12,41,13],[41,14,41,17],[41,57,41,58],[41,59,41,60],[42,2,44,2],[42,3,44,5],[42,6,42,7],[42,12,42,13],[42,14,42,17],[42,18,44,20],[45,2,47,2],[45,3,47,5],[45,6,45,7],[45,12,45,13],[45,14,45,17],[42,57,42,58],[42,59,42,60],[42,61,44,65],[43,6,43,7],[43,12,43,13],[43,14,43,17],[43,57,43,58],[43,59,43,60],[44,6,44,7],[44,8,44,9],[45,61,47,65],[46,6,46,7],[46,12,46,13],[46,14,46,17],[46,57,46,58],[46,59,46,60],[47,6,47,7],[44,10,44,11],[44,12,44,13],[44,14,44,17],[44,57,44,58],[44,59,44,60],[47,8,47,9],[47,10,47,11],[47,12,47,13],[47,14,47,17],[47,57,47,58],[47,59,47,60],[45,18,47,20],[45,57,45,58],[45,59,45,60],[48,61,50,65],[49,6,49,7],[49,12,49,13],[49,14,49,17],[49,57,49,58],[49,59,49,60],[50,6,50,7],[50,8,50,9],[48,6,48,7],[48,12,48,13],[48,14,48,17],[48,18,50,20],[50,10,50,11],[50,12,50,13],[50,14,50,17],[50,57,50,58],[50,59,50,60],[51,2,53,2],[51,3,53,5],[51,6,51,7],[51,12,51,13],[51,14,51,17],[51,18,53,20],[51,57,51,58],[51,59,51,60],[48,2,50,2],[48,3,50,5],[48,57,48,58],[48,59,48,60],[51,61,53,65],[52,6,52,7],[52,12,52,13],[52,14,52,17],[52,57,52,58],[52,59,52,60],[53,6,53,7],[53,8,53,9],[53,10,53,11],[53,12,53,13],[53,14,53,17],[53,57,53,58],[53,59,53,60],[54,2,56,2],[54,3,56,5],[54,6,54,7],[54,12,54,13],[54,14,54,17],[54,18,56,20],[54,57,54,58],[54,59,54,60],[54,61,56,65],[55,6,55,7],[55,12,55,13],[55,14,55,17],[55,57,55,58],[55,59,55,60],[56,6,56,7],[56,8,56,9],[56,10,56,11],[56,12,56,13],[56,14,56,17],[56,57,56,58],[56,59,56,60],[57,2,59,2],[57,3,59,5],[57,6,57,7],[57,12,57,13],[57,14,57,17],[57,18,59,20],[60,2,62,2],[60,3,62,5],[60,6,60,7],[60,12,60,13],[60,14,60,17],[57,57,57,58],[57,59,57,60],[57,61,59,65],[58,6,58,7],[58,12,58,13],[58,14,58,17],[58,57,58,58],[58,59,58,60],[59,6,59,7],[59,8,59,9],[60,61,62,65],[61,6,61,7],[61,12,61,13],[61,14,61,17],[61,57,61,58],[61,59,61,60],[62,6,62,7],[59,10,59,11],[59,12,59,13],[59,14,59,17],[59,57,59,58],[59,59,59,60],[62,8,62,9],[62,10,62,11],[62,12,62,13],[62,14,62,17],[62,57,62,58],[62,59,62,60],[60,18,62,20],[60,57,60,58],[60,59,60,60],[63,61,65,65],[64,6,64,7],[64,12,64,13],[64,14,64,17],[64,57,64,58],[64,59,64,60],[65,6,65,7],[65,8,65,9],[63,6,63,7],[63,12,63,13],[63,14,63,17],[63,18,65,20],[65,10,65,11],[65,12,65,13],[65,14,65,17],[65,57,65,58],[65,59,65,60],[66,2,68,2],[66,3,68,5],[66,6,66,7],[66,12,66,13],[66,14,66,17],[66,18,68,20],[66,57,66,58],[66,59,66,60],[63,2,65,2],[63,3,65,5],[63,57,63,58],[63,59,63,60],[66,61,68,65],[67,6,67,7],[67,12,67,13],[67,14,67,17],[67,57,67,58],[67,59,67,60],[68,6,68,7],[68,8,68,9],[68,10,68,11],[68,12,68,13],[68,14,68,17],[68,57,68,58],[68,59,68,60],[69,2,71,2],[69,3,71,5],[69,6,69,7],[69,12,69,13],[69,14,69,17],[69,18,71,20],[69,57,69,58],[69,59,69,60],[69,61,71,65],[70,6,70,7],[70,12,70,13],[70,14,70,17],[70,57,70,58],[70,59,70,60],[71,6,71,7],[71,8,71,9],[71,10,71,11],[71,12,71,13],[71,14,71,17],[71,57,71,58],[71,59,71,60],[72,2,74,2],[72,3,74,5],[72,6,72,7],[72,12,72,13],[72,14,72,17],[72,18,74,20],[75,2,77,2],[75,3,77,5],[75,6,75,7],[75,12,75,13],[75,14,75,17],[72,57,72,58],[72,59,72,60],[72,61,74,65],[73,6,73,7],[73,12,73,13],[73,14,73,17],[73,57,73,58],[73,59,73,60],[74,6,74,7],[74,8,74,9],[75,61,77,65],[76,6,76,7],[76,12,76,13],[76,14,76,17],[76,57,76,58],[76,59,76,60],[77,6,77,7],[74,10,74,11],[74,12,74,13],[74,14,74,17],[74,57,74,58],[74,59,74,60],[77,8,77,9],[77,10,77,11],[77,12,77,13],[77,14,77,17],[77,57,77,58],[77,59,77,60],[75,18,77,20],[75,57,75,58],[75,59,75,60],[78,61,80,65],[79,6,79,7],[79,12,79,13],[79,14,79,17],[79,57,79,58],[79,59,79,60],[80,6,80,7],[80,8,80,9],[78,6,78,7],[78,12,78,13],[78,14,78,17],[78,18,80,20],[80,10,80,11],[80,12,80,13],[80,14,80,17],[80,57,80,58],[80,59,80,60],[81,2,83,2],[81,3,83,5],[81,6,81,7],[81,12,81,13],[81,14,81,17],[81,18,83,20],[81,57,81,58],[81,59,81,60],[78,2,80,2],[78,3,80,5],[78,57,78,58],[78,59,78,60],[81,61,83,65],[82,6,82,7],[82,12,82,13],[82,14,82,17],[82,57,82,58],[82,59,82,60],[83,6,83,7],[83,8,83,9],[83,10,83,11],[83,12,83,13],[83,14,83,17],[83,57,83,58],[83,59,83,60],[84,2,86,2],[84,3,86,5],[84,6,84,7],[84,12,84,13],[84,14,84,17],[84,18,86,20],[84,57,84,58],[84,59,84,60],[84,61,86,65],[85,6,85,7],[85,12,85,13],[85,14,85,17],[85,57,85,58],[85,59,85,60],[86,6,86,7],[86,8,86,9],[86,10,86,11],[86,12,86,13],[86,14,86,17],[86,57,86,58],[86,59,86,60],[87,2,89,2],[87,3,89,5],[87,6,87,7],[87,12,87,13],[87,14,87,17],[87,18,89,20],[90,2,92,2],[90,3,92,5],[90,6,90,7],[90,12,90,13],[90,14,90,17],[87,57,87,58],[87,59,87,60],[87,61,89,65],[88,6,88,7],[88,12,88,13],[88,14,88,17],[88,57,88,58],[88,59,88,60],[89,6,89,7],[89,8,89,9],[90,61,92,65],[91,6,91,7],[91,12,91,13],[91,14,91,17],[91,57,91,58],[91,59,91,60],[92,6,92,7],[89,10,89,11],[89,12,89,13],[89,14,89,17],[89,57,89,58],[89,59,89,60],[92,8,92,9],[92,10,92,11],[92,12,92,13],[92,14,92,17],[92,57,92,58],[92,59,92,60],[90,18,92,20],[90,57,90,58],[90,59,90,60],[93,61,95,65],[94,6,94,7],[94,12,94,13],[94,14,94,17],[94,57,94,58],[94,59,94,60],[95,6,95,7],[95,8,95,9],[93,6,93,7],[93,12,93,13],[93,14,93,17],[93,18,95,20],[95,10,95,11],[95,12,95,13],[95,14,95,17],[95,57,95,58],[95,59,95,60],[96,2,98,2],[96,3,98,5],[96,6,96,7],[96,12,96,13],[96,14,96,17],[96,18,98,20],[96,57,96,58],[96,59,96,60],[93,2,95,2],[93,3,95,5],[93,57,93,58],[93,59,93,60],[96,61,98,65],[97,6,97,7],[97,12,97,13],[97,14,97,17],[97,57,97,58],[97,59,97,60],[98,6,98,7],[98,8,98,9],[98,10,98,11],[98,12,98,13],[98,14,98,17],[98,57,98,58],[98,59,98,60],[99,2,101,2],[99,3,101,5],[99,6,99,7],[99,12,99,13],[99,14,99,17],[99,18,101,20],[99,57,99,58],[99,59,99,60],[99,61,101,65],[100,6,100,7],[100,12,100,13],[100,14,100,17],[100,57,100,58],[100,59,100,60],[101,6,101,7],[101,8,101,9],[101,10,101,11],[101,12,101,13],[101,14,101,17],[101,57,101,58],[101,59,101,60],[102,2,104,2],[102,3,104,5],[102,6,102,7],[102,12,102,13],[102,14,102,17],[102,18,104,20],[105,2,107,2],[105,3,107,5],[105,6,105,7],[105,12,105,13],[105,14,105,17],[102,57,102,58],[102,59,102,60],[102,61,104,65],[103,6,103,7],[103,12,103,13],[103,14,103,17],[103,57,103,58],[103,59,103,60],[104,6,104,7],[104,8,104,9],[105,61,107,65],[106,6,106,7],[106,12,106,13],[106,14,106,17],[106,57,106,58],[106,59,106,60],[107,6,107,7],[104,10,104,11],[104,12,104,13],[104,14,104,17],[104,57,104,58],[104,59,104,60],[107,8,107,9],[107,10,107,11],[107,12,107,13],[107,14,107,17],[107,57,107,58],[107,59,107,60],[105,18,107,20],[105,57,105,58],[105,59,105,60],[108,61,110,65],[109,6,109,7],[109,12,109,13],[109,14,109,17],[109,57,109,58],[109,59,109,60],[110,6,110,7],[110,8,110,9],[108,6,108,7],[108,12,108,13],[108,14,108,17],[108,18,110,20],[110,10,110,11],[110,12,110,13],[110,14,110,17],[110,57,110,58],[110,59,110,60],[111,2,113,2],[111,3,113,5],[111,6,111,7],[111,12,111,13],[111,14,111,17],[111,18,113,20],[111,57,111,58],[111,59,111,60],[108,2,110,2],[108,3,110,5],[108,57,108,58],[108,59,108,60],[111,61,113,65],[112,6,112,7],[112,12,112,13],[112,14,112,17],[112,57,112,58],[112,59,112,60],[113,6,113,7],[113,8,113,9],[113,10,113,11],[113,12,113,13],[113,14,113,17],[113,57,113,58],[113,59,113,60],[114,2,116,2],[114,3,116,5],[114,6,114,7],[114,12,114,13],[114,14,114,17],[114,18,116,20],[114,57,114,58],[114,59,114,60],[114,61,116,65],[115,6,115,7],[115,12,115,13],[115,14,115,17],[115,57,115,58],[115,59,115,60],[116,6,116,7],[116,8,116,9],[116,10,116,11],[116,12,116,13],[116,14,116,17],[116,57,116,58],[116,59,116,60],[117,2,119,2],[117,3,119,5],[117,6,117,7],[117,12,117,13],[117,14,117,17],[117,18,119,20],[120,2,122,2],[120,3,122,5],[120,6,120,7],[120,12,120,13],[120,14,120,17],[117,57,117,58],[117,59,117,60],[117,61,119,65],[118,6,118,7],[118,12,118,13],[118,14,118,17],[118,57,118,58],[118,59,118,60],[119,6,119,7],[119,8,119,9],[120,61,122,65],[121,6,121,7],[121,12,121,13],[121,14,121,17],[121,57,121,58],[121,59,121,60],[122,6,122,7],[119,10,119,11],[119,12,119,13],[119,14,119,17],[119,57,119,58],[119,59,119,60],[122,8,122,9],[122,10,122,11],[122,12,122,13],[122,14,122,17],[122,57,122,58],[122,59,122,60],[120,18,122,20],[120,57,120,58],[120,59,120,60],[123,2,125,2],[123,3,125,5],[123,6,123,7],[123,12,123,13],[123,14,123,17],[123,18,125,20],[125,10,125,11],[125,12,125,13],[125,14,125,17],[123,57,123,58],[123,59,123,60],[123,61,125,65],[124,6,124,7],[124,12,124,13],[124,14,124,17],[124,57,124,58],[124,59,124,60],[125,6,125,7],[125,8,125,9],[125,57,125,58],[125,59,125,60],[129,14,130,15],[129,16,129,19],[129,21,129,24],[129,30,130,31],[129,32,129,35],[129,37,129,40],[130,37,130,38],[130,39,130,40],[130,56,130,59],[130,32,130,33],[130,34,130,35],[130,16,130,17],[130,18,130,19],[130,21,130,22],[130,23,130,24],[132,42,132,43],[131,46,131,49],[131,51,131,54],[131,37,131,38],[131,39,131,40],[131,42,131,43],[132,23,132,24],[132,26,132,27],[131,30,131,31],[131,32,131,33],[131,34,131,35],[132,30,132,31],[132,32,132,33],[132,34,132,35],[132,39,132,40],[131,56,131,59],[131,14,131,15],[131,16,131,17],[133,30,133,31],[133,32,133,33],[133,34,133,35],[133,37,133,38],[133,39,133,40],[133,42,133,43],[133,14,133,15],[133,16,133,17],[133,18,133,19],[133,21,133,22],[133,23,133,24],[133,26,133,27],[132,14,132,15],[132,16,132,17],[132,18,132,19],[132,21,132,22],[131,18,131,19],[131,21,131,22],[131,23,131,24],[131,26,131,27],[132,37,132,38],[134,37,134,38],[134,39,134,40],[134,42,134,43],[134,14,134,15],[134,16,134,17],[134,18,134,19],[134,21,134,22],[134,23,134,24],[134,26,134,27],[135,14,135,15],[135,16,135,17],[135,18,135,19],[135,21,135,22],[135,23,135,24],[135,26,135,27],[134,30,134,31],[134,32,134,33],[134,34,134,35],[135,46,135,47],[135,48,135,51],[136,46,136,47],[136,48,136,51],[137,46,137,47],[137,48,137,51],[135,30,135,31],[135,32,135,33],[135,34,135,35],[135,37,135,38],[135,39,135,40],[135,42,135,43],[138,46,138,47],[138,48,138,51],[139,46,139,47],[139,48,139,51],[140,14,140,17],[140,19,140,22],[140,24,140,27],[140,30,140,33],[140,35,140,38],[140,40,140,43],[143,24,143,27],[143,40,143,43],[144,24,144,27],[144,40,144,43],[145,14,145,17],[145,19,145,22],[145,24,145,27],[145,30,145,33],[145,35,145,38],[145,40,145,43]]}
[null,null,null,null,null,null,"（参考様式）",null,null,null,null,null,null,null,null,null,"従業者の勤務の体制及び勤務形態一覧表　",null,null,null,null,null,null,null,null,null,null,null,null,null,null,null,null,null,null,null,null,null,null,null,null,null,null,null,null,null,null,null,"サービス種別（","指定介護老人保健施設（ユニット型）",null,null,null,null,null,null,null,null,null,null,null,null,null,null,null,"）"]
[null,null,null,null,null,null,null,null,null,null,null,null,null,null,null,null,null,null,null,null,null,null,null,null,null,null,null,null,null,null,null,"令和",2,null,"(",{"$f":"IF(AG2=0,\"\",YEAR(DATE(2018+AG2,1,1)))","v":2020},null,")","年",4,null,"月",null,null,null,null,null,null,"事業所名（","○○○○",null,null,null,null,null,null,null,null,null,null,null,null,null,null,null,"）"]
[null,null,null,null,null,null,null,null,null,null,null,null,null,null,null,null,null,null,null,null,null,null,null,null,null,null,null,null,null,null,null,null,null,null,null,null,null,null,null,null,null,null,null,null,null,null,null,null,null,null,null,null,null,null,null,null,null,null,null,"(1)","計画"]
[]
[null,null,null,null,null,null,null,null,null,null,null,null,null,null,null,null,null,null,null,null,null,null,null,null,null,null,null,null,null,null,null,null,null,null,null,null,null,null,null,null,"(2) 事業所における常勤の従業者が勤務すべき時間数",null,null,null,null,null,null,null,null,null,null,null,8,null,"時間/日",null,40,null,"時間/週",null,160,null,"時間/月"]
[]
[null,null,null,null,null,null,null,null,null,null,null,null,null,null,null,null,null,null,null,null,null,null,null,null,null,null,null,null,null,null,null,null,null,null,null,null,null,null,null,null,null,null,null,null,null,null,null,null,null,null,null,null,null,null,null,null,null,"当月の日数",null,null,{"$f":"DAY(EOMONTH(DATE(AJ2,AN2,1),0))","v":30},null,"日"]
[null,null,null,null,null,null,null,null,null,null,null,null,null,null,null,null,null,null,null,null,null,null,null,null,null,null,null,null,null,null,null,null,null,null,null,null,null,null,null,null,"(介護老人保健施設）",null,null,null,null,null,null,null,null,null,null,null,null,"(短期入所療養介護）"]
[null,null,null,null,null,null,null,null,null,null,null,null,null,null,null,null,null,null,null,null,null,null,null,null,null,null,null,null,null,null,null,null,null,null,null,null,null,null,null,null,"(4) 入所定員",null,null,null,"(5) 入所者数",null,null,null,null,null,null,null,null,"(6) 利用定員",null,null,null,"(7) 利用者数"]
[null,"(3) 日中／夜勤の時間帯の区分",null,null,null,null,null,null,null,null,null,null,null,null,null,null,null,null,null,null,null,null,null,null,null,null,null,null,null,null,null,null,null,null,null,null,null,null,null,null,null,null,null,"人",null,"前年度の平均値",null,null,null,null,null,"人",null,null,null,null,"人",null,"前年度の平均値",null,null,null,null,null,"人"]
[null,"日中（夜勤時間帯以外）の時間帯",null,null,null,null,null,null,null,null,null,null,null,null,null,null,{"$f":"U12","v":"09:00:00"},null,null,"～",{"$f":"Q12","v":"17:00:00"},null,null,null,null,null,null,null,null,null,null,null,null,null,null,null,null,null,null,null,null,null,null,null,null,"（新規に指定を受ける場合）",null,null,null,null,null,null,null,null,null,null,null,null,"（新規に指定を受ける場合）"]
[null,"夜勤時間帯",null,null,null,null,null,null,null,null,null,null,null,null,null,null,"17:00:00",null,null,"～","09:00:00",null,null,null,null,null,null,null,null,null,null,null,null,null,null,null,null,null,null,null,null,null,null,null,null,"推定数",null,null,null,null,null,"人",null,null,null,null,null,null,"推定数",null,null,null,null,null,"人"]
[]
[null,"No","(8)\nユニットリーダー","(9)ユニット名",null,null,"(10) \n職種",null,null,null,null,null,"(11)\n勤務\n形態",null,"(12) 資格",null,null,null,"(13) 氏　名",null,null,"日中／夜勤時間帯\nの区分",null,null,null,null,"(14) 勤 務 時 間 数",null,null,null,null,null,null,null,null,null,null,null,null,null,null,null,null,null,null,null,null,null,null,null,null,null,null,null,null,null,null,{"$f":"IF(BI3=\"計画\",\"(15)1～4週目の勤務時間数合計\",\"(15)1か月の勤務時間数　合計\")","v":"(15)1～4週目の勤務時間数合計"},null,"(16)\n週平均\n勤務時間数",null,"(17) 兼務状況\n（兼務先/兼務する職務の内容\n/兼務時間数））"]
[null,null,null,null,null,null,null,null,null,null,null,null,null,null,null,null,null,null,null,null,null,null,null,null,null,null,"1週目",null,null,null,null,null,null,"2週目",null,null,null,null,null,null,"3週目",null,null,null,null,null,null,"4週目",null,null,null,null,null,null,"5週目"]
[null,null,null,null,null,null,null,null,null,null,null,null,null,null,null,null,null,null,null,null,null,null,null,null,null,null,1,2,3,4,5,6,7,8,9,10,11,12,13,14,15,16,17,18,19,20,21,22,23,24,25,26,27,28,{"$f":"IF($BI$3=\"実績\",IF(DAY(DATE($AJ$2,$AN$2,29))=29,29,\"\"),\"\")","v":""},{"$f":"IF($BI$3=\"実績\",IF(DAY(DATE($AJ$2,$AN$2,30))=30,30,\"\"),\"\")","v":""},{"$f":"IF($BI$3=\"実績\",IF(DAY(DATE($AJ$2,$AN$2,31))=31,31,\"\"),\"\")","v":""}]
[null,null,null,null,null,null,null,null,null,null,null,null,null,null,null,null,null,null,null,null,null,null,null,null,null,null,{"$f":"WEEKDAY(DATE($AJ$2,$AN$2,1))","v":4},{"$f":"WEEKDAY(DATE($AJ$2,$AN$2,2))","v":5},{"$f":"WEEKDAY(DATE($AJ$2,$AN$2,3))","v":6},{"$f":"WEEKDAY(DATE($AJ$2,$AN$2,4))","v":7},{"$f":"WEEKDAY(DATE($AJ$2,$AN$2,5))","v":1},{"$f":"WEEKDAY(DATE($AJ$2,$AN$2,6))","v":2},{"$f":"WEEKDAY(DATE($AJ$2,$AN$2,7))","v":3},{"$f":"WEEKDAY(DATE($AJ$2,$AN$2,8))","v":4},{"$f":"WEEKDAY(DATE($AJ$2,$AN$2,9))","v":5},{"$f":"WEEKDAY(DATE($AJ$2,$AN$2,10))","v":6},{"$f":"WEEKDAY(DATE($AJ$2,$AN$2,11))","v":7},{"$f":"WEEKDAY(DATE($AJ$2,$AN$2,12))","v":1},{"$f":"WEEKDAY(DATE($AJ$2,$AN$2,13))","v":2},{"$f":"WEEKDAY(DATE($AJ$2,$AN$2,14))","v":3},{"$f":"WEEKDAY(DATE($AJ$2,$AN$2,15))","v":4},{"$f":"WEEKDAY(DATE($AJ$2,$AN$2,16))","v":5},{"$f":"WEEKDAY(DATE($AJ$2,$AN$2,17))","v":6},{"$f":"WEEKDAY(DATE($AJ$2,$AN$2,18))","v":7},{"$f":"WEEKDAY(DATE($AJ$2,$AN$2,19))","v":1},{"$f":"WEEKDAY(DATE($AJ$2,$AN$2,20))","v":2},{"$f":"WEEKDAY(DATE($AJ$2,$AN$2,21))","v":3},{"$f":"WEEKDAY(DATE($AJ$2,$AN$2,22))","v":4},{"$f":"WEEKDAY(DATE($AJ$2,$AN$2,23))","v":5},{"$f":"WEEKDAY(DATE($AJ$2,$AN$2,24))","v":6},{"$f":"WEEKDAY(DATE($AJ$2,$AN$2,25))","v":7},{"$f":"WEEKDAY(DATE($AJ$2,$AN$2,26))","v":1},{"$f":"WEEKDAY(DATE($AJ$2,$AN$2,27))","v":2},{"$f":"WEEKDAY(DATE($AJ$2,$AN$2,28))","v":3},{"$f":"IF(BC16=29,WEEKDAY(DATE($AJ$2,$AN$2,29)),0)","v":0},{"$f":"IF(BD16=30,WEEKDAY(DATE($AJ$2,$AN$2,30)),0)","v":0},{"$f":"IF(BE16=31,WEEKDAY(DATE($AJ$2,$AN$2,31)),0)","v":0}]
[null,null,null,null,null,null,null,null,null,null,null,null,null,null,null,null,null,null,null,null,null,null,null,null,null,null,{"$f":"IF(AA17=1,\"日\",IF(AA17=2,\"月\",IF(AA17=3,\"火\",IF(AA17=4,\"水\",IF(AA17=5,\"木\",IF(AA17=6,\"金\",\"土\"))))))","v":"水"},{"$f":"IF(AB17=1,\"日\",IF(AB17=2,\"月\",IF(AB17=3,\"火\",IF(AB17=4,\"水\",IF(AB17=5,\"木\",IF(AB17=6,\"金\",\"土\"))))))","v":"木"},"金","土","日","月","火",{"$f":"IF(AH17=1,\"日\",IF(AH17=2,\"月\",IF(AH17=3,\"火\",IF(AH17=4,\"水\",IF(AH17=5,\"木\",IF(AH17=6,\"金\",\"土\"))))))","v":"水"},"木","金","土","日","月","火",{"$f":"IF(AO17=1,\"日\",IF(AO17=2,\"月\",IF(AO17=3,\"火\",IF(AO17=4,\"水\",IF(AO17=5,\"木\",IF(AO17=6,\"金\",\"土\"))))))","v":"水"},"木","金","土","日","月","火",{"$f":"IF(AV17=1,\"日\",IF(AV17=2,\"月\",IF(AV17=3,\"火\",IF(AV17=4,\"水\",IF(AV17=5,\"木\",IF(AV17=6,\"金\",\"土\"))))))","v":"水"},"木","金","土","日","月","火",{"$f":"IF(BC17=1,\"日\",IF(BC17=2,\"月\",IF(BC17=3,\"火\",IF(BC17=4,\"水\",IF(BC17=5,\"木\",IF(BC17=6,\"金\",IF(BC17=0,\"\",\"土\")))))))","v":""},{"$f":"IF(BD17=1,\"日\",IF(BD17=2,\"月\",IF(BD17=3,\"火\",IF(BD17=4,\"水\",IF(BD17=5,\"木\",IF(BD17=6,\"金\",IF(BD17=0,\"\",\"土\")))))))","v":""},{"$f":"IF(BE17=1,\"日\",IF(BE17=2,\"月\",IF(BE17=3,\"火\",IF(BE17=4,\"水\",IF(BE17=5,\"木\",IF(BE17=6,\"金\",IF(BE17=0,\"\",\"土\")))))))","v":""}]
[null,null,null,null,null,null,null,null,null,null,null,null,null,null,null,null,null,null,null,null,null,"シフト記号"]
[null,1,null,null,null,null,null,null,null,null,null,null,null,null,null,null,null,null,null,null,null,"日中の勤務時間数",null,null,null,null,{"$f":"IF(AA19=\"\",\"\",VLOOKUP(AA19,'（ユニット型）シフト記号表'!$C$5:$W$46,21,FALSE))","v":""},{"$f":"IF(AB19=\"\",\"\",VLOOKUP(AB19,'（ユニット型）シフト記号表'!$C$5:$W$46,21,FALSE))","v":""},{"$f":"IF(AC19=\"\",\"\",VLOOKUP(AC19,'（ユニット型）シフト記号表'!$C$5:$W$46,21,FALSE))","v":""},{"$f":"IF(AD19=\"\",\"\",VLOOKUP(AD19,'（ユニット型）シフト記号表'!$C$5:$W$46,21,FALSE))","v":""},{"$f":"IF(AE19=\"\",\"\",VLOOKUP(AE19,'（ユニット型）シフト記号表'!$C$5:$W$46,21,FALSE))","v":""},{"$f":"IF(AF19=\"\",\"\",VLOOKUP(AF19,'（ユニット型）シフト記号表'!$C$5:$W$46,21,FALSE))","v":""},{"$f":"IF(AG19=\"\",\"\",VLOOKUP(AG19,'（ユニット型）シフト記号表'!$C$5:$W$46,21,FALSE))","v":""},{"$f":"IF(AH19=\"\",\"\",VLOOKUP(AH19,'（ユニット型）シフト記号表'!$C$5:$W$46,21,FALSE))","v":""},{"$f":"IF(AI19=\"\",\"\",VLOOKUP(AI19,'（ユニット型）シフト記号表'!$C$5:$W$46,21,FALSE))","v":""},{"$f":"IF(AJ19=\"\",\"\",VLOOKUP(AJ19,'（ユニット型）シフト記号表'!$C$5:$W$46,21,FALSE))","v":""},{"$f":"IF(AK19=\"\",\"\",VLOOKUP(AK19,'（ユニット型）シフト記号表'!$C$5:$W$46,21,FALSE))","v":""},{"$f":"IF(AL19=\"\",\"\",VLOOKUP(AL19,'（ユニット型）シフト記号表'!$C$5:$W$46,21,FALSE))","v":""},{"$f":"IF(AM19=\"\",\"\",VLOOKUP(AM19,'（ユニット型）シフト記号表'!$C$5:$W$46,21,FALSE))","v":""},{"$f":"IF(AN19=\"\",\"\",VLOOKUP(AN19,'（ユニット型）シフト記号表'!$C$5:$W$46,21,FALSE))","v":""},{"$f":"IF(AO19=\"\",\"\",VLOOKUP(AO19,'（ユニット型）シフト記号表'!$C$5:$W$46,21,FALSE))","v":""},{"$f":"IF(AP19=\"\",\"\",VLOOKUP(AP19,'（ユニット型）シフト記号表'!$C$5:$W$46,21,FALSE))","v":""},{"$f":"IF(AQ19=\"\",\"\",VLOOKUP(AQ19,'（ユニット型）シフト記号表'!$C$5:$W$46,21,FALSE))","v":""},{"$f":"IF(AR19=\"\",\"\",VLOOKUP(AR19,'（ユニット型）シフト記号表'!$C$5:$W$46,21,FALSE))","v":""},{"$f":"IF(AS19=\"\",\"\",VLOOKUP(AS19,'（ユニット型）シフト記号表'!$C$5:$W$46,21,FALSE))","v":""},{"$f":"IF(AT19=\"\",\"\",VLOOKUP(AT19,'（ユニット型）シフト記号表'!$C$5:$W$46,21,FALSE))","v":""},{"$f":"IF(AU19=\"\",\"\",VLOOKUP(AU19,'（ユニット型）シフト記号表'!$C$5:$W$46,21,FALSE))","v":""},{"$f":"IF(AV19=\"\",\"\",VLOOKUP(AV19,'（ユニット型）シフト記号表'!$C$5:$W$46,21,FALSE))","v":""},{"$f":"IF(AW19=\"\",\"\",VLOOKUP(AW19,'（ユニット型）シフト記号表'!$C$5:$W$46,21,FALSE))","v":""},{"$f":"IF(AX19=\"\",\"\",VLOOKUP(AX19,'（ユニット型）シフト記号表'!$C$5:$W$46,21,FALSE))","v":""},{"$f":"IF(AY19=\"\",\"\",VLOOKUP(AY19,'（ユニット型）シフト記号表'!$C$5:$W$46,21,FALSE))","v":""},{"$f":"IF(AZ19=\"\",\"\",VLOOKUP(AZ19,'（ユニット型）シフト記号表'!$C$5:$W$46,21,FALSE))","v":""},{"$f":"IF(BA19=\"\",\"\",VLOOKUP(BA19,'（ユニット型）シフト記号表'!$C$5:$W$46,21,FALSE))","v":""},{"$f":"IF(BB19=\"\",\"\",VLOOKUP(BB19,'（ユニット型）シフト記号表'!$C$5:$W$46,21,FALSE))","v":""},{"$f":"IF(BC19=\"\",\"\",VLOOKUP(BC19,'（ユニット型）シフト記号表'!$C$5:$W$46,21,FALSE))","v":""},{"$f":"IF(BD19=\"\",\"\",VLOOKUP(BD19,'（ユニット型）シフト記号表'!$C$5:$W$46,21,FALSE))","v":""},{"$f":"IF(BE19=\"\",\"\",VLOOKUP(BE19,'（ユニット型）シフト記号表'!$C$5:$W$46,21,FALSE))","v":""},{"$f":"IF($BI$3=\"計画\",SUM(AA20:BB20),IF($BI$3=\"実績\",SUM(AA20:BE20),\"\"))","v":0},null,{"$f":"IF($BI$3=\"計画\",BF20/4,IF($BI$3=\"実績\",(BF20/($BI$7/7)),\"\"))","v":0}]
[null,null,null,null,null,null,null,null,{"$f":"G20","v":0},null,{"$f":"M20","v":0},null,null,null,null,null,null,null,null,null,null,"夜勤時間帯の勤務時間数",null,null,null,null,{"$f":"IF(AA19=\"\",\"\",VLOOKUP(AA19,'（ユニット型）シフト記号表'!$C$5:$Y$46,23,FALSE))","v":""},{"$f":"IF(AB19=\"\",\"\",VLOOKUP(AB19,'（ユニット型）シフト記号表'!$C$5:$Y$46,23,FALSE))","v":""},{"$f":"IF(AC19=\"\",\"\",VLOOKUP(AC19,'（ユニット型）シフト記号表'!$C$5:$Y$46,23,FALSE))","v":""},{"$f":"IF(AD19=\"\",\"\",VLOOKUP(AD19,'（ユニット型）シフト記号表'!$C$5:$Y$46,23,FALSE))","v":""},{"$f":"IF(AE19=\"\",\"\",VLOOKUP(AE19,'（ユニット型）シフト記号表'!$C$5:$Y$46,23,FALSE))","v":""},{"$f":"IF(AF19=\"\",\"\",VLOOKUP(AF19,'（ユニット型）シフト記号表'!$C$5:$Y$46,23,FALSE))","v":""},{"$f":"IF(AG19=\"\",\"\",VLOOKUP(AG19,'（ユニット型）シフト記号表'!$C$5:$Y$46,23,FALSE))","v":""},{"$f":"IF(AH19=\"\",\"\",VLOOKUP(AH19,'（ユニット型）シフト記号表'!$C$5:$Y$46,23,FALSE))","v":""},{"$f":"IF(AI19=\"\",\"\",VLOOKUP(AI19,'（ユニット型）シフト記号表'!$C$5:$Y$46,23,FALSE))","v":""},{"$f":"IF(AJ19=\"\",\"\",VLOOKUP(AJ19,'（ユニット型）シフト記号表'!$C$5:$Y$46,23,FALSE))","v":""},{"$f":"IF(AK19=\"\",\"\",VLOOKUP(AK19,'（ユニット型）シフト記号表'!$C$5:$Y$46,23,FALSE))","v":""},{"$f":"IF(AL19=\"\",\"\",VLOOKUP(AL19,'（ユニット型）シフト記号表'!$C$5:$Y$46,23,FALSE))","v":""},{"$f":"IF(AM19=\"\",\"\",VLOOKUP(AM19,'（ユニット型）シフト記号表'!$C$5:$Y$46,23,FALSE))","v":""},{"$f":"IF(AN19=\"\",\"\",VLOOKUP(AN19,'（ユニット型）シフト記号表'!$C$5:$Y$46,23,FALSE))","v":""},{"$f":"IF(AO19=\"\",\"\",VLOOKUP(AO19,'（ユニット型）シフト記号表'!$C$5:$Y$46,23,FALSE))","v":""},{"$f":"IF(AP19=\"\",\"\",VLOOKUP(AP19,'（ユニット型）シフト記号表'!$C$5:$Y$46,23,FALSE))","v":""},{"$f":"IF(AQ19=\"\",\"\",VLOOKUP(AQ19,'（ユニット型）シフト記号表'!$C$5:$Y$46,23,FALSE))","v":""},{"$f":"IF(AR19=\"\",\"\",VLOOKUP(AR19,'（ユニット型）シフト記号表'!$C$5:$Y$46,23,FALSE))","v":""},{"$f":"IF(AS19=\"\",\"\",VLOOKUP(AS19,'（ユニット型）シフト記号表'!$C$5:$Y$46,23,FALSE))","v":""},{"$f":"IF(AT19=\"\",\"\",VLOOKUP(AT19,'（ユニット型）シフト記号表'!$C$5:$Y$46,23,FALSE))","v":""},{"$f":"IF(AU19=\"\",\"\",VLOOKUP(AU19,'（ユニット型）シフト記号表'!$C$5:$Y$46,23,FALSE))","v":""},{"$f":"IF(AV19=\"\",\"\",VLOOKUP(AV19,'（ユニット型）シフト記号表'!$C$5:$Y$46,23,FALSE))","v":""},{"$f":"IF(AW19=\"\",\"\",VLOOKUP(AW19,'（ユニット型）シフト記号表'!$C$5:$Y$46,23,FALSE))","v":""},{"$f":"IF(AX19=\"\",\"\",VLOOKUP(AX19,'（ユニット型）シフト記号表'!$C$5:$Y$46,23,FALSE))","v":""},{"$f":"IF(AY19=\"\",\"\",VLOOKUP(AY19,'（ユニット型）シフト記号表'!$C$5:$Y$46,23,FALSE))","v":""},{"$f":"IF(AZ19=\"\",\"\",VLOOKUP(AZ19,'（ユニット型）シフト記号表'!$C$5:$Y$46,23,FALSE))","v":""},{"$f":"IF(BA19=\"\",\"\",VLOOKUP(BA19,'（ユニット型）シフト記号表'!$C$5:$Y$46,23,FALSE))","v":""},{"$f":"IF(BB19=\"\",\"\",VLOOKUP(BB19,'（ユニット型）シフト記号表'!$C$5:$Y$46,23,FALSE))","v":""},{"$f":"IF(BC19=\"\",\"\",VLOOKUP(BC19,'（ユニット型）シフト記号表'!$C$5:$Y$46,23,FALSE))","v":""},{"$f":"IF(BD19=\"\",\"\",VLOOKUP(BD19,'（ユニット型）シフト記号表'!$C$5:$Y$46,23,FALSE))","v":""},{"$f":"IF(BE19=\"\",\"\",VLOOKUP(BE19,'（ユニット型）シフト記号表'!$C$5:$Y$46,23,FALSE))","v":""},{"$f":"IF($BI$3=\"計画\",SUM(AA21:BB21),IF($BI$3=\"実績\",SUM(AA21:BE21),\"\"))","v":0},null,{"$f":"IF($BI$3=\"計画\",BF21/4,IF($BI$3=\"実績\",(BF21/($BI$7/7)),\"\"))","v":0}]
[null,null,null,null,null,null,null,null,null,null,null,null,null,null,null,null,null,null,null,null,null,"シフト記号"]
[null,{"$f":"B20+1","v":2},null,null,null,null,null,null,null,null,null,null,null,null,null,null,null,null,null,null,null,"日中の勤務時間数",null,null,null,null,{"$f":"IF(AA22=\"\",\"\",VLOOKUP(AA22,'（ユニット型）シフト記号表'!$C$5:$W$46,21,FALSE))","v":""},{"$f":"IF(AB22=\"\",\"\",VLOOKUP(AB22,'（ユニット型）シフト記号表'!$C$5:$W$46,21,FALSE))","v":""},{"$f":"IF(AC22=\"\",\"\",VLOOKUP(AC22,'（ユニット型）シフト記号表'!$C$5:$W$46,21,FALSE))","v":""},{"$f":"IF(AD22=\"\",\"\",VLOOKUP(AD22,'（ユニット型）シフト記号表'!$C$5:$W$46,21,FALSE))","v":""},{"$f":"IF(AE22=\"\",\"\",VLOOKUP(AE22,'（ユニット型）シフト記号表'!$C$5:$W$46,21,FALSE))","v":""},{"$f":"IF(AF22=\"\",\"\",VLOOKUP(AF22,'（ユニット型）シフト記号表'!$C$5:$W$46,21,FALSE))","v":""},{"$f":"IF(AG22=\"\",\"\",VLOOKUP(AG22,'（ユニット型）シフト記号表'!$C$5:$W$46,21,FALSE))","v":""},{"$f":"IF(AH22=\"\",\"\",VLOOKUP(AH22,'（ユニット型）シフト記号表'!$C$5:$W$46,21,FALSE))","v":""},{"$f":"IF(AI22=\"\",\"\",VLOOKUP(AI22,'（ユニット型）シフト記号表'!$C$5:$W$46,21,FALSE))","v":""},{"$f":"IF(AJ22=\"\",\"\",VLOOKUP(AJ22,'（ユニット型）シフト記号表'!$C$5:$W$46,21,FALSE))","v":""},{"$f":"IF(AK22=\"\",\"\",VLOOKUP(AK22,'（ユニット型）シフト記号表'!$C$5:$W$46,21,FALSE))","v":""},{"$f":"IF(AL22=\"\",\"\",VLOOKUP(AL22,'（ユニット型）シフト記号表'!$C$5:$W$46,21,FALSE))","v":""},{"$f":"IF(AM22=\"\",\"\",VLOOKUP(AM22,'（ユニット型）シフト記号表'!$C$5:$W$46,21,FALSE))","v":""},{"$f":"IF(AN22=\"\",\"\",VLOOKUP(AN22,'（ユニット型）シフト記号表'!$C$5:$W$46,21,FALSE))","v":""},{"$f":"IF(AO22=\"\",\"\",VLOOKUP(AO22,'（ユニット型）シフト記号表'!$C$5:$W$46,21,FALSE))","v":""},{"$f":"IF(AP22=\"\",\"\",VLOOKUP(AP22,'（ユニット型）シフト記号表'!$C$5:$W$46,21,FALSE))","v":""},{"$f":"IF(AQ22=\"\",\"\",VLOOKUP(AQ22,'（ユニット型）シフト記号表'!$C$5:$W$46,21,FALSE))","v":""},{"$f":"IF(AR22=\"\",\"\",VLOOKUP(AR22,'（ユニット型）シフト記号表'!$C$5:$W$46,21,FALSE))","v":""},{"$f":"IF(AS22=\"\",\"\",VLOOKUP(AS22,'（ユニット型）シフト記号表'!$C$5:$W$46,21,FALSE))","v":""},{"$f":"IF(AT22=\"\",\"\",VLOOKUP(AT22,'（ユニット型）シフト記号表'!$C$5:$W$46,21,FALSE))","v":""},{"$f":"IF(AU22=\"\",\"\",VLOOKUP(AU22,'（ユニット型）シフト記号表'!$C$5:$W$46,21,FALSE))","v":""},{"$f":"IF(AV22=\"\",\"\",VLOOKUP(AV22,'（ユニット型）シフト記号表'!$C$5:$W$46,21,FALSE))","v":""},{"$f":"IF(AW22=\"\",\"\",VLOOKUP(AW22,'（ユニット型）シフト記号表'!$C$5:$W$46,21,FALSE))","v":""},{"$f":"IF(AX22=\"\",\"\",VLOOKUP(AX22,'（ユニット型）シフト記号表'!$C$5:$W$46,21,FALSE))","v":""},{"$f":"IF(AY22=\"\",\"\",VLOOKUP(AY22,'（ユニット型）シフト記号表'!$C$5:$W$46,21,FALSE))","v":""},{"$f":"IF(AZ22=\"\",\"\",VLOOKUP(AZ22,'（ユニット型）シフト記号表'!$C$5:$W$46,21,FALSE))","v":""},{"$f":"IF(BA22=\"\",\"\",VLOOKUP(BA22,'（ユニット型）シフト記号表'!$C$5:$W$46,21,FALSE))","v":""},{"$f":"IF(BB22=\"\",\"\",VLOOKUP(BB22,'（ユニット型）シフト記号表'!$C$5:$W$46,21,FALSE))","v":""},{"$f":"IF(BC22=\"\",\"\",VLOOKUP(BC22,'（ユニット型）シフト記号表'!$C$5:$W$46,21,FALSE))","v":""},{"$f":"IF(BD22=\"\",\"\",VLOOKUP(BD22,'（ユニット型）シフト記号表'!$C$5:$W$46,21,FALSE))","v":""},{"$f":"IF(BE22=\"\",\"\",VLOOKUP(BE22,'（ユニット型）シフト記号表'!$C$5:$W$46,21,FALSE))","v":""},{"$f":"IF($BI$3=\"計画\",SUM(AA23:BB23),IF($BI$3=\"実績\",SUM(AA23:BE23),\"\"))","v":0},null,{"$f":"IF($BI$3=\"計画\",BF23/4,IF($BI$3=\"実績\",(BF23/($BI$7/7)),\"\"))","v":0}]
[null,null,null,null,null,null,null,null,{"$f":"G23","v":0},null,{"$f":"M23","v":0},null,null,null,null,null,null,null,null,null,null,"夜勤時間帯の勤務時間数",null,null,null,null,{"$f":"IF(AA22=\"\",\"\",VLOOKUP(AA22,'（ユニット型）シフト記号表'!$C$5:$Y$46,23,FALSE))","v":""},{"$f":"IF(AB22=\"\",\"\",VLOOKUP(AB22,'（ユニット型）シフト記号表'!$C$5:$Y$46,23,FALSE))","v":""},{"$f":"IF(AC22=\"\",\"\",VLOOKUP(AC22,'（ユニット型）シフト記号表'!$C$5:$Y$46,23,FALSE))","v":""},{"$f":"IF(AD22=\"\",\"\",VLOOKUP(AD22,'（ユニット型）シフト記号表'!$C$5:$Y$46,23,FALSE))","v":""},{"$f":"IF(AE22=\"\",\"\",VLOOKUP(AE22,'（ユニット型）シフト記号表'!$C$5:$Y$46,23,FALSE))","v":""},{"$f":"IF(AF22=\"\",\"\",VLOOKUP(AF22,'（ユニット型）シフト記号表'!$C$5:$Y$46,23,FALSE))","v":""},{"$f":"IF(AG22=\"\",\"\",VLOOKUP(AG22,'（ユニット型）シフト記号表'!$C$5:$Y$46,23,FALSE))","v":""},{"$f":"IF(AH22=\"\",\"\",VLOOKUP(AH22,'（ユニット型）シフト記号表'!$C$5:$Y$46,23,FALSE))","v":""},{"$f":"IF(AI22=\"\",\"\",VLOOKUP(AI22,'（ユニット型）シフト記号表'!$C$5:$Y$46,23,FALSE))","v":""},{"$f":"IF(AJ22=\"\",\"\",VLOOKUP(AJ22,'（ユニット型）シフト記号表'!$C$5:$Y$46,23,FALSE))","v":""},{"$f":"IF(AK22=\"\",\"\",VLOOKUP(AK22,'（ユニット型）シフト記号表'!$C$5:$Y$46,23,FALSE))","v":""},{"$f":"IF(AL22=\"\",\"\",VLOOKUP(AL22,'（ユニット型）シフト記号表'!$C$5:$Y$46,23,FALSE))","v":""},{"$f":"IF(AM22=\"\",\"\",VLOOKUP(AM22,'（ユニット型）シフト記号表'!$C$5:$Y$46,23,FALSE))","v":""},{"$f":"IF(AN22=\"\",\"\",VLOOKUP(AN22,'（ユニット型）シフト記号表'!$C$5:$Y$46,23,FALSE))","v":""},{"$f":"IF(AO22=\"\",\"\",VLOOKUP(AO22,'（ユニット型）シフト記号表'!$C$5:$Y$46,23,FALSE))","v":""},{"$f":"IF(AP22=\"\",\"\",VLOOKUP(AP22,'（ユニット型）シフト記号表'!$C$5:$Y$46,23,FALSE))","v":""},{"$f":"IF(AQ22=\"\",\"\",VLOOKUP(AQ22,'（ユニット型）シフト記号表'!$C$5:$Y$46,23,FALSE))","v":""},{"$f":"IF(AR22=\"\",\"\",VLOOKUP(AR22,'（ユニット型）シフト記号表'!$C$5:$Y$46,23,FALSE))","v":""},{"$f":"IF(AS22=\"\",\"\",VLOOKUP(AS22,'（ユニット型）シフト記号表'!$C$5:$Y$46,23,FALSE))","v":""},{"$f":"IF(AT22=\"\",\"\",VLOOKUP(AT22,'（ユニット型）シフト記号表'!$C$5:$Y$46,23,FALSE))","v":""},{"$f":"IF(AU22=\"\",\"\",VLOOKUP(AU22,'（ユニット型）シフト記号表'!$C$5:$Y$46,23,FALSE))","v":""},{"$f":"IF(AV22=\"\",\"\",VLOOKUP(AV22,'（ユニット型）シフト記号表'!$C$5:$Y$46,23,FALSE))","v":""},{"$f":"IF(AW22=\"\",\"\",VLOOKUP(AW22,'（ユニット型）シフト記号表'!$C$5:$Y$46,23,FALSE))","v":""},{"$f":"IF(AX22=\"\",\"\",VLOOKUP(AX22,'（ユニット型）シフト記号表'!$C$5:$Y$46,23,FALSE))","v":""},{"$f":"IF(AY22=\"\",\"\",VLOOKUP(AY22,'（ユニット型）シフト記号表'!$C$5:$Y$46,23,FALSE))","v":""},{"$f":"IF(AZ22=\"\",\"\",VLOOKUP(AZ22,'（ユニット型）シフト記号表'!$C$5:$Y$46,23,FALSE))","v":""},{"$f":"IF(BA22=\"\",\"\",VLOOKUP(BA22,'（ユニット型）シフト記号表'!$C$5:$Y$46,23,FALSE))","v":""},{"$f":"IF(BB22=\"\",\"\",VLOOKUP(BB22,'（ユニット型）シフト記号表'!$C$5:$Y$46,23,FALSE))","v":""},{"$f":"IF(BC22=\"\",\"\",VLOOKUP(BC22,'（ユニット型）シフト記号表'!$C$5:$Y$46,23,FALSE))","v":""},{"$f":"IF(BD22=\"\",\"\",VLOOKUP(BD22,'（ユニット型）シフト記号表'!$C$5:$Y$46,23,FALSE))","v":""},{"$f":"IF(BE22=\"\",\"\",VLOOKUP(BE22,'（ユニット型）シフト記号表'!$C$5:$Y$46,23,FALSE))","v":""},{"$f":"IF($BI$3=\"計画\",SUM(AA24:BB24),IF($BI$3=\"実績\",SUM(AA24:BE24),\"\"))","v":0},null,{"$f":"IF($BI$3=\"計画\",BF24/4,IF($BI$3=\"実績\",(BF24/($BI$7/7)),\"\"))","v":0}]
[null,null,null,null,null,null,null,null,null,null,null,null,null,null,null,null,null,null,null,null,null,"シフト記号"]
[null,{"$f":"B23+1","v":3},null,null,null,null,null,null,null,null,null,null,null,null,null,null,null,null,null,null,null,"日中の勤務時間数",null,null,null,null,{"$f":"IF(AA25=\"\",\"\",VLOOKUP(AA25,'（ユニット型）シフト記号表'!$C$5:$W$46,21,FALSE))","v":""},{"$f":"IF(AB25=\"\",\"\",VLOOKUP(AB25,'（ユニット型）シフト記号表'!$C$5:$W$46,21,FALSE))","v":""},{"$f":"IF(AC25=\"\",\"\",VLOOKUP(AC25,'（ユニット型）シフト記号表'!$C$5:$W$46,21,FALSE))","v":""},{"$f":"IF(AD25=\"\",\"\",VLOOKUP(AD25,'（ユニット型）シフト記号表'!$C$5:$W$46,21,FALSE))","v":""},{"$f":"IF(AE25=\"\",\"\",VLOOKUP(AE25,'（ユニット型）シフト記号表'!$C$5:$W$46,21,FALSE))","v":""},{"$f":"IF(AF25=\"\",\"\",VLOOKUP(AF25,'（ユニット型）シフト記号表'!$C$5:$W$46,21,FALSE))","v":""},{"$f":"IF(AG25=\"\",\"\",VLOOKUP(AG25,'（ユニット型）シフト記号表'!$C$5:$W$46,21,FALSE))","v":""},{"$f":"IF(AH25=\"\",\"\",VLOOKUP(AH25,'（ユニット型）シフト記号表'!$C$5:$W$46,21,FALSE))","v":""},{"$f":"IF(AI25=\"\",\"\",VLOOKUP(AI25,'（ユニット型）シフト記号表'!$C$5:$W$46,21,FALSE))","v":""},{"$f":"IF(AJ25=\"\",\"\",VLOOKUP(AJ25,'（ユニット型）シフト記号表'!$C$5:$W$46,21,FALSE))","v":""},{"$f":"IF(AK25=\"\",\"\",VLOOKUP(AK25,'（ユニット型）シフト記号表'!$C$5:$W$46,21,FALSE))","v":""},{"$f":"IF(AL25=\"\",\"\",VLOOKUP(AL25,'（ユニット型）シフト記号表'!$C$5:$W$46,21,FALSE))","v":""},{"$f":"IF(AM25=\"\",\"\",VLOOKUP(AM25,'（ユニット型）シフト記号表'!$C$5:$W$46,21,FALSE))","v":""},{"$f":"IF(AN25=\"\",\"\",VLOOKUP(AN25,'（ユニット型）シフト記号表'!$C$5:$W$46,21,FALSE))","v":""},{"$f":"IF(AO25=\"\",\"\",VLOOKUP(AO25,'（ユニット型）シフト記号表'!$C$5:$W$46,21,FALSE))","v":""},{"$f":"IF(AP25=\"\",\"\",VLOOKUP(AP25,'（ユニット型）シフト記号表'!$C$5:$W$46,21,FALSE))","v":""},{"$f":"IF(AQ25=\"\",\"\",VLOOKUP(AQ25,'（ユニット型）シフト記号表'!$C$5:$W$46,21,FALSE))","v":""},{"$f":"IF(AR25=\"\",\"\",VLOOKUP(AR25,'（ユニット型）シフト記号表'!$C$5:$W$46,21,FALSE))","v":""},{"$f":"IF(AS25=\"\",\"\",VLOOKUP(AS25,'（ユニット型）シフト記号表'!$C$5:$W$46,21,FALSE))","v":""},{"$f":"IF(AT25=\"\",\"\",VLOOKUP(AT25,'（ユニット型）シフト記号表'!$C$5:$W$46,21,FALSE))","v":""},{"$f":"IF(AU25=\"\",\"\",VLOOKUP(AU25,'（ユニット型）シフト記号表'!$C$5:$W$46,21,FALSE))","v":""},{"$f":"IF(AV25=\"\",\"\",VLOOKUP(AV25,'（ユニット型）シフト記号表'!$C$5:$W$46,21,FALSE))","v":""},{"$f":"IF(AW25=\"\",\"\",VLOOKUP(AW25,'（ユニット型）シフト記号表'!$C$5:$W$46,21,FALSE))","v":""},{"$f":"IF(AX25=\"\",\"\",VLOOKUP(AX25,'（ユニット型）シフト記号表'!$C$5:$W$46,21,FALSE))","v":""},{"$f":"IF(AY25=\"\",\"\",VLOOKUP(AY25,'（ユニット型）シフト記号表'!$C$5:$W$46,21,FALSE))","v":""},{"$f":"IF(AZ25=\"\",\"\",VLOOKUP(AZ25,'（ユニット型）シフト記号表'!$C$5:$W$46,21,FALSE))","v":""},{"$f":"IF(BA25=\"\",\"\",VLOOKUP(BA25,'（ユニット型）シフト記号表'!$C$5:$W$46,21,FALSE))","v":""},{"$f":"IF(BB25=\"\",\"\",VLOOKUP(BB25,'（ユニット型）シフト記号表'!$C$5:$W$46,21,FALSE))","v":""},{"$f":"IF(BC25=\"\",\"\",VLOOKUP(BC25,'（ユニット型）シフト記号表'!$C$5:$W$46,21,FALSE))","v":""},{"$f":"IF(BD25=\"\",\"\",VLOOKUP(BD25,'（ユニット型）シフト記号表'!$C$5:$W$46,21,FALSE))","v":""},{"$f":"IF(BE25=\"\",\"\",VLOOKUP(BE25,'（ユニット型）シフト記号表'!$C$5:$W$46,21,FALSE))","v":""},{"$f":"IF($BI$3=\"計画\",SUM(AA26:BB26),IF($BI$3=\"実績\",SUM(AA26:BE26),\"\"))","v":0},null,{"$f":"IF($BI$3=\"計画\",BF26/4,IF($BI$3=\"実績\",(BF26/($BI$7/7)),\"\"))","v":0}]
[null,null,null,null,null,null,null,null,{"$f":"G26","v":0},null,{"$f":"M26","v":0},null,null,null,null,null,null,null,null,null,null,"夜勤時間帯の勤務時間数",null,null,null,null,{"$f":"IF(AA25=\"\",\"\",VLOOKUP(AA25,'（ユニット型）シフト記号表'!$C$5:$Y$46,23,FALSE))","v":""},{"$f":"IF(AB25=\"\",\"\",VLOOKUP(AB25,'（ユニット型）シフト記号表'!$C$5:$Y$46,23,FALSE))","v":""},{"$f":"IF(AC25=\"\",\"\",VLOOKUP(AC25,'（ユニット型）シフト記号表'!$C$5:$Y$46,23,FALSE))","v":""},{"$f":"IF(AD25=\"\",\"\",VLOOKUP(AD25,'（ユニット型）シフト記号表'!$C$5:$Y$46,23,FALSE))","v":""},{"$f":"IF(AE25=\"\",\"\",VLOOKUP(AE25,'（ユニット型）シフト記号表'!$C$5:$Y$46,23,FALSE))","v":""},{"$f":"IF(AF25=\"\",\"\",VLOOKUP(AF25,'（ユニット型）シフト記号表'!$C$5:$Y$46,23,FALSE))","v":""},{"$f":"IF(AG25=\"\",\"\",VLOOKUP(AG25,'（ユニット型）シフト記号表'!$C$5:$Y$46,23,FALSE))","v":""},{"$f":"IF(AH25=\"\",\"\",VLOOKUP(AH25,'（ユニット型）シフト記号表'!$C$5:$Y$46,23,FALSE))","v":""},{"$f":"IF(AI25=\"\",\"\",VLOOKUP(AI25,'（ユニット型）シフト記号表'!$C$5:$Y$46,23,FALSE))","v":""},{"$f":"IF(AJ25=\"\",\"\",VLOOKUP(AJ25,'（ユニット型）シフト記号表'!$C$5:$Y$46,23,FALSE))","v":""},{"$f":"IF(AK25=\"\",\"\",VLOOKUP(AK25,'（ユニット型）シフト記号表'!$C$5:$Y$46,23,FALSE))","v":""},{"$f":"IF(AL25=\"\",\"\",VLOOKUP(AL25,'（ユニット型）シフト記号表'!$C$5:$Y$46,23,FALSE))","v":""},{"$f":"IF(AM25=\"\",\"\",VLOOKUP(AM25,'（ユニット型）シフト記号表'!$C$5:$Y$46,23,FALSE))","v":""},{"$f":"IF(AN25=\"\",\"\",VLOOKUP(AN25,'（ユニット型）シフト記号表'!$C$5:$Y$46,23,FALSE))","v":""},{"$f":"IF(AO25=\"\",\"\",VLOOKUP(AO25,'（ユニット型）シフト記号表'!$C$5:$Y$46,23,FALSE))","v":""},{"$f":"IF(AP25=\"\",\"\",VLOOKUP(AP25,'（ユニット型）シフト記号表'!$C$5:$Y$46,23,FALSE))","v":""},{"$f":"IF(AQ25=\"\",\"\",VLOOKUP(AQ25,'（ユニット型）シフト記号表'!$C$5:$Y$46,23,FALSE))","v":""},{"$f":"IF(AR25=\"\",\"\",VLOOKUP(AR25,'（ユニット型）シフト記号表'!$C$5:$Y$46,23,FALSE))","v":""},{"$f":"IF(AS25=\"\",\"\",VLOOKUP(AS25,'（ユニット型）シフト記号表'!$C$5:$Y$46,23,FALSE))","v":""},{"$f":"IF(AT25=\"\",\"\",VLOOKUP(AT25,'（ユニット型）シフト記号表'!$C$5:$Y$46,23,FALSE))","v":""},{"$f":"IF(AU25=\"\",\"\",VLOOKUP(AU25,'（ユニット型）シフト記号表'!$C$5:$Y$46,23,FALSE))","v":""},{"$f":"IF(AV25=\"\",\"\",VLOOKUP(AV25,'（ユニット型）シフト記号表'!$C$5:$Y$46,23,FALSE))","v":""},{"$f":"IF(AW25=\"\",\"\",VLOOKUP(AW25,'（ユニット型）シフト記号表'!$C$5:$Y$46,23,FALSE))","v":""},{"$f":"IF(AX25=\"\",\"\",VLOOKUP(AX25,'（ユニット型）シフト記号表'!$C$5:$Y$46,23,FALSE))","v":""},{"$f":"IF(AY25=\"\",\"\",VLOOKUP(AY25,'（ユニット型）シフト記号表'!$C$5:$Y$46,23,FALSE))","v":""},{"$f":"IF(AZ25=\"\",\"\",VLOOKUP(AZ25,'（ユニット型）シフト記号表'!$C$5:$Y$46,23,FALSE))","v":""},{"$f":"IF(BA25=\"\",\"\",VLOOKUP(BA25,'（ユニット型）シフト記号表'!$C$5:$Y$46,23,FALSE))","v":""},{"$f":"IF(BB25=\"\",\"\",VLOOKUP(BB25,'（ユニット型）シフト記号表'!$C$5:$Y$46,23,FALSE))","v":""},{"$f":"IF(BC25=\"\",\"\",VLOOKUP(BC25,'（ユニット型）シフト記号表'!$C$5:$Y$46,23,FALSE))","v":""},{"$f":"IF(BD25=\"\",\"\",VLOOKUP(BD25,'（ユニット型）シフト記号表'!$C$5:$Y$46,23,FALSE))","v":""},{"$f":"IF(BE25=\"\",\"\",VLOOKUP(BE25,'（ユニット型）シフト記号表'!$C$5:$Y$46,23,FALSE))","v":""},{"$f":"IF($BI$3=\"計画\",SUM(AA27:BB27),IF($BI$3=\"実績\",SUM(AA27:BE27),\"\"))","v":0},null,{"$f":"IF($BI$3=\"計画\",BF27/4,IF($BI$3=\"実績\",(BF27/($BI$7/7)),\"\"))","v":0}]
[null,null,null,null,null,null,null,null,null,null,null,null,null,null,null,null,null,null,null,null,null,"シフト記号"]
[null,{"$f":"B26+1","v":4},null,null,null,null,null,null,null,null,null,null,null,null,null,null,null,null,null,null,null,"日中の勤務時間数",null,null,null,null,{"$f":"IF(AA28=\"\",\"\",VLOOKUP(AA28,'（ユニット型）シフト記号表'!$C$5:$W$46,21,FALSE))","v":""},{"$f":"IF(AB28=\"\",\"\",VLOOKUP(AB28,'（ユニット型）シフト記号表'!$C$5:$W$46,21,FALSE))","v":""},{"$f":"IF(AC28=\"\",\"\",VLOOKUP(AC28,'（ユニット型）シフト記号表'!$C$5:$W$46,21,FALSE))","v":""},{"$f":"IF(AD28=\"\",\"\",VLOOKUP(AD28,'（ユニット型）シフト記号表'!$C$5:$W$46,21,FALSE))","v":""},{"$f":"IF(AE28=\"\",\"\",VLOOKUP(AE28,'（ユニット型）シフト記号表'!$C$5:$W$46,21,FALSE))","v":""},{"$f":"IF(AF28=\"\",\"\",VLOOKUP(AF28,'（ユニット型）シフト記号表'!$C$5:$W$46,21,FALSE))","v":""},{"$f":"IF(AG28=\"\",\"\",VLOOKUP(AG28,'（ユニット型）シフト記号表'!$C$5:$W$46,21,FALSE))","v":""},{"$f":"IF(AH28=\"\",\"\",VLOOKUP(AH28,'（ユニット型）シフト記号表'!$C$5:$W$46,21,FALSE))","v":""},{"$f":"IF(AI28=\"\",\"\",VLOOKUP(AI28,'（ユニット型）シフト記号表'!$C$5:$W$46,21,FALSE))","v":""},{"$f":"IF(AJ28=\"\",\"\",VLOOKUP(AJ28,'（ユニット型）シフト記号表'!$C$5:$W$46,21,FALSE))","v":""},{"$f":"IF(AK28=\"\",\"\",VLOOKUP(AK28,'（ユニット型）シフト記号表'!$C$5:$W$46,21,FALSE))","v":""},{"$f":"IF(AL28=\"\",\"\",VLOOKUP(AL28,'（ユニット型）シフト記号表'!$C$5:$W$46,21,FALSE))","v":""},{"$f":"IF(AM28=\"\",\"\",VLOOKUP(AM28,'（ユニット型）シフト記号表'!$C$5:$W$46,21,FALSE))","v":""},{"$f":"IF(AN28=\"\",\"\",VLOOKUP(AN28,'（ユニット型）シフト記号表'!$C$5:$W$46,21,FALSE))","v":""},{"$f":"IF(AO28=\"\",\"\",VLOOKUP(AO28,'（ユニット型）シフト記号表'!$C$5:$W$46,21,FALSE))","v":""},{"$f":"IF(AP28=\"\",\"\",VLOOKUP(AP28,'（ユニット型）シフト記号表'!$C$5:$W$46,21,FALSE))","v":""},{"$f":"IF(AQ28=\"\",\"\",VLOOKUP(AQ28,'（ユニット型）シフト記号表'!$C$5:$W$46,21,FALSE))","v":""},{"$f":"IF(AR28=\"\",\"\",VLOOKUP(AR28,'（ユニット型）シフト記号表'!$C$5:$W$46,21,FALSE))","v":""},{"$f":"IF(AS28=\"\",\"\",VLOOKUP(AS28,'（ユニット型）シフト記号表'!$C$5:$W$46,21,FALSE))","v":""},{"$f":"IF(AT28=\"\",\"\",VLOOKUP(AT28,'（ユニット型）シフト記号表'!$C$5:$W$46,21,FALSE))","v":""},{"$f":"IF(AU28=\"\",\"\",VLOOKUP(AU28,'（ユニット型）シフト記号表'!$C$5:$W$46,21,FALSE))","v":""},{"$f":"IF(AV28=\"\",\"\",VLOOKUP(AV28,'（ユニット型）シフト記号表'!$C$5:$W$46,21,FALSE))","v":""},{"$f":"IF(AW28=\"\",\"\",VLOOKUP(AW28,'（ユニット型）シフト記号表'!$C$5:$W$46,21,FALSE))","v":""},{"$f":"IF(AX28=\"\",\"\",VLOOKUP(AX28,'（ユニット型）シフト記号表'!$C$5:$W$46,21,FALSE))","v":""},{"$f":"IF(AY28=\"\",\"\",VLOOKUP(AY28,'（ユニット型）シフト記号表'!$C$5:$W$46,21,FALSE))","v":""},{"$f":"IF(AZ28=\"\",\"\",VLOOKUP(AZ28,'（ユニット型）シフト記号表'!$C$5:$W$46,21,FALSE))","v":""},{"$f":"IF(BA28=\"\",\"\",VLOOKUP(BA28,'（ユニット型）シフト記号表'!$C$5:$W$46,21,FALSE))","v":""},{"$f":"IF(BB28=\"\",\"\",VLOOKUP(BB28,'（ユニット型）シフト記号表'!$C$5:$W$46,21,FALSE))","v":""},{"$f":"IF(BC28=\"\",\"\",VLOOKUP(BC28,'（ユニット型）シフト記号表'!$C$5:$W$46,21,FALSE))","v":""},{"$f":"IF(BD28=\"\",\"\",VLOOKUP(BD28,'（ユニット型）シフト記号表'!$C$5:$W$46,21,FALSE))","v":""},{"$f":"IF(BE28=\"\",\"\",VLOOKUP(BE28,'（ユニット型）シフト記号表'!$C$5:$W$46,21,FALSE))","v":""},{"$f":"IF($BI$3=\"計画\",SUM(AA29:BB29),IF($BI$3=\"実績\",SUM(AA29:BE29),\"\"))","v":0},null,{"$f":"IF($BI$3=\"計画\",BF29/4,IF($BI$3=\"実績\",(BF29/($BI$7/7)),\"\"))","v":0}]
[null,null,null,null,null,null,null,null,{"$f":"G29","v":0},null,{"$f":"M29","v":0},null,null,null,null,null,null,null,null,null,null,"夜勤時間帯の勤務時間数",null,null,null,null,{"$f":"IF(AA28=\"\",\"\",VLOOKUP(AA28,'（ユニット型）シフト記号表'!$C$5:$Y$46,23,FALSE))","v":""},{"$f":"IF(AB28=\"\",\"\",VLOOKUP(AB28,'（ユニット型）シフト記号表'!$C$5:$Y$46,23,FALSE))","v":""},{"$f":"IF(AC28=\"\",\"\",VLOOKUP(AC28,'（ユニット型）シフト記号表'!$C$5:$Y$46,23,FALSE))","v":""},{"$f":"IF(AD28=\"\",\"\",VLOOKUP(AD28,'（ユニット型）シフト記号表'!$C$5:$Y$46,23,FALSE))","v":""},{"$f":"IF(AE28=\"\",\"\",VLOOKUP(AE28,'（ユニット型）シフト記号表'!$C$5:$Y$46,23,FALSE))","v":""},{"$f":"IF(AF28=\"\",\"\",VLOOKUP(AF28,'（ユニット型）シフト記号表'!$C$5:$Y$46,23,FALSE))","v":""},{"$f":"IF(AG28=\"\",\"\",VLOOKUP(AG28,'（ユニット型）シフト記号表'!$C$5:$Y$46,23,FALSE))","v":""},{"$f":"IF(AH28=\"\",\"\",VLOOKUP(AH28,'（ユニット型）シフト記号表'!$C$5:$Y$46,23,FALSE))","v":""},{"$f":"IF(AI28=\"\",\"\",VLOOKUP(AI28,'（ユニット型）シフト記号表'!$C$5:$Y$46,23,FALSE))","v":""},{"$f":"IF(AJ28=\"\",\"\",VLOOKUP(AJ28,'（ユニット型）シフト記号表'!$C$5:$Y$46,23,FALSE))","v":""},{"$f":"IF(AK28=\"\",\"\",VLOOKUP(AK28,'（ユニット型）シフト記号表'!$C$5:$Y$46,23,FALSE))","v":""},{"$f":"IF(AL28=\"\",\"\",VLOOKUP(AL28,'（ユニット型）シフト記号表'!$C$5:$Y$46,23,FALSE))","v":""},{"$f":"IF(AM28=\"\",\"\",VLOOKUP(AM28,'（ユニット型）シフト記号表'!$C$5:$Y$46,23,FALSE))","v":""},{"$f":"IF(AN28=\"\",\"\",VLOOKUP(AN28,'（ユニット型）シフト記号表'!$C$5:$Y$46,23,FALSE))","v":""},{"$f":"IF(AO28=\"\",\"\",VLOOKUP(AO28,'（ユニット型）シフト記号表'!$C$5:$Y$46,23,FALSE))","v":""},{"$f":"IF(AP28=\"\",\"\",VLOOKUP(AP28,'（ユニット型）シフト記号表'!$C$5:$Y$46,23,FALSE))","v":""},{"$f":"IF(AQ28=\"\",\"\",VLOOKUP(AQ28,'（ユニット型）シフト記号表'!$C$5:$Y$46,23,FALSE))","v":""},{"$f":"IF(AR28=\"\",\"\",VLOOKUP(AR28,'（ユニット型）シフト記号表'!$C$5:$Y$46,23,FALSE))","v":""},{"$f":"IF(AS28=\"\",\"\",VLOOKUP(AS28,'（ユニット型）シフト記号表'!$C$5:$Y$46,23,FALSE))","v":""},{"$f":"IF(AT28=\"\",\"\",VLOOKUP(AT28,'（ユニット型）シフト記号表'!$C$5:$Y$46,23,FALSE))","v":""},{"$f":"IF(AU28=\"\",\"\",VLOOKUP(AU28,'（ユニット型）シフト記号表'!$C$5:$Y$46,23,FALSE))","v":""},{"$f":"IF(AV28=\"\",\"\",VLOOKUP(AV28,'（ユニット型）シフト記号表'!$C$5:$Y$46,23,FALSE))","v":""},{"$f":"IF(AW28=\"\",\"\",VLOOKUP(AW28,'（ユニット型）シフト記号表'!$C$5:$Y$46,23,FALSE))","v":""},{"$f":"IF(AX28=\"\",\"\",VLOOKUP(AX28,'（ユニット型）シフト記号表'!$C$5:$Y$46,23,FALSE))","v":""},{"$f":"IF(AY28=\"\",\"\",VLOOKUP(AY28,'（ユニット型）シフト記号表'!$C$5:$Y$46,23,FALSE))","v":""},{"$f":"IF(AZ28=\"\",\"\",VLOOKUP(AZ28,'（ユニット型）シフト記号表'!$C$5:$Y$46,23,FALSE))","v":""},{"$f":"IF(BA28=\"\",\"\",VLOOKUP(BA28,'（ユニット型）シフト記号表'!$C$5:$Y$46,23,FALSE))","v":""},{"$f":"IF(BB28=\"\",\"\",VLOOKUP(BB28,'（ユニット型）シフト記号表'!$C$5:$Y$46,23,FALSE))","v":""},{"$f":"IF(BC28=\"\",\"\",VLOOKUP(BC28,'（ユニット型）シフト記号表'!$C$5:$Y$46,23,FALSE))","v":""},{"$f":"IF(BD28=\"\",\"\",VLOOKUP(BD28,'（ユニット型）シフト記号表'!$C$5:$Y$46,23,FALSE))","v":""},{"$f":"IF(BE28=\"\",\"\",VLOOKUP(BE28,'（ユニット型）シフト記号表'!$C$5:$Y$46,23,FALSE))","v":""},{"$f":"IF($BI$3=\"計画\",SUM(AA30:BB30),IF($BI$3=\"実績\",SUM(AA30:BE30),\"\"))","v":0},null,{"$f":"IF($BI$3=\"計画\",BF30/4,IF($BI$3=\"実績\",(BF30/($BI$7/7)),\"\"))","v":0}]
[null,null,null,null,null,null,null,null,null,null,null,null,null,null,null,null,null,null,null,null,null,"シフト記号"]
[null,{"$f":"B29+1","v":5},null,null,null,null,null,null,null,null,null,null,null,null,null,null,null,null,null,null,null,"日中の勤務時間数",null,null,null,null,{"$f":"IF(AA31=\"\",\"\",VLOOKUP(AA31,'（ユニット型）シフト記号表'!$C$5:$W$46,21,FALSE))","v":""},{"$f":"IF(AB31=\"\",\"\",VLOOKUP(AB31,'（ユニット型）シフト記号表'!$C$5:$W$46,21,FALSE))","v":""},{"$f":"IF(AC31=\"\",\"\",VLOOKUP(AC31,'（ユニット型）シフト記号表'!$C$5:$W$46,21,FALSE))","v":""},{"$f":"IF(AD31=\"\",\"\",VLOOKUP(AD31,'（ユニット型）シフト記号表'!$C$5:$W$46,21,FALSE))","v":""},{"$f":"IF(AE31=\"\",\"\",VLOOKUP(AE31,'（ユニット型）シフト記号表'!$C$5:$W$46,21,FALSE))","v":""},{"$f":"IF(AF31=\"\",\"\",VLOOKUP(AF31,'（ユニット型）シフト記号表'!$C$5:$W$46,21,FALSE))","v":""},{"$f":"IF(AG31=\"\",\"\",VLOOKUP(AG31,'（ユニット型）シフト記号表'!$C$5:$W$46,21,FALSE))","v":""},{"$f":"IF(AH31=\"\",\"\",VLOOKUP(AH31,'（ユニット型）シフト記号表'!$C$5:$W$46,21,FALSE))","v":""},{"$f":"IF(AI31=\"\",\"\",VLOOKUP(AI31,'（ユニット型）シフト記号表'!$C$5:$W$46,21,FALSE))","v":""},{"$f":"IF(AJ31=\"\",\"\",VLOOKUP(AJ31,'（ユニット型）シフト記号表'!$C$5:$W$46,21,FALSE))","v":""},{"$f":"IF(AK31=\"\",\"\",VLOOKUP(AK31,'（ユニット型）シフト記号表'!$C$5:$W$46,21,FALSE))","v":""},{"$f":"IF(AL31=\"\",\"\",VLOOKUP(AL31,'（ユニット型）シフト記号表'!$C$5:$W$46,21,FALSE))","v":""},{"$f":"IF(AM31=\"\",\"\",VLOOKUP(AM31,'（ユニット型）シフト記号表'!$C$5:$W$46,21,FALSE))","v":""},{"$f":"IF(AN31=\"\",\"\",VLOOKUP(AN31,'（ユニット型）シフト記号表'!$C$5:$W$46,21,FALSE))","v":""},{"$f":"IF(AO31=\"\",\"\",VLOOKUP(AO31,'（ユニット型）シフト記号表'!$C$5:$W$46,21,FALSE))","v":""},{"$f":"IF(AP31=\"\",\"\",VLOOKUP(AP31,'（ユニット型）シフト記号表'!$C$5:$W$46,21,FALSE))","v":""},{"$f":"IF(AQ31=\"\",\"\",VLOOKUP(AQ31,'（ユニット型）シフト記号表'!$C$5:$W$46,21,FALSE))","v":""},{"$f":"IF(AR31=\"\",\"\",VLOOKUP(AR31,'（ユニット型）シフト記号表'!$C$5:$W$46,21,FALSE))","v":""},{"$f":"IF(AS31=\"\",\"\",VLOOKUP(AS31,'（ユニット型）シフト記号表'!$C$5:$W$46,21,FALSE))","v":""},{"$f":"IF(AT31=\"\",\"\",VLOOKUP(AT31,'（ユニット型）シフト記号表'!$C$5:$W$46,21,FALSE))","v":""},{"$f":"IF(AU31=\"\",\"\",VLOOKUP(AU31,'（ユニット型）シフト記号表'!$C$5:$W$46,21,FALSE))","v":""},{"$f":"IF(AV31=\"\",\"\",VLOOKUP(AV31,'（ユニット型）シフト記号表'!$C$5:$W$46,21,FALSE))","v":""},{"$f":"IF(AW31=\"\",\"\",VLOOKUP(AW31,'（ユニット型）シフト記号表'!$C$5:$W$46,21,FALSE))","v":""},{"$f":"IF(AX31=\"\",\"\",VLOOKUP(AX31,'（ユニット型）シフト記号表'!$C$5:$W$46,21,FALSE))","v":""},{"$f":"IF(AY31=\"\",\"\",VLOOKUP(AY31,'（ユニット型）シフト記号表'!$C$5:$W$46,21,FALSE))","v":""},{"$f":"IF(AZ31=\"\",\"\",VLOOKUP(AZ31,'（ユニット型）シフト記号表'!$C$5:$W$46,21,FALSE))","v":""},{"$f":"IF(BA31=\"\",\"\",VLOOKUP(BA31,'（ユニット型）シフト記号表'!$C$5:$W$46,21,FALSE))","v":""},{"$f":"IF(BB31=\"\",\"\",VLOOKUP(BB31,'（ユニット型）シフト記号表'!$C$5:$W$46,21,FALSE))","v":""},{"$f":"IF(BC31=\"\",\"\",VLOOKUP(BC31,'（ユニット型）シフト記号表'!$C$5:$W$46,21,FALSE))","v":""},{"$f":"IF(BD31=\"\",\"\",VLOOKUP(BD31,'（ユニット型）シフト記号表'!$C$5:$W$46,21,FALSE))","v":""},{"$f":"IF(BE31=\"\",\"\",VLOOKUP(BE31,'（ユニット型）シフト記号表'!$C$5:$W$46,21,FALSE))","v":""},{"$f":"IF($BI$3=\"計画\",SUM(AA32:BB32),IF($BI$3=\"実績\",SUM(AA32:BE32),\"\"))","v":0},null,{"$f":"IF($BI$3=\"計画\",BF32/4,IF($BI$3=\"実績\",(BF32/($BI$7/7)),\"\"))","v":0}]
[null,null,null,null,null,null,null,null,{"$f":"G32","v":0},null,{"$f":"M32","v":0},null,null,null,null,null,null,null,null,null,null,"夜勤時間帯の勤務時間数",null,null,null,null,{"$f":"IF(AA31=\"\",\"\",VLOOKUP(AA31,'（ユニット型）シフト記号表'!$C$5:$Y$46,23,FALSE))","v":""},{"$f":"IF(AB31=\"\",\"\",VLOOKUP(AB31,'（ユニット型）シフト記号表'!$C$5:$Y$46,23,FALSE))","v":""},{"$f":"IF(AC31=\"\",\"\",VLOOKUP(AC31,'（ユニット型）シフト記号表'!$C$5:$Y$46,23,FALSE))","v":""},{"$f":"IF(AD31=\"\",\"\",VLOOKUP(AD31,'（ユニット型）シフト記号表'!$C$5:$Y$46,23,FALSE))","v":""},{"$f":"IF(AE31=\"\",\"\",VLOOKUP(AE31,'（ユニット型）シフト記号表'!$C$5:$Y$46,23,FALSE))","v":""},{"$f":"IF(AF31=\"\",\"\",VLOOKUP(AF31,'（ユニット型）シフト記号表'!$C$5:$Y$46,23,FALSE))","v":""},{"$f":"IF(AG31=\"\",\"\",VLOOKUP(AG31,'（ユニット型）シフト記号表'!$C$5:$Y$46,23,FALSE))","v":""},{"$f":"IF(AH31=\"\",\"\",VLOOKUP(AH31,'（ユニット型）シフト記号表'!$C$5:$Y$46,23,FALSE))","v":""},{"$f":"IF(AI31=\"\",\"\",VLOOKUP(AI31,'（ユニット型）シフト記号表'!$C$5:$Y$46,23,FALSE))","v":""},{"$f":"IF(AJ31=\"\",\"\",VLOOKUP(AJ31,'（ユニット型）シフト記号表'!$C$5:$Y$46,23,FALSE))","v":""},{"$f":"IF(AK31=\"\",\"\",VLOOKUP(AK31,'（ユニット型）シフト記号表'!$C$5:$Y$46,23,FALSE))","v":""},{"$f":"IF(AL31=\"\",\"\",VLOOKUP(AL31,'（ユニット型）シフト記号表'!$C$5:$Y$46,23,FALSE))","v":""},{"$f":"IF(AM31=\"\",\"\",VLOOKUP(AM31,'（ユニット型）シフト記号表'!$C$5:$Y$46,23,FALSE))","v":""},{"$f":"IF(AN31=\"\",\"\",VLOOKUP(AN31,'（ユニット型）シフト記号表'!$C$5:$Y$46,23,FALSE))","v":""},{"$f":"IF(AO31=\"\",\"\",VLOOKUP(AO31,'（ユニット型）シフト記号表'!$C$5:$Y$46,23,FALSE))","v":""},{"$f":"IF(AP31=\"\",\"\",VLOOKUP(AP31,'（ユニット型）シフト記号表'!$C$5:$Y$46,23,FALSE))","v":""},{"$f":"IF(AQ31=\"\",\"\",VLOOKUP(AQ31,'（ユニット型）シフト記号表'!$C$5:$Y$46,23,FALSE))","v":""},{"$f":"IF(AR31=\"\",\"\",VLOOKUP(AR31,'（ユニット型）シフト記号表'!$C$5:$Y$46,23,FALSE))","v":""},{"$f":"IF(AS31=\"\",\"\",VLOOKUP(AS31,'（ユニット型）シフト記号表'!$C$5:$Y$46,23,FALSE))","v":""},{"$f":"IF(AT31=\"\",\"\",VLOOKUP(AT31,'（ユニット型）シフト記号表'!$C$5:$Y$46,23,FALSE))","v":""},{"$f":"IF(AU31=\"\",\"\",VLOOKUP(AU31,'（ユニット型）シフト記号表'!$C$5:$Y$46,23,FALSE))","v":""},{"$f":"IF(AV31=\"\",\"\",VLOOKUP(AV31,'（ユニット型）シフト記号表'!$C$5:$Y$46,23,FALSE))","v":""},{"$f":"IF(AW31=\"\",\"\",VLOOKUP(AW31,'（ユニット型）シフト記号表'!$C$5:$Y$46,23,FALSE))","v":""},{"$f":"IF(AX31=\"\",\"\",VLOOKUP(AX31,'（ユニット型）シフト記号表'!$C$5:$Y$46,23,FALSE))","v":""},{"$f":"IF(AY31=\"\",\"\",VLOOKUP(AY31,'（ユニット型）シフト記号表'!$C$5:$Y$46,23,FALSE))","v":""},{"$f":"IF(AZ31=\"\",\"\",VLOOKUP(AZ31,'（ユニット型）シフト記号表'!$C$5:$Y$46,23,FALSE))","v":""},{"$f":"IF(BA31=\"\",\"\",VLOOKUP(BA31,'（ユニット型）シフト記号表'!$C$5:$Y$46,23,FALSE))","v":""},{"$f":"IF(BB31=\"\",\"\",VLOOKUP(BB31,'（ユニット型）シフト記号表'!$C$5:$Y$46,23,FALSE))","v":""},{"$f":"IF(BC31=\"\",\"\",VLOOKUP(BC31,'（ユニット型）シフト記号表'!$C$5:$Y$46,23,FALSE))","v":""},{"$f":"IF(BD31=\"\",\"\",VLOOKUP(BD31,'（ユニット型）シフト記号表'!$C$5:$Y$46,23,FALSE))","v":""},{"$f":"IF(BE31=\"\",\"\",VLOOKUP(BE31,'（ユニット型）シフト記号表'!$C$5:$Y$46,23,FALSE))","v":""},{"$f":"IF($BI$3=\"計画\",SUM(AA33:BB33),IF($BI$3=\"実績\",SUM(AA33:BE33),\"\"))","v":0},null,{"$f":"IF($BI$3=\"計画\",BF33/4,IF($BI$3=\"実績\",(BF33/($BI$7/7)),\"\"))","v":0}]
[null,null,null,null,null,null,null,null,null,null,null,null,null,null,null,null,null,null,null,null,null,"シフト記号"]
[null,{"$f":"B32+1","v":6},null,null,null,null,null,null,null,null,null,null,null,null,null,null,null,null,null,null,null,"日中の勤務時間数",null,null,null,null,{"$f":"IF(AA34=\"\",\"\",VLOOKUP(AA34,'（ユニット型）シフト記号表'!$C$5:$W$46,21,FALSE))","v":""},{"$f":"IF(AB34=\"\",\"\",VLOOKUP(AB34,'（ユニット型）シフト記号表'!$C$5:$W$46,21,FALSE))","v":""},{"$f":"IF(AC34=\"\",\"\",VLOOKUP(AC34,'（ユニット型）シフト記号表'!$C$5:$W$46,21,FALSE))","v":""},{"$f":"IF(AD34=\"\",\"\",VLOOKUP(AD34,'（ユニット型）シフト記号表'!$C$5:$W$46,21,FALSE))","v":""},{"$f":"IF(AE34=\"\",\"\",VLOOKUP(AE34,'（ユニット型）シフト記号表'!$C$5:$W$46,21,FALSE))","v":""},{"$f":"IF(AF34=\"\",\"\",VLOOKUP(AF34,'（ユニット型）シフト記号表'!$C$5:$W$46,21,FALSE))","v":""},{"$f":"IF(AG34=\"\",\"\",VLOOKUP(AG34,'（ユニット型）シフト記号表'!$C$5:$W$46,21,FALSE))","v":""},{"$f":"IF(AH34=\"\",\"\",VLOOKUP(AH34,'（ユニット型）シフト記号表'!$C$5:$W$46,21,FALSE))","v":""},{"$f":"IF(AI34=\"\",\"\",VLOOKUP(AI34,'（ユニット型）シフト記号表'!$C$5:$W$46,21,FALSE))","v":""},{"$f":"IF(AJ34=\"\",\"\",VLOOKUP(AJ34,'（ユニット型）シフト記号表'!$C$5:$W$46,21,FALSE))","v":""},{"$f":"IF(AK34=\"\",\"\",VLOOKUP(AK34,'（ユニット型）シフト記号表'!$C$5:$W$46,21,FALSE))","v":""},{"$f":"IF(AL34=\"\",\"\",VLOOKUP(AL34,'（ユニット型）シフト記号表'!$C$5:$W$46,21,FALSE))","v":""},{"$f":"IF(AM34=\"\",\"\",VLOOKUP(AM34,'（ユニット型）シフト記号表'!$C$5:$W$46,21,FALSE))","v":""},{"$f":"IF(AN34=\"\",\"\",VLOOKUP(AN34,'（ユニット型）シフト記号表'!$C$5:$W$46,21,FALSE))","v":""},{"$f":"IF(AO34=\"\",\"\",VLOOKUP(AO34,'（ユニット型）シフト記号表'!$C$5:$W$46,21,FALSE))","v":""},{"$f":"IF(AP34=\"\",\"\",VLOOKUP(AP34,'（ユニット型）シフト記号表'!$C$5:$W$46,21,FALSE))","v":""},{"$f":"IF(AQ34=\"\",\"\",VLOOKUP(AQ34,'（ユニット型）シフト記号表'!$C$5:$W$46,21,FALSE))","v":""},{"$f":"IF(AR34=\"\",\"\",VLOOKUP(AR34,'（ユニット型）シフト記号表'!$C$5:$W$46,21,FALSE))","v":""},{"$f":"IF(AS34=\"\",\"\",VLOOKUP(AS34,'（ユニット型）シフト記号表'!$C$5:$W$46,21,FALSE))","v":""},{"$f":"IF(AT34=\"\",\"\",VLOOKUP(AT34,'（ユニット型）シフト記号表'!$C$5:$W$46,21,FALSE))","v":""},{"$f":"IF(AU34=\"\",\"\",VLOOKUP(AU34,'（ユニット型）シフト記号表'!$C$5:$W$46,21,FALSE))","v":""},{"$f":"IF(AV34=\"\",\"\",VLOOKUP(AV34,'（ユニット型）シフト記号表'!$C$5:$W$46,21,FALSE))","v":""},{"$f":"IF(AW34=\"\",\"\",VLOOKUP(AW34,'（ユニット型）シフト記号表'!$C$5:$W$46,21,FALSE))","v":""},{"$f":"IF(AX34=\"\",\"\",VLOOKUP(AX34,'（ユニット型）シフト記号表'!$C$5:$W$46,21,FALSE))","v":""},{"$f":"IF(AY34=\"\",\"\",VLOOKUP(AY34,'（ユニット型）シフト記号表'!$C$5:$W$46,21,FALSE))","v":""},{"$f":"IF(AZ34=\"\",\"\",VLOOKUP(AZ34,'（ユニット型）シフト記号表'!$C$5:$W$46,21,FALSE))","v":""},{"$f":"IF(BA34=\"\",\"\",VLOOKUP(BA34,'（ユニット型）シフト記号表'!$C$5:$W$46,21,FALSE))","v":""},{"$f":"IF(BB34=\"\",\"\",VLOOKUP(BB34,'（ユニット型）シフト記号表'!$C$5:$W$46,21,FALSE))","v":""},{"$f":"IF(BC34=\"\",\"\",VLOOKUP(BC34,'（ユニット型）シフト記号表'!$C$5:$W$46,21,FALSE))","v":""},{"$f":"IF(BD34=\"\",\"\",VLOOKUP(BD34,'（ユニット型）シフト記号表'!$C$5:$W$46,21,FALSE))","v":""},{"$f":"IF(BE34=\"\",\"\",VLOOKUP(BE34,'（ユニット型）シフト記号表'!$C$5:$W$46,21,FALSE))","v":""},{"$f":"IF($BI$3=\"計画\",SUM(AA35:BB35),IF($BI$3=\"実績\",SUM(AA35:BE35),\"\"))","v":0},null,{"$f":"IF($BI$3=\"計画\",BF35/4,IF($BI$3=\"実績\",(BF35/($BI$7/7)),\"\"))","v":0}]
[null,null,null,null,null,null,null,null,{"$f":"G35","v":0},null,{"$f":"M35","v":0},null,null,null,null,null,null,null,null,null,null,"夜勤時間帯の勤務時間数",null,null,null,null,{"$f":"IF(AA34=\"\",\"\",VLOOKUP(AA34,'（ユニット型）シフト記号表'!$C$5:$Y$46,23,FALSE))","v":""},{"$f":"IF(AB34=\"\",\"\",VLOOKUP(AB34,'（ユニット型）シフト記号表'!$C$5:$Y$46,23,FALSE))","v":""},{"$f":"IF(AC34=\"\",\"\",VLOOKUP(AC34,'（ユニット型）シフト記号表'!$C$5:$Y$46,23,FALSE))","v":""},{"$f":"IF(AD34=\"\",\"\",VLOOKUP(AD34,'（ユニット型）シフト記号表'!$C$5:$Y$46,23,FALSE))","v":""},{"$f":"IF(AE34=\"\",\"\",VLOOKUP(AE34,'（ユニット型）シフト記号表'!$C$5:$Y$46,23,FALSE))","v":""},{"$f":"IF(AF34=\"\",\"\",VLOOKUP(AF34,'（ユニット型）シフト記号表'!$C$5:$Y$46,23,FALSE))","v":""},{"$f":"IF(AG34=\"\",\"\",VLOOKUP(AG34,'（ユニット型）シフト記号表'!$C$5:$Y$46,23,FALSE))","v":""},{"$f":"IF(AH34=\"\",\"\",VLOOKUP(AH34,'（ユニット型）シフト記号表'!$C$5:$Y$46,23,FALSE))","v":""},{"$f":"IF(AI34=\"\",\"\",VLOOKUP(AI34,'（ユニット型）シフト記号表'!$C$5:$Y$46,23,FALSE))","v":""},{"$f":"IF(AJ34=\"\",\"\",VLOOKUP(AJ34,'（ユニット型）シフト記号表'!$C$5:$Y$46,23,FALSE))","v":""},{"$f":"IF(AK34=\"\",\"\",VLOOKUP(AK34,'（ユニット型）シフト記号表'!$C$5:$Y$46,23,FALSE))","v":""},{"$f":"IF(AL34=\"\",\"\",VLOOKUP(AL34,'（ユニット型）シフト記号表'!$C$5:$Y$46,23,FALSE))","v":""},{"$f":"IF(AM34=\"\",\"\",VLOOKUP(AM34,'（ユニット型）シフト記号表'!$C$5:$Y$46,23,FALSE))","v":""},{"$f":"IF(AN34=\"\",\"\",VLOOKUP(AN34,'（ユニット型）シフト記号表'!$C$5:$Y$46,23,FALSE))","v":""},{"$f":"IF(AO34=\"\",\"\",VLOOKUP(AO34,'（ユニット型）シフト記号表'!$C$5:$Y$46,23,FALSE))","v":""},{"$f":"IF(AP34=\"\",\"\",VLOOKUP(AP34,'（ユニット型）シフト記号表'!$C$5:$Y$46,23,FALSE))","v":""},{"$f":"IF(AQ34=\"\",\"\",VLOOKUP(AQ34,'（ユニット型）シフト記号表'!$C$5:$Y$46,23,FALSE))","v":""},{"$f":"IF(AR34=\"\",\"\",VLOOKUP(AR34,'（ユニット型）シフト記号表'!$C$5:$Y$46,23,FALSE))","v":""},{"$f":"IF(AS34=\"\",\"\",VLOOKUP(AS34,'（ユニット型）シフト記号表'!$C$5:$Y$46,23,FALSE))","v":""},{"$f":"IF(AT34=\"\",\"\",VLOOKUP(AT34,'（ユニット型）シフト記号表'!$C$5:$Y$46,23,FALSE))","v":""},{"$f":"IF(AU34=\"\",\"\",VLOOKUP(AU34,'（ユニット型）シフト記号表'!$C$5:$Y$46,23,FALSE))","v":""},{"$f":"IF(AV34=\"\",\"\",VLOOKUP(AV34,'（ユニット型）シフト記号表'!$C$5:$Y$46,23,FALSE))","v":""},{"$f":"IF(AW34=\"\",\"\",VLOOKUP(AW34,'（ユニット型）シフト記号表'!$C$5:$Y$46,23,FALSE))","v":""},{"$f":"IF(AX34=\"\",\"\",VLOOKUP(AX34,'（ユニット型）シフト記号表'!$C$5:$Y$46,23,FALSE))","v":""},{"$f":"IF(AY34=\"\",\"\",VLOOKUP(AY34,'（ユニット型）シフト記号表'!$C$5:$Y$46,23,FALSE))","v":""},{"$f":"IF(AZ34=\"\",\"\",VLOOKUP(AZ34,'（ユニット型）シフト記号表'!$C$5:$Y$46,23,FALSE))","v":""},{"$f":"IF(BA34=\"\",\"\",VLOOKUP(BA34,'（ユニット型）シフト記号表'!$C$5:$Y$46,23,FALSE))","v":""},{"$f":"IF(BB34=\"\",\"\",VLOOKUP(BB34,'（ユニット型）シフト記号表'!$C$5:$Y$46,23,FALSE))","v":""},{"$f":"IF(BC34=\"\",\"\",VLOOKUP(BC34,'（ユニット型）シフト記号表'!$C$5:$Y$46,23,FALSE))","v":""},{"$f":"IF(BD34=\"\",\"\",VLOOKUP(BD34,'（ユニット型）シフト記号表'!$C$5:$Y$46,23,FALSE))","v":""},{"$f":"IF(BE34=\"\",\"\",VLOOKUP(BE34,'（ユニット型）シフト記号表'!$C$5:$Y$46,23,FALSE))","v":""},{"$f":"IF($BI$3=\"計画\",SUM(AA36:BB36),IF($BI$3=\"実績\",SUM(AA36:BE36),\"\"))","v":0},null,{"$f":"IF($BI$3=\"計画\",BF36/4,IF($BI$3=\"実績\",(BF36/($BI$7/7)),\"\"))","v":0}]
[null,null,null,null,null,null,null,null,null,null,null,null,null,null,null,null,null,null,null,null,null,"シフト記号"]
[null,{"$f":"B35+1","v":7},null,null,null,null,null,null,null,null,null,null,null,null,null,null,null,null,null,null,null,"日中の勤務時間数",null,null,null,null,{"$f":"IF(AA37=\"\",\"\",VLOOKUP(AA37,'（ユニット型）シフト記号表'!$C$5:$W$46,21,FALSE))","v":""},{"$f":"IF(AB37=\"\",\"\",VLOOKUP(AB37,'（ユニット型）シフト記号表'!$C$5:$W$46,21,FALSE))","v":""},{"$f":"IF(AC37=\"\",\"\",VLOOKUP(AC37,'（ユニット型）シフト記号表'!$C$5:$W$46,21,FALSE))","v":""},{"$f":"IF(AD37=\"\",\"\",VLOOKUP(AD37,'（ユニット型）シフト記号表'!$C$5:$W$46,21,FALSE))","v":""},{"$f":"IF(AE37=\"\",\"\",VLOOKUP(AE37,'（ユニット型）シフト記号表'!$C$5:$W$46,21,FALSE))","v":""},{"$f":"IF(AF37=\"\",\"\",VLOOKUP(AF37,'（ユニット型）シフト記号表'!$C$5:$W$46,21,FALSE))","v":""},{"$f":"IF(AG37=\"\",\"\",VLOOKUP(AG37,'（ユニット型）シフト記号表'!$C$5:$W$46,21,FALSE))","v":""},{"$f":"IF(AH37=\"\",\"\",VLOOKUP(AH37,'（ユニット型）シフト記号表'!$C$5:$W$46,21,FALSE))","v":""},{"$f":"IF(AI37=\"\",\"\",VLOOKUP(AI37,'（ユニット型）シフト記号表'!$C$5:$W$46,21,FALSE))","v":""},{"$f":"IF(AJ37=\"\",\"\",VLOOKUP(AJ37,'（ユニット型）シフト記号表'!$C$5:$W$46,21,FALSE))","v":""},{"$f":"IF(AK37=\"\",\"\",VLOOKUP(AK37,'（ユニット型）シフト記号表'!$C$5:$W$46,21,FALSE))","v":""},{"$f":"IF(AL37=\"\",\"\",VLOOKUP(AL37,'（ユニット型）シフト記号表'!$C$5:$W$46,21,FALSE))","v":""},{"$f":"IF(AM37=\"\",\"\",VLOOKUP(AM37,'（ユニット型）シフト記号表'!$C$5:$W$46,21,FALSE))","v":""},{"$f":"IF(AN37=\"\",\"\",VLOOKUP(AN37,'（ユニット型）シフト記号表'!$C$5:$W$46,21,FALSE))","v":""},{"$f":"IF(AO37=\"\",\"\",VLOOKUP(AO37,'（ユニット型）シフト記号表'!$C$5:$W$46,21,FALSE))","v":""},{"$f":"IF(AP37=\"\",\"\",VLOOKUP(AP37,'（ユニット型）シフト記号表'!$C$5:$W$46,21,FALSE))","v":""},{"$f":"IF(AQ37=\"\",\"\",VLOOKUP(AQ37,'（ユニット型）シフト記号表'!$C$5:$W$46,21,FALSE))","v":""},{"$f":"IF(AR37=\"\",\"\",VLOOKUP(AR37,'（ユニット型）シフト記号表'!$C$5:$W$46,21,FALSE))","v":""},{"$f":"IF(AS37=\"\",\"\",VLOOKUP(AS37,'（ユニット型）シフト記号表'!$C$5:$W$46,21,FALSE))","v":""},{"$f":"IF(AT37=\"\",\"\",VLOOKUP(AT37,'（ユニット型）シフト記号表'!$C$5:$W$46,21,FALSE))","v":""},{"$f":"IF(AU37=\"\",\"\",VLOOKUP(AU37,'（ユニット型）シフト記号表'!$C$5:$W$46,21,FALSE))","v":""},{"$f":"IF(AV37=\"\",\"\",VLOOKUP(AV37,'（ユニット型）シフト記号表'!$C$5:$W$46,21,FALSE))","v":""},{"$f":"IF(AW37=\"\",\"\",VLOOKUP(AW37,'（ユニット型）シフト記号表'!$C$5:$W$46,21,FALSE))","v":""},{"$f":"IF(AX37=\"\",\"\",VLOOKUP(AX37,'（ユニット型）シフト記号表'!$C$5:$W$46,21,FALSE))","v":""},{"$f":"IF(AY37=\"\",\"\",VLOOKUP(AY37,'（ユニット型）シフト記号表'!$C$5:$W$46,21,FALSE))","v":""},{"$f":"IF(AZ37=\"\",\"\",VLOOKUP(AZ37,'（ユニット型）シフト記号表'!$C$5:$W$46,21,FALSE))","v":""},{"$f":"IF(BA37=\"\",\"\",VLOOKUP(BA37,'（ユニット型）シフト記号表'!$C$5:$W$46,21,FALSE))","v":""},{"$f":"IF(BB37=\"\",\"\",VLOOKUP(BB37,'（ユニット型）シフト記号表'!$C$5:$W$46,21,FALSE))","v":""},{"$f":"IF(BC37=\"\",\"\",VLOOKUP(BC37,'（ユニット型）シフト記号表'!$C$5:$W$46,21,FALSE))","v":""},{"$f":"IF(BD37=\"\",\"\",VLOOKUP(BD37,'（ユニット型）シフト記号表'!$C$5:$W$46,21,FALSE))","v":""},{"$f":"IF(BE37=\"\",\"\",VLOOKUP(BE37,'（ユニット型）シフト記号表'!$C$5:$W$46,21,FALSE))","v":""},{"$f":"IF($BI$3=\"計画\",SUM(AA38:BB38),IF($BI$3=\"実績\",SUM(AA38:BE38),\"\"))","v":0},null,{"$f":"IF($BI$3=\"計画\",BF38/4,IF($BI$3=\"実績\",(BF38/($BI$7/7)),\"\"))","v":0}]
[null,null,null,null,null,null,null,null,{"$f":"G38","v":0},null,{"$f":"M38","v":0},null,null,null,null,null,null,null,null,null,null,"夜勤時間帯の勤務時間数",null,null,null,null,{"$f":"IF(AA37=\"\",\"\",VLOOKUP(AA37,'（ユニット型）シフト記号表'!$C$5:$Y$46,23,FALSE))","v":""},{"$f":"IF(AB37=\"\",\"\",VLOOKUP(AB37,'（ユニット型）シフト記号表'!$C$5:$Y$46,23,FALSE))","v":""},{"$f":"IF(AC37=\"\",\"\",VLOOKUP(AC37,'（ユニット型）シフト記号表'!$C$5:$Y$46,23,FALSE))","v":""},{"$f":"IF(AD37=\"\",\"\",VLOOKUP(AD37,'（ユニット型）シフト記号表'!$C$5:$Y$46,23,FALSE))","v":""},{"$f":"IF(AE37=\"\",\"\",VLOOKUP(AE37,'（ユニット型）シフト記号表'!$C$5:$Y$46,23,FALSE))","v":""},{"$f":"IF(AF37=\"\",\"\",VLOOKUP(AF37,'（ユニット型）シフト記号表'!$C$5:$Y$46,23,FALSE))","v":""},{"$f":"IF(AG37=\"\",\"\",VLOOKUP(AG37,'（ユニット型）シフト記号表'!$C$5:$Y$46,23,FALSE))","v":""},{"$f":"IF(AH37=\"\",\"\",VLOOKUP(AH37,'（ユニット型）シフト記号表'!$C$5:$Y$46,23,FALSE))","v":""},{"$f":"IF(AI37=\"\",\"\",VLOOKUP(AI37,'（ユニット型）シフト記号表'!$C$5:$Y$46,23,FALSE))","v":""},{"$f":"IF(AJ37=\"\",\"\",VLOOKUP(AJ37,'（ユニット型）シフト記号表'!$C$5:$Y$46,23,FALSE))","v":""},{"$f":"IF(AK37=\"\",\"\",VLOOKUP(AK37,'（ユニット型）シフト記号表'!$C$5:$Y$46,23,FALSE))","v":""},{"$f":"IF(AL37=\"\",\"\",VLOOKUP(AL37,'（ユニット型）シフト記号表'!$C$5:$Y$46,23,FALSE))","v":""},{"$f":"IF(AM37=\"\",\"\",VLOOKUP(AM37,'（ユニット型）シフト記号表'!$C$5:$Y$46,23,FALSE))","v":""},{"$f":"IF(AN37=\"\",\"\",VLOOKUP(AN37,'（ユニット型）シフト記号表'!$C$5:$Y$46,23,FALSE))","v":""},{"$f":"IF(AO37=\"\",\"\",VLOOKUP(AO37,'（ユニット型）シフト記号表'!$C$5:$Y$46,23,FALSE))","v":""},{"$f":"IF(AP37=\"\",\"\",VLOOKUP(AP37,'（ユニット型）シフト記号表'!$C$5:$Y$46,23,FALSE))","v":""},{"$f":"IF(AQ37=\"\",\"\",VLOOKUP(AQ37,'（ユニット型）シフト記号表'!$C$5:$Y$46,23,FALSE))","v":""},{"$f":"IF(AR37=\"\",\"\",VLOOKUP(AR37,'（ユニット型）シフト記号表'!$C$5:$Y$46,23,FALSE))","v":""},{"$f":"IF(AS37=\"\",\"\",VLOOKUP(AS37,'（ユニット型）シフト記号表'!$C$5:$Y$46,23,FALSE))","v":""},{"$f":"IF(AT37=\"\",\"\",VLOOKUP(AT37,'（ユニット型）シフト記号表'!$C$5:$Y$46,23,FALSE))","v":""},{"$f":"IF(AU37=\"\",\"\",VLOOKUP(AU37,'（ユニット型）シフト記号表'!$C$5:$Y$46,23,FALSE))","v":""},{"$f":"IF(AV37=\"\",\"\",VLOOKUP(AV37,'（ユニット型）シフト記号表'!$C$5:$Y$46,23,FALSE))","v":""},{"$f":"IF(AW37=\"\",\"\",VLOOKUP(AW37,'（ユニット型）シフト記号表'!$C$5:$Y$46,23,FALSE))","v":""},{"$f":"IF(AX37=\"\",\"\",VLOOKUP(AX37,'（ユニット型）シフト記号表'!$C$5:$Y$46,23,FALSE))","v":""},{"$f":"IF(AY37=\"\",\"\",VLOOKUP(AY37,'（ユニット型）シフト記号表'!$C$5:$Y$46,23,FALSE))","v":""},{"$f":"IF(AZ37=\"\",\"\",VLOOKUP(AZ37,'（ユニット型）シフト記号表'!$C$5:$Y$46,23,FALSE))","v":""},{"$f":"IF(BA37=\"\",\"\",VLOOKUP(BA37,'（ユニット型）シフト記号表'!$C$5:$Y$46,23,FALSE))","v":""},{"$f":"IF(BB37=\"\",\"\",VLOOKUP(BB37,'（ユニット型）シフト記号表'!$C$5:$Y$46,23,FALSE))","v":""},{"$f":"IF(BC37=\"\",\"\",VLOOKUP(BC37,'（ユニット型）シフト記号表'!$C$5:$Y$46,23,FALSE))","v":""},{"$f":"IF(BD37=\"\",\"\",VLOOKUP(BD37,'（ユニット型）シフト記号表'!$C$5:$Y$46,23,FALSE))","v":""},{"$f":"IF(BE37=\"\",\"\",VLOOKUP(BE37,'（ユニット型）シフト記号表'!$C$5:$Y$46,23,FALSE))","v":""},{"$f":"IF($BI$3=\"計画\",SUM(AA39:BB39),IF($BI$3=\"実績\",SUM(AA39:BE39),\"\"))","v":0},null,{"$f":"IF($BI$3=\"計画\",BF39/4,IF($BI$3=\"実績\",(BF39/($BI$7/7)),\"\"))","v":0}]
[null,null,null,null,null,null,null,null,null,null,null,null,null,null,null,null,null,null,null,null,null,"シフト記号"]
[null,{"$f":"B38+1","v":8},null,null,null,null,null,null,null,null,null,null,null,null,null,null,null,null,null,null,null,"日中の勤務時間数",null,null,null,null,{"$f":"IF(AA40=\"\",\"\",VLOOKUP(AA40,'（ユニット型）シフト記号表'!$C$5:$W$46,21,FALSE))","v":""},{"$f":"IF(AB40=\"\",\"\",VLOOKUP(AB40,'（ユニット型）シフト記号表'!$C$5:$W$46,21,FALSE))","v":""},{"$f":"IF(AC40=\"\",\"\",VLOOKUP(AC40,'（ユニット型）シフト記号表'!$C$5:$W$46,21,FALSE))","v":""},{"$f":"IF(AD40=\"\",\"\",VLOOKUP(AD40,'（ユニット型）シフト記号表'!$C$5:$W$46,21,FALSE))","v":""},{"$f":"IF(AE40=\"\",\"\",VLOOKUP(AE40,'（ユニット型）シフト記号表'!$C$5:$W$46,21,FALSE))","v":""},{"$f":"IF(AF40=\"\",\"\",VLOOKUP(AF40,'（ユニット型）シフト記号表'!$C$5:$W$46,21,FALSE))","v":""},{"$f":"IF(AG40=\"\",\"\",VLOOKUP(AG40,'（ユニット型）シフト記号表'!$C$5:$W$46,21,FALSE))","v":""},{"$f":"IF(AH40=\"\",\"\",VLOOKUP(AH40,'（ユニット型）シフト記号表'!$C$5:$W$46,21,FALSE))","v":""},{"$f":"IF(AI40=\"\",\"\",VLOOKUP(AI40,'（ユニット型）シフト記号表'!$C$5:$W$46,21,FALSE))","v":""},{"$f":"IF(AJ40=\"\",\"\",VLOOKUP(AJ40,'（ユニット型）シフト記号表'!$C$5:$W$46,21,FALSE))","v":""},{"$f":"IF(AK40=\"\",\"\",VLOOKUP(AK40,'（ユニット型）シフト記号表'!$C$5:$W$46,21,FALSE))","v":""},{"$f":"IF(AL40=\"\",\"\",VLOOKUP(AL40,'（ユニット型）シフト記号表'!$C$5:$W$46,21,FALSE))","v":""},{"$f":"IF(AM40=\"\",\"\",VLOOKUP(AM40,'（ユニット型）シフト記号表'!$C$5:$W$46,21,FALSE))","v":""},{"$f":"IF(AN40=\"\",\"\",VLOOKUP(AN40,'（ユニット型）シフト記号表'!$C$5:$W$46,21,FALSE))","v":""},{"$f":"IF(AO40=\"\",\"\",VLOOKUP(AO40,'（ユニット型）シフト記号表'!$C$5:$W$46,21,FALSE))","v":""},{"$f":"IF(AP40=\"\",\"\",VLOOKUP(AP40,'（ユニット型）シフト記号表'!$C$5:$W$46,21,FALSE))","v":""},{"$f":"IF(AQ40=\"\",\"\",VLOOKUP(AQ40,'（ユニット型）シフト記号表'!$C$5:$W$46,21,FALSE))","v":""},{"$f":"IF(AR40=\"\",\"\",VLOOKUP(AR40,'（ユニット型）シフト記号表'!$C$5:$W$46,21,FALSE))","v":""},{"$f":"IF(AS40=\"\",\"\",VLOOKUP(AS40,'（ユニット型）シフト記号表'!$C$5:$W$46,21,FALSE))","v":""},{"$f":"IF(AT40=\"\",\"\",VLOOKUP(AT40,'（ユニット型）シフト記号表'!$C$5:$W$46,21,FALSE))","v":""},{"$f":"IF(AU40=\"\",\"\",VLOOKUP(AU40,'（ユニット型）シフト記号表'!$C$5:$W$46,21,FALSE))","v":""},{"$f":"IF(AV40=\"\",\"\",VLOOKUP(AV40,'（ユニット型）シフト記号表'!$C$5:$W$46,21,FALSE))","v":""},{"$f":"IF(AW40=\"\",\"\",VLOOKUP(AW40,'（ユニット型）シフト記号表'!$C$5:$W$46,21,FALSE))","v":""},{"$f":"IF(AX40=\"\",\"\",VLOOKUP(AX40,'（ユニット型）シフト記号表'!$C$5:$W$46,21,FALSE))","v":""},{"$f":"IF(AY40=\"\",\"\",VLOOKUP(AY40,'（ユニット型）シフト記号表'!$C$5:$W$46,21,FALSE))","v":""},{"$f":"IF(AZ40=\"\",\"\",VLOOKUP(AZ40,'（ユニット型）シフト記号表'!$C$5:$W$46,21,FALSE))","v":""},{"$f":"IF(BA40=\"\",\"\",VLOOKUP(BA40,'（ユニット型）シフト記号表'!$C$5:$W$46,21,FALSE))","v":""},{"$f":"IF(BB40=\"\",\"\",VLOOKUP(BB40,'（ユニット型）シフト記号表'!$C$5:$W$46,21,FALSE))","v":""},{"$f":"IF(BC40=\"\",\"\",VLOOKUP(BC40,'（ユニット型）シフト記号表'!$C$5:$W$46,21,FALSE))","v":""},{"$f":"IF(BD40=\"\",\"\",VLOOKUP(BD40,'（ユニット型）シフト記号表'!$C$5:$W$46,21,FALSE))","v":""},{"$f":"IF(BE40=\"\",\"\",VLOOKUP(BE40,'（ユニット型）シフト記号表'!$C$5:$W$46,21,FALSE))","v":""},{"$f":"IF($BI$3=\"計画\",SUM(AA41:BB41),IF($BI$3=\"実績\",SUM(AA41:BE41),\"\"))","v":0},null,{"$f":"IF($BI$3=\"計画\",BF41/4,IF($BI$3=\"実績\",(BF41/($BI$7/7)),\"\"))","v":0}]
[null,null,null,null,null,null,null,null,{"$f":"G41","v":0},null,{"$f":"M41","v":0},null,null,null,null,null,null,null,null,null,null,"夜勤時間帯の勤務時間数",null,null,null,null,{"$f":"IF(AA40=\"\",\"\",VLOOKUP(AA40,'（ユニット型）シフト記号表'!$C$5:$Y$46,23,FALSE))","v":""},{"$f":"IF(AB40=\"\",\"\",VLOOKUP(AB40,'（ユニット型）シフト記号表'!$C$5:$Y$46,23,FALSE))","v":""},{"$f":"IF(AC40=\"\",\"\",VLOOKUP(AC40,'（ユニット型）シフト記号表'!$C$5:$Y$46,23,FALSE))","v":""},{"$f":"IF(AD40=\"\",\"\",VLOOKUP(AD40,'（ユニット型）シフト記号表'!$C$5:$Y$46,23,FALSE))","v":""},{"$f":"IF(AE40=\"\",\"\",VLOOKUP(AE40,'（ユニット型）シフト記号表'!$C$5:$Y$46,23,FALSE))","v":""},{"$f":"IF(AF40=\"\",\"\",VLOOKUP(AF40,'（ユニット型）シフト記号表'!$C$5:$Y$46,23,FALSE))","v":""},{"$f":"IF(AG40=\"\",\"\",VLOOKUP(AG40,'（ユニット型）シフト記号表'!$C$5:$Y$46,23,FALSE))","v":""},{"$f":"IF(AH40=\"\",\"\",VLOOKUP(AH40,'（ユニット型）シフト記号表'!$C$5:$Y$46,23,FALSE))","v":""},{"$f":"IF(AI40=\"\",\"\",VLOOKUP(AI40,'（ユニット型）シフト記号表'!$C$5:$Y$46,23,FALSE))","v":""},{"$f":"IF(AJ40=\"\",\"\",VLOOKUP(AJ40,'（ユニット型）シフト記号表'!$C$5:$Y$46,23,FALSE))","v":""},{"$f":"IF(AK40=\"\",\"\",VLOOKUP(AK40,'（ユニット型）シフト記号表'!$C$5:$Y$46,23,FALSE))","v":""},{"$f":"IF(AL40=\"\",\"\",VLOOKUP(AL40,'（ユニット型）シフト記号表'!$C$5:$Y$46,23,FALSE))","v":""},{"$f":"IF(AM40=\"\",\"\",VLOOKUP(AM40,'（ユニット型）シフト記号表'!$C$5:$Y$46,23,FALSE))","v":""},{"$f":"IF(AN40=\"\",\"\",VLOOKUP(AN40,'（ユニット型）シフト記号表'!$C$5:$Y$46,23,FALSE))","v":""},{"$f":"IF(AO40=\"\",\"\",VLOOKUP(AO40,'（ユニット型）シフト記号表'!$C$5:$Y$46,23,FALSE))","v":""},{"$f":"IF(AP40=\"\",\"\",VLOOKUP(AP40,'（ユニット型）シフト記号表'!$C$5:$Y$46,23,FALSE))","v":""},{"$f":"IF(AQ40=\"\",\"\",VLOOKUP(AQ40,'（ユニット型）シフト記号表'!$C$5:$Y$46,23,FALSE))","v":""},{"$f":"IF(AR40=\"\",\"\",VLOOKUP(AR40,'（ユニット型）シフト記号表'!$C$5:$Y$46,23,FALSE))","v":""},{"$f":"IF(AS40=\"\",\"\",VLOOKUP(AS40,'（ユニット型）シフト記号表'!$C$5:$Y$46,23,FALSE))","v":""},{"$f":"IF(AT40=\"\",\"\",VLOOKUP(AT40,'（ユニット型）シフト記号表'!$C$5:$Y$46,23,FALSE))","v":""},{"$f":"IF(AU40=\"\",\"\",VLOOKUP(AU40,'（ユニット型）シフト記号表'!$C$5:$Y$46,23,FALSE))","v":""},{"$f":"IF(AV40=\"\",\"\",VLOOKUP(AV40,'（ユニット型）シフト記号表'!$C$5:$Y$46,23,FALSE))","v":""},{"$f":"IF(AW40=\"\",\"\",VLOOKUP(AW40,'（ユニット型）シフト記号表'!$C$5:$Y$46,23,FALSE))","v":""},{"$f":"IF(AX40=\"\",\"\",VLOOKUP(AX40,'（ユニット型）シフト記号表'!$C$5:$Y$46,23,FALSE))","v":""},{"$f":"IF(AY40=\"\",\"\",VLOOKUP(AY40,'（ユニット型）シフト記号表'!$C$5:$Y$46,23,FALSE))","v":""},{"$f":"IF(AZ40=\"\",\"\",VLOOKUP(AZ40,'（ユニット型）シフト記号表'!$C$5:$Y$46,23,FALSE))","v":""},{"$f":"IF(BA40=\"\",\"\",VLOOKUP(BA40,'（ユニット型）シフト記号表'!$C$5:$Y$46,23,FALSE))","v":""},{"$f":"IF(BB40=\"\",\"\",VLOOKUP(BB40,'（ユニット型）シフト記号表'!$C$5:$Y$46,23,FALSE))","v":""},{"$f":"IF(BC40=\"\",\"\",VLOOKUP(BC40,'（ユニット型）シフト記号表'!$C$5:$Y$46,23,FALSE))","v":""},{"$f":"IF(BD40=\"\",\"\",VLOOKUP(BD40,'（ユニット型）シフト記号表'!$C$5:$Y$46,23,FALSE))","v":""},{"$f":"IF(BE40=\"\",\"\",VLOOKUP(BE40,'（ユニット型）シフト記号表'!$C$5:$Y$46,23,FALSE))","v":""},{"$f":"IF($BI$3=\"計画\",SUM(AA42:BB42),IF($BI$3=\"実績\",SUM(AA42:BE42),\"\"))","v":0},null,{"$f":"IF($BI$3=\"計画\",BF42/4,IF($BI$3=\"実績\",(BF42/($BI$7/7)),\"\"))","v":0}]
[null,null,null,null,null,null,null,null,null,null,null,null,null,null,null,null,null,null,null,null,null,"シフト記号"]
[null,{"$f":"B41+1","v":9},null,null,null,null,null,null,null,null,null,null,null,null,null,null,null,null,null,null,null,"日中の勤務時間数",null,null,null,null,{"$f":"IF(AA43=\"\",\"\",VLOOKUP(AA43,'（ユニット型）シフト記号表'!$C$5:$W$46,21,FALSE))","v":""},{"$f":"IF(AB43=\"\",\"\",VLOOKUP(AB43,'（ユニット型）シフト記号表'!$C$5:$W$46,21,FALSE))","v":""},{"$f":"IF(AC43=\"\",\"\",VLOOKUP(AC43,'（ユニット型）シフト記号表'!$C$5:$W$46,21,FALSE))","v":""},{"$f":"IF(AD43=\"\",\"\",VLOOKUP(AD43,'（ユニット型）シフト記号表'!$C$5:$W$46,21,FALSE))","v":""},{"$f":"IF(AE43=\"\",\"\",VLOOKUP(AE43,'（ユニット型）シフト記号表'!$C$5:$W$46,21,FALSE))","v":""},{"$f":"IF(AF43=\"\",\"\",VLOOKUP(AF43,'（ユニット型）シフト記号表'!$C$5:$W$46,21,FALSE))","v":""},{"$f":"IF(AG43=\"\",\"\",VLOOKUP(AG43,'（ユニット型）シフト記号表'!$C$5:$W$46,21,FALSE))","v":""},{"$f":"IF(AH43=\"\",\"\",VLOOKUP(AH43,'（ユニット型）シフト記号表'!$C$5:$W$46,21,FALSE))","v":""},{"$f":"IF(AI43=\"\",\"\",VLOOKUP(AI43,'（ユニット型）シフト記号表'!$C$5:$W$46,21,FALSE))","v":""},{"$f":"IF(AJ43=\"\",\"\",VLOOKUP(AJ43,'（ユニット型）シフト記号表'!$C$5:$W$46,21,FALSE))","v":""},{"$f":"IF(AK43=\"\",\"\",VLOOKUP(AK43,'（ユニット型）シフト記号表'!$C$5:$W$46,21,FALSE))","v":""},{"$f":"IF(AL43=\"\",\"\",VLOOKUP(AL43,'（ユニット型）シフト記号表'!$C$5:$W$46,21,FALSE))","v":""},{"$f":"IF(AM43=\"\",\"\",VLOOKUP(AM43,'（ユニット型）シフト記号表'!$C$5:$W$46,21,FALSE))","v":""},{"$f":"IF(AN43=\"\",\"\",VLOOKUP(AN43,'（ユニット型）シフト記号表'!$C$5:$W$46,21,FALSE))","v":""},{"$f":"IF(AO43=\"\",\"\",VLOOKUP(AO43,'（ユニット型）シフト記号表'!$C$5:$W$46,21,FALSE))","v":""},{"$f":"IF(AP43=\"\",\"\",VLOOKUP(AP43,'（ユニット型）シフト記号表'!$C$5:$W$46,21,FALSE))","v":""},{"$f":"IF(AQ43=\"\",\"\",VLOOKUP(AQ43,'（ユニット型）シフト記号表'!$C$5:$W$46,21,FALSE))","v":""},{"$f":"IF(AR43=\"\",\"\",VLOOKUP(AR43,'（ユニット型）シフト記号表'!$C$5:$W$46,21,FALSE))","v":""},{"$f":"IF(AS43=\"\",\"\",VLOOKUP(AS43,'（ユニット型）シフト記号表'!$C$5:$W$46,21,FALSE))","v":""},{"$f":"IF(AT43=\"\",\"\",VLOOKUP(AT43,'（ユニット型）シフト記号表'!$C$5:$W$46,21,FALSE))","v":""},{"$f":"IF(AU43=\"\",\"\",VLOOKUP(AU43,'（ユニット型）シフト記号表'!$C$5:$W$46,21,FALSE))","v":""},{"$f":"IF(AV43=\"\",\"\",VLOOKUP(AV43,'（ユニット型）シフト記号表'!$C$5:$W$46,21,FALSE))","v":""},{"$f":"IF(AW43=\"\",\"\",VLOOKUP(AW43,'（ユニット型）シフト記号表'!$C$5:$W$46,21,FALSE))","v":""},{"$f":"IF(AX43=\"\",\"\",VLOOKUP(AX43,'（ユニット型）シフト記号表'!$C$5:$W$46,21,FALSE))","v":""},{"$f":"IF(AY43=\"\",\"\",VLOOKUP(AY43,'（ユニット型）シフト記号表'!$C$5:$W$46,21,FALSE))","v":""},{"$f":"IF(AZ43=\"\",\"\",VLOOKUP(AZ43,'（ユニット型）シフト記号表'!$C$5:$W$46,21,FALSE))","v":""},{"$f":"IF(BA43=\"\",\"\",VLOOKUP(BA43,'（ユニット型）シフト記号表'!$C$5:$W$46,21,FALSE))","v":""},{"$f":"IF(BB43=\"\",\"\",VLOOKUP(BB43,'（ユニット型）シフト記号表'!$C$5:$W$46,21,FALSE))","v":""},{"$f":"IF(BC43=\"\",\"\",VLOOKUP(BC43,'（ユニット型）シフト記号表'!$C$5:$W$46,21,FALSE))","v":""},{"$f":"IF(BD43=\"\",\"\",VLOOKUP(BD43,'（ユニット型）シフト記号表'!$C$5:$W$46,21,FALSE))","v":""},{"$f":"IF(BE43=\"\",\"\",VLOOKUP(BE43,'（ユニット型）シフト記号表'!$C$5:$W$46,21,FALSE))","v":""},{"$f":"IF($BI$3=\"計画\",SUM(AA44:BB44),IF($BI$3=\"実績\",SUM(AA44:BE44),\"\"))","v":0},null,{"$f":"IF($BI$3=\"計画\",BF44/4,IF($BI$3=\"実績\",(BF44/($BI$7/7)),\"\"))","v":0}]
[null,null,null,null,null,null,null,null,{"$f":"G44","v":0},null,{"$f":"M44","v":0},null,null,null,null,null,null,null,null,null,null,"夜勤時間帯の勤務時間数",null,null,null,null,{"$f":"IF(AA43=\"\",\"\",VLOOKUP(AA43,'（ユニット型）シフト記号表'!$C$5:$Y$46,23,FALSE))","v":""},{"$f":"IF(AB43=\"\",\"\",VLOOKUP(AB43,'（ユニット型）シフト記号表'!$C$5:$Y$46,23,FALSE))","v":""},{"$f":"IF(AC43=\"\",\"\",VLOOKUP(AC43,'（ユニット型）シフト記号表'!$C$5:$Y$46,23,FALSE))","v":""},{"$f":"IF(AD43=\"\",\"\",VLOOKUP(AD43,'（ユニット型）シフト記号表'!$C$5:$Y$46,23,FALSE))","v":""},{"$f":"IF(AE43=\"\",\"\",VLOOKUP(AE43,'（ユニット型）シフト記号表'!$C$5:$Y$46,23,FALSE))","v":""},{"$f":"IF(AF43=\"\",\"\",VLOOKUP(AF43,'（ユニット型）シフト記号表'!$C$5:$Y$46,23,FALSE))","v":""},{"$f":"IF(AG43=\"\",\"\",VLOOKUP(AG43,'（ユニット型）シフト記号表'!$C$5:$Y$46,23,FALSE))","v":""},{"$f":"IF(AH43=\"\",\"\",VLOOKUP(AH43,'（ユニット型）シフト記号表'!$C$5:$Y$46,23,FALSE))","v":""},{"$f":"IF(AI43=\"\",\"\",VLOOKUP(AI43,'（ユニット型）シフト記号表'!$C$5:$Y$46,23,FALSE))","v":""},{"$f":"IF(AJ43=\"\",\"\",VLOOKUP(AJ43,'（ユニット型）シフト記号表'!$C$5:$Y$46,23,FALSE))","v":""},{"$f":"IF(AK43=\"\",\"\",VLOOKUP(AK43,'（ユニット型）シフト記号表'!$C$5:$Y$46,23,FALSE))","v":""},{"$f":"IF(AL43=\"\",\"\",VLOOKUP(AL43,'（ユニット型）シフト記号表'!$C$5:$Y$46,23,FALSE))","v":""},{"$f":"IF(AM43=\"\",\"\",VLOOKUP(AM43,'（ユニット型）シフト記号表'!$C$5:$Y$46,23,FALSE))","v":""},{"$f":"IF(AN43=\"\",\"\",VLOOKUP(AN43,'（ユニット型）シフト記号表'!$C$5:$Y$46,23,FALSE))","v":""},{"$f":"IF(AO43=\"\",\"\",VLOOKUP(AO43,'（ユニット型）シフト記号表'!$C$5:$Y$46,23,FALSE))","v":""},{"$f":"IF(AP43=\"\",\"\",VLOOKUP(AP43,'（ユニット型）シフト記号表'!$C$5:$Y$46,23,FALSE))","v":""},{"$f":"IF(AQ43=\"\",\"\",VLOOKUP(AQ43,'（ユニット型）シフト記号表'!$C$5:$Y$46,23,FALSE))","v":""},{"$f":"IF(AR43=\"\",\"\",VLOOKUP(AR43,'（ユニット型）シフト記号表'!$C$5:$Y$46,23,FALSE))","v":""},{"$f":"IF(AS43=\"\",\"\",VLOOKUP(AS43,'（ユニット型）シフト記号表'!$C$5:$Y$46,23,FALSE))","v":""},{"$f":"IF(AT43=\"\",\"\",VLOOKUP(AT43,'（ユニット型）シフト記号表'!$C$5:$Y$46,23,FALSE))","v":""},{"$f":"IF(AU43=\"\",\"\",VLOOKUP(AU43,'（ユニット型）シフト記号表'!$C$5:$Y$46,23,FALSE))","v":""},{"$f":"IF(AV43=\"\",\"\",VLOOKUP(AV43,'（ユニット型）シフト記号表'!$C$5:$Y$46,23,FALSE))","v":""},{"$f":"IF(AW43=\"\",\"\",VLOOKUP(AW43,'（ユニット型）シフト記号表'!$C$5:$Y$46,23,FALSE))","v":""},{"$f":"IF(AX43=\"\",\"\",VLOOKUP(AX43,'（ユニット型）シフト記号表'!$C$5:$Y$46,23,FALSE))","v":""},{"$f":"IF(AY43=\"\",\"\",VLOOKUP(AY43,'（ユニット型）シフト記号表'!$C$5:$Y$46,23,FALSE))","v":""},{"$f":"IF(AZ43=\"\",\"\",VLOOKUP(AZ43,'（ユニット型）シフト記号表'!$C$5:$Y$46,23,FALSE))","v":""},{"$f":"IF(BA43=\"\",\"\",VLOOKUP(BA43,'（ユニット型）シフト記号表'!$C$5:$Y$46,23,FALSE))","v":""},{"$f":"IF(BB43=\"\",\"\",VLOOKUP(BB43,'（ユニット型）シフト記号表'!$C$5:$Y$46,23,FALSE))","v":""},{"$f":"IF(BC43=\"\",\"\",VLOOKUP(BC43,'（ユニット型）シフト記号表'!$C$5:$Y$46,23,FALSE))","v":""},{"$f":"IF(BD43=\"\",\"\",VLOOKUP(BD43,'（ユニット型）シフト記号表'!$C$5:$Y$46,23,FALSE))","v":""},{"$f":"IF(BE43=\"\",\"\",VLOOKUP(BE43,'（ユニット型）シフト記号表'!$C$5:$Y$46,23,FALSE))","v":""},{"$f":"IF($BI$3=\"計画\",SUM(AA45:BB45),IF($BI$3=\"実績\",SUM(AA45:BE45),\"\"))","v":0},null,{"$f":"IF($BI$3=\"計画\",BF45/4,IF($BI$3=\"実績\",(BF45/($BI$7/7)),\"\"))","v":0}]
[null,null,null,null,null,null,null,null,null,null,null,null,null,null,null,null,null,null,null,null,null,"シフト記号"]
[null,{"$f":"B44+1","v":10},null,null,null,null,null,null,null,null,null,null,null,null,null,null,null,null,null,null,null,"日中の勤務時間数",null,null,null,null,{"$f":"IF(AA46=\"\",\"\",VLOOKUP(AA46,'（ユニット型）シフト記号表'!$C$5:$W$46,21,FALSE))","v":""},{"$f":"IF(AB46=\"\",\"\",VLOOKUP(AB46,'（ユニット型）シフト記号表'!$C$5:$W$46,21,FALSE))","v":""},{"$f":"IF(AC46=\"\",\"\",VLOOKUP(AC46,'（ユニット型）シフト記号表'!$C$5:$W$46,21,FALSE))","v":""},{"$f":"IF(AD46=\"\",\"\",VLOOKUP(AD46,'（ユニット型）シフト記号表'!$C$5:$W$46,21,FALSE))","v":""},{"$f":"IF(AE46=\"\",\"\",VLOOKUP(AE46,'（ユニット型）シフト記号表'!$C$5:$W$46,21,FALSE))","v":""},{"$f":"IF(AF46=\"\",\"\",VLOOKUP(AF46,'（ユニット型）シフト記号表'!$C$5:$W$46,21,FALSE))","v":""},{"$f":"IF(AG46=\"\",\"\",VLOOKUP(AG46,'（ユニット型）シフト記号表'!$C$5:$W$46,21,FALSE))","v":""},{"$f":"IF(AH46=\"\",\"\",VLOOKUP(AH46,'（ユニット型）シフト記号表'!$C$5:$W$46,21,FALSE))","v":""},{"$f":"IF(AI46=\"\",\"\",VLOOKUP(AI46,'（ユニット型）シフト記号表'!$C$5:$W$46,21,FALSE))","v":""},{"$f":"IF(AJ46=\"\",\"\",VLOOKUP(AJ46,'（ユニット型）シフト記号表'!$C$5:$W$46,21,FALSE))","v":""},{"$f":"IF(AK46=\"\",\"\",VLOOKUP(AK46,'（ユニット型）シフト記号表'!$C$5:$W$46,21,FALSE))","v":""},{"$f":"IF(AL46=\"\",\"\",VLOOKUP(AL46,'（ユニット型）シフト記号表'!$C$5:$W$46,21,FALSE))","v":""},{"$f":"IF(AM46=\"\",\"\",VLOOKUP(AM46,'（ユニット型）シフト記号表'!$C$5:$W$46,21,FALSE))","v":""},{"$f":"IF(AN46=\"\",\"\",VLOOKUP(AN46,'（ユニット型）シフト記号表'!$C$5:$W$46,21,FALSE))","v":""},{"$f":"IF(AO46=\"\",\"\",VLOOKUP(AO46,'（ユニット型）シフト記号表'!$C$5:$W$46,21,FALSE))","v":""},{"$f":"IF(AP46=\"\",\"\",VLOOKUP(AP46,'（ユニット型）シフト記号表'!$C$5:$W$46,21,FALSE))","v":""},{"$f":"IF(AQ46=\"\",\"\",VLOOKUP(AQ46,'（ユニット型）シフト記号表'!$C$5:$W$46,21,FALSE))","v":""},{"$f":"IF(AR46=\"\",\"\",VLOOKUP(AR46,'（ユニット型）シフト記号表'!$C$5:$W$46,21,FALSE))","v":""},{"$f":"IF(AS46=\"\",\"\",VLOOKUP(AS46,'（ユニット型）シフト記号表'!$C$5:$W$46,21,FALSE))","v":""},{"$f":"IF(AT46=\"\",\"\",VLOOKUP(AT46,'（ユニット型）シフト記号表'!$C$5:$W$46,21,FALSE))","v":""},{"$f":"IF(AU46=\"\",\"\",VLOOKUP(AU46,'（ユニット型）シフト記号表'!$C$5:$W$46,21,FALSE))","v":""},{"$f":"IF(AV46=\"\",\"\",VLOOKUP(AV46,'（ユニット型）シフト記号表'!$C$5:$W$46,21,FALSE))","v":""},{"$f":"IF(AW46=\"\",\"\",VLOOKUP(AW46,'（ユニット型）シフト記号表'!$C$5:$W$46,21,FALSE))","v":""},{"$f":"IF(AX46=\"\",\"\",VLOOKUP(AX46,'（ユニット型）シフト記号表'!$C$5:$W$46,21,FALSE))","v":""},{"$f":"IF(AY46=\"\",\"\",VLOOKUP(AY46,'（ユニット型）シフト記号表'!$C$5:$W$46,21,FALSE))","v":""},{"$f":"IF(AZ46=\"\",\"\",VLOOKUP(AZ46,'（ユニット型）シフト記号表'!$C$5:$W$46,21,FALSE))","v":""},{"$f":"IF(BA46=\"\",\"\",VLOOKUP(BA46,'（ユニット型）シフト記号表'!$C$5:$W$46,21,FALSE))","v":""},{"$f":"IF(BB46=\"\",\"\",VLOOKUP(BB46,'（ユニット型）シフト記号表'!$C$5:$W$46,21,FALSE))","v":""},{"$f":"IF(BC46=\"\",\"\",VLOOKUP(BC46,'（ユニット型）シフト記号表'!$C$5:$W$46,21,FALSE))","v":""},{"$f":"IF(BD46=\"\",\"\",VLOOKUP(BD46,'（ユニット型）シフト記号表'!$C$5:$W$46,21,FALSE))","v":""},{"$f":"IF(BE46=\"\",\"\",VLOOKUP(BE46,'（ユニット型）シフト記号表'!$C$5:$W$46,21,FALSE))","v":""},{"$f":"IF($BI$3=\"計画\",SUM(AA47:BB47),IF($BI$3=\"実績\",SUM(AA47:BE47),\"\"))","v":0},null,{"$f":"IF($BI$3=\"計画\",BF47/4,IF($BI$3=\"実績\",(BF47/($BI$7/7)),\"\"))","v":0}]
[null,null,null,null,null,null,null,null,{"$f":"G47","v":0},null,{"$f":"M47","v":0},null,null,null,null,null,null,null,null,null,null,"夜勤時間帯の勤務時間数",null,null,null,null,{"$f":"IF(AA46=\"\",\"\",VLOOKUP(AA46,'（ユニット型）シフト記号表'!$C$5:$Y$46,23,FALSE))","v":""},{"$f":"IF(AB46=\"\",\"\",VLOOKUP(AB46,'（ユニット型）シフト記号表'!$C$5:$Y$46,23,FALSE))","v":""},{"$f":"IF(AC46=\"\",\"\",VLOOKUP(AC46,'（ユニット型）シフト記号表'!$C$5:$Y$46,23,FALSE))","v":""},{"$f":"IF(AD46=\"\",\"\",VLOOKUP(AD46,'（ユニット型）シフト記号表'!$C$5:$Y$46,23,FALSE))","v":""},{"$f":"IF(AE46=\"\",\"\",VLOOKUP(AE46,'（ユニット型）シフト記号表'!$C$5:$Y$46,23,FALSE))","v":""},{"$f":"IF(AF46=\"\",\"\",VLOOKUP(AF46,'（ユニット型）シフト記号表'!$C$5:$Y$46,23,FALSE))","v":""},{"$f":"IF(AG46=\"\",\"\",VLOOKUP(AG46,'（ユニット型）シフト記号表'!$C$5:$Y$46,23,FALSE))","v":""},{"$f":"IF(AH46=\"\",\"\",VLOOKUP(AH46,'（ユニット型）シフト記号表'!$C$5:$Y$46,23,FALSE))","v":""},{"$f":"IF(AI46=\"\",\"\",VLOOKUP(AI46,'（ユニット型）シフト記号表'!$C$5:$Y$46,23,FALSE))","v":""},{"$f":"IF(AJ46=\"\",\"\",VLOOKUP(AJ46,'（ユニット型）シフト記号表'!$C$5:$Y$46,23,FALSE))","v":""},{"$f":"IF(AK46=\"\",\"\",VLOOKUP(AK46,'（ユニット型）シフト記号表'!$C$5:$Y$46,23,FALSE))","v":""},{"$f":"IF(AL46=\"\",\"\",VLOOKUP(AL46,'（ユニット型）シフト記号表'!$C$5:$Y$46,23,FALSE))","v":""},{"$f":"IF(AM46=\"\",\"\",VLOOKUP(AM46,'（ユニット型）シフト記号表'!$C$5:$Y$46,23,FALSE))","v":""},{"$f":"IF(AN46=\"\",\"\",VLOOKUP(AN46,'（ユニット型）シフト記号表'!$C$5:$Y$46,23,FALSE))","v":""},{"$f":"IF(AO46=\"\",\"\",VLOOKUP(AO46,'（ユニット型）シフト記号表'!$C$5:$Y$46,23,FALSE))","v":""},{"$f":"IF(AP46=\"\",\"\",VLOOKUP(AP46,'（ユニット型）シフト記号表'!$C$5:$Y$46,23,FALSE))","v":""},{"$f":"IF(AQ46=\"\",\"\",VLOOKUP(AQ46,'（ユニット型）シフト記号表'!$C$5:$Y$46,23,FALSE))","v":""},{"$f":"IF(AR46=\"\",\"\",VLOOKUP(AR46,'（ユニット型）シフト記号表'!$C$5:$Y$46,23,FALSE))","v":""},{"$f":"IF(AS46=\"\",\"\",VLOOKUP(AS46,'（ユニット型）シフト記号表'!$C$5:$Y$46,23,FALSE))","v":""},{"$f":"IF(AT46=\"\",\"\",VLOOKUP(AT46,'（ユニット型）シフト記号表'!$C$5:$Y$46,23,FALSE))","v":""},{"$f":"IF(AU46=\"\",\"\",VLOOKUP(AU46,'（ユニット型）シフト記号表'!$C$5:$Y$46,23,FALSE))","v":""},{"$f":"IF(AV46=\"\",\"\",VLOOKUP(AV46,'（ユニット型）シフト記号表'!$C$5:$Y$46,23,FALSE))","v":""},{"$f":"IF(AW46=\"\",\"\",VLOOKUP(AW46,'（ユニット型）シフト記号表'!$C$5:$Y$46,23,FALSE))","v":""},{"$f":"IF(AX46=\"\",\"\",VLOOKUP(AX46,'（ユニット型）シフト記号表'!$C$5:$Y$46,23,FALSE))","v":""},{"$f":"IF(AY46=\"\",\"\",VLOOKUP(AY46,'（ユニット型）シフト記号表'!$C$5:$Y$46,23,FALSE))","v":""},{"$f":"IF(AZ46=\"\",\"\",VLOOKUP(AZ46,'（ユニット型）シフト記号表'!$C$5:$Y$46,23,FALSE))","v":""},{"$f":"IF(BA46=\"\",\"\",VLOOKUP(BA46,'（ユニット型）シフト記号表'!$C$5:$Y$46,23,FALSE))","v":""},{"$f":"IF(BB46=\"\",\"\",VLOOKUP(BB46,'（ユニット型）シフト記号表'!$C$5:$Y$46,23,FALSE))","v":""},{"$f":"IF(BC46=\"\",\"\",VLOOKUP(BC46,'（ユニット型）シフト記号表'!$C$5:$Y$46,23,FALSE))","v":""},{"$f":"IF(BD46=\"\",\"\",VLOOKUP(BD46,'（ユニット型）シフト記号表'!$C$5:$Y$46,23,FALSE))","v":""},{"$f":"IF(BE46=\"\",\"\",VLOOKUP(BE46,'（ユニット型）シフト記号表'!$C$5:$Y$46,23,FALSE))","v":""},{"$f":"IF($BI$3=\"計画\",SUM(AA48:BB48),IF($BI$3=\"実績\",SUM(AA48:BE48),\"\"))","v":0},null,{"$f":"IF($BI$3=\"計画\",BF48/4,IF($BI$3=\"実績\",(BF48/($BI$7/7)),\"\"))","v":0}]
[null,null,null,null,null,null,null,null,null,null,null,null,null,null,null,null,null,null,null,null,null,"シフト記号"]
[null,{"$f":"B47+1","v":11},null,null,null,null,null,null,null,null,null,null,null,null,null,null,null,null,null,null,null,"日中の勤務時間数",null,null,null,null,{"$f":"IF(AA49=\"\",\"\",VLOOKUP(AA49,'（ユニット型）シフト記号表'!$C$5:$W$46,21,FALSE))","v":""},{"$f":"IF(AB49=\"\",\"\",VLOOKUP(AB49,'（ユニット型）シフト記号表'!$C$5:$W$46,21,FALSE))","v":""},{"$f":"IF(AC49=\"\",\"\",VLOOKUP(AC49,'（ユニット型）シフト記号表'!$C$5:$W$46,21,FALSE))","v":""},{"$f":"IF(AD49=\"\",\"\",VLOOKUP(AD49,'（ユニット型）シフト記号表'!$C$5:$W$46,21,FALSE))","v":""},{"$f":"IF(AE49=\"\",\"\",VLOOKUP(AE49,'（ユニット型）シフト記号表'!$C$5:$W$46,21,FALSE))","v":""},{"$f":"IF(AF49=\"\",\"\",VLOOKUP(AF49,'（ユニット型）シフト記号表'!$C$5:$W$46,21,FALSE))","v":""},{"$f":"IF(AG49=\"\",\"\",VLOOKUP(AG49,'（ユニット型）シフト記号表'!$C$5:$W$46,21,FALSE))","v":""},{"$f":"IF(AH49=\"\",\"\",VLOOKUP(AH49,'（ユニット型）シフト記号表'!$C$5:$W$46,21,FALSE))","v":""},{"$f":"IF(AI49=\"\",\"\",VLOOKUP(AI49,'（ユニット型）シフト記号表'!$C$5:$W$46,21,FALSE))","v":""},{"$f":"IF(AJ49=\"\",\"\",VLOOKUP(AJ49,'（ユニット型）シフト記号表'!$C$5:$W$46,21,FALSE))","v":""},{"$f":"IF(AK49=\"\",\"\",VLOOKUP(AK49,'（ユニット型）シフト記号表'!$C$5:$W$46,21,FALSE))","v":""},{"$f":"IF(AL49=\"\",\"\",VLOOKUP(AL49,'（ユニット型）シフト記号表'!$C$5:$W$46,21,FALSE))","v":""},{"$f":"IF(AM49=\"\",\"\",VLOOKUP(AM49,'（ユニット型）シフト記号表'!$C$5:$W$46,21,FALSE))","v":""},{"$f":"IF(AN49=\"\",\"\",VLOOKUP(AN49,'（ユニット型）シフト記号表'!$C$5:$W$46,21,FALSE))","v":""},{"$f":"IF(AO49=\"\",\"\",VLOOKUP(AO49,'（ユニット型）シフト記号表'!$C$5:$W$46,21,FALSE))","v":""},{"$f":"IF(AP49=\"\",\"\",VLOOKUP(AP49,'（ユニット型）シフト記号表'!$C$5:$W$46,21,FALSE))","v":""},{"$f":"IF(AQ49=\"\",\"\",VLOOKUP(AQ49,'（ユニット型）シフト記号表'!$C$5:$W$46,21,FALSE))","v":""},{"$f":"IF(AR49=\"\",\"\",VLOOKUP(AR49,'（ユニット型）シフト記号表'!$C$5:$W$46,21,FALSE))","v":""},{"$f":"IF(AS49=\"\",\"\",VLOOKUP(AS49,'（ユニット型）シフト記号表'!$C$5:$W$46,21,FALSE))","v":""},{"$f":"IF(AT49=\"\",\"\",VLOOKUP(AT49,'（ユニット型）シフト記号表'!$C$5:$W$46,21,FALSE))","v":""},{"$f":"IF(AU49=\"\",\"\",VLOOKUP(AU49,'（ユニット型）シフト記号表'!$C$5:$W$46,21,FALSE))","v":""},{"$f":"IF(AV49=\"\",\"\",VLOOKUP(AV49,'（ユニット型）シフト記号表'!$C$5:$W$46,21,FALSE))","v":""},{"$f":"IF(AW49=\"\",\"\",VLOOKUP(AW49,'（ユニット型）シフト記号表'!$C$5:$W$46,21,FALSE))","v":""},{"$f":"IF(AX49=\"\",\"\",VLOOKUP(AX49,'（ユニット型）シフト記号表'!$C$5:$W$46,21,FALSE))","v":""},{"$f":"IF(AY49=\"\",\"\",VLOOKUP(AY49,'（ユニット型）シフト記号表'!$C$5:$W$46,21,FALSE))","v":""},{"$f":"IF(AZ49=\"\",\"\",VLOOKUP(AZ49,'（ユニット型）シフト記号表'!$C$5:$W$46,21,FALSE))","v":""},{"$f":"IF(BA49=\"\",\"\",VLOOKUP(BA49,'（ユニット型）シフト記号表'!$C$5:$W$46,21,FALSE))","v":""},{"$f":"IF(BB49=\"\",\"\",VLOOKUP(BB49,'（ユニット型）シフト記号表'!$C$5:$W$46,21,FALSE))","v":""},{"$f":"IF(BC49=\"\",\"\",VLOOKUP(BC49,'（ユニット型）シフト記号表'!$C$5:$W$46,21,FALSE))","v":""},{"$f":"IF(BD49=\"\",\"\",VLOOKUP(BD49,'（ユニット型）シフト記号表'!$C$5:$W$46,21,FALSE))","v":""},{"$f":"IF(BE49=\"\",\"\",VLOOKUP(BE49,'（ユニット型）シフト記号表'!$C$5:$W$46,21,FALSE))","v":""},{"$f":"IF($BI$3=\"計画\",SUM(AA50:BB50),IF($BI$3=\"実績\",SUM(AA50:BE50),\"\"))","v":0},null,{"$f":"IF($BI$3=\"計画\",BF50/4,IF($BI$3=\"実績\",(BF50/($BI$7/7)),\"\"))","v":0}]
[null,null,null,null,null,null,null,null,{"$f":"G50","v":0},null,{"$f":"M50","v":0},null,null,null,null,null,null,null,null,null,null,"夜勤時間帯の勤務時間数",null,null,null,null,{"$f":"IF(AA49=\"\",\"\",VLOOKUP(AA49,'（ユニット型）シフト記号表'!$C$5:$Y$46,23,FALSE))","v":""},{"$f":"IF(AB49=\"\",\"\",VLOOKUP(AB49,'（ユニット型）シフト記号表'!$C$5:$Y$46,23,FALSE))","v":""},{"$f":"IF(AC49=\"\",\"\",VLOOKUP(AC49,'（ユニット型）シフト記号表'!$C$5:$Y$46,23,FALSE))","v":""},{"$f":"IF(AD49=\"\",\"\",VLOOKUP(AD49,'（ユニット型）シフト記号表'!$C$5:$Y$46,23,FALSE))","v":""},{"$f":"IF(AE49=\"\",\"\",VLOOKUP(AE49,'（ユニット型）シフト記号表'!$C$5:$Y$46,23,FALSE))","v":""},{"$f":"IF(AF49=\"\",\"\",VLOOKUP(AF49,'（ユニット型）シフト記号表'!$C$5:$Y$46,23,FALSE))","v":""},{"$f":"IF(AG49=\"\",\"\",VLOOKUP(AG49,'（ユニット型）シフト記号表'!$C$5:$Y$46,23,FALSE))","v":""},{"$f":"IF(AH49=\"\",\"\",VLOOKUP(AH49,'（ユニット型）シフト記号表'!$C$5:$Y$46,23,FALSE))","v":""},{"$f":"IF(AI49=\"\",\"\",VLOOKUP(AI49,'（ユニット型）シフト記号表'!$C$5:$Y$46,23,FALSE))","v":""},{"$f":"IF(AJ49=\"\",\"\",VLOOKUP(AJ49,'（ユニット型）シフト記号表'!$C$5:$Y$46,23,FALSE))","v":""},{"$f":"IF(AK49=\"\",\"\",VLOOKUP(AK49,'（ユニット型）シフト記号表'!$C$5:$Y$46,23,FALSE))","v":""},{"$f":"IF(AL49=\"\",\"\",VLOOKUP(AL49,'（ユニット型）シフト記号表'!$C$5:$Y$46,23,FALSE))","v":""},{"$f":"IF(AM49=\"\",\"\",VLOOKUP(AM49,'（ユニット型）シフト記号表'!$C$5:$Y$46,23,FALSE))","v":""},{"$f":"IF(AN49=\"\",\"\",VLOOKUP(AN49,'（ユニット型）シフト記号表'!$C$5:$Y$46,23,FALSE))","v":""},{"$f":"IF(AO49=\"\",\"\",VLOOKUP(AO49,'（ユニット型）シフト記号表'!$C$5:$Y$46,23,FALSE))","v":""},{"$f":"IF(AP49=\"\",\"\",VLOOKUP(AP49,'（ユニット型）シフト記号表'!$C$5:$Y$46,23,FALSE))","v":""},{"$f":"IF(AQ49=\"\",\"\",VLOOKUP(AQ49,'（ユニット型）シフト記号表'!$C$5:$Y$46,23,FALSE))","v":""},{"$f":"IF(AR49=\"\",\"\",VLOOKUP(AR49,'（ユニット型）シフト記号表'!$C$5:$Y$46,23,FALSE))","v":""},{"$f":"IF(AS49=\"\",\"\",VLOOKUP(AS49,'（ユニット型）シフト記号表'!$C$5:$Y$46,23,FALSE))","v":""},{"$f":"IF(AT49=\"\",\"\",VLOOKUP(AT49,'（ユニット型）シフト記号表'!$C$5:$Y$46,23,FALSE))","v":""},{"$f":"IF(AU49=\"\",\"\",VLOOKUP(AU49,'（ユニット型）シフト記号表'!$C$5:$Y$46,23,FALSE))","v":""},{"$f":"IF(AV49=\"\",\"\",VLOOKUP(AV49,'（ユニット型）シフト記号表'!$C$5:$Y$46,23,FALSE))","v":""},{"$f":"IF(AW49=\"\",\"\",VLOOKUP(AW49,'（ユニット型）シフト記号表'!$C$5:$Y$46,23,FALSE))","v":""},{"$f":"IF(AX49=\"\",\"\",VLOOKUP(AX49,'（ユニット型）シフト記号表'!$C$5:$Y$46,23,FALSE))","v":""},{"$f":"IF(AY49=\"\",\"\",VLOOKUP(AY49,'（ユニット型）シフト記号表'!$C$5:$Y$46,23,FALSE))","v":""},{"$f":"IF(AZ49=\"\",\"\",VLOOKUP(AZ49,'（ユニット型）シフト記号表'!$C$5:$Y$46,23,FALSE))","v":""},{"$f":"IF(BA49=\"\",\"\",VLOOKUP(BA49,'（ユニット型）シフト記号表'!$C$5:$Y$46,23,FALSE))","v":""},{"$f":"IF(BB49=\"\",\"\",VLOOKUP(BB49,'（ユニット型）シフト記号表'!$C$5:$Y$46,23,FALSE))","v":""},{"$f":"IF(BC49=\"\",\"\",VLOOKUP(BC49,'（ユニット型）シフト記号表'!$C$5:$Y$46,23,FALSE))","v":""},{"$f":"IF(BD49=\"\",\"\",VLOOKUP(BD49,'（ユニット型）シフト記号表'!$C$5:$Y$46,23,FALSE))","v":""},{"$f":"IF(BE49=\"\",\"\",VLOOKUP(BE49,'（ユニット型）シフト記号表'!$C$5:$Y$46,23,FALSE))","v":""},{"$f":"IF($BI$3=\"計画\",SUM(AA51:BB51),IF($BI$3=\"実績\",SUM(AA51:BE51),\"\"))","v":0},null,{"$f":"IF($BI$3=\"計画\",BF51/4,IF($BI$3=\"実績\",(BF51/($BI$7/7)),\"\"))","v":0}]
[null,null,null,null,null,null,null,null,null,null,null,null,null,null,null,null,null,null,null,null,null,"シフト記号"]
[null,{"$f":"B50+1","v":12},null,null,null,null,null,null,null,null,null,null,null,null,null,null,null,null,null,null,null,"日中の勤務時間数",null,null,null,null,{"$f":"IF(AA52=\"\",\"\",VLOOKUP(AA52,'（ユニット型）シフト記号表'!$C$5:$W$46,21,FALSE))","v":""},{"$f":"IF(AB52=\"\",\"\",VLOOKUP(AB52,'（ユニット型）シフト記号表'!$C$5:$W$46,21,FALSE))","v":""},{"$f":"IF(AC52=\"\",\"\",VLOOKUP(AC52,'（ユニット型）シフト記号表'!$C$5:$W$46,21,FALSE))","v":""},{"$f":"IF(AD52=\"\",\"\",VLOOKUP(AD52,'（ユニット型）シフト記号表'!$C$5:$W$46,21,FALSE))","v":""},{"$f":"IF(AE52=\"\",\"\",VLOOKUP(AE52,'（ユニット型）シフト記号表'!$C$5:$W$46,21,FALSE))","v":""},{"$f":"IF(AF52=\"\",\"\",VLOOKUP(AF52,'（ユニット型）シフト記号表'!$C$5:$W$46,21,FALSE))","v":""},{"$f":"IF(AG52=\"\",\"\",VLOOKUP(AG52,'（ユニット型）シフト記号表'!$C$5:$W$46,21,FALSE))","v":""},{"$f":"IF(AH52=\"\",\"\",VLOOKUP(AH52,'（ユニット型）シフト記号表'!$C$5:$W$46,21,FALSE))","v":""},{"$f":"IF(AI52=\"\",\"\",VLOOKUP(AI52,'（ユニット型）シフト記号表'!$C$5:$W$46,21,FALSE))","v":""},{"$f":"IF(AJ52=\"\",\"\",VLOOKUP(AJ52,'（ユニット型）シフト記号表'!$C$5:$W$46,21,FALSE))","v":""},{"$f":"IF(AK52=\"\",\"\",VLOOKUP(AK52,'（ユニット型）シフト記号表'!$C$5:$W$46,21,FALSE))","v":""},{"$f":"IF(AL52=\"\",\"\",VLOOKUP(AL52,'（ユニット型）シフト記号表'!$C$5:$W$46,21,FALSE))","v":""},{"$f":"IF(AM52=\"\",\"\",VLOOKUP(AM52,'（ユニット型）シフト記号表'!$C$5:$W$46,21,FALSE))","v":""},{"$f":"IF(AN52=\"\",\"\",VLOOKUP(AN52,'（ユニット型）シフト記号表'!$C$5:$W$46,21,FALSE))","v":""},{"$f":"IF(AO52=\"\",\"\",VLOOKUP(AO52,'（ユニット型）シフト記号表'!$C$5:$W$46,21,FALSE))","v":""},{"$f":"IF(AP52=\"\",\"\",VLOOKUP(AP52,'（ユニット型）シフト記号表'!$C$5:$W$46,21,FALSE))","v":""},{"$f":"IF(AQ52=\"\",\"\",VLOOKUP(AQ52,'（ユニット型）シフト記号表'!$C$5:$W$46,21,FALSE))","v":""},{"$f":"IF(AR52=\"\",\"\",VLOOKUP(AR52,'（ユニット型）シフト記号表'!$C$5:$W$46,21,FALSE))","v":""},{"$f":"IF(AS52=\"\",\"\",VLOOKUP(AS52,'（ユニット型）シフト記号表'!$C$5:$W$46,21,FALSE))","v":""},{"$f":"IF(AT52=\"\",\"\",VLOOKUP(AT52,'（ユニット型）シフト記号表'!$C$5:$W$46,21,FALSE))","v":""},{"$f":"IF(AU52=\"\",\"\",VLOOKUP(AU52,'（ユニット型）シフト記号表'!$C$5:$W$46,21,FALSE))","v":""},{"$f":"IF(AV52=\"\",\"\",VLOOKUP(AV52,'（ユニット型）シフト記号表'!$C$5:$W$46,21,FALSE))","v":""},{"$f":"IF(AW52=\"\",\"\",VLOOKUP(AW52,'（ユニット型）シフト記号表'!$C$5:$W$46,21,FALSE))","v":""},{"$f":"IF(AX52=\"\",\"\",VLOOKUP(AX52,'（ユニット型）シフト記号表'!$C$5:$W$46,21,FALSE))","v":""},{"$f":"IF(AY52=\"\",\"\",VLOOKUP(AY52,'（ユニット型）シフト記号表'!$C$5:$W$46,21,FALSE))","v":""},{"$f":"IF(AZ52=\"\",\"\",VLOOKUP(AZ52,'（ユニット型）シフト記号表'!$C$5:$W$46,21,FALSE))","v":""},{"$f":"IF(BA52=\"\",\"\",VLOOKUP(BA52,'（ユニット型）シフト記号表'!$C$5:$W$46,21,FALSE))","v":""},{"$f":"IF(BB52=\"\",\"\",VLOOKUP(BB52,'（ユニット型）シフト記号表'!$C$5:$W$46,21,FALSE))","v":""},{"$f":"IF(BC52=\"\",\"\",VLOOKUP(BC52,'（ユニット型）シフト記号表'!$C$5:$W$46,21,FALSE))","v":""},{"$f":"IF(BD52=\"\",\"\",VLOOKUP(BD52,'（ユニット型）シフト記号表'!$C$5:$W$46,21,FALSE))","v":""},{"$f":"IF(BE52=\"\",\"\",VLOOKUP(BE52,'（ユニット型）シフト記号表'!$C$5:$W$46,21,FALSE))","v":""},{"$f":"IF($BI$3=\"計画\",SUM(AA53:BB53),IF($BI$3=\"実績\",SUM(AA53:BE53),\"\"))","v":0},null,{"$f":"IF($BI$3=\"計画\",BF53/4,IF($BI$3=\"実績\",(BF53/($BI$7/7)),\"\"))","v":0}]
[null,null,null,null,null,null,null,null,{"$f":"G53","v":0},null,{"$f":"M53","v":0},null,null,null,null,null,null,null,null,null,null,"夜勤時間帯の勤務時間数",null,null,null,null,{"$f":"IF(AA52=\"\",\"\",VLOOKUP(AA52,'（ユニット型）シフト記号表'!$C$5:$Y$46,23,FALSE))","v":""},{"$f":"IF(AB52=\"\",\"\",VLOOKUP(AB52,'（ユニット型）シフト記号表'!$C$5:$Y$46,23,FALSE))","v":""},{"$f":"IF(AC52=\"\",\"\",VLOOKUP(AC52,'（ユニット型）シフト記号表'!$C$5:$Y$46,23,FALSE))","v":""},{"$f":"IF(AD52=\"\",\"\",VLOOKUP(AD52,'（ユニット型）シフト記号表'!$C$5:$Y$46,23,FALSE))","v":""},{"$f":"IF(AE52=\"\",\"\",VLOOKUP(AE52,'（ユニット型）シフト記号表'!$C$5:$Y$46,23,FALSE))","v":""},{"$f":"IF(AF52=\"\",\"\",VLOOKUP(AF52,'（ユニット型）シフト記号表'!$C$5:$Y$46,23,FALSE))","v":""},{"$f":"IF(AG52=\"\",\"\",VLOOKUP(AG52,'（ユニット型）シフト記号表'!$C$5:$Y$46,23,FALSE))","v":""},{"$f":"IF(AH52=\"\",\"\",VLOOKUP(AH52,'（ユニット型）シフト記号表'!$C$5:$Y$46,23,FALSE))","v":""},{"$f":"IF(AI52=\"\",\"\",VLOOKUP(AI52,'（ユニット型）シフト記号表'!$C$5:$Y$46,23,FALSE))","v":""},{"$f":"IF(AJ52=\"\",\"\",VLOOKUP(AJ52,'（ユニット型）シフト記号表'!$C$5:$Y$46,23,FALSE))","v":""},{"$f":"IF(AK52=\"\",\"\",VLOOKUP(AK52,'（ユニット型）シフト記号表'!$C$5:$Y$46,23,FALSE))","v":""},{"$f":"IF(AL52=\"\",\"\",VLOOKUP(AL52,'（ユニット型）シフト記号表'!$C$5:$Y$46,23,FALSE))","v":""},{"$f":"IF(AM52=\"\",\"\",VLOOKUP(AM52,'（ユニット型）シフト記号表'!$C$5:$Y$46,23,FALSE))","v":""},{"$f":"IF(AN52=\"\",\"\",VLOOKUP(AN52,'（ユニット型）シフト記号表'!$C$5:$Y$46,23,FALSE))","v":""},{"$f":"IF(AO52=\"\",\"\",VLOOKUP(AO52,'（ユニット型）シフト記号表'!$C$5:$Y$46,23,FALSE))","v":""},{"$f":"IF(AP52=\"\",\"\",VLOOKUP(AP52,'（ユニット型）シフト記号表'!$C$5:$Y$46,23,FALSE))","v":""},{"$f":"IF(AQ52=\"\",\"\",VLOOKUP(AQ52,'（ユニット型）シフト記号表'!$C$5:$Y$46,23,FALSE))","v":""},{"$f":"IF(AR52=\"\",\"\",VLOOKUP(AR52,'（ユニット型）シフト記号表'!$C$5:$Y$46,23,FALSE))","v":""},{"$f":"IF(AS52=\"\",\"\",VLOOKUP(AS52,'（ユニット型）シフト記号表'!$C$5:$Y$46,23,FALSE))","v":""},{"$f":"IF(AT52=\"\",\"\",VLOOKUP(AT52,'（ユニット型）シフト記号表'!$C$5:$Y$46,23,FALSE))","v":""},{"$f":"IF(AU52=\"\",\"\",VLOOKUP(AU52,'（ユニット型）シフト記号表'!$C$5:$Y$46,23,FALSE))","v":""},{"$f":"IF(AV52=\"\",\"\",VLOOKUP(AV52,'（ユニット型）シフト記号表'!$C$5:$Y$46,23,FALSE))","v":""},{"$f":"IF(AW52=\"\",\"\",VLOOKUP(AW52,'（ユニット型）シフト記号表'!$C$5:$Y$46,23,FALSE))","v":""},{"$f":"IF(AX52=\"\",\"\",VLOOKUP(AX52,'（ユニット型）シフト記号表'!$C$5:$Y$46,23,FALSE))","v":""},{"$f":"IF(AY52=\"\",\"\",VLOOKUP(AY52,'（ユニット型）シフト記号表'!$C$5:$Y$46,23,FALSE))","v":""},{"$f":"IF(AZ52=\"\",\"\",VLOOKUP(AZ52,'（ユニット型）シフト記号表'!$C$5:$Y$46,23,FALSE))","v":""},{"$f":"IF(BA52=\"\",\"\",VLOOKUP(BA52,'（ユニット型）シフト記号表'!$C$5:$Y$46,23,FALSE))","v":""},{"$f":"IF(BB52=\"\",\"\",VLOOKUP(BB52,'（ユニット型）シフト記号表'!$C$5:$Y$46,23,FALSE))","v":""},{"$f":"IF(BC52=\"\",\"\",VLOOKUP(BC52,'（ユニット型）シフト記号表'!$C$5:$Y$46,23,FALSE))","v":""},{"$f":"IF(BD52=\"\",\"\",VLOOKUP(BD52,'（ユニット型）シフト記号表'!$C$5:$Y$46,23,FALSE))","v":""},{"$f":"IF(BE52=\"\",\"\",VLOOKUP(BE52,'（ユニット型）シフト記号表'!$C$5:$Y$46,23,FALSE))","v":""},{"$f":"IF($BI$3=\"計画\",SUM(AA54:BB54),IF($BI$3=\"実績\",SUM(AA54:BE54),\"\"))","v":0},null,{"$f":"IF($BI$3=\"計画\",BF54/4,IF($BI$3=\"実績\",(BF54/($BI$7/7)),\"\"))","v":0}]
[null,null,null,null,null,null,null,null,null,null,null,null,null,null,null,null,null,null,null,null,null,"シフト記号"]
[null,{"$f":"B53+1","v":13},null,null,null,null,null,null,null,null,null,null,null,null,null,null,null,null,null,null,null,"日中の勤務時間数",null,null,null,null,{"$f":"IF(AA55=\"\",\"\",VLOOKUP(AA55,'（ユニット型）シフト記号表'!$C$5:$W$46,21,FALSE))","v":""},{"$f":"IF(AB55=\"\",\"\",VLOOKUP(AB55,'（ユニット型）シフト記号表'!$C$5:$W$46,21,FALSE))","v":""},{"$f":"IF(AC55=\"\",\"\",VLOOKUP(AC55,'（ユニット型）シフト記号表'!$C$5:$W$46,21,FALSE))","v":""},{"$f":"IF(AD55=\"\",\"\",VLOOKUP(AD55,'（ユニット型）シフト記号表'!$C$5:$W$46,21,FALSE))","v":""},{"$f":"IF(AE55=\"\",\"\",VLOOKUP(AE55,'（ユニット型）シフト記号表'!$C$5:$W$46,21,FALSE))","v":""},{"$f":"IF(AF55=\"\",\"\",VLOOKUP(AF55,'（ユニット型）シフト記号表'!$C$5:$W$46,21,FALSE))","v":""},{"$f":"IF(AG55=\"\",\"\",VLOOKUP(AG55,'（ユニット型）シフト記号表'!$C$5:$W$46,21,FALSE))","v":""},{"$f":"IF(AH55=\"\",\"\",VLOOKUP(AH55,'（ユニット型）シフト記号表'!$C$5:$W$46,21,FALSE))","v":""},{"$f":"IF(AI55=\"\",\"\",VLOOKUP(AI55,'（ユニット型）シフト記号表'!$C$5:$W$46,21,FALSE))","v":""},{"$f":"IF(AJ55=\"\",\"\",VLOOKUP(AJ55,'（ユニット型）シフト記号表'!$C$5:$W$46,21,FALSE))","v":""},{"$f":"IF(AK55=\"\",\"\",VLOOKUP(AK55,'（ユニット型）シフト記号表'!$C$5:$W$46,21,FALSE))","v":""},{"$f":"IF(AL55=\"\",\"\",VLOOKUP(AL55,'（ユニット型）シフト記号表'!$C$5:$W$46,21,FALSE))","v":""},{"$f":"IF(AM55=\"\",\"\",VLOOKUP(AM55,'（ユニット型）シフト記号表'!$C$5:$W$46,21,FALSE))","v":""},{"$f":"IF(AN55=\"\",\"\",VLOOKUP(AN55,'（ユニット型）シフト記号表'!$C$5:$W$46,21,FALSE))","v":""},{"$f":"IF(AO55=\"\",\"\",VLOOKUP(AO55,'（ユニット型）シフト記号表'!$C$5:$W$46,21,FALSE))","v":""},{"$f":"IF(AP55=\"\",\"\",VLOOKUP(AP55,'（ユニット型）シフト記号表'!$C$5:$W$46,21,FALSE))","v":""},{"$f":"IF(AQ55=\"\",\"\",VLOOKUP(AQ55,'（ユニット型）シフト記号表'!$C$5:$W$46,21,FALSE))","v":""},{"$f":"IF(AR55=\"\",\"\",VLOOKUP(AR55,'（ユニット型）シフト記号表'!$C$5:$W$46,21,FALSE))","v":""},{"$f":"IF(AS55=\"\",\"\",VLOOKUP(AS55,'（ユニット型）シフト記号表'!$C$5:$W$46,21,FALSE))","v":""},{"$f":"IF(AT55=\"\",\"\",VLOOKUP(AT55,'（ユニット型）シフト記号表'!$C$5:$W$46,21,FALSE))","v":""},{"$f":"IF(AU55=\"\",\"\",VLOOKUP(AU55,'（ユニット型）シフト記号表'!$C$5:$W$46,21,FALSE))","v":""},{"$f":"IF(AV55=\"\",\"\",VLOOKUP(AV55,'（ユニット型）シフト記号表'!$C$5:$W$46,21,FALSE))","v":""},{"$f":"IF(AW55=\"\",\"\",VLOOKUP(AW55,'（ユニット型）シフト記号表'!$C$5:$W$46,21,FALSE))","v":""},{"$f":"IF(AX55=\"\",\"\",VLOOKUP(AX55,'（ユニット型）シフト記号表'!$C$5:$W$46,21,FALSE))","v":""},{"$f":"IF(AY55=\"\",\"\",VLOOKUP(AY55,'（ユニット型）シフト記号表'!$C$5:$W$46,21,FALSE))","v":""},{"$f":"IF(AZ55=\"\",\"\",VLOOKUP(AZ55,'（ユニット型）シフト記号表'!$C$5:$W$46,21,FALSE))","v":""},{"$f":"IF(BA55=\"\",\"\",VLOOKUP(BA55,'（ユニット型）シフト記号表'!$C$5:$W$46,21,FALSE))","v":""},{"$f":"IF(BB55=\"\",\"\",VLOOKUP(BB55,'（ユニット型）シフト記号表'!$C$5:$W$46,21,FALSE))","v":""},{"$f":"IF(BC55=\"\",\"\",VLOOKUP(BC55,'（ユニット型）シフト記号表'!$C$5:$W$46,21,FALSE))","v":""},{"$f":"IF(BD55=\"\",\"\",VLOOKUP(BD55,'（ユニット型）シフト記号表'!$C$5:$W$46,21,FALSE))","v":""},{"$f":"IF(BE55=\"\",\"\",VLOOKUP(BE55,'（ユニット型）シフト記号表'!$C$5:$W$46,21,FALSE))","v":""},{"$f":"IF($BI$3=\"計画\",SUM(AA56:BB56),IF($BI$3=\"実績\",SUM(AA56:BE56),\"\"))","v":0},null,{"$f":"IF($BI$3=\"計画\",BF56/4,IF($BI$3=\"実績\",(BF56/($BI$7/7)),\"\"))","v":0}]
[null,null,null,null,null,null,null,null,{"$f":"G56","v":0},null,{"$f":"M56","v":0},null,null,null,null,null,null,null,null,null,null,"夜勤時間帯の勤務時間数",null,null,null,null,{"$f":"IF(AA55=\"\",\"\",VLOOKUP(AA55,'（ユニット型）シフト記号表'!$C$5:$Y$46,23,FALSE))","v":""},{"$f":"IF(AB55=\"\",\"\",VLOOKUP(AB55,'（ユニット型）シフト記号表'!$C$5:$Y$46,23,FALSE))","v":""},{"$f":"IF(AC55=\"\",\"\",VLOOKUP(AC55,'（ユニット型）シフト記号表'!$C$5:$Y$46,23,FALSE))","v":""},{"$f":"IF(AD55=\"\",\"\",VLOOKUP(AD55,'（ユニット型）シフト記号表'!$C$5:$Y$46,23,FALSE))","v":""},{"$f":"IF(AE55=\"\",\"\",VLOOKUP(AE55,'（ユニット型）シフト記号表'!$C$5:$Y$46,23,FALSE))","v":""},{"$f":"IF(AF55=\"\",\"\",VLOOKUP(AF55,'（ユニット型）シフト記号表'!$C$5:$Y$46,23,FALSE))","v":""},{"$f":"IF(AG55=\"\",\"\",VLOOKUP(AG55,'（ユニット型）シフト記号表'!$C$5:$Y$46,23,FALSE))","v":""},{"$f":"IF(AH55=\"\",\"\",VLOOKUP(AH55,'（ユニット型）シフト記号表'!$C$5:$Y$46,23,FALSE))","v":""},{"$f":"IF(AI55=\"\",\"\",VLOOKUP(AI55,'（ユニット型）シフト記号表'!$C$5:$Y$46,23,FALSE))","v":""},{"$f":"IF(AJ55=\"\",\"\",VLOOKUP(AJ55,'（ユニット型）シフト記号表'!$C$5:$Y$46,23,FALSE))","v":""},{"$f":"IF(AK55=\"\",\"\",VLOOKUP(AK55,'（ユニット型）シフト記号表'!$C$5:$Y$46,23,FALSE))","v":""},{"$f":"IF(AL55=\"\",\"\",VLOOKUP(AL55,'（ユニット型）シフト記号表'!$C$5:$Y$46,23,FALSE))","v":""},{"$f":"IF(AM55=\"\",\"\",VLOOKUP(AM55,'（ユニット型）シフト記号表'!$C$5:$Y$46,23,FALSE))","v":""},{"$f":"IF(AN55=\"\",\"\",VLOOKUP(AN55,'（ユニット型）シフト記号表'!$C$5:$Y$46,23,FALSE))","v":""},{"$f":"IF(AO55=\"\",\"\",VLOOKUP(AO55,'（ユニット型）シフト記号表'!$C$5:$Y$46,23,FALSE))","v":""},{"$f":"IF(AP55=\"\",\"\",VLOOKUP(AP55,'（ユニット型）シフト記号表'!$C$5:$Y$46,23,FALSE))","v":""},{"$f":"IF(AQ55=\"\",\"\",VLOOKUP(AQ55,'（ユニット型）シフト記号表'!$C$5:$Y$46,23,FALSE))","v":""},{"$f":"IF(AR55=\"\",\"\",VLOOKUP(AR55,'（ユニット型）シフト記号表'!$C$5:$Y$46,23,FALSE))","v":""},{"$f":"IF(AS55=\"\",\"\",VLOOKUP(AS55,'（ユニット型）シフト記号表'!$C$5:$Y$46,23,FALSE))","v":""},{"$f":"IF(AT55=\"\",\"\",VLOOKUP(AT55,'（ユニット型）シフト記号表'!$C$5:$Y$46,23,FALSE))","v":""},{"$f":"IF(AU55=\"\",\"\",VLOOKUP(AU55,'（ユニット型）シフト記号表'!$C$5:$Y$46,23,FALSE))","v":""},{"$f":"IF(AV55=\"\",\"\",VLOOKUP(AV55,'（ユニット型）シフト記号表'!$C$5:$Y$46,23,FALSE))","v":""},{"$f":"IF(AW55=\"\",\"\",VLOOKUP(AW55,'（ユニット型）シフト記号表'!$C$5:$Y$46,23,FALSE))","v":""},{"$f":"IF(AX55=\"\",\"\",VLOOKUP(AX55,'（ユニット型）シフト記号表'!$C$5:$Y$46,23,FALSE))","v":""},{"$f":"IF(AY55=\"\",\"\",VLOOKUP(AY55,'（ユニット型）シフト記号表'!$C$5:$Y$46,23,FALSE))","v":""},{"$f":"IF(AZ55=\"\",\"\",VLOOKUP(AZ55,'（ユニット型）シフト記号表'!$C$5:$Y$46,23,FALSE))","v":""},{"$f":"IF(BA55=\"\",\"\",VLOOKUP(BA55,'（ユニット型）シフト記号表'!$C$5:$Y$46,23,FALSE))","v":""},{"$f":"IF(BB55=\"\",\"\",VLOOKUP(BB55,'（ユニット型）シフト記号表'!$C$5:$Y$46,23,FALSE))","v":""},{"$f":"IF(BC55=\"\",\"\",VLOOKUP(BC55,'（ユニット型）シフト記号表'!$C$5:$Y$46,23,FALSE))","v":""},{"$f":"IF(BD55=\"\",\"\",VLOOKUP(BD55,'（ユニット型）シフト記号表'!$C$5:$Y$46,23,FALSE))","v":""},{"$f":"IF(BE55=\"\",\"\",VLOOKUP(BE55,'（ユニット型）シフト記号表'!$C$5:$Y$46,23,FALSE))","v":""},{"$f":"IF($BI$3=\"計画\",SUM(AA57:BB57),IF($BI$3=\"実績\",SUM(AA57:BE57),\"\"))","v":0},null,{"$f":"IF($BI$3=\"計画\",BF57/4,IF($BI$3=\"実績\",(BF57/($BI$7/7)),\"\"))","v":0}]
[null,null,null,null,null,null,null,null,null,null,null,null,null,null,null,null,null,null,null,null,null,"シフト記号"]
[null,{"$f":"B56+1","v":14},null,null,null,null,null,null,null,null,null,null,null,null,null,null,null,null,null,null,null,"日中の勤務時間数",null,null,null,null,{"$f":"IF(AA58=\"\",\"\",VLOOKUP(AA58,'（ユニット型）シフト記号表'!$C$5:$W$46,21,FALSE))","v":""},{"$f":"IF(AB58=\"\",\"\",VLOOKUP(AB58,'（ユニット型）シフト記号表'!$C$5:$W$46,21,FALSE))","v":""},{"$f":"IF(AC58=\"\",\"\",VLOOKUP(AC58,'（ユニット型）シフト記号表'!$C$5:$W$46,21,FALSE))","v":""},{"$f":"IF(AD58=\"\",\"\",VLOOKUP(AD58,'（ユニット型）シフト記号表'!$C$5:$W$46,21,FALSE))","v":""},{"$f":"IF(AE58=\"\",\"\",VLOOKUP(AE58,'（ユニット型）シフト記号表'!$C$5:$W$46,21,FALSE))","v":""},{"$f":"IF(AF58=\"\",\"\",VLOOKUP(AF58,'（ユニット型）シフト記号表'!$C$5:$W$46,21,FALSE))","v":""},{"$f":"IF(AG58=\"\",\"\",VLOOKUP(AG58,'（ユニット型）シフト記号表'!$C$5:$W$46,21,FALSE))","v":""},{"$f":"IF(AH58=\"\",\"\",VLOOKUP(AH58,'（ユニット型）シフト記号表'!$C$5:$W$46,21,FALSE))","v":""},{"$f":"IF(AI58=\"\",\"\",VLOOKUP(AI58,'（ユニット型）シフト記号表'!$C$5:$W$46,21,FALSE))","v":""},{"$f":"IF(AJ58=\"\",\"\",VLOOKUP(AJ58,'（ユニット型）シフト記号表'!$C$5:$W$46,21,FALSE))","v":""},{"$f":"IF(AK58=\"\",\"\",VLOOKUP(AK58,'（ユニット型）シフト記号表'!$C$5:$W$46,21,FALSE))","v":""},{"$f":"IF(AL58=\"\",\"\",VLOOKUP(AL58,'（ユニット型）シフト記号表'!$C$5:$W$46,21,FALSE))","v":""},{"$f":"IF(AM58=\"\",\"\",VLOOKUP(AM58,'（ユニット型）シフト記号表'!$C$5:$W$46,21,FALSE))","v":""},{"$f":"IF(AN58=\"\",\"\",VLOOKUP(AN58,'（ユニット型）シフト記号表'!$C$5:$W$46,21,FALSE))","v":""},{"$f":"IF(AO58=\"\",\"\",VLOOKUP(AO58,'（ユニット型）シフト記号表'!$C$5:$W$46,21,FALSE))","v":""},{"$f":"IF(AP58=\"\",\"\",VLOOKUP(AP58,'（ユニット型）シフト記号表'!$C$5:$W$46,21,FALSE))","v":""},{"$f":"IF(AQ58=\"\",\"\",VLOOKUP(AQ58,'（ユニット型）シフト記号表'!$C$5:$W$46,21,FALSE))","v":""},{"$f":"IF(AR58=\"\",\"\",VLOOKUP(AR58,'（ユニット型）シフト記号表'!$C$5:$W$46,21,FALSE))","v":""},{"$f":"IF(AS58=\"\",\"\",VLOOKUP(AS58,'（ユニット型）シフト記号表'!$C$5:$W$46,21,FALSE))","v":""},{"$f":"IF(AT58=\"\",\"\",VLOOKUP(AT58,'（ユニット型）シフト記号表'!$C$5:$W$46,21,FALSE))","v":""},{"$f":"IF(AU58=\"\",\"\",VLOOKUP(AU58,'（ユニット型）シフト記号表'!$C$5:$W$46,21,FALSE))","v":""},{"$f":"IF(AV58=\"\",\"\",VLOOKUP(AV58,'（ユニット型）シフト記号表'!$C$5:$W$46,21,FALSE))","v":""},{"$f":"IF(AW58=\"\",\"\",VLOOKUP(AW58,'（ユニット型）シフト記号表'!$C$5:$W$46,21,FALSE))","v":""},{"$f":"IF(AX58=\"\",\"\",VLOOKUP(AX58,'（ユニット型）シフト記号表'!$C$5:$W$46,21,FALSE))","v":""},{"$f":"IF(AY58=\"\",\"\",VLOOKUP(AY58,'（ユニット型）シフト記号表'!$C$5:$W$46,21,FALSE))","v":""},{"$f":"IF(AZ58=\"\",\"\",VLOOKUP(AZ58,'（ユニット型）シフト記号表'!$C$5:$W$46,21,FALSE))","v":""},{"$f":"IF(BA58=\"\",\"\",VLOOKUP(BA58,'（ユニット型）シフト記号表'!$C$5:$W$46,21,FALSE))","v":""},{"$f":"IF(BB58=\"\",\"\",VLOOKUP(BB58,'（ユニット型）シフト記号表'!$C$5:$W$46,21,FALSE))","v":""},{"$f":"IF(BC58=\"\",\"\",VLOOKUP(BC58,'（ユニット型）シフト記号表'!$C$5:$W$46,21,FALSE))","v":""},{"$f":"IF(BD58=\"\",\"\",VLOOKUP(BD58,'（ユニット型）シフト記号表'!$C$5:$W$46,21,FALSE))","v":""},{"$f":"IF(BE58=\"\",\"\",VLOOKUP(BE58,'（ユニット型）シフト記号表'!$C$5:$W$46,21,FALSE))","v":""},{"$f":"IF($BI$3=\"計画\",SUM(AA59:BB59),IF($BI$3=\"実績\",SUM(AA59:BE59),\"\"))","v":0},null,{"$f":"IF($BI$3=\"計画\",BF59/4,IF($BI$3=\"実績\",(BF59/($BI$7/7)),\"\"))","v":0}]
[null,null,null,null,null,null,null,null,{"$f":"G59","v":0},null,{"$f":"M59","v":0},null,null,null,null,null,null,null,null,null,null,"夜勤時間帯の勤務時間数",null,null,null,null,{"$f":"IF(AA58=\"\",\"\",VLOOKUP(AA58,'（ユニット型）シフト記号表'!$C$5:$Y$46,23,FALSE))","v":""},{"$f":"IF(AB58=\"\",\"\",VLOOKUP(AB58,'（ユニット型）シフト記号表'!$C$5:$Y$46,23,FALSE))","v":""},{"$f":"IF(AC58=\"\",\"\",VLOOKUP(AC58,'（ユニット型）シフト記号表'!$C$5:$Y$46,23,FALSE))","v":""},{"$f":"IF(AD58=\"\",\"\",VLOOKUP(AD58,'（ユニット型）シフト記号表'!$C$5:$Y$46,23,FALSE))","v":""},{"$f":"IF(AE58=\"\",\"\",VLOOKUP(AE58,'（ユニット型）シフト記号表'!$C$5:$Y$46,23,FALSE))","v":""},{"$f":"IF(AF58=\"\",\"\",VLOOKUP(AF58,'（ユニット型）シフト記号表'!$C$5:$Y$46,23,FALSE))","v":""},{"$f":"IF(AG58=\"\",\"\",VLOOKUP(AG58,'（ユニット型）シフト記号表'!$C$5:$Y$46,23,FALSE))","v":""},{"$f":"IF(AH58=\"\",\"\",VLOOKUP(AH58,'（ユニット型）シフト記号表'!$C$5:$Y$46,23,FALSE))","v":""},{"$f":"IF(AI58=\"\",\"\",VLOOKUP(AI58,'（ユニット型）シフト記号表'!$C$5:$Y$46,23,FALSE))","v":""},{"$f":"IF(AJ58=\"\",\"\",VLOOKUP(AJ58,'（ユニット型）シフト記号表'!$C$5:$Y$46,23,FALSE))","v":""},{"$f":"IF(AK58=\"\",\"\",VLOOKUP(AK58,'（ユニット型）シフト記号表'!$C$5:$Y$46,23,FALSE))","v":""},{"$f":"IF(AL58=\"\",\"\",VLOOKUP(AL58,'（ユニット型）シフト記号表'!$C$5:$Y$46,23,FALSE))","v":""},{"$f":"IF(AM58=\"\",\"\",VLOOKUP(AM58,'（ユニット型）シフト記号表'!$C$5:$Y$46,23,FALSE))","v":""},{"$f":"IF(AN58=\"\",\"\",VLOOKUP(AN58,'（ユニット型）シフト記号表'!$C$5:$Y$46,23,FALSE))","v":""},{"$f":"IF(AO58=\"\",\"\",VLOOKUP(AO58,'（ユニット型）シフト記号表'!$C$5:$Y$46,23,FALSE))","v":""},{"$f":"IF(AP58=\"\",\"\",VLOOKUP(AP58,'（ユニット型）シフト記号表'!$C$5:$Y$46,23,FALSE))","v":""},{"$f":"IF(AQ58=\"\",\"\",VLOOKUP(AQ58,'（ユニット型）シフト記号表'!$C$5:$Y$46,23,FALSE))","v":""},{"$f":"IF(AR58=\"\",\"\",VLOOKUP(AR58,'（ユニット型）シフト記号表'!$C$5:$Y$46,23,FALSE))","v":""},{"$f":"IF(AS58=\"\",\"\",VLOOKUP(AS58,'（ユニット型）シフト記号表'!$C$5:$Y$46,23,FALSE))","v":""},{"$f":"IF(AT58=\"\",\"\",VLOOKUP(AT58,'（ユニット型）シフト記号表'!$C$5:$Y$46,23,FALSE))","v":""},{"$f":"IF(AU58=\"\",\"\",VLOOKUP(AU58,'（ユニット型）シフト記号表'!$C$5:$Y$46,23,FALSE))","v":""},{"$f":"IF(AV58=\"\",\"\",VLOOKUP(AV58,'（ユニット型）シフト記号表'!$C$5:$Y$46,23,FALSE))","v":""},{"$f":"IF(AW58=\"\",\"\",VLOOKUP(AW58,'（ユニット型）シフト記号表'!$C$5:$Y$46,23,FALSE))","v":""},{"$f":"IF(AX58=\"\",\"\",VLOOKUP(AX58,'（ユニット型）シフト記号表'!$C$5:$Y$46,23,FALSE))","v":""},{"$f":"IF(AY58=\"\",\"\",VLOOKUP(AY58,'（ユニット型）シフト記号表'!$C$5:$Y$46,23,FALSE))","v":""},{"$f":"IF(AZ58=\"\",\"\",VLOOKUP(AZ58,'（ユニット型）シフト記号表'!$C$5:$Y$46,23,FALSE))","v":""},{"$f":"IF(BA58=\"\",\"\",VLOOKUP(BA58,'（ユニット型）シフト記号表'!$C$5:$Y$46,23,FALSE))","v":""},{"$f":"IF(BB58=\"\",\"\",VLOOKUP(BB58,'（ユニット型）シフト記号表'!$C$5:$Y$46,23,FALSE))","v":""},{"$f":"IF(BC58=\"\",\"\",VLOOKUP(BC58,'（ユニット型）シフト記号表'!$C$5:$Y$46,23,FALSE))","v":""},{"$f":"IF(BD58=\"\",\"\",VLOOKUP(BD58,'（ユニット型）シフト記号表'!$C$5:$Y$46,23,FALSE))","v":""},{"$f":"IF(BE58=\"\",\"\",VLOOKUP(BE58,'（ユニット型）シフト記号表'!$C$5:$Y$46,23,FALSE))","v":""},{"$f":"IF($BI$3=\"計画\",SUM(AA60:BB60),IF($BI$3=\"実績\",SUM(AA60:BE60),\"\"))","v":0},null,{"$f":"IF($BI$3=\"計画\",BF60/4,IF($BI$3=\"実績\",(BF60/($BI$7/7)),\"\"))","v":0}]
[null,null,null,null,null,null,null,null,null,null,null,null,null,null,null,null,null,null,null,null,null,"シフト記号"]
[null,{"$f":"B59+1","v":15},null,null,null,null,null,null,null,null,null,null,null,null,null,null,null,null,null,null,null,"日中の勤務時間数",null,null,null,null,{"$f":"IF(AA61=\"\",\"\",VLOOKUP(AA61,'（ユニット型）シフト記号表'!$C$5:$W$46,21,FALSE))","v":""},{"$f":"IF(AB61=\"\",\"\",VLOOKUP(AB61,'（ユニット型）シフト記号表'!$C$5:$W$46,21,FALSE))","v":""},{"$f":"IF(AC61=\"\",\"\",VLOOKUP(AC61,'（ユニット型）シフト記号表'!$C$5:$W$46,21,FALSE))","v":""},{"$f":"IF(AD61=\"\",\"\",VLOOKUP(AD61,'（ユニット型）シフト記号表'!$C$5:$W$46,21,FALSE))","v":""},{"$f":"IF(AE61=\"\",\"\",VLOOKUP(AE61,'（ユニット型）シフト記号表'!$C$5:$W$46,21,FALSE))","v":""},{"$f":"IF(AF61=\"\",\"\",VLOOKUP(AF61,'（ユニット型）シフト記号表'!$C$5:$W$46,21,FALSE))","v":""},{"$f":"IF(AG61=\"\",\"\",VLOOKUP(AG61,'（ユニット型）シフト記号表'!$C$5:$W$46,21,FALSE))","v":""},{"$f":"IF(AH61=\"\",\"\",VLOOKUP(AH61,'（ユニット型）シフト記号表'!$C$5:$W$46,21,FALSE))","v":""},{"$f":"IF(AI61=\"\",\"\",VLOOKUP(AI61,'（ユニット型）シフト記号表'!$C$5:$W$46,21,FALSE))","v":""},{"$f":"IF(AJ61=\"\",\"\",VLOOKUP(AJ61,'（ユニット型）シフト記号表'!$C$5:$W$46,21,FALSE))","v":""},{"$f":"IF(AK61=\"\",\"\",VLOOKUP(AK61,'（ユニット型）シフト記号表'!$C$5:$W$46,21,FALSE))","v":""},{"$f":"IF(AL61=\"\",\"\",VLOOKUP(AL61,'（ユニット型）シフト記号表'!$C$5:$W$46,21,FALSE))","v":""},{"$f":"IF(AM61=\"\",\"\",VLOOKUP(AM61,'（ユニット型）シフト記号表'!$C$5:$W$46,21,FALSE))","v":""},{"$f":"IF(AN61=\"\",\"\",VLOOKUP(AN61,'（ユニット型）シフト記号表'!$C$5:$W$46,21,FALSE))","v":""},{"$f":"IF(AO61=\"\",\"\",VLOOKUP(AO61,'（ユニット型）シフト記号表'!$C$5:$W$46,21,FALSE))","v":""},{"$f":"IF(AP61=\"\",\"\",VLOOKUP(AP61,'（ユニット型）シフト記号表'!$C$5:$W$46,21,FALSE))","v":""},{"$f":"IF(AQ61=\"\",\"\",VLOOKUP(AQ61,'（ユニット型）シフト記号表'!$C$5:$W$46,21,FALSE))","v":""},{"$f":"IF(AR61=\"\",\"\",VLOOKUP(AR61,'（ユニット型）シフト記号表'!$C$5:$W$46,21,FALSE))","v":""},{"$f":"IF(AS61=\"\",\"\",VLOOKUP(AS61,'（ユニット型）シフト記号表'!$C$5:$W$46,21,FALSE))","v":""},{"$f":"IF(AT61=\"\",\"\",VLOOKUP(AT61,'（ユニット型）シフト記号表'!$C$5:$W$46,21,FALSE))","v":""},{"$f":"IF(AU61=\"\",\"\",VLOOKUP(AU61,'（ユニット型）シフト記号表'!$C$5:$W$46,21,FALSE))","v":""},{"$f":"IF(AV61=\"\",\"\",VLOOKUP(AV61,'（ユニット型）シフト記号表'!$C$5:$W$46,21,FALSE))","v":""},{"$f":"IF(AW61=\"\",\"\",VLOOKUP(AW61,'（ユニット型）シフト記号表'!$C$5:$W$46,21,FALSE))","v":""},{"$f":"IF(AX61=\"\",\"\",VLOOKUP(AX61,'（ユニット型）シフト記号表'!$C$5:$W$46,21,FALSE))","v":""},{"$f":"IF(AY61=\"\",\"\",VLOOKUP(AY61,'（ユニット型）シフト記号表'!$C$5:$W$46,21,FALSE))","v":""},{"$f":"IF(AZ61=\"\",\"\",VLOOKUP(AZ61,'（ユニット型）シフト記号表'!$C$5:$W$46,21,FALSE))","v":""},{"$f":"IF(BA61=\"\",\"\",VLOOKUP(BA61,'（ユニット型）シフト記号表'!$C$5:$W$46,21,FALSE))","v":""},{"$f":"IF(BB61=\"\",\"\",VLOOKUP(BB61,'（ユニット型）シフト記号表'!$C$5:$W$46,21,FALSE))","v":""},{"$f":"IF(BC61=\"\",\"\",VLOOKUP(BC61,'（ユニット型）シフト記号表'!$C$5:$W$46,21,FALSE))","v":""},{"$f":"IF(BD61=\"\",\"\",VLOOKUP(BD61,'（ユニット型）シフト記号表'!$C$5:$W$46,21,FALSE))","v":""},{"$f":"IF(BE61=\"\",\"\",VLOOKUP(BE61,'（ユニット型）シフト記号表'!$C$5:$W$46,21,FALSE))","v":""},{"$f":"IF($BI$3=\"計画\",SUM(AA62:BB62),IF($BI$3=\"実績\",SUM(AA62:BE62),\"\"))","v":0},null,{"$f":"IF($BI$3=\"計画\",BF62/4,IF($BI$3=\"実績\",(BF62/($BI$7/7)),\"\"))","v":0}]
[null,null,null,null,null,null,null,null,{"$f":"G62","v":0},null,{"$f":"M62","v":0},null,null,null,null,null,null,null,null,null,null,"夜勤時間帯の勤務時間数",null,null,null,null,{"$f":"IF(AA61=\"\",\"\",VLOOKUP(AA61,'（ユニット型）シフト記号表'!$C$5:$Y$46,23,FALSE))","v":""},{"$f":"IF(AB61=\"\",\"\",VLOOKUP(AB61,'（ユニット型）シフト記号表'!$C$5:$Y$46,23,FALSE))","v":""},{"$f":"IF(AC61=\"\",\"\",VLOOKUP(AC61,'（ユニット型）シフト記号表'!$C$5:$Y$46,23,FALSE))","v":""},{"$f":"IF(AD61=\"\",\"\",VLOOKUP(AD61,'（ユニット型）シフト記号表'!$C$5:$Y$46,23,FALSE))","v":""},{"$f":"IF(AE61=\"\",\"\",VLOOKUP(AE61,'（ユニット型）シフト記号表'!$C$5:$Y$46,23,FALSE))","v":""},{"$f":"IF(AF61=\"\",\"\",VLOOKUP(AF61,'（ユニット型）シフト記号表'!$C$5:$Y$46,23,FALSE))","v":""},{"$f":"IF(AG61=\"\",\"\",VLOOKUP(AG61,'（ユニット型）シフト記号表'!$C$5:$Y$46,23,FALSE))","v":""},{"$f":"IF(AH61=\"\",\"\",VLOOKUP(AH61,'（ユニット型）シフト記号表'!$C$5:$Y$46,23,FALSE))","v":""},{"$f":"IF(AI61=\"\",\"\",VLOOKUP(AI61,'（ユニット型）シフト記号表'!$C$5:$Y$46,23,FALSE))","v":""},{"$f":"IF(AJ61=\"\",\"\",VLOOKUP(AJ61,'（ユニット型）シフト記号表'!$C$5:$Y$46,23,FALSE))","v":""},{"$f":"IF(AK61=\"\",\"\",VLOOKUP(AK61,'（ユニット型）シフト記号表'!$C$5:$Y$46,23,FALSE))","v":""},{"$f":"IF(AL61=\"\",\"\",VLOOKUP(AL61,'（ユニット型）シフト記号表'!$C$5:$Y$46,23,FALSE))","v":""},{"$f":"IF(AM61=\"\",\"\",VLOOKUP(AM61,'（ユニット型）シフト記号表'!$C$5:$Y$46,23,FALSE))","v":""},{"$f":"IF(AN61=\"\",\"\",VLOOKUP(AN61,'（ユニット型）シフト記号表'!$C$5:$Y$46,23,FALSE))","v":""},{"$f":"IF(AO61=\"\",\"\",VLOOKUP(AO61,'（ユニット型）シフト記号表'!$C$5:$Y$46,23,FALSE))","v":""},{"$f":"IF(AP61=\"\",\"\",VLOOKUP(AP61,'（ユニット型）シフト記号表'!$C$5:$Y$46,23,FALSE))","v":""},{"$f":"IF(AQ61=\"\",\"\",VLOOKUP(AQ61,'（ユニット型）シフト記号表'!$C$5:$Y$46,23,FALSE))","v":""},{"$f":"IF(AR61=\"\",\"\",VLOOKUP(AR61,'（ユニット型）シフト記号表'!$C$5:$Y$46,23,FALSE))","v":""},{"$f":"IF(AS61=\"\",\"\",VLOOKUP(AS61,'（ユニット型）シフト記号表'!$C$5:$Y$46,23,FALSE))","v":""},{"$f":"IF(AT61=\"\",\"\",VLOOKUP(AT61,'（ユニット型）シフト記号表'!$C$5:$Y$46,23,FALSE))","v":""},{"$f":"IF(AU61=\"\",\"\",VLOOKUP(AU61,'（ユニット型）シフト記号表'!$C$5:$Y$46,23,FALSE))","v":""},{"$f":"IF(AV61=\"\",\"\",VLOOKUP(AV61,'（ユニット型）シフト記号表'!$C$5:$Y$46,23,FALSE))","v":""},{"$f":"IF(AW61=\"\",\"\",VLOOKUP(AW61,'（ユニット型）シフト記号表'!$C$5:$Y$46,23,FALSE))","v":""},{"$f":"IF(AX61=\"\",\"\",VLOOKUP(AX61,'（ユニット型）シフト記号表'!$C$5:$Y$46,23,FALSE))","v":""},{"$f":"IF(AY61=\"\",\"\",VLOOKUP(AY61,'（ユニット型）シフト記号表'!$C$5:$Y$46,23,FALSE))","v":""},{"$f":"IF(AZ61=\"\",\"\",VLOOKUP(AZ61,'（ユニット型）シフト記号表'!$C$5:$Y$46,23,FALSE))","v":""},{"$f":"IF(BA61=\"\",\"\",VLOOKUP(BA61,'（ユニット型）シフト記号表'!$C$5:$Y$46,23,FALSE))","v":""},{"$f":"IF(BB61=\"\",\"\",VLOOKUP(BB61,'（ユニット型）シフト記号表'!$C$5:$Y$46,23,FALSE))","v":""},{"$f":"IF(BC61=\"\",\"\",VLOOKUP(BC61,'（ユニット型）シフト記号表'!$C$5:$Y$46,23,FALSE))","v":""},{"$f":"IF(BD61=\"\",\"\",VLOOKUP(BD61,'（ユニット型）シフト記号表'!$C$5:$Y$46,23,FALSE))","v":""},{"$f":"IF(BE61=\"\",\"\",VLOOKUP(BE61,'（ユニット型）シフト記号表'!$C$5:$Y$46,23,FALSE))","v":""},{"$f":"IF($BI$3=\"計画\",SUM(AA63:BB63),IF($BI$3=\"実績\",SUM(AA63:BE63),\"\"))","v":0},null,{"$f":"IF($BI$3=\"計画\",BF63/4,IF($BI$3=\"実績\",(BF63/($BI$7/7)),\"\"))","v":0}]
[null,null,null,null,null,null,null,null,null,null,null,null,null,null,null,null,null,null,null,null,null,"シフト記号"]
[null,{"$f":"B62+1","v":16},null,null,null,null,null,null,null,null,null,null,null,null,null,null,null,null,null,null,null,"日中の勤務時間数",null,null,null,null,{"$f":"IF(AA64=\"\",\"\",VLOOKUP(AA64,'（ユニット型）シフト記号表'!$C$5:$W$46,21,FALSE))","v":""},{"$f":"IF(AB64=\"\",\"\",VLOOKUP(AB64,'（ユニット型）シフト記号表'!$C$5:$W$46,21,FALSE))","v":""},{"$f":"IF(AC64=\"\",\"\",VLOOKUP(AC64,'（ユニット型）シフト記号表'!$C$5:$W$46,21,FALSE))","v":""},{"$f":"IF(AD64=\"\",\"\",VLOOKUP(AD64,'（ユニット型）シフト記号表'!$C$5:$W$46,21,FALSE))","v":""},{"$f":"IF(AE64=\"\",\"\",VLOOKUP(AE64,'（ユニット型）シフト記号表'!$C$5:$W$46,21,FALSE))","v":""},{"$f":"IF(AF64=\"\",\"\",VLOOKUP(AF64,'（ユニット型）シフト記号表'!$C$5:$W$46,21,FALSE))","v":""},{"$f":"IF(AG64=\"\",\"\",VLOOKUP(AG64,'（ユニット型）シフト記号表'!$C$5:$W$46,21,FALSE))","v":""},{"$f":"IF(AH64=\"\",\"\",VLOOKUP(AH64,'（ユニット型）シフト記号表'!$C$5:$W$46,21,FALSE))","v":""},{"$f":"IF(AI64=\"\",\"\",VLOOKUP(AI64,'（ユニット型）シフト記号表'!$C$5:$W$46,21,FALSE))","v":""},{"$f":"IF(AJ64=\"\",\"\",VLOOKUP(AJ64,'（ユニット型）シフト記号表'!$C$5:$W$46,21,FALSE))","v":""},{"$f":"IF(AK64=\"\",\"\",VLOOKUP(AK64,'（ユニット型）シフト記号表'!$C$5:$W$46,21,FALSE))","v":""},{"$f":"IF(AL64=\"\",\"\",VLOOKUP(AL64,'（ユニット型）シフト記号表'!$C$5:$W$46,21,FALSE))","v":""},{"$f":"IF(AM64=\"\",\"\",VLOOKUP(AM64,'（ユニット型）シフト記号表'!$C$5:$W$46,21,FALSE))","v":""},{"$f":"IF(AN64=\"\",\"\",VLOOKUP(AN64,'（ユニット型）シフト記号表'!$C$5:$W$46,21,FALSE))","v":""},{"$f":"IF(AO64=\"\",\"\",VLOOKUP(AO64,'（ユニット型）シフト記号表'!$C$5:$W$46,21,FALSE))","v":""},{"$f":"IF(AP64=\"\",\"\",VLOOKUP(AP64,'（ユニット型）シフト記号表'!$C$5:$W$46,21,FALSE))","v":""},{"$f":"IF(AQ64=\"\",\"\",VLOOKUP(AQ64,'（ユニット型）シフト記号表'!$C$5:$W$46,21,FALSE))","v":""},{"$f":"IF(AR64=\"\",\"\",VLOOKUP(AR64,'（ユニット型）シフト記号表'!$C$5:$W$46,21,FALSE))","v":""},{"$f":"IF(AS64=\"\",\"\",VLOOKUP(AS64,'（ユニット型）シフト記号表'!$C$5:$W$46,21,FALSE))","v":""},{"$f":"IF(AT64=\"\",\"\",VLOOKUP(AT64,'（ユニット型）シフト記号表'!$C$5:$W$46,21,FALSE))","v":""},{"$f":"IF(AU64=\"\",\"\",VLOOKUP(AU64,'（ユニット型）シフト記号表'!$C$5:$W$46,21,FALSE))","v":""},{"$f":"IF(AV64=\"\",\"\",VLOOKUP(AV64,'（ユニット型）シフト記号表'!$C$5:$W$46,21,FALSE))","v":""},{"$f":"IF(AW64=\"\",\"\",VLOOKUP(AW64,'（ユニット型）シフト記号表'!$C$5:$W$46,21,FALSE))","v":""},{"$f":"IF(AX64=\"\",\"\",VLOOKUP(AX64,'（ユニット型）シフト記号表'!$C$5:$W$46,21,FALSE))","v":""},{"$f":"IF(AY64=\"\",\"\",VLOOKUP(AY64,'（ユニット型）シフト記号表'!$C$5:$W$46,21,FALSE))","v":""},{"$f":"IF(AZ64=\"\",\"\",VLOOKUP(AZ64,'（ユニット型）シフト記号表'!$C$5:$W$46,21,FALSE))","v":""},{"$f":"IF(BA64=\"\",\"\",VLOOKUP(BA64,'（ユニット型）シフト記号表'!$C$5:$W$46,21,FALSE))","v":""},{"$f":"IF(BB64=\"\",\"\",VLOOKUP(BB64,'（ユニット型）シフト記号表'!$C$5:$W$46,21,FALSE))","v":""},{"$f":"IF(BC64=\"\",\"\",VLOOKUP(BC64,'（ユニット型）シフト記号表'!$C$5:$W$46,21,FALSE))","v":""},{"$f":"IF(BD64=\"\",\"\",VLOOKUP(BD64,'（ユニット型）シフト記号表'!$C$5:$W$46,21,FALSE))","v":""},{"$f":"IF(BE64=\"\",\"\",VLOOKUP(BE64,'（ユニット型）シフト記号表'!$C$5:$W$46,21,FALSE))","v":""},{"$f":"IF($BI$3=\"計画\",SUM(AA65:BB65),IF($BI$3=\"実績\",SUM(AA65:BE65),\"\"))","v":0},null,{"$f":"IF($BI$3=\"計画\",BF65/4,IF($BI$3=\"実績\",(BF65/($BI$7/7)),\"\"))","v":0}]
[null,null,null,null,null,null,null,null,{"$f":"G65","v":0},null,{"$f":"M65","v":0},null,null,null,null,null,null,null,null,null,null,"夜勤時間帯の勤務時間数",null,null,null,null,{"$f":"IF(AA64=\"\",\"\",VLOOKUP(AA64,'（ユニット型）シフト記号表'!$C$5:$Y$46,23,FALSE))","v":""},{"$f":"IF(AB64=\"\",\"\",VLOOKUP(AB64,'（ユニット型）シフト記号表'!$C$5:$Y$46,23,FALSE))","v":""},{"$f":"IF(AC64=\"\",\"\",VLOOKUP(AC64,'（ユニット型）シフト記号表'!$C$5:$Y$46,23,FALSE))","v":""},{"$f":"IF(AD64=\"\",\"\",VLOOKUP(AD64,'（ユニット型）シフト記号表'!$C$5:$Y$46,23,FALSE))","v":""},{"$f":"IF(AE64=\"\",\"\",VLOOKUP(AE64,'（ユニット型）シフト記号表'!$C$5:$Y$46,23,FALSE))","v":""},{"$f":"IF(AF64=\"\",\"\",VLOOKUP(AF64,'（ユニット型）シフト記号表'!$C$5:$Y$46,23,FALSE))","v":""},{"$f":"IF(AG64=\"\",\"\",VLOOKUP(AG64,'（ユニット型）シフト記号表'!$C$5:$Y$46,23,FALSE))","v":""},{"$f":"IF(AH64=\"\",\"\",VLOOKUP(AH64,'（ユニット型）シフト記号表'!$C$5:$Y$46,23,FALSE))","v":""},{"$f":"IF(AI64=\"\",\"\",VLOOKUP(AI64,'（ユニット型）シフト記号表'!$C$5:$Y$46,23,FALSE))","v":""},{"$f":"IF(AJ64=\"\",\"\",VLOOKUP(AJ64,'（ユニット型）シフト記号表'!$C$5:$Y$46,23,FALSE))","v":""},{"$f":"IF(AK64=\"\",\"\",VLOOKUP(AK64,'（ユニット型）シフト記号表'!$C$5:$Y$46,23,FALSE))","v":""},{"$f":"IF(AL64=\"\",\"\",VLOOKUP(AL64,'（ユニット型）シフト記号表'!$C$5:$Y$46,23,FALSE))","v":""},{"$f":"IF(AM64=\"\",\"\",VLOOKUP(AM64,'（ユニット型）シフト記号表'!$C$5:$Y$46,23,FALSE))","v":""},{"$f":"IF(AN64=\"\",\"\",VLOOKUP(AN64,'（ユニット型）シフト記号表'!$C$5:$Y$46,23,FALSE))","v":""},{"$f":"IF(AO64=\"\",\"\",VLOOKUP(AO64,'（ユニット型）シフト記号表'!$C$5:$Y$46,23,FALSE))","v":""},{"$f":"IF(AP64=\"\",\"\",VLOOKUP(AP64,'（ユニット型）シフト記号表'!$C$5:$Y$46,23,FALSE))","v":""},{"$f":"IF(AQ64=\"\",\"\",VLOOKUP(AQ64,'（ユニット型）シフト記号表'!$C$5:$Y$46,23,FALSE))","v":""},{"$f":"IF(AR64=\"\",\"\",VLOOKUP(AR64,'（ユニット型）シフト記号表'!$C$5:$Y$46,23,FALSE))","v":""},{"$f":"IF(AS64=\"\",\"\",VLOOKUP(AS64,'（ユニット型）シフト記号表'!$C$5:$Y$46,23,FALSE))","v":""},{"$f":"IF(AT64=\"\",\"\",VLOOKUP(AT64,'（ユニット型）シフト記号表'!$C$5:$Y$46,23,FALSE))","v":""},{"$f":"IF(AU64=\"\",\"\",VLOOKUP(AU64,'（ユニット型）シフト記号表'!$C$5:$Y$46,23,FALSE))","v":""},{"$f":"IF(AV64=\"\",\"\",VLOOKUP(AV64,'（ユニット型）シフト記号表'!$C$5:$Y$46,23,FALSE))","v":""},{"$f":"IF(AW64=\"\",\"\",VLOOKUP(AW64,'（ユニット型）シフト記号表'!$C$5:$Y$46,23,FALSE))","v":""},{"$f":"IF(AX64=\"\",\"\",VLOOKUP(AX64,'（ユニット型）シフト記号表'!$C$5:$Y$46,23,FALSE))","v":""},{"$f":"IF(AY64=\"\",\"\",VLOOKUP(AY64,'（ユニット型）シフト記号表'!$C$5:$Y$46,23,FALSE))","v":""},{"$f":"IF(AZ64=\"\",\"\",VLOOKUP(AZ64,'（ユニット型）シフト記号表'!$C$5:$Y$46,23,FALSE))","v":""},{"$f":"IF(BA64=\"\",\"\",VLOOKUP(BA64,'（ユニット型）シフト記号表'!$C$5:$Y$46,23,FALSE))","v":""},{"$f":"IF(BB64=\"\",\"\",VLOOKUP(BB64,'（ユニット型）シフト記号表'!$C$5:$Y$46,23,FALSE))","v":""},{"$f":"IF(BC64=\"\",\"\",VLOOKUP(BC64,'（ユニット型）シフト記号表'!$C$5:$Y$46,23,FALSE))","v":""},{"$f":"IF(BD64=\"\",\"\",VLOOKUP(BD64,'（ユニット型）シフト記号表'!$C$5:$Y$46,23,FALSE))","v":""},{"$f":"IF(BE64=\"\",\"\",VLOOKUP(BE64,'（ユニット型）シフト記号表'!$C$5:$Y$46,23,FALSE))","v":""},{"$f":"IF($BI$3=\"計画\",SUM(AA66:BB66),IF($BI$3=\"実績\",SUM(AA66:BE66),\"\"))","v":0},null,{"$f":"IF($BI$3=\"計画\",BF66/4,IF($BI$3=\"実績\",(BF66/($BI$7/7)),\"\"))","v":0}]
[null,null,null,null,null,null,null,null,null,null,null,null,null,null,null,null,null,null,null,null,null,"シフト記号"]
[null,{"$f":"B65+1","v":17},null,null,null,null,null,null,null,null,null,null,null,null,null,null,null,null,null,null,null,"日中の勤務時間数",null,null,null,null,{"$f":"IF(AA67=\"\",\"\",VLOOKUP(AA67,'（ユニット型）シフト記号表'!$C$5:$W$46,21,FALSE))","v":""},{"$f":"IF(AB67=\"\",\"\",VLOOKUP(AB67,'（ユニット型）シフト記号表'!$C$5:$W$46,21,FALSE))","v":""},{"$f":"IF(AC67=\"\",\"\",VLOOKUP(AC67,'（ユニット型）シフト記号表'!$C$5:$W$46,21,FALSE))","v":""},{"$f":"IF(AD67=\"\",\"\",VLOOKUP(AD67,'（ユニット型）シフト記号表'!$C$5:$W$46,21,FALSE))","v":""},{"$f":"IF(AE67=\"\",\"\",VLOOKUP(AE67,'（ユニット型）シフト記号表'!$C$5:$W$46,21,FALSE))","v":""},{"$f":"IF(AF67=\"\",\"\",VLOOKUP(AF67,'（ユニット型）シフト記号表'!$C$5:$W$46,21,FALSE))","v":""},{"$f":"IF(AG67=\"\",\"\",VLOOKUP(AG67,'（ユニット型）シフト記号表'!$C$5:$W$46,21,FALSE))","v":""},{"$f":"IF(AH67=\"\",\"\",VLOOKUP(AH67,'（ユニット型）シフト記号表'!$C$5:$W$46,21,FALSE))","v":""},{"$f":"IF(AI67=\"\",\"\",VLOOKUP(AI67,'（ユニット型）シフト記号表'!$C$5:$W$46,21,FALSE))","v":""},{"$f":"IF(AJ67=\"\",\"\",VLOOKUP(AJ67,'（ユニット型）シフト記号表'!$C$5:$W$46,21,FALSE))","v":""},{"$f":"IF(AK67=\"\",\"\",VLOOKUP(AK67,'（ユニット型）シフト記号表'!$C$5:$W$46,21,FALSE))","v":""},{"$f":"IF(AL67=\"\",\"\",VLOOKUP(AL67,'（ユニット型）シフト記号表'!$C$5:$W$46,21,FALSE))","v":""},{"$f":"IF(AM67=\"\",\"\",VLOOKUP(AM67,'（ユニット型）シフト記号表'!$C$5:$W$46,21,FALSE))","v":""},{"$f":"IF(AN67=\"\",\"\",VLOOKUP(AN67,'（ユニット型）シフト記号表'!$C$5:$W$46,21,FALSE))","v":""},{"$f":"IF(AO67=\"\",\"\",VLOOKUP(AO67,'（ユニット型）シフト記号表'!$C$5:$W$46,21,FALSE))","v":""},{"$f":"IF(AP67=\"\",\"\",VLOOKUP(AP67,'（ユニット型）シフト記号表'!$C$5:$W$46,21,FALSE))","v":""},{"$f":"IF(AQ67=\"\",\"\",VLOOKUP(AQ67,'（ユニット型）シフト記号表'!$C$5:$W$46,21,FALSE))","v":""},{"$f":"IF(AR67=\"\",\"\",VLOOKUP(AR67,'（ユニット型）シフト記号表'!$C$5:$W$46,21,FALSE))","v":""},{"$f":"IF(AS67=\"\",\"\",VLOOKUP(AS67,'（ユニット型）シフト記号表'!$C$5:$W$46,21,FALSE))","v":""},{"$f":"IF(AT67=\"\",\"\",VLOOKUP(AT67,'（ユニット型）シフト記号表'!$C$5:$W$46,21,FALSE))","v":""},{"$f":"IF(AU67=\"\",\"\",VLOOKUP(AU67,'（ユニット型）シフト記号表'!$C$5:$W$46,21,FALSE))","v":""},{"$f":"IF(AV67=\"\",\"\",VLOOKUP(AV67,'（ユニット型）シフト記号表'!$C$5:$W$46,21,FALSE))","v":""},{"$f":"IF(AW67=\"\",\"\",VLOOKUP(AW67,'（ユニット型）シフト記号表'!$C$5:$W$46,21,FALSE))","v":""},{"$f":"IF(AX67=\"\",\"\",VLOOKUP(AX67,'（ユニット型）シフト記号表'!$C$5:$W$46,21,FALSE))","v":""},{"$f":"IF(AY67=\"\",\"\",VLOOKUP(AY67,'（ユニット型）シフト記号表'!$C$5:$W$46,21,FALSE))","v":""},{"$f":"IF(AZ67=\"\",\"\",VLOOKUP(AZ67,'（ユニット型）シフト記号表'!$C$5:$W$46,21,FALSE))","v":""},{"$f":"IF(BA67=\"\",\"\",VLOOKUP(BA67,'（ユニット型）シフト記号表'!$C$5:$W$46,21,FALSE))","v":""},{"$f":"IF(BB67=\"\",\"\",VLOOKUP(BB67,'（ユニット型）シフト記号表'!$C$5:$W$46,21,FALSE))","v":""},{"$f":"IF(BC67=\"\",\"\",VLOOKUP(BC67,'（ユニット型）シフト記号表'!$C$5:$W$46,21,FALSE))","v":""},{"$f":"IF(BD67=\"\",\"\",VLOOKUP(BD67,'（ユニット型）シフト記号表'!$C$5:$W$46,21,FALSE))","v":""},{"$f":"IF(BE67=\"\",\"\",VLOOKUP(BE67,'（ユニット型）シフト記号表'!$C$5:$W$46,21,FALSE))","v":""},{"$f":"IF($BI$3=\"計画\",SUM(AA68:BB68),IF($BI$3=\"実績\",SUM(AA68:BE68),\"\"))","v":0},null,{"$f":"IF($BI$3=\"計画\",BF68/4,IF($BI$3=\"実績\",(BF68/($BI$7/7)),\"\"))","v":0}]
[null,null,null,null,null,null,null,null,{"$f":"G68","v":0},null,{"$f":"M68","v":0},null,null,null,null,null,null,null,null,null,null,"夜勤時間帯の勤務時間数",null,null,null,null,{"$f":"IF(AA67=\"\",\"\",VLOOKUP(AA67,'（ユニット型）シフト記号表'!$C$5:$Y$46,23,FALSE))","v":""},{"$f":"IF(AB67=\"\",\"\",VLOOKUP(AB67,'（ユニット型）シフト記号表'!$C$5:$Y$46,23,FALSE))","v":""},{"$f":"IF(AC67=\"\",\"\",VLOOKUP(AC67,'（ユニット型）シフト記号表'!$C$5:$Y$46,23,FALSE))","v":""},{"$f":"IF(AD67=\"\",\"\",VLOOKUP(AD67,'（ユニット型）シフト記号表'!$C$5:$Y$46,23,FALSE))","v":""},{"$f":"IF(AE67=\"\",\"\",VLOOKUP(AE67,'（ユニット型）シフト記号表'!$C$5:$Y$46,23,FALSE))","v":""},{"$f":"IF(AF67=\"\",\"\",VLOOKUP(AF67,'（ユニット型）シフト記号表'!$C$5:$Y$46,23,FALSE))","v":""},{"$f":"IF(AG67=\"\",\"\",VLOOKUP(AG67,'（ユニット型）シフト記号表'!$C$5:$Y$46,23,FALSE))","v":""},{"$f":"IF(AH67=\"\",\"\",VLOOKUP(AH67,'（ユニット型）シフト記号表'!$C$5:$Y$46,23,FALSE))","v":""},{"$f":"IF(AI67=\"\",\"\",VLOOKUP(AI67,'（ユニット型）シフト記号表'!$C$5:$Y$46,23,FALSE))","v":""},{"$f":"IF(AJ67=\"\",\"\",VLOOKUP(AJ67,'（ユニット型）シフト記号表'!$C$5:$Y$46,23,FALSE))","v":""},{"$f":"IF(AK67=\"\",\"\",VLOOKUP(AK67,'（ユニット型）シフト記号表'!$C$5:$Y$46,23,FALSE))","v":""},{"$f":"IF(AL67=\"\",\"\",VLOOKUP(AL67,'（ユニット型）シフト記号表'!$C$5:$Y$46,23,FALSE))","v":""},{"$f":"IF(AM67=\"\",\"\",VLOOKUP(AM67,'（ユニット型）シフト記号表'!$C$5:$Y$46,23,FALSE))","v":""},{"$f":"IF(AN67=\"\",\"\",VLOOKUP(AN67,'（ユニット型）シフト記号表'!$C$5:$Y$46,23,FALSE))","v":""},{"$f":"IF(AO67=\"\",\"\",VLOOKUP(AO67,'（ユニット型）シフト記号表'!$C$5:$Y$46,23,FALSE))","v":""},{"$f":"IF(AP67=\"\",\"\",VLOOKUP(AP67,'（ユニット型）シフト記号表'!$C$5:$Y$46,23,FALSE))","v":""},{"$f":"IF(AQ67=\"\",\"\",VLOOKUP(AQ67,'（ユニット型）シフト記号表'!$C$5:$Y$46,23,FALSE))","v":""},{"$f":"IF(AR67=\"\",\"\",VLOOKUP(AR67,'（ユニット型）シフト記号表'!$C$5:$Y$46,23,FALSE))","v":""},{"$f":"IF(AS67=\"\",\"\",VLOOKUP(AS67,'（ユニット型）シフト記号表'!$C$5:$Y$46,23,FALSE))","v":""},{"$f":"IF(AT67=\"\",\"\",VLOOKUP(AT67,'（ユニット型）シフト記号表'!$C$5:$Y$46,23,FALSE))","v":""},{"$f":"IF(AU67=\"\",\"\",VLOOKUP(AU67,'（ユニット型）シフト記号表'!$C$5:$Y$46,23,FALSE))","v":""},{"$f":"IF(AV67=\"\",\"\",VLOOKUP(AV67,'（ユニット型）シフト記号表'!$C$5:$Y$46,23,FALSE))","v":""},{"$f":"IF(AW67=\"\",\"\",VLOOKUP(AW67,'（ユニット型）シフト記号表'!$C$5:$Y$46,23,FALSE))","v":""},{"$f":"IF(AX67=\"\",\"\",VLOOKUP(AX67,'（ユニット型）シフト記号表'!$C$5:$Y$46,23,FALSE))","v":""},{"$f":"IF(AY67=\"\",\"\",VLOOKUP(AY67,'（ユニット型）シフト記号表'!$C$5:$Y$46,23,FALSE))","v":""},{"$f":"IF(AZ67=\"\",\"\",VLOOKUP(AZ67,'（ユニット型）シフト記号表'!$C$5:$Y$46,23,FALSE))","v":""},{"$f":"IF(BA67=\"\",\"\",VLOOKUP(BA67,'（ユニット型）シフト記号表'!$C$5:$Y$46,23,FALSE))","v":""},{"$f":"IF(BB67=\"\",\"\",VLOOKUP(BB67,'（ユニット型）シフト記号表'!$C$5:$Y$46,23,FALSE))","v":""},{"$f":"IF(BC67=\"\",\"\",VLOOKUP(BC67,'（ユニット型）シフト記号表'!$C$5:$Y$46,23,FALSE))","v":""},{"$f":"IF(BD67=\"\",\"\",VLOOKUP(BD67,'（ユニット型）シフト記号表'!$C$5:$Y$46,23,FALSE))","v":""},{"$f":"IF(BE67=\"\",\"\",VLOOKUP(BE67,'（ユニット型）シフト記号表'!$C$5:$Y$46,23,FALSE))","v":""},{"$f":"IF($BI$3=\"計画\",SUM(AA69:BB69),IF($BI$3=\"実績\",SUM(AA69:BE69),\"\"))","v":0},null,{"$f":"IF($BI$3=\"計画\",BF69/4,IF($BI$3=\"実績\",(BF69/($BI$7/7)),\"\"))","v":0}]
[null,null,null,null,null,null,null,null,null,null,null,null,null,null,null,null,null,null,null,null,null,"シフト記号"]
[null,{"$f":"B68+1","v":18},null,null,null,null,null,null,null,null,null,null,null,null,null,null,null,null,null,null,null,"日中の勤務時間数",null,null,null,null,{"$f":"IF(AA70=\"\",\"\",VLOOKUP(AA70,'（ユニット型）シフト記号表'!$C$5:$W$46,21,FALSE))","v":""},{"$f":"IF(AB70=\"\",\"\",VLOOKUP(AB70,'（ユニット型）シフト記号表'!$C$5:$W$46,21,FALSE))","v":""},{"$f":"IF(AC70=\"\",\"\",VLOOKUP(AC70,'（ユニット型）シフト記号表'!$C$5:$W$46,21,FALSE))","v":""},{"$f":"IF(AD70=\"\",\"\",VLOOKUP(AD70,'（ユニット型）シフト記号表'!$C$5:$W$46,21,FALSE))","v":""},{"$f":"IF(AE70=\"\",\"\",VLOOKUP(AE70,'（ユニット型）シフト記号表'!$C$5:$W$46,21,FALSE))","v":""},{"$f":"IF(AF70=\"\",\"\",VLOOKUP(AF70,'（ユニット型）シフト記号表'!$C$5:$W$46,21,FALSE))","v":""},{"$f":"IF(AG70=\"\",\"\",VLOOKUP(AG70,'（ユニット型）シフト記号表'!$C$5:$W$46,21,FALSE))","v":""},{"$f":"IF(AH70=\"\",\"\",VLOOKUP(AH70,'（ユニット型）シフト記号表'!$C$5:$W$46,21,FALSE))","v":""},{"$f":"IF(AI70=\"\",\"\",VLOOKUP(AI70,'（ユニット型）シフト記号表'!$C$5:$W$46,21,FALSE))","v":""},{"$f":"IF(AJ70=\"\",\"\",VLOOKUP(AJ70,'（ユニット型）シフト記号表'!$C$5:$W$46,21,FALSE))","v":""},{"$f":"IF(AK70=\"\",\"\",VLOOKUP(AK70,'（ユニット型）シフト記号表'!$C$5:$W$46,21,FALSE))","v":""},{"$f":"IF(AL70=\"\",\"\",VLOOKUP(AL70,'（ユニット型）シフト記号表'!$C$5:$W$46,21,FALSE))","v":""},{"$f":"IF(AM70=\"\",\"\",VLOOKUP(AM70,'（ユニット型）シフト記号表'!$C$5:$W$46,21,FALSE))","v":""},{"$f":"IF(AN70=\"\",\"\",VLOOKUP(AN70,'（ユニット型）シフト記号表'!$C$5:$W$46,21,FALSE))","v":""},{"$f":"IF(AO70=\"\",\"\",VLOOKUP(AO70,'（ユニット型）シフト記号表'!$C$5:$W$46,21,FALSE))","v":""},{"$f":"IF(AP70=\"\",\"\",VLOOKUP(AP70,'（ユニット型）シフト記号表'!$C$5:$W$46,21,FALSE))","v":""},{"$f":"IF(AQ70=\"\",\"\",VLOOKUP(AQ70,'（ユニット型）シフト記号表'!$C$5:$W$46,21,FALSE))","v":""},{"$f":"IF(AR70=\"\",\"\",VLOOKUP(AR70,'（ユニット型）シフト記号表'!$C$5:$W$46,21,FALSE))","v":""},{"$f":"IF(AS70=\"\",\"\",VLOOKUP(AS70,'（ユニット型）シフト記号表'!$C$5:$W$46,21,FALSE))","v":""},{"$f":"IF(AT70=\"\",\"\",VLOOKUP(AT70,'（ユニット型）シフト記号表'!$C$5:$W$46,21,FALSE))","v":""},{"$f":"IF(AU70=\"\",\"\",VLOOKUP(AU70,'（ユニット型）シフト記号表'!$C$5:$W$46,21,FALSE))","v":""},{"$f":"IF(AV70=\"\",\"\",VLOOKUP(AV70,'（ユニット型）シフト記号表'!$C$5:$W$46,21,FALSE))","v":""},{"$f":"IF(AW70=\"\",\"\",VLOOKUP(AW70,'（ユニット型）シフト記号表'!$C$5:$W$46,21,FALSE))","v":""},{"$f":"IF(AX70=\"\",\"\",VLOOKUP(AX70,'（ユニット型）シフト記号表'!$C$5:$W$46,21,FALSE))","v":""},{"$f":"IF(AY70=\"\",\"\",VLOOKUP(AY70,'（ユニット型）シフト記号表'!$C$5:$W$46,21,FALSE))","v":""},{"$f":"IF(AZ70=\"\",\"\",VLOOKUP(AZ70,'（ユニット型）シフト記号表'!$C$5:$W$46,21,FALSE))","v":""},{"$f":"IF(BA70=\"\",\"\",VLOOKUP(BA70,'（ユニット型）シフト記号表'!$C$5:$W$46,21,FALSE))","v":""},{"$f":"IF(BB70=\"\",\"\",VLOOKUP(BB70,'（ユニット型）シフト記号表'!$C$5:$W$46,21,FALSE))","v":""},{"$f":"IF(BC70=\"\",\"\",VLOOKUP(BC70,'（ユニット型）シフト記号表'!$C$5:$W$46,21,FALSE))","v":""},{"$f":"IF(BD70=\"\",\"\",VLOOKUP(BD70,'（ユニット型）シフト記号表'!$C$5:$W$46,21,FALSE))","v":""},{"$f":"IF(BE70=\"\",\"\",VLOOKUP(BE70,'（ユニット型）シフト記号表'!$C$5:$W$46,21,FALSE))","v":""},{"$f":"IF($BI$3=\"計画\",SUM(AA71:BB71),IF($BI$3=\"実績\",SUM(AA71:BE71),\"\"))","v":0},null,{"$f":"IF($BI$3=\"計画\",BF71/4,IF($BI$3=\"実績\",(BF71/($BI$7/7)),\"\"))","v":0}]
[null,null,null,null,null,null,null,null,{"$f":"G71","v":0},null,{"$f":"M71","v":0},null,null,null,null,null,null,null,null,null,null,"夜勤時間帯の勤務時間数",null,null,null,null,{"$f":"IF(AA70=\"\",\"\",VLOOKUP(AA70,'（ユニット型）シフト記号表'!$C$5:$Y$46,23,FALSE))","v":""},{"$f":"IF(AB70=\"\",\"\",VLOOKUP(AB70,'（ユニット型）シフト記号表'!$C$5:$Y$46,23,FALSE))","v":""},{"$f":"IF(AC70=\"\",\"\",VLOOKUP(AC70,'（ユニット型）シフト記号表'!$C$5:$Y$46,23,FALSE))","v":""},{"$f":"IF(AD70=\"\",\"\",VLOOKUP(AD70,'（ユニット型）シフト記号表'!$C$5:$Y$46,23,FALSE))","v":""},{"$f":"IF(AE70=\"\",\"\",VLOOKUP(AE70,'（ユニット型）シフト記号表'!$C$5:$Y$46,23,FALSE))","v":""},{"$f":"IF(AF70=\"\",\"\",VLOOKUP(AF70,'（ユニット型）シフト記号表'!$C$5:$Y$46,23,FALSE))","v":""},{"$f":"IF(AG70=\"\",\"\",VLOOKUP(AG70,'（ユニット型）シフト記号表'!$C$5:$Y$46,23,FALSE))","v":""},{"$f":"IF(AH70=\"\",\"\",VLOOKUP(AH70,'（ユニット型）シフト記号表'!$C$5:$Y$46,23,FALSE))","v":""},{"$f":"IF(AI70=\"\",\"\",VLOOKUP(AI70,'（ユニット型）シフト記号表'!$C$5:$Y$46,23,FALSE))","v":""},{"$f":"IF(AJ70=\"\",\"\",VLOOKUP(AJ70,'（ユニット型）シフト記号表'!$C$5:$Y$46,23,FALSE))","v":""},{"$f":"IF(AK70=\"\",\"\",VLOOKUP(AK70,'（ユニット型）シフト記号表'!$C$5:$Y$46,23,FALSE))","v":""},{"$f":"IF(AL70=\"\",\"\",VLOOKUP(AL70,'（ユニット型）シフト記号表'!$C$5:$Y$46,23,FALSE))","v":""},{"$f":"IF(AM70=\"\",\"\",VLOOKUP(AM70,'（ユニット型）シフト記号表'!$C$5:$Y$46,23,FALSE))","v":""},{"$f":"IF(AN70=\"\",\"\",VLOOKUP(AN70,'（ユニット型）シフト記号表'!$C$5:$Y$46,23,FALSE))","v":""},{"$f":"IF(AO70=\"\",\"\",VLOOKUP(AO70,'（ユニット型）シフト記号表'!$C$5:$Y$46,23,FALSE))","v":""},{"$f":"IF(AP70=\"\",\"\",VLOOKUP(AP70,'（ユニット型）シフト記号表'!$C$5:$Y$46,23,FALSE))","v":""},{"$f":"IF(AQ70=\"\",\"\",VLOOKUP(AQ70,'（ユニット型）シフト記号表'!$C$5:$Y$46,23,FALSE))","v":""},{"$f":"IF(AR70=\"\",\"\",VLOOKUP(AR70,'（ユニット型）シフト記号表'!$C$5:$Y$46,23,FALSE))","v":""},{"$f":"IF(AS70=\"\",\"\",VLOOKUP(AS70,'（ユニット型）シフト記号表'!$C$5:$Y$46,23,FALSE))","v":""},{"$f":"IF(AT70=\"\",\"\",VLOOKUP(AT70,'（ユニット型）シフト記号表'!$C$5:$Y$46,23,FALSE))","v":""},{"$f":"IF(AU70=\"\",\"\",VLOOKUP(AU70,'（ユニット型）シフト記号表'!$C$5:$Y$46,23,FALSE))","v":""},{"$f":"IF(AV70=\"\",\"\",VLOOKUP(AV70,'（ユニット型）シフト記号表'!$C$5:$Y$46,23,FALSE))","v":""},{"$f":"IF(AW70=\"\",\"\",VLOOKUP(AW70,'（ユニット型）シフト記号表'!$C$5:$Y$46,23,FALSE))","v":""},{"$f":"IF(AX70=\"\",\"\",VLOOKUP(AX70,'（ユニット型）シフト記号表'!$C$5:$Y$46,23,FALSE))","v":""},{"$f":"IF(AY70=\"\",\"\",VLOOKUP(AY70,'（ユニット型）シフト記号表'!$C$5:$Y$46,23,FALSE))","v":""},{"$f":"IF(AZ70=\"\",\"\",VLOOKUP(AZ70,'（ユニット型）シフト記号表'!$C$5:$Y$46,23,FALSE))","v":""},{"$f":"IF(BA70=\"\",\"\",VLOOKUP(BA70,'（ユニット型）シフト記号表'!$C$5:$Y$46,23,FALSE))","v":""},{"$f":"IF(BB70=\"\",\"\",VLOOKUP(BB70,'（ユニット型）シフト記号表'!$C$5:$Y$46,23,FALSE))","v":""},{"$f":"IF(BC70=\"\",\"\",VLOOKUP(BC70,'（ユニット型）シフト記号表'!$C$5:$Y$46,23,FALSE))","v":""},{"$f":"IF(BD70=\"\",\"\",VLOOKUP(BD70,'（ユニット型）シフト記号表'!$C$5:$Y$46,23,FALSE))","v":""},{"$f":"IF(BE70=\"\",\"\",VLOOKUP(BE70,'（ユニット型）シフト記号表'!$C$5:$Y$46,23,FALSE))","v":""},{"$f":"IF($BI$3=\"計画\",SUM(AA72:BB72),IF($BI$3=\"実績\",SUM(AA72:BE72),\"\"))","v":0},null,{"$f":"IF($BI$3=\"計画\",BF72/4,IF($BI$3=\"実績\",(BF72/($BI$7/7)),\"\"))","v":0}]
[null,null,null,null,null,null,null,null,null,null,null,null,null,null,null,null,null,null,null,null,null,"シフト記号"]
[null,{"$f":"B71+1","v":19},null,null,null,null,null,null,null,null,null,null,null,null,null,null,null,null,null,null,null,"日中の勤務時間数",null,null,null,null,{"$f":"IF(AA73=\"\",\"\",VLOOKUP(AA73,'（ユニット型）シフト記号表'!$C$5:$W$46,21,FALSE))","v":""},{"$f":"IF(AB73=\"\",\"\",VLOOKUP(AB73,'（ユニット型）シフト記号表'!$C$5:$W$46,21,FALSE))","v":""},{"$f":"IF(AC73=\"\",\"\",VLOOKUP(AC73,'（ユニット型）シフト記号表'!$C$5:$W$46,21,FALSE))","v":""},{"$f":"IF(AD73=\"\",\"\",VLOOKUP(AD73,'（ユニット型）シフト記号表'!$C$5:$W$46,21,FALSE))","v":""},{"$f":"IF(AE73=\"\",\"\",VLOOKUP(AE73,'（ユニット型）シフト記号表'!$C$5:$W$46,21,FALSE))","v":""},{"$f":"IF(AF73=\"\",\"\",VLOOKUP(AF73,'（ユニット型）シフト記号表'!$C$5:$W$46,21,FALSE))","v":""},{"$f":"IF(AG73=\"\",\"\",VLOOKUP(AG73,'（ユニット型）シフト記号表'!$C$5:$W$46,21,FALSE))","v":""},{"$f":"IF(AH73=\"\",\"\",VLOOKUP(AH73,'（ユニット型）シフト記号表'!$C$5:$W$46,21,FALSE))","v":""},{"$f":"IF(AI73=\"\",\"\",VLOOKUP(AI73,'（ユニット型）シフト記号表'!$C$5:$W$46,21,FALSE))","v":""},{"$f":"IF(AJ73=\"\",\"\",VLOOKUP(AJ73,'（ユニット型）シフト記号表'!$C$5:$W$46,21,FALSE))","v":""},{"$f":"IF(AK73=\"\",\"\",VLOOKUP(AK73,'（ユニット型）シフト記号表'!$C$5:$W$46,21,FALSE))","v":""},{"$f":"IF(AL73=\"\",\"\",VLOOKUP(AL73,'（ユニット型）シフト記号表'!$C$5:$W$46,21,FALSE))","v":""},{"$f":"IF(AM73=\"\",\"\",VLOOKUP(AM73,'（ユニット型）シフト記号表'!$C$5:$W$46,21,FALSE))","v":""},{"$f":"IF(AN73=\"\",\"\",VLOOKUP(AN73,'（ユニット型）シフト記号表'!$C$5:$W$46,21,FALSE))","v":""},{"$f":"IF(AO73=\"\",\"\",VLOOKUP(AO73,'（ユニット型）シフト記号表'!$C$5:$W$46,21,FALSE))","v":""},{"$f":"IF(AP73=\"\",\"\",VLOOKUP(AP73,'（ユニット型）シフト記号表'!$C$5:$W$46,21,FALSE))","v":""},{"$f":"IF(AQ73=\"\",\"\",VLOOKUP(AQ73,'（ユニット型）シフト記号表'!$C$5:$W$46,21,FALSE))","v":""},{"$f":"IF(AR73=\"\",\"\",VLOOKUP(AR73,'（ユニット型）シフト記号表'!$C$5:$W$46,21,FALSE))","v":""},{"$f":"IF(AS73=\"\",\"\",VLOOKUP(AS73,'（ユニット型）シフト記号表'!$C$5:$W$46,21,FALSE))","v":""},{"$f":"IF(AT73=\"\",\"\",VLOOKUP(AT73,'（ユニット型）シフト記号表'!$C$5:$W$46,21,FALSE))","v":""},{"$f":"IF(AU73=\"\",\"\",VLOOKUP(AU73,'（ユニット型）シフト記号表'!$C$5:$W$46,21,FALSE))","v":""},{"$f":"IF(AV73=\"\",\"\",VLOOKUP(AV73,'（ユニット型）シフト記号表'!$C$5:$W$46,21,FALSE))","v":""},{"$f":"IF(AW73=\"\",\"\",VLOOKUP(AW73,'（ユニット型）シフト記号表'!$C$5:$W$46,21,FALSE))","v":""},{"$f":"IF(AX73=\"\",\"\",VLOOKUP(AX73,'（ユニット型）シフト記号表'!$C$5:$W$46,21,FALSE))","v":""},{"$f":"IF(AY73=\"\",\"\",VLOOKUP(AY73,'（ユニット型）シフト記号表'!$C$5:$W$46,21,FALSE))","v":""},{"$f":"IF(AZ73=\"\",\"\",VLOOKUP(AZ73,'（ユニット型）シフト記号表'!$C$5:$W$46,21,FALSE))","v":""},{"$f":"IF(BA73=\"\",\"\",VLOOKUP(BA73,'（ユニット型）シフト記号表'!$C$5:$W$46,21,FALSE))","v":""},{"$f":"IF(BB73=\"\",\"\",VLOOKUP(BB73,'（ユニット型）シフト記号表'!$C$5:$W$46,21,FALSE))","v":""},{"$f":"IF(BC73=\"\",\"\",VLOOKUP(BC73,'（ユニット型）シフト記号表'!$C$5:$W$46,21,FALSE))","v":""},{"$f":"IF(BD73=\"\",\"\",VLOOKUP(BD73,'（ユニット型）シフト記号表'!$C$5:$W$46,21,FALSE))","v":""},{"$f":"IF(BE73=\"\",\"\",VLOOKUP(BE73,'（ユニット型）シフト記号表'!$C$5:$W$46,21,FALSE))","v":""},{"$f":"IF($BI$3=\"計画\",SUM(AA74:BB74),IF($BI$3=\"実績\",SUM(AA74:BE74),\"\"))","v":0},null,{"$f":"IF($BI$3=\"計画\",BF74/4,IF($BI$3=\"実績\",(BF74/($BI$7/7)),\"\"))","v":0}]
[null,null,null,null,null,null,null,null,{"$f":"G74","v":0},null,{"$f":"M74","v":0},null,null,null,null,null,null,null,null,null,null,"夜勤時間帯の勤務時間数",null,null,null,null,{"$f":"IF(AA73=\"\",\"\",VLOOKUP(AA73,'（ユニット型）シフト記号表'!$C$5:$Y$46,23,FALSE))","v":""},{"$f":"IF(AB73=\"\",\"\",VLOOKUP(AB73,'（ユニット型）シフト記号表'!$C$5:$Y$46,23,FALSE))","v":""},{"$f":"IF(AC73=\"\",\"\",VLOOKUP(AC73,'（ユニット型）シフト記号表'!$C$5:$Y$46,23,FALSE))","v":""},{"$f":"IF(AD73=\"\",\"\",VLOOKUP(AD73,'（ユニット型）シフト記号表'!$C$5:$Y$46,23,FALSE))","v":""},{"$f":"IF(AE73=\"\",\"\",VLOOKUP(AE73,'（ユニット型）シフト記号表'!$C$5:$Y$46,23,FALSE))","v":""},{"$f":"IF(AF73=\"\",\"\",VLOOKUP(AF73,'（ユニット型）シフト記号表'!$C$5:$Y$46,23,FALSE))","v":""},{"$f":"IF(AG73=\"\",\"\",VLOOKUP(AG73,'（ユニット型）シフト記号表'!$C$5:$Y$46,23,FALSE))","v":""},{"$f":"IF(AH73=\"\",\"\",VLOOKUP(AH73,'（ユニット型）シフト記号表'!$C$5:$Y$46,23,FALSE))","v":""},{"$f":"IF(AI73=\"\",\"\",VLOOKUP(AI73,'（ユニット型）シフト記号表'!$C$5:$Y$46,23,FALSE))","v":""},{"$f":"IF(AJ73=\"\",\"\",VLOOKUP(AJ73,'（ユニット型）シフト記号表'!$C$5:$Y$46,23,FALSE))","v":""},{"$f":"IF(AK73=\"\",\"\",VLOOKUP(AK73,'（ユニット型）シフト記号表'!$C$5:$Y$46,23,FALSE))","v":""},{"$f":"IF(AL73=\"\",\"\",VLOOKUP(AL73,'（ユニット型）シフト記号表'!$C$5:$Y$46,23,FALSE))","v":""},{"$f":"IF(AM73=\"\",\"\",VLOOKUP(AM73,'（ユニット型）シフト記号表'!$C$5:$Y$46,23,FALSE))","v":""},{"$f":"IF(AN73=\"\",\"\",VLOOKUP(AN73,'（ユニット型）シフト記号表'!$C$5:$Y$46,23,FALSE))","v":""},{"$f":"IF(AO73=\"\",\"\",VLOOKUP(AO73,'（ユニット型）シフト記号表'!$C$5:$Y$46,23,FALSE))","v":""},{"$f":"IF(AP73=\"\",\"\",VLOOKUP(AP73,'（ユニット型）シフト記号表'!$C$5:$Y$46,23,FALSE))","v":""},{"$f":"IF(AQ73=\"\",\"\",VLOOKUP(AQ73,'（ユニット型）シフト記号表'!$C$5:$Y$46,23,FALSE))","v":""},{"$f":"IF(AR73=\"\",\"\",VLOOKUP(AR73,'（ユニット型）シフト記号表'!$C$5:$Y$46,23,FALSE))","v":""},{"$f":"IF(AS73=\"\",\"\",VLOOKUP(AS73,'（ユニット型）シフト記号表'!$C$5:$Y$46,23,FALSE))","v":""},{"$f":"IF(AT73=\"\",\"\",VLOOKUP(AT73,'（ユニット型）シフト記号表'!$C$5:$Y$46,23,FALSE))","v":""},{"$f":"IF(AU73=\"\",\"\",VLOOKUP(AU73,'（ユニット型）シフト記号表'!$C$5:$Y$46,23,FALSE))","v":""},{"$f":"IF(AV73=\"\",\"\",VLOOKUP(AV73,'（ユニット型）シフト記号表'!$C$5:$Y$46,23,FALSE))","v":""},{"$f":"IF(AW73=\"\",\"\",VLOOKUP(AW73,'（ユニット型）シフト記号表'!$C$5:$Y$46,23,FALSE))","v":""},{"$f":"IF(AX73=\"\",\"\",VLOOKUP(AX73,'（ユニット型）シフト記号表'!$C$5:$Y$46,23,FALSE))","v":""},{"$f":"IF(AY73=\"\",\"\",VLOOKUP(AY73,'（ユニット型）シフト記号表'!$C$5:$Y$46,23,FALSE))","v":""},{"$f":"IF(AZ73=\"\",\"\",VLOOKUP(AZ73,'（ユニット型）シフト記号表'!$C$5:$Y$46,23,FALSE))","v":""},{"$f":"IF(BA73=\"\",\"\",VLOOKUP(BA73,'（ユニット型）シフト記号表'!$C$5:$Y$46,23,FALSE))","v":""},{"$f":"IF(BB73=\"\",\"\",VLOOKUP(BB73,'（ユニット型）シフト記号表'!$C$5:$Y$46,23,FALSE))","v":""},{"$f":"IF(BC73=\"\",\"\",VLOOKUP(BC73,'（ユニット型）シフト記号表'!$C$5:$Y$46,23,FALSE))","v":""},{"$f":"IF(BD73=\"\",\"\",VLOOKUP(BD73,'（ユニット型）シフト記号表'!$C$5:$Y$46,23,FALSE))","v":""},{"$f":"IF(BE73=\"\",\"\",VLOOKUP(BE73,'（ユニット型）シフト記号表'!$C$5:$Y$46,23,FALSE))","v":""},{"$f":"IF($BI$3=\"計画\",SUM(AA75:BB75),IF($BI$3=\"実績\",SUM(AA75:BE75),\"\"))","v":0},null,{"$f":"IF($BI$3=\"計画\",BF75/4,IF($BI$3=\"実績\",(BF75/($BI$7/7)),\"\"))","v":0}]
[null,null,null,null,null,null,null,null,null,null,null,null,null,null,null,null,null,null,null,null,null,"シフト記号"]
[null,{"$f":"B74+1","v":20},null,null,null,null,null,null,null,null,null,null,null,null,null,null,null,null,null,null,null,"日中の勤務時間数",null,null,null,null,{"$f":"IF(AA76=\"\",\"\",VLOOKUP(AA76,'（ユニット型）シフト記号表'!$C$5:$W$46,21,FALSE))","v":""},{"$f":"IF(AB76=\"\",\"\",VLOOKUP(AB76,'（ユニット型）シフト記号表'!$C$5:$W$46,21,FALSE))","v":""},{"$f":"IF(AC76=\"\",\"\",VLOOKUP(AC76,'（ユニット型）シフト記号表'!$C$5:$W$46,21,FALSE))","v":""},{"$f":"IF(AD76=\"\",\"\",VLOOKUP(AD76,'（ユニット型）シフト記号表'!$C$5:$W$46,21,FALSE))","v":""},{"$f":"IF(AE76=\"\",\"\",VLOOKUP(AE76,'（ユニット型）シフト記号表'!$C$5:$W$46,21,FALSE))","v":""},{"$f":"IF(AF76=\"\",\"\",VLOOKUP(AF76,'（ユニット型）シフト記号表'!$C$5:$W$46,21,FALSE))","v":""},{"$f":"IF(AG76=\"\",\"\",VLOOKUP(AG76,'（ユニット型）シフト記号表'!$C$5:$W$46,21,FALSE))","v":""},{"$f":"IF(AH76=\"\",\"\",VLOOKUP(AH76,'（ユニット型）シフト記号表'!$C$5:$W$46,21,FALSE))","v":""},{"$f":"IF(AI76=\"\",\"\",VLOOKUP(AI76,'（ユニット型）シフト記号表'!$C$5:$W$46,21,FALSE))","v":""},{"$f":"IF(AJ76=\"\",\"\",VLOOKUP(AJ76,'（ユニット型）シフト記号表'!$C$5:$W$46,21,FALSE))","v":""},{"$f":"IF(AK76=\"\",\"\",VLOOKUP(AK76,'（ユニット型）シフト記号表'!$C$5:$W$46,21,FALSE))","v":""},{"$f":"IF(AL76=\"\",\"\",VLOOKUP(AL76,'（ユニット型）シフト記号表'!$C$5:$W$46,21,FALSE))","v":""},{"$f":"IF(AM76=\"\",\"\",VLOOKUP(AM76,'（ユニット型）シフト記号表'!$C$5:$W$46,21,FALSE))","v":""},{"$f":"IF(AN76=\"\",\"\",VLOOKUP(AN76,'（ユニット型）シフト記号表'!$C$5:$W$46,21,FALSE))","v":""},{"$f":"IF(AO76=\"\",\"\",VLOOKUP(AO76,'（ユニット型）シフト記号表'!$C$5:$W$46,21,FALSE))","v":""},{"$f":"IF(AP76=\"\",\"\",VLOOKUP(AP76,'（ユニット型）シフト記号表'!$C$5:$W$46,21,FALSE))","v":""},{"$f":"IF(AQ76=\"\",\"\",VLOOKUP(AQ76,'（ユニット型）シフト記号表'!$C$5:$W$46,21,FALSE))","v":""},{"$f":"IF(AR76=\"\",\"\",VLOOKUP(AR76,'（ユニット型）シフト記号表'!$C$5:$W$46,21,FALSE))","v":""},{"$f":"IF(AS76=\"\",\"\",VLOOKUP(AS76,'（ユニット型）シフト記号表'!$C$5:$W$46,21,FALSE))","v":""},{"$f":"IF(AT76=\"\",\"\",VLOOKUP(AT76,'（ユニット型）シフト記号表'!$C$5:$W$46,21,FALSE))","v":""},{"$f":"IF(AU76=\"\",\"\",VLOOKUP(AU76,'（ユニット型）シフト記号表'!$C$5:$W$46,21,FALSE))","v":""},{"$f":"IF(AV76=\"\",\"\",VLOOKUP(AV76,'（ユニット型）シフト記号表'!$C$5:$W$46,21,FALSE))","v":""},{"$f":"IF(AW76=\"\",\"\",VLOOKUP(AW76,'（ユニット型）シフト記号表'!$C$5:$W$46,21,FALSE))","v":""},{"$f":"IF(AX76=\"\",\"\",VLOOKUP(AX76,'（ユニット型）シフト記号表'!$C$5:$W$46,21,FALSE))","v":""},{"$f":"IF(AY76=\"\",\"\",VLOOKUP(AY76,'（ユニット型）シフト記号表'!$C$5:$W$46,21,FALSE))","v":""},{"$f":"IF(AZ76=\"\",\"\",VLOOKUP(AZ76,'（ユニット型）シフト記号表'!$C$5:$W$46,21,FALSE))","v":""},{"$f":"IF(BA76=\"\",\"\",VLOOKUP(BA76,'（ユニット型）シフト記号表'!$C$5:$W$46,21,FALSE))","v":""},{"$f":"IF(BB76=\"\",\"\",VLOOKUP(BB76,'（ユニット型）シフト記号表'!$C$5:$W$46,21,FALSE))","v":""},{"$f":"IF(BC76=\"\",\"\",VLOOKUP(BC76,'（ユニット型）シフト記号表'!$C$5:$W$46,21,FALSE))","v":""},{"$f":"IF(BD76=\"\",\"\",VLOOKUP(BD76,'（ユニット型）シフト記号表'!$C$5:$W$46,21,FALSE))","v":""},{"$f":"IF(BE76=\"\",\"\",VLOOKUP(BE76,'（ユニット型）シフト記号表'!$C$5:$W$46,21,FALSE))","v":""},{"$f":"IF($BI$3=\"計画\",SUM(AA77:BB77),IF($BI$3=\"実績\",SUM(AA77:BE77),\"\"))","v":0},null,{"$f":"IF($BI$3=\"計画\",BF77/4,IF($BI$3=\"実績\",(BF77/($BI$7/7)),\"\"))","v":0}]
[null,null,null,null,null,null,null,null,{"$f":"G77","v":0},null,{"$f":"M77","v":0},null,null,null,null,null,null,null,null,null,null,"夜勤時間帯の勤務時間数",null,null,null,null,{"$f":"IF(AA76=\"\",\"\",VLOOKUP(AA76,'（ユニット型）シフト記号表'!$C$5:$Y$46,23,FALSE))","v":""},{"$f":"IF(AB76=\"\",\"\",VLOOKUP(AB76,'（ユニット型）シフト記号表'!$C$5:$Y$46,23,FALSE))","v":""},{"$f":"IF(AC76=\"\",\"\",VLOOKUP(AC76,'（ユニット型）シフト記号表'!$C$5:$Y$46,23,FALSE))","v":""},{"$f":"IF(AD76=\"\",\"\",VLOOKUP(AD76,'（ユニット型）シフト記号表'!$C$5:$Y$46,23,FALSE))","v":""},{"$f":"IF(AE76=\"\",\"\",VLOOKUP(AE76,'（ユニット型）シフト記号表'!$C$5:$Y$46,23,FALSE))","v":""},{"$f":"IF(AF76=\"\",\"\",VLOOKUP(AF76,'（ユニット型）シフト記号表'!$C$5:$Y$46,23,FALSE))","v":""},{"$f":"IF(AG76=\"\",\"\",VLOOKUP(AG76,'（ユニット型）シフト記号表'!$C$5:$Y$46,23,FALSE))","v":""},{"$f":"IF(AH76=\"\",\"\",VLOOKUP(AH76,'（ユニット型）シフト記号表'!$C$5:$Y$46,23,FALSE))","v":""},{"$f":"IF(AI76=\"\",\"\",VLOOKUP(AI76,'（ユニット型）シフト記号表'!$C$5:$Y$46,23,FALSE))","v":""},{"$f":"IF(AJ76=\"\",\"\",VLOOKUP(AJ76,'（ユニット型）シフト記号表'!$C$5:$Y$46,23,FALSE))","v":""},{"$f":"IF(AK76=\"\",\"\",VLOOKUP(AK76,'（ユニット型）シフト記号表'!$C$5:$Y$46,23,FALSE))","v":""},{"$f":"IF(AL76=\"\",\"\",VLOOKUP(AL76,'（ユニット型）シフト記号表'!$C$5:$Y$46,23,FALSE))","v":""},{"$f":"IF(AM76=\"\",\"\",VLOOKUP(AM76,'（ユニット型）シフト記号表'!$C$5:$Y$46,23,FALSE))","v":""},{"$f":"IF(AN76=\"\",\"\",VLOOKUP(AN76,'（ユニット型）シフト記号表'!$C$5:$Y$46,23,FALSE))","v":""},{"$f":"IF(AO76=\"\",\"\",VLOOKUP(AO76,'（ユニット型）シフト記号表'!$C$5:$Y$46,23,FALSE))","v":""},{"$f":"IF(AP76=\"\",\"\",VLOOKUP(AP76,'（ユニット型）シフト記号表'!$C$5:$Y$46,23,FALSE))","v":""},{"$f":"IF(AQ76=\"\",\"\",VLOOKUP(AQ76,'（ユニット型）シフト記号表'!$C$5:$Y$46,23,FALSE))","v":""},{"$f":"IF(AR76=\"\",\"\",VLOOKUP(AR76,'（ユニット型）シフト記号表'!$C$5:$Y$46,23,FALSE))","v":""},{"$f":"IF(AS76=\"\",\"\",VLOOKUP(AS76,'（ユニット型）シフト記号表'!$C$5:$Y$46,23,FALSE))","v":""},{"$f":"IF(AT76=\"\",\"\",VLOOKUP(AT76,'（ユニット型）シフト記号表'!$C$5:$Y$46,23,FALSE))","v":""},{"$f":"IF(AU76=\"\",\"\",VLOOKUP(AU76,'（ユニット型）シフト記号表'!$C$5:$Y$46,23,FALSE))","v":""},{"$f":"IF(AV76=\"\",\"\",VLOOKUP(AV76,'（ユニット型）シフト記号表'!$C$5:$Y$46,23,FALSE))","v":""},{"$f":"IF(AW76=\"\",\"\",VLOOKUP(AW76,'（ユニット型）シフト記号表'!$C$5:$Y$46,23,FALSE))","v":""},{"$f":"IF(AX76=\"\",\"\",VLOOKUP(AX76,'（ユニット型）シフト記号表'!$C$5:$Y$46,23,FALSE))","v":""},{"$f":"IF(AY76=\"\",\"\",VLOOKUP(AY76,'（ユニット型）シフト記号表'!$C$5:$Y$46,23,FALSE))","v":""},{"$f":"IF(AZ76=\"\",\"\",VLOOKUP(AZ76,'（ユニット型）シフト記号表'!$C$5:$Y$46,23,FALSE))","v":""},{"$f":"IF(BA76=\"\",\"\",VLOOKUP(BA76,'（ユニット型）シフト記号表'!$C$5:$Y$46,23,FALSE))","v":""},{"$f":"IF(BB76=\"\",\"\",VLOOKUP(BB76,'（ユニット型）シフト記号表'!$C$5:$Y$46,23,FALSE))","v":""},{"$f":"IF(BC76=\"\",\"\",VLOOKUP(BC76,'（ユニット型）シフト記号表'!$C$5:$Y$46,23,FALSE))","v":""},{"$f":"IF(BD76=\"\",\"\",VLOOKUP(BD76,'（ユニット型）シフト記号表'!$C$5:$Y$46,23,FALSE))","v":""},{"$f":"IF(BE76=\"\",\"\",VLOOKUP(BE76,'（ユニット型）シフト記号表'!$C$5:$Y$46,23,FALSE))","v":""},{"$f":"IF($BI$3=\"計画\",SUM(AA78:BB78),IF($BI$3=\"実績\",SUM(AA78:BE78),\"\"))","v":0},null,{"$f":"IF($BI$3=\"計画\",BF78/4,IF($BI$3=\"実績\",(BF78/($BI$7/7)),\"\"))","v":0}]
[null,null,null,null,null,null,null,null,null,null,null,null,null,null,null,null,null,null,null,null,null,"シフト記号"]
[null,{"$f":"B77+1","v":21},null,null,null,null,null,null,null,null,null,null,null,null,null,null,null,null,null,null,null,"日中の勤務時間数",null,null,null,null,{"$f":"IF(AA79=\"\",\"\",VLOOKUP(AA79,'（ユニット型）シフト記号表'!$C$5:$W$46,21,FALSE))","v":""},{"$f":"IF(AB79=\"\",\"\",VLOOKUP(AB79,'（ユニット型）シフト記号表'!$C$5:$W$46,21,FALSE))","v":""},{"$f":"IF(AC79=\"\",\"\",VLOOKUP(AC79,'（ユニット型）シフト記号表'!$C$5:$W$46,21,FALSE))","v":""},{"$f":"IF(AD79=\"\",\"\",VLOOKUP(AD79,'（ユニット型）シフト記号表'!$C$5:$W$46,21,FALSE))","v":""},{"$f":"IF(AE79=\"\",\"\",VLOOKUP(AE79,'（ユニット型）シフト記号表'!$C$5:$W$46,21,FALSE))","v":""},{"$f":"IF(AF79=\"\",\"\",VLOOKUP(AF79,'（ユニット型）シフト記号表'!$C$5:$W$46,21,FALSE))","v":""},{"$f":"IF(AG79=\"\",\"\",VLOOKUP(AG79,'（ユニット型）シフト記号表'!$C$5:$W$46,21,FALSE))","v":""},{"$f":"IF(AH79=\"\",\"\",VLOOKUP(AH79,'（ユニット型）シフト記号表'!$C$5:$W$46,21,FALSE))","v":""},{"$f":"IF(AI79=\"\",\"\",VLOOKUP(AI79,'（ユニット型）シフト記号表'!$C$5:$W$46,21,FALSE))","v":""},{"$f":"IF(AJ79=\"\",\"\",VLOOKUP(AJ79,'（ユニット型）シフト記号表'!$C$5:$W$46,21,FALSE))","v":""},{"$f":"IF(AK79=\"\",\"\",VLOOKUP(AK79,'（ユニット型）シフト記号表'!$C$5:$W$46,21,FALSE))","v":""},{"$f":"IF(AL79=\"\",\"\",VLOOKUP(AL79,'（ユニット型）シフト記号表'!$C$5:$W$46,21,FALSE))","v":""},{"$f":"IF(AM79=\"\",\"\",VLOOKUP(AM79,'（ユニット型）シフト記号表'!$C$5:$W$46,21,FALSE))","v":""},{"$f":"IF(AN79=\"\",\"\",VLOOKUP(AN79,'（ユニット型）シフト記号表'!$C$5:$W$46,21,FALSE))","v":""},{"$f":"IF(AO79=\"\",\"\",VLOOKUP(AO79,'（ユニット型）シフト記号表'!$C$5:$W$46,21,FALSE))","v":""},{"$f":"IF(AP79=\"\",\"\",VLOOKUP(AP79,'（ユニット型）シフト記号表'!$C$5:$W$46,21,FALSE))","v":""},{"$f":"IF(AQ79=\"\",\"\",VLOOKUP(AQ79,'（ユニット型）シフト記号表'!$C$5:$W$46,21,FALSE))","v":""},{"$f":"IF(AR79=\"\",\"\",VLOOKUP(AR79,'（ユニット型）シフト記号表'!$C$5:$W$46,21,FALSE))","v":""},{"$f":"IF(AS79=\"\",\"\",VLOOKUP(AS79,'（ユニット型）シフト記号表'!$C$5:$W$46,21,FALSE))","v":""},{"$f":"IF(AT79=\"\",\"\",VLOOKUP(AT79,'（ユニット型）シフト記号表'!$C$5:$W$46,21,FALSE))","v":""},{"$f":"IF(AU79=\"\",\"\",VLOOKUP(AU79,'（ユニット型）シフト記号表'!$C$5:$W$46,21,FALSE))","v":""},{"$f":"IF(AV79=\"\",\"\",VLOOKUP(AV79,'（ユニット型）シフト記号表'!$C$5:$W$46,21,FALSE))","v":""},{"$f":"IF(AW79=\"\",\"\",VLOOKUP(AW79,'（ユニット型）シフト記号表'!$C$5:$W$46,21,FALSE))","v":""},{"$f":"IF(AX79=\"\",\"\",VLOOKUP(AX79,'（ユニット型）シフト記号表'!$C$5:$W$46,21,FALSE))","v":""},{"$f":"IF(AY79=\"\",\"\",VLOOKUP(AY79,'（ユニット型）シフト記号表'!$C$5:$W$46,21,FALSE))","v":""},{"$f":"IF(AZ79=\"\",\"\",VLOOKUP(AZ79,'（ユニット型）シフト記号表'!$C$5:$W$46,21,FALSE))","v":""},{"$f":"IF(BA79=\"\",\"\",VLOOKUP(BA79,'（ユニット型）シフト記号表'!$C$5:$W$46,21,FALSE))","v":""},{"$f":"IF(BB79=\"\",\"\",VLOOKUP(BB79,'（ユニット型）シフト記号表'!$C$5:$W$46,21,FALSE))","v":""},{"$f":"IF(BC79=\"\",\"\",VLOOKUP(BC79,'（ユニット型）シフト記号表'!$C$5:$W$46,21,FALSE))","v":""},{"$f":"IF(BD79=\"\",\"\",VLOOKUP(BD79,'（ユニット型）シフト記号表'!$C$5:$W$46,21,FALSE))","v":""},{"$f":"IF(BE79=\"\",\"\",VLOOKUP(BE79,'（ユニット型）シフト記号表'!$C$5:$W$46,21,FALSE))","v":""},{"$f":"IF($BI$3=\"計画\",SUM(AA80:BB80),IF($BI$3=\"実績\",SUM(AA80:BE80),\"\"))","v":0},null,{"$f":"IF($BI$3=\"計画\",BF80/4,IF($BI$3=\"実績\",(BF80/($BI$7/7)),\"\"))","v":0}]
[null,null,null,null,null,null,null,null,{"$f":"G80","v":0},null,{"$f":"M80","v":0},null,null,null,null,null,null,null,null,null,null,"夜勤時間帯の勤務時間数",null,null,null,null,{"$f":"IF(AA79=\"\",\"\",VLOOKUP(AA79,'（ユニット型）シフト記号表'!$C$5:$Y$46,23,FALSE))","v":""},{"$f":"IF(AB79=\"\",\"\",VLOOKUP(AB79,'（ユニット型）シフト記号表'!$C$5:$Y$46,23,FALSE))","v":""},{"$f":"IF(AC79=\"\",\"\",VLOOKUP(AC79,'（ユニット型）シフト記号表'!$C$5:$Y$46,23,FALSE))","v":""},{"$f":"IF(AD79=\"\",\"\",VLOOKUP(AD79,'（ユニット型）シフト記号表'!$C$5:$Y$46,23,FALSE))","v":""},{"$f":"IF(AE79=\"\",\"\",VLOOKUP(AE79,'（ユニット型）シフト記号表'!$C$5:$Y$46,23,FALSE))","v":""},{"$f":"IF(AF79=\"\",\"\",VLOOKUP(AF79,'（ユニット型）シフト記号表'!$C$5:$Y$46,23,FALSE))","v":""},{"$f":"IF(AG79=\"\",\"\",VLOOKUP(AG79,'（ユニット型）シフト記号表'!$C$5:$Y$46,23,FALSE))","v":""},{"$f":"IF(AH79=\"\",\"\",VLOOKUP(AH79,'（ユニット型）シフト記号表'!$C$5:$Y$46,23,FALSE))","v":""},{"$f":"IF(AI79=\"\",\"\",VLOOKUP(AI79,'（ユニット型）シフト記号表'!$C$5:$Y$46,23,FALSE))","v":""},{"$f":"IF(AJ79=\"\",\"\",VLOOKUP(AJ79,'（ユニット型）シフト記号表'!$C$5:$Y$46,23,FALSE))","v":""},{"$f":"IF(AK79=\"\",\"\",VLOOKUP(AK79,'（ユニット型）シフト記号表'!$C$5:$Y$46,23,FALSE))","v":""},{"$f":"IF(AL79=\"\",\"\",VLOOKUP(AL79,'（ユニット型）シフト記号表'!$C$5:$Y$46,23,FALSE))","v":""},{"$f":"IF(AM79=\"\",\"\",VLOOKUP(AM79,'（ユニット型）シフト記号表'!$C$5:$Y$46,23,FALSE))","v":""},{"$f":"IF(AN79=\"\",\"\",VLOOKUP(AN79,'（ユニット型）シフト記号表'!$C$5:$Y$46,23,FALSE))","v":""},{"$f":"IF(AO79=\"\",\"\",VLOOKUP(AO79,'（ユニット型）シフト記号表'!$C$5:$Y$46,23,FALSE))","v":""},{"$f":"IF(AP79=\"\",\"\",VLOOKUP(AP79,'（ユニット型）シフト記号表'!$C$5:$Y$46,23,FALSE))","v":""},{"$f":"IF(AQ79=\"\",\"\",VLOOKUP(AQ79,'（ユニット型）シフト記号表'!$C$5:$Y$46,23,FALSE))","v":""},{"$f":"IF(AR79=\"\",\"\",VLOOKUP(AR79,'（ユニット型）シフト記号表'!$C$5:$Y$46,23,FALSE))","v":""},{"$f":"IF(AS79=\"\",\"\",VLOOKUP(AS79,'（ユニット型）シフト記号表'!$C$5:$Y$46,23,FALSE))","v":""},{"$f":"IF(AT79=\"\",\"\",VLOOKUP(AT79,'（ユニット型）シフト記号表'!$C$5:$Y$46,23,FALSE))","v":""},{"$f":"IF(AU79=\"\",\"\",VLOOKUP(AU79,'（ユニット型）シフト記号表'!$C$5:$Y$46,23,FALSE))","v":""},{"$f":"IF(AV79=\"\",\"\",VLOOKUP(AV79,'（ユニット型）シフト記号表'!$C$5:$Y$46,23,FALSE))","v":""},{"$f":"IF(AW79=\"\",\"\",VLOOKUP(AW79,'（ユニット型）シフト記号表'!$C$5:$Y$46,23,FALSE))","v":""},{"$f":"IF(AX79=\"\",\"\",VLOOKUP(AX79,'（ユニット型）シフト記号表'!$C$5:$Y$46,23,FALSE))","v":""},{"$f":"IF(AY79=\"\",\"\",VLOOKUP(AY79,'（ユニット型）シフト記号表'!$C$5:$Y$46,23,FALSE))","v":""},{"$f":"IF(AZ79=\"\",\"\",VLOOKUP(AZ79,'（ユニット型）シフト記号表'!$C$5:$Y$46,23,FALSE))","v":""},{"$f":"IF(BA79=\"\",\"\",VLOOKUP(BA79,'（ユニット型）シフト記号表'!$C$5:$Y$46,23,FALSE))","v":""},{"$f":"IF(BB79=\"\",\"\",VLOOKUP(BB79,'（ユニット型）シフト記号表'!$C$5:$Y$46,23,FALSE))","v":""},{"$f":"IF(BC79=\"\",\"\",VLOOKUP(BC79,'（ユニット型）シフト記号表'!$C$5:$Y$46,23,FALSE))","v":""},{"$f":"IF(BD79=\"\",\"\",VLOOKUP(BD79,'（ユニット型）シフト記号表'!$C$5:$Y$46,23,FALSE))","v":""},{"$f":"IF(BE79=\"\",\"\",VLOOKUP(BE79,'（ユニット型）シフト記号表'!$C$5:$Y$46,23,FALSE))","v":""},{"$f":"IF($BI$3=\"計画\",SUM(AA81:BB81),IF($BI$3=\"実績\",SUM(AA81:BE81),\"\"))","v":0},null,{"$f":"IF($BI$3=\"計画\",BF81/4,IF($BI$3=\"実績\",(BF81/($BI$7/7)),\"\"))","v":0}]
[null,null,null,null,null,null,null,null,null,null,null,null,null,null,null,null,null,null,null,null,null,"シフト記号"]
[null,{"$f":"B80+1","v":22},null,null,null,null,null,null,null,null,null,null,null,null,null,null,null,null,null,null,null,"日中の勤務時間数",null,null,null,null,{"$f":"IF(AA82=\"\",\"\",VLOOKUP(AA82,'（ユニット型）シフト記号表'!$C$5:$W$46,21,FALSE))","v":""},{"$f":"IF(AB82=\"\",\"\",VLOOKUP(AB82,'（ユニット型）シフト記号表'!$C$5:$W$46,21,FALSE))","v":""},{"$f":"IF(AC82=\"\",\"\",VLOOKUP(AC82,'（ユニット型）シフト記号表'!$C$5:$W$46,21,FALSE))","v":""},{"$f":"IF(AD82=\"\",\"\",VLOOKUP(AD82,'（ユニット型）シフト記号表'!$C$5:$W$46,21,FALSE))","v":""},{"$f":"IF(AE82=\"\",\"\",VLOOKUP(AE82,'（ユニット型）シフト記号表'!$C$5:$W$46,21,FALSE))","v":""},{"$f":"IF(AF82=\"\",\"\",VLOOKUP(AF82,'（ユニット型）シフト記号表'!$C$5:$W$46,21,FALSE))","v":""},{"$f":"IF(AG82=\"\",\"\",VLOOKUP(AG82,'（ユニット型）シフト記号表'!$C$5:$W$46,21,FALSE))","v":""},{"$f":"IF(AH82=\"\",\"\",VLOOKUP(AH82,'（ユニット型）シフト記号表'!$C$5:$W$46,21,FALSE))","v":""},{"$f":"IF(AI82=\"\",\"\",VLOOKUP(AI82,'（ユニット型）シフト記号表'!$C$5:$W$46,21,FALSE))","v":""},{"$f":"IF(AJ82=\"\",\"\",VLOOKUP(AJ82,'（ユニット型）シフト記号表'!$C$5:$W$46,21,FALSE))","v":""},{"$f":"IF(AK82=\"\",\"\",VLOOKUP(AK82,'（ユニット型）シフト記号表'!$C$5:$W$46,21,FALSE))","v":""},{"$f":"IF(AL82=\"\",\"\",VLOOKUP(AL82,'（ユニット型）シフト記号表'!$C$5:$W$46,21,FALSE))","v":""},{"$f":"IF(AM82=\"\",\"\",VLOOKUP(AM82,'（ユニット型）シフト記号表'!$C$5:$W$46,21,FALSE))","v":""},{"$f":"IF(AN82=\"\",\"\",VLOOKUP(AN82,'（ユニット型）シフト記号表'!$C$5:$W$46,21,FALSE))","v":""},{"$f":"IF(AO82=\"\",\"\",VLOOKUP(AO82,'（ユニット型）シフト記号表'!$C$5:$W$46,21,FALSE))","v":""},{"$f":"IF(AP82=\"\",\"\",VLOOKUP(AP82,'（ユニット型）シフト記号表'!$C$5:$W$46,21,FALSE))","v":""},{"$f":"IF(AQ82=\"\",\"\",VLOOKUP(AQ82,'（ユニット型）シフト記号表'!$C$5:$W$46,21,FALSE))","v":""},{"$f":"IF(AR82=\"\",\"\",VLOOKUP(AR82,'（ユニット型）シフト記号表'!$C$5:$W$46,21,FALSE))","v":""},{"$f":"IF(AS82=\"\",\"\",VLOOKUP(AS82,'（ユニット型）シフト記号表'!$C$5:$W$46,21,FALSE))","v":""},{"$f":"IF(AT82=\"\",\"\",VLOOKUP(AT82,'（ユニット型）シフト記号表'!$C$5:$W$46,21,FALSE))","v":""},{"$f":"IF(AU82=\"\",\"\",VLOOKUP(AU82,'（ユニット型）シフト記号表'!$C$5:$W$46,21,FALSE))","v":""},{"$f":"IF(AV82=\"\",\"\",VLOOKUP(AV82,'（ユニット型）シフト記号表'!$C$5:$W$46,21,FALSE))","v":""},{"$f":"IF(AW82=\"\",\"\",VLOOKUP(AW82,'（ユニット型）シフト記号表'!$C$5:$W$46,21,FALSE))","v":""},{"$f":"IF(AX82=\"\",\"\",VLOOKUP(AX82,'（ユニット型）シフト記号表'!$C$5:$W$46,21,FALSE))","v":""},{"$f":"IF(AY82=\"\",\"\",VLOOKUP(AY82,'（ユニット型）シフト記号表'!$C$5:$W$46,21,FALSE))","v":""},{"$f":"IF(AZ82=\"\",\"\",VLOOKUP(AZ82,'（ユニット型）シフト記号表'!$C$5:$W$46,21,FALSE))","v":""},{"$f":"IF(BA82=\"\",\"\",VLOOKUP(BA82,'（ユニット型）シフト記号表'!$C$5:$W$46,21,FALSE))","v":""},{"$f":"IF(BB82=\"\",\"\",VLOOKUP(BB82,'（ユニット型）シフト記号表'!$C$5:$W$46,21,FALSE))","v":""},{"$f":"IF(BC82=\"\",\"\",VLOOKUP(BC82,'（ユニット型）シフト記号表'!$C$5:$W$46,21,FALSE))","v":""},{"$f":"IF(BD82=\"\",\"\",VLOOKUP(BD82,'（ユニット型）シフト記号表'!$C$5:$W$46,21,FALSE))","v":""},{"$f":"IF(BE82=\"\",\"\",VLOOKUP(BE82,'（ユニット型）シフト記号表'!$C$5:$W$46,21,FALSE))","v":""},{"$f":"IF($BI$3=\"計画\",SUM(AA83:BB83),IF($BI$3=\"実績\",SUM(AA83:BE83),\"\"))","v":0},null,{"$f":"IF($BI$3=\"計画\",BF83/4,IF($BI$3=\"実績\",(BF83/($BI$7/7)),\"\"))","v":0}]
[null,null,null,null,null,null,null,null,{"$f":"G83","v":0},null,{"$f":"M83","v":0},null,null,null,null,null,null,null,null,null,null,"夜勤時間帯の勤務時間数",null,null,null,null,{"$f":"IF(AA82=\"\",\"\",VLOOKUP(AA82,'（ユニット型）シフト記号表'!$C$5:$Y$46,23,FALSE))","v":""},{"$f":"IF(AB82=\"\",\"\",VLOOKUP(AB82,'（ユニット型）シフト記号表'!$C$5:$Y$46,23,FALSE))","v":""},{"$f":"IF(AC82=\"\",\"\",VLOOKUP(AC82,'（ユニット型）シフト記号表'!$C$5:$Y$46,23,FALSE))","v":""},{"$f":"IF(AD82=\"\",\"\",VLOOKUP(AD82,'（ユニット型）シフト記号表'!$C$5:$Y$46,23,FALSE))","v":""},{"$f":"IF(AE82=\"\",\"\",VLOOKUP(AE82,'（ユニット型）シフト記号表'!$C$5:$Y$46,23,FALSE))","v":""},{"$f":"IF(AF82=\"\",\"\",VLOOKUP(AF82,'（ユニット型）シフト記号表'!$C$5:$Y$46,23,FALSE))","v":""},{"$f":"IF(AG82=\"\",\"\",VLOOKUP(AG82,'（ユニット型）シフト記号表'!$C$5:$Y$46,23,FALSE))","v":""},{"$f":"IF(AH82=\"\",\"\",VLOOKUP(AH82,'（ユニット型）シフト記号表'!$C$5:$Y$46,23,FALSE))","v":""},{"$f":"IF(AI82=\"\",\"\",VLOOKUP(AI82,'（ユニット型）シフト記号表'!$C$5:$Y$46,23,FALSE))","v":""},{"$f":"IF(AJ82=\"\",\"\",VLOOKUP(AJ82,'（ユニット型）シフト記号表'!$C$5:$Y$46,23,FALSE))","v":""},{"$f":"IF(AK82=\"\",\"\",VLOOKUP(AK82,'（ユニット型）シフト記号表'!$C$5:$Y$46,23,FALSE))","v":""},{"$f":"IF(AL82=\"\",\"\",VLOOKUP(AL82,'（ユニット型）シフト記号表'!$C$5:$Y$46,23,FALSE))","v":""},{"$f":"IF(AM82=\"\",\"\",VLOOKUP(AM82,'（ユニット型）シフト記号表'!$C$5:$Y$46,23,FALSE))","v":""},{"$f":"IF(AN82=\"\",\"\",VLOOKUP(AN82,'（ユニット型）シフト記号表'!$C$5:$Y$46,23,FALSE))","v":""},{"$f":"IF(AO82=\"\",\"\",VLOOKUP(AO82,'（ユニット型）シフト記号表'!$C$5:$Y$46,23,FALSE))","v":""},{"$f":"IF(AP82=\"\",\"\",VLOOKUP(AP82,'（ユニット型）シフト記号表'!$C$5:$Y$46,23,FALSE))","v":""},{"$f":"IF(AQ82=\"\",\"\",VLOOKUP(AQ82,'（ユニット型）シフト記号表'!$C$5:$Y$46,23,FALSE))","v":""},{"$f":"IF(AR82=\"\",\"\",VLOOKUP(AR82,'（ユニット型）シフト記号表'!$C$5:$Y$46,23,FALSE))","v":""},{"$f":"IF(AS82=\"\",\"\",VLOOKUP(AS82,'（ユニット型）シフト記号表'!$C$5:$Y$46,23,FALSE))","v":""},{"$f":"IF(AT82=\"\",\"\",VLOOKUP(AT82,'（ユニット型）シフト記号表'!$C$5:$Y$46,23,FALSE))","v":""},{"$f":"IF(AU82=\"\",\"\",VLOOKUP(AU82,'（ユニット型）シフト記号表'!$C$5:$Y$46,23,FALSE))","v":""},{"$f":"IF(AV82=\"\",\"\",VLOOKUP(AV82,'（ユニット型）シフト記号表'!$C$5:$Y$46,23,FALSE))","v":""},{"$f":"IF(AW82=\"\",\"\",VLOOKUP(AW82,'（ユニット型）シフト記号表'!$C$5:$Y$46,23,FALSE))","v":""},{"$f":"IF(AX82=\"\",\"\",VLOOKUP(AX82,'（ユニット型）シフト記号表'!$C$5:$Y$46,23,FALSE))","v":""},{"$f":"IF(AY82=\"\",\"\",VLOOKUP(AY82,'（ユニット型）シフト記号表'!$C$5:$Y$46,23,FALSE))","v":""},{"$f":"IF(AZ82=\"\",\"\",VLOOKUP(AZ82,'（ユニット型）シフト記号表'!$C$5:$Y$46,23,FALSE))","v":""},{"$f":"IF(BA82=\"\",\"\",VLOOKUP(BA82,'（ユニット型）シフト記号表'!$C$5:$Y$46,23,FALSE))","v":""},{"$f":"IF(BB82=\"\",\"\",VLOOKUP(BB82,'（ユニット型）シフト記号表'!$C$5:$Y$46,23,FALSE))","v":""},{"$f":"IF(BC82=\"\",\"\",VLOOKUP(BC82,'（ユニット型）シフト記号表'!$C$5:$Y$46,23,FALSE))","v":""},{"$f":"IF(BD82=\"\",\"\",VLOOKUP(BD82,'（ユニット型）シフト記号表'!$C$5:$Y$46,23,FALSE))","v":""},{"$f":"IF(BE82=\"\",\"\",VLOOKUP(BE82,'（ユニット型）シフト記号表'!$C$5:$Y$46,23,FALSE))","v":""},{"$f":"IF($BI$3=\"計画\",SUM(AA84:BB84),IF($BI$3=\"実績\",SUM(AA84:BE84),\"\"))","v":0},null,{"$f":"IF($BI$3=\"計画\",BF84/4,IF($BI$3=\"実績\",(BF84/($BI$7/7)),\"\"))","v":0}]
[null,null,null,null,null,null,null,null,null,null,null,null,null,null,null,null,null,null,null,null,null,"シフト記号"]
[null,{"$f":"B83+1","v":23},null,null,null,null,null,null,null,null,null,null,null,null,null,null,null,null,null,null,null,"日中の勤務時間数",null,null,null,null,{"$f":"IF(AA85=\"\",\"\",VLOOKUP(AA85,'（ユニット型）シフト記号表'!$C$5:$W$46,21,FALSE))","v":""},{"$f":"IF(AB85=\"\",\"\",VLOOKUP(AB85,'（ユニット型）シフト記号表'!$C$5:$W$46,21,FALSE))","v":""},{"$f":"IF(AC85=\"\",\"\",VLOOKUP(AC85,'（ユニット型）シフト記号表'!$C$5:$W$46,21,FALSE))","v":""},{"$f":"IF(AD85=\"\",\"\",VLOOKUP(AD85,'（ユニット型）シフト記号表'!$C$5:$W$46,21,FALSE))","v":""},{"$f":"IF(AE85=\"\",\"\",VLOOKUP(AE85,'（ユニット型）シフト記号表'!$C$5:$W$46,21,FALSE))","v":""},{"$f":"IF(AF85=\"\",\"\",VLOOKUP(AF85,'（ユニット型）シフト記号表'!$C$5:$W$46,21,FALSE))","v":""},{"$f":"IF(AG85=\"\",\"\",VLOOKUP(AG85,'（ユニット型）シフト記号表'!$C$5:$W$46,21,FALSE))","v":""},{"$f":"IF(AH85=\"\",\"\",VLOOKUP(AH85,'（ユニット型）シフト記号表'!$C$5:$W$46,21,FALSE))","v":""},{"$f":"IF(AI85=\"\",\"\",VLOOKUP(AI85,'（ユニット型）シフト記号表'!$C$5:$W$46,21,FALSE))","v":""},{"$f":"IF(AJ85=\"\",\"\",VLOOKUP(AJ85,'（ユニット型）シフト記号表'!$C$5:$W$46,21,FALSE))","v":""},{"$f":"IF(AK85=\"\",\"\",VLOOKUP(AK85,'（ユニット型）シフト記号表'!$C$5:$W$46,21,FALSE))","v":""},{"$f":"IF(AL85=\"\",\"\",VLOOKUP(AL85,'（ユニット型）シフト記号表'!$C$5:$W$46,21,FALSE))","v":""},{"$f":"IF(AM85=\"\",\"\",VLOOKUP(AM85,'（ユニット型）シフト記号表'!$C$5:$W$46,21,FALSE))","v":""},{"$f":"IF(AN85=\"\",\"\",VLOOKUP(AN85,'（ユニット型）シフト記号表'!$C$5:$W$46,21,FALSE))","v":""},{"$f":"IF(AO85=\"\",\"\",VLOOKUP(AO85,'（ユニット型）シフト記号表'!$C$5:$W$46,21,FALSE))","v":""},{"$f":"IF(AP85=\"\",\"\",VLOOKUP(AP85,'（ユニット型）シフト記号表'!$C$5:$W$46,21,FALSE))","v":""},{"$f":"IF(AQ85=\"\",\"\",VLOOKUP(AQ85,'（ユニット型）シフト記号表'!$C$5:$W$46,21,FALSE))","v":""},{"$f":"IF(AR85=\"\",\"\",VLOOKUP(AR85,'（ユニット型）シフト記号表'!$C$5:$W$46,21,FALSE))","v":""},{"$f":"IF(AS85=\"\",\"\",VLOOKUP(AS85,'（ユニット型）シフト記号表'!$C$5:$W$46,21,FALSE))","v":""},{"$f":"IF(AT85=\"\",\"\",VLOOKUP(AT85,'（ユニット型）シフト記号表'!$C$5:$W$46,21,FALSE))","v":""},{"$f":"IF(AU85=\"\",\"\",VLOOKUP(AU85,'（ユニット型）シフト記号表'!$C$5:$W$46,21,FALSE))","v":""},{"$f":"IF(AV85=\"\",\"\",VLOOKUP(AV85,'（ユニット型）シフト記号表'!$C$5:$W$46,21,FALSE))","v":""},{"$f":"IF(AW85=\"\",\"\",VLOOKUP(AW85,'（ユニット型）シフト記号表'!$C$5:$W$46,21,FALSE))","v":""},{"$f":"IF(AX85=\"\",\"\",VLOOKUP(AX85,'（ユニット型）シフト記号表'!$C$5:$W$46,21,FALSE))","v":""},{"$f":"IF(AY85=\"\",\"\",VLOOKUP(AY85,'（ユニット型）シフト記号表'!$C$5:$W$46,21,FALSE))","v":""},{"$f":"IF(AZ85=\"\",\"\",VLOOKUP(AZ85,'（ユニット型）シフト記号表'!$C$5:$W$46,21,FALSE))","v":""},{"$f":"IF(BA85=\"\",\"\",VLOOKUP(BA85,'（ユニット型）シフト記号表'!$C$5:$W$46,21,FALSE))","v":""},{"$f":"IF(BB85=\"\",\"\",VLOOKUP(BB85,'（ユニット型）シフト記号表'!$C$5:$W$46,21,FALSE))","v":""},{"$f":"IF(BC85=\"\",\"\",VLOOKUP(BC85,'（ユニット型）シフト記号表'!$C$5:$W$46,21,FALSE))","v":""},{"$f":"IF(BD85=\"\",\"\",VLOOKUP(BD85,'（ユニット型）シフト記号表'!$C$5:$W$46,21,FALSE))","v":""},{"$f":"IF(BE85=\"\",\"\",VLOOKUP(BE85,'（ユニット型）シフト記号表'!$C$5:$W$46,21,FALSE))","v":""},{"$f":"IF($BI$3=\"計画\",SUM(AA86:BB86),IF($BI$3=\"実績\",SUM(AA86:BE86),\"\"))","v":0},null,{"$f":"IF($BI$3=\"計画\",BF86/4,IF($BI$3=\"実績\",(BF86/($BI$7/7)),\"\"))","v":0}]
[null,null,null,null,null,null,null,null,{"$f":"G86","v":0},null,{"$f":"M86","v":0},null,null,null,null,null,null,null,null,null,null,"夜勤時間帯の勤務時間数",null,null,null,null,{"$f":"IF(AA85=\"\",\"\",VLOOKUP(AA85,'（ユニット型）シフト記号表'!$C$5:$Y$46,23,FALSE))","v":""},{"$f":"IF(AB85=\"\",\"\",VLOOKUP(AB85,'（ユニット型）シフト記号表'!$C$5:$Y$46,23,FALSE))","v":""},{"$f":"IF(AC85=\"\",\"\",VLOOKUP(AC85,'（ユニット型）シフト記号表'!$C$5:$Y$46,23,FALSE))","v":""},{"$f":"IF(AD85=\"\",\"\",VLOOKUP(AD85,'（ユニット型）シフト記号表'!$C$5:$Y$46,23,FALSE))","v":""},{"$f":"IF(AE85=\"\",\"\",VLOOKUP(AE85,'（ユニット型）シフト記号表'!$C$5:$Y$46,23,FALSE))","v":""},{"$f":"IF(AF85=\"\",\"\",VLOOKUP(AF85,'（ユニット型）シフト記号表'!$C$5:$Y$46,23,FALSE))","v":""},{"$f":"IF(AG85=\"\",\"\",VLOOKUP(AG85,'（ユニット型）シフト記号表'!$C$5:$Y$46,23,FALSE))","v":""},{"$f":"IF(AH85=\"\",\"\",VLOOKUP(AH85,'（ユニット型）シフト記号表'!$C$5:$Y$46,23,FALSE))","v":""},{"$f":"IF(AI85=\"\",\"\",VLOOKUP(AI85,'（ユニット型）シフト記号表'!$C$5:$Y$46,23,FALSE))","v":""},{"$f":"IF(AJ85=\"\",\"\",VLOOKUP(AJ85,'（ユニット型）シフト記号表'!$C$5:$Y$46,23,FALSE))","v":""},{"$f":"IF(AK85=\"\",\"\",VLOOKUP(AK85,'（ユニット型）シフト記号表'!$C$5:$Y$46,23,FALSE))","v":""},{"$f":"IF(AL85=\"\",\"\",VLOOKUP(AL85,'（ユニット型）シフト記号表'!$C$5:$Y$46,23,FALSE))","v":""},{"$f":"IF(AM85=\"\",\"\",VLOOKUP(AM85,'（ユニット型）シフト記号表'!$C$5:$Y$46,23,FALSE))","v":""},{"$f":"IF(AN85=\"\",\"\",VLOOKUP(AN85,'（ユニット型）シフト記号表'!$C$5:$Y$46,23,FALSE))","v":""},{"$f":"IF(AO85=\"\",\"\",VLOOKUP(AO85,'（ユニット型）シフト記号表'!$C$5:$Y$46,23,FALSE))","v":""},{"$f":"IF(AP85=\"\",\"\",VLOOKUP(AP85,'（ユニット型）シフト記号表'!$C$5:$Y$46,23,FALSE))","v":""},{"$f":"IF(AQ85=\"\",\"\",VLOOKUP(AQ85,'（ユニット型）シフト記号表'!$C$5:$Y$46,23,FALSE))","v":""},{"$f":"IF(AR85=\"\",\"\",VLOOKUP(AR85,'（ユニット型）シフト記号表'!$C$5:$Y$46,23,FALSE))","v":""},{"$f":"IF(AS85=\"\",\"\",VLOOKUP(AS85,'（ユニット型）シフト記号表'!$C$5:$Y$46,23,FALSE))","v":""},{"$f":"IF(AT85=\"\",\"\",VLOOKUP(AT85,'（ユニット型）シフト記号表'!$C$5:$Y$46,23,FALSE))","v":""},{"$f":"IF(AU85=\"\",\"\",VLOOKUP(AU85,'（ユニット型）シフト記号表'!$C$5:$Y$46,23,FALSE))","v":""},{"$f":"IF(AV85=\"\",\"\",VLOOKUP(AV85,'（ユニット型）シフト記号表'!$C$5:$Y$46,23,FALSE))","v":""},{"$f":"IF(AW85=\"\",\"\",VLOOKUP(AW85,'（ユニット型）シフト記号表'!$C$5:$Y$46,23,FALSE))","v":""},{"$f":"IF(AX85=\"\",\"\",VLOOKUP(AX85,'（ユニット型）シフト記号表'!$C$5:$Y$46,23,FALSE))","v":""},{"$f":"IF(AY85=\"\",\"\",VLOOKUP(AY85,'（ユニット型）シフト記号表'!$C$5:$Y$46,23,FALSE))","v":""},{"$f":"IF(AZ85=\"\",\"\",VLOOKUP(AZ85,'（ユニット型）シフト記号表'!$C$5:$Y$46,23,FALSE))","v":""},{"$f":"IF(BA85=\"\",\"\",VLOOKUP(BA85,'（ユニット型）シフト記号表'!$C$5:$Y$46,23,FALSE))","v":""},{"$f":"IF(BB85=\"\",\"\",VLOOKUP(BB85,'（ユニット型）シフト記号表'!$C$5:$Y$46,23,FALSE))","v":""},{"$f":"IF(BC85=\"\",\"\",VLOOKUP(BC85,'（ユニット型）シフト記号表'!$C$5:$Y$46,23,FALSE))","v":""},{"$f":"IF(BD85=\"\",\"\",VLOOKUP(BD85,'（ユニット型）シフト記号表'!$C$5:$Y$46,23,FALSE))","v":""},{"$f":"IF(BE85=\"\",\"\",VLOOKUP(BE85,'（ユニット型）シフト記号表'!$C$5:$Y$46,23,FALSE))","v":""},{"$f":"IF($BI$3=\"計画\",SUM(AA87:BB87),IF($BI$3=\"実績\",SUM(AA87:BE87),\"\"))","v":0},null,{"$f":"IF($BI$3=\"計画\",BF87/4,IF($BI$3=\"実績\",(BF87/($BI$7/7)),\"\"))","v":0}]
[null,null,null,null,null,null,null,null,null,null,null,null,null,null,null,null,null,null,null,null,null,"シフト記号"]
[null,{"$f":"B86+1","v":24},null,null,null,null,null,null,null,null,null,null,null,null,null,null,null,null,null,null,null,"日中の勤務時間数",null,null,null,null,{"$f":"IF(AA88=\"\",\"\",VLOOKUP(AA88,'（ユニット型）シフト記号表'!$C$5:$W$46,21,FALSE))","v":""},{"$f":"IF(AB88=\"\",\"\",VLOOKUP(AB88,'（ユニット型）シフト記号表'!$C$5:$W$46,21,FALSE))","v":""},{"$f":"IF(AC88=\"\",\"\",VLOOKUP(AC88,'（ユニット型）シフト記号表'!$C$5:$W$46,21,FALSE))","v":""},{"$f":"IF(AD88=\"\",\"\",VLOOKUP(AD88,'（ユニット型）シフト記号表'!$C$5:$W$46,21,FALSE))","v":""},{"$f":"IF(AE88=\"\",\"\",VLOOKUP(AE88,'（ユニット型）シフト記号表'!$C$5:$W$46,21,FALSE))","v":""},{"$f":"IF(AF88=\"\",\"\",VLOOKUP(AF88,'（ユニット型）シフト記号表'!$C$5:$W$46,21,FALSE))","v":""},{"$f":"IF(AG88=\"\",\"\",VLOOKUP(AG88,'（ユニット型）シフト記号表'!$C$5:$W$46,21,FALSE))","v":""},{"$f":"IF(AH88=\"\",\"\",VLOOKUP(AH88,'（ユニット型）シフト記号表'!$C$5:$W$46,21,FALSE))","v":""},{"$f":"IF(AI88=\"\",\"\",VLOOKUP(AI88,'（ユニット型）シフト記号表'!$C$5:$W$46,21,FALSE))","v":""},{"$f":"IF(AJ88=\"\",\"\",VLOOKUP(AJ88,'（ユニット型）シフト記号表'!$C$5:$W$46,21,FALSE))","v":""},{"$f":"IF(AK88=\"\",\"\",VLOOKUP(AK88,'（ユニット型）シフト記号表'!$C$5:$W$46,21,FALSE))","v":""},{"$f":"IF(AL88=\"\",\"\",VLOOKUP(AL88,'（ユニット型）シフト記号表'!$C$5:$W$46,21,FALSE))","v":""},{"$f":"IF(AM88=\"\",\"\",VLOOKUP(AM88,'（ユニット型）シフト記号表'!$C$5:$W$46,21,FALSE))","v":""},{"$f":"IF(AN88=\"\",\"\",VLOOKUP(AN88,'（ユニット型）シフト記号表'!$C$5:$W$46,21,FALSE))","v":""},{"$f":"IF(AO88=\"\",\"\",VLOOKUP(AO88,'（ユニット型）シフト記号表'!$C$5:$W$46,21,FALSE))","v":""},{"$f":"IF(AP88=\"\",\"\",VLOOKUP(AP88,'（ユニット型）シフト記号表'!$C$5:$W$46,21,FALSE))","v":""},{"$f":"IF(AQ88=\"\",\"\",VLOOKUP(AQ88,'（ユニット型）シフト記号表'!$C$5:$W$46,21,FALSE))","v":""},{"$f":"IF(AR88=\"\",\"\",VLOOKUP(AR88,'（ユニット型）シフト記号表'!$C$5:$W$46,21,FALSE))","v":""},{"$f":"IF(AS88=\"\",\"\",VLOOKUP(AS88,'（ユニット型）シフト記号表'!$C$5:$W$46,21,FALSE))","v":""},{"$f":"IF(AT88=\"\",\"\",VLOOKUP(AT88,'（ユニット型）シフト記号表'!$C$5:$W$46,21,FALSE))","v":""},{"$f":"IF(AU88=\"\",\"\",VLOOKUP(AU88,'（ユニット型）シフト記号表'!$C$5:$W$46,21,FALSE))","v":""},{"$f":"IF(AV88=\"\",\"\",VLOOKUP(AV88,'（ユニット型）シフト記号表'!$C$5:$W$46,21,FALSE))","v":""},{"$f":"IF(AW88=\"\",\"\",VLOOKUP(AW88,'（ユニット型）シフト記号表'!$C$5:$W$46,21,FALSE))","v":""},{"$f":"IF(AX88=\"\",\"\",VLOOKUP(AX88,'（ユニット型）シフト記号表'!$C$5:$W$46,21,FALSE))","v":""},{"$f":"IF(AY88=\"\",\"\",VLOOKUP(AY88,'（ユニット型）シフト記号表'!$C$5:$W$46,21,FALSE))","v":""},{"$f":"IF(AZ88=\"\",\"\",VLOOKUP(AZ88,'（ユニット型）シフト記号表'!$C$5:$W$46,21,FALSE))","v":""},{"$f":"IF(BA88=\"\",\"\",VLOOKUP(BA88,'（ユニット型）シフト記号表'!$C$5:$W$46,21,FALSE))","v":""},{"$f":"IF(BB88=\"\",\"\",VLOOKUP(BB88,'（ユニット型）シフト記号表'!$C$5:$W$46,21,FALSE))","v":""},{"$f":"IF(BC88=\"\",\"\",VLOOKUP(BC88,'（ユニット型）シフト記号表'!$C$5:$W$46,21,FALSE))","v":""},{"$f":"IF(BD88=\"\",\"\",VLOOKUP(BD88,'（ユニット型）シフト記号表'!$C$5:$W$46,21,FALSE))","v":""},{"$f":"IF(BE88=\"\",\"\",VLOOKUP(BE88,'（ユニット型）シフト記号表'!$C$5:$W$46,21,FALSE))","v":""},{"$f":"IF($BI$3=\"計画\",SUM(AA89:BB89),IF($BI$3=\"実績\",SUM(AA89:BE89),\"\"))","v":0},null,{"$f":"IF($BI$3=\"計画\",BF89/4,IF($BI$3=\"実績\",(BF89/($BI$7/7)),\"\"))","v":0}]
[null,null,null,null,null,null,null,null,{"$f":"G89","v":0},null,{"$f":"M89","v":0},null,null,null,null,null,null,null,null,null,null,"夜勤時間帯の勤務時間数",null,null,null,null,{"$f":"IF(AA88=\"\",\"\",VLOOKUP(AA88,'（ユニット型）シフト記号表'!$C$5:$Y$46,23,FALSE))","v":""},{"$f":"IF(AB88=\"\",\"\",VLOOKUP(AB88,'（ユニット型）シフト記号表'!$C$5:$Y$46,23,FALSE))","v":""},{"$f":"IF(AC88=\"\",\"\",VLOOKUP(AC88,'（ユニット型）シフト記号表'!$C$5:$Y$46,23,FALSE))","v":""},{"$f":"IF(AD88=\"\",\"\",VLOOKUP(AD88,'（ユニット型）シフト記号表'!$C$5:$Y$46,23,FALSE))","v":""},{"$f":"IF(AE88=\"\",\"\",VLOOKUP(AE88,'（ユニット型）シフト記号表'!$C$5:$Y$46,23,FALSE))","v":""},{"$f":"IF(AF88=\"\",\"\",VLOOKUP(AF88,'（ユニット型）シフト記号表'!$C$5:$Y$46,23,FALSE))","v":""},{"$f":"IF(AG88=\"\",\"\",VLOOKUP(AG88,'（ユニット型）シフト記号表'!$C$5:$Y$46,23,FALSE))","v":""},{"$f":"IF(AH88=\"\",\"\",VLOOKUP(AH88,'（ユニット型）シフト記号表'!$C$5:$Y$46,23,FALSE))","v":""},{"$f":"IF(AI88=\"\",\"\",VLOOKUP(AI88,'（ユニット型）シフト記号表'!$C$5:$Y$46,23,FALSE))","v":""},{"$f":"IF(AJ88=\"\",\"\",VLOOKUP(AJ88,'（ユニット型）シフト記号表'!$C$5:$Y$46,23,FALSE))","v":""},{"$f":"IF(AK88=\"\",\"\",VLOOKUP(AK88,'（ユニット型）シフト記号表'!$C$5:$Y$46,23,FALSE))","v":""},{"$f":"IF(AL88=\"\",\"\",VLOOKUP(AL88,'（ユニット型）シフト記号表'!$C$5:$Y$46,23,FALSE))","v":""},{"$f":"IF(AM88=\"\",\"\",VLOOKUP(AM88,'（ユニット型）シフト記号表'!$C$5:$Y$46,23,FALSE))","v":""},{"$f":"IF(AN88=\"\",\"\",VLOOKUP(AN88,'（ユニット型）シフト記号表'!$C$5:$Y$46,23,FALSE))","v":""},{"$f":"IF(AO88=\"\",\"\",VLOOKUP(AO88,'（ユニット型）シフト記号表'!$C$5:$Y$46,23,FALSE))","v":""},{"$f":"IF(AP88=\"\",\"\",VLOOKUP(AP88,'（ユニット型）シフト記号表'!$C$5:$Y$46,23,FALSE))","v":""},{"$f":"IF(AQ88=\"\",\"\",VLOOKUP(AQ88,'（ユニット型）シフト記号表'!$C$5:$Y$46,23,FALSE))","v":""},{"$f":"IF(AR88=\"\",\"\",VLOOKUP(AR88,'（ユニット型）シフト記号表'!$C$5:$Y$46,23,FALSE))","v":""},{"$f":"IF(AS88=\"\",\"\",VLOOKUP(AS88,'（ユニット型）シフト記号表'!$C$5:$Y$46,23,FALSE))","v":""},{"$f":"IF(AT88=\"\",\"\",VLOOKUP(AT88,'（ユニット型）シフト記号表'!$C$5:$Y$46,23,FALSE))","v":""},{"$f":"IF(AU88=\"\",\"\",VLOOKUP(AU88,'（ユニット型）シフト記号表'!$C$5:$Y$46,23,FALSE))","v":""},{"$f":"IF(AV88=\"\",\"\",VLOOKUP(AV88,'（ユニット型）シフト記号表'!$C$5:$Y$46,23,FALSE))","v":""},{"$f":"IF(AW88=\"\",\"\",VLOOKUP(AW88,'（ユニット型）シフト記号表'!$C$5:$Y$46,23,FALSE))","v":""},{"$f":"IF(AX88=\"\",\"\",VLOOKUP(AX88,'（ユニット型）シフト記号表'!$C$5:$Y$46,23,FALSE))","v":""},{"$f":"IF(AY88=\"\",\"\",VLOOKUP(AY88,'（ユニット型）シフト記号表'!$C$5:$Y$46,23,FALSE))","v":""},{"$f":"IF(AZ88=\"\",\"\",VLOOKUP(AZ88,'（ユニット型）シフト記号表'!$C$5:$Y$46,23,FALSE))","v":""},{"$f":"IF(BA88=\"\",\"\",VLOOKUP(BA88,'（ユニット型）シフト記号表'!$C$5:$Y$46,23,FALSE))","v":""},{"$f":"IF(BB88=\"\",\"\",VLOOKUP(BB88,'（ユニット型）シフト記号表'!$C$5:$Y$46,23,FALSE))","v":""},{"$f":"IF(BC88=\"\",\"\",VLOOKUP(BC88,'（ユニット型）シフト記号表'!$C$5:$Y$46,23,FALSE))","v":""},{"$f":"IF(BD88=\"\",\"\",VLOOKUP(BD88,'（ユニット型）シフト記号表'!$C$5:$Y$46,23,FALSE))","v":""},{"$f":"IF(BE88=\"\",\"\",VLOOKUP(BE88,'（ユニット型）シフト記号表'!$C$5:$Y$46,23,FALSE))","v":""},{"$f":"IF($BI$3=\"計画\",SUM(AA90:BB90),IF($BI$3=\"実績\",SUM(AA90:BE90),\"\"))","v":0},null,{"$f":"IF($BI$3=\"計画\",BF90/4,IF($BI$3=\"実績\",(BF90/($BI$7/7)),\"\"))","v":0}]
[null,null,null,null,null,null,null,null,null,null,null,null,null,null,null,null,null,null,null,null,null,"シフト記号"]
[null,{"$f":"B89+1","v":25},null,null,null,null,null,null,null,null,null,null,null,null,null,null,null,null,null,null,null,"日中の勤務時間数",null,null,null,null,{"$f":"IF(AA91=\"\",\"\",VLOOKUP(AA91,'（ユニット型）シフト記号表'!$C$5:$W$46,21,FALSE))","v":""},{"$f":"IF(AB91=\"\",\"\",VLOOKUP(AB91,'（ユニット型）シフト記号表'!$C$5:$W$46,21,FALSE))","v":""},{"$f":"IF(AC91=\"\",\"\",VLOOKUP(AC91,'（ユニット型）シフト記号表'!$C$5:$W$46,21,FALSE))","v":""},{"$f":"IF(AD91=\"\",\"\",VLOOKUP(AD91,'（ユニット型）シフト記号表'!$C$5:$W$46,21,FALSE))","v":""},{"$f":"IF(AE91=\"\",\"\",VLOOKUP(AE91,'（ユニット型）シフト記号表'!$C$5:$W$46,21,FALSE))","v":""},{"$f":"IF(AF91=\"\",\"\",VLOOKUP(AF91,'（ユニット型）シフト記号表'!$C$5:$W$46,21,FALSE))","v":""},{"$f":"IF(AG91=\"\",\"\",VLOOKUP(AG91,'（ユニット型）シフト記号表'!$C$5:$W$46,21,FALSE))","v":""},{"$f":"IF(AH91=\"\",\"\",VLOOKUP(AH91,'（ユニット型）シフト記号表'!$C$5:$W$46,21,FALSE))","v":""},{"$f":"IF(AI91=\"\",\"\",VLOOKUP(AI91,'（ユニット型）シフト記号表'!$C$5:$W$46,21,FALSE))","v":""},{"$f":"IF(AJ91=\"\",\"\",VLOOKUP(AJ91,'（ユニット型）シフト記号表'!$C$5:$W$46,21,FALSE))","v":""},{"$f":"IF(AK91=\"\",\"\",VLOOKUP(AK91,'（ユニット型）シフト記号表'!$C$5:$W$46,21,FALSE))","v":""},{"$f":"IF(AL91=\"\",\"\",VLOOKUP(AL91,'（ユニット型）シフト記号表'!$C$5:$W$46,21,FALSE))","v":""},{"$f":"IF(AM91=\"\",\"\",VLOOKUP(AM91,'（ユニット型）シフト記号表'!$C$5:$W$46,21,FALSE))","v":""},{"$f":"IF(AN91=\"\",\"\",VLOOKUP(AN91,'（ユニット型）シフト記号表'!$C$5:$W$46,21,FALSE))","v":""},{"$f":"IF(AO91=\"\",\"\",VLOOKUP(AO91,'（ユニット型）シフト記号表'!$C$5:$W$46,21,FALSE))","v":""},{"$f":"IF(AP91=\"\",\"\",VLOOKUP(AP91,'（ユニット型）シフト記号表'!$C$5:$W$46,21,FALSE))","v":""},{"$f":"IF(AQ91=\"\",\"\",VLOOKUP(AQ91,'（ユニット型）シフト記号表'!$C$5:$W$46,21,FALSE))","v":""},{"$f":"IF(AR91=\"\",\"\",VLOOKUP(AR91,'（ユニット型）シフト記号表'!$C$5:$W$46,21,FALSE))","v":""},{"$f":"IF(AS91=\"\",\"\",VLOOKUP(AS91,'（ユニット型）シフト記号表'!$C$5:$W$46,21,FALSE))","v":""},{"$f":"IF(AT91=\"\",\"\",VLOOKUP(AT91,'（ユニット型）シフト記号表'!$C$5:$W$46,21,FALSE))","v":""},{"$f":"IF(AU91=\"\",\"\",VLOOKUP(AU91,'（ユニット型）シフト記号表'!$C$5:$W$46,21,FALSE))","v":""},{"$f":"IF(AV91=\"\",\"\",VLOOKUP(AV91,'（ユニット型）シフト記号表'!$C$5:$W$46,21,FALSE))","v":""},{"$f":"IF(AW91=\"\",\"\",VLOOKUP(AW91,'（ユニット型）シフト記号表'!$C$5:$W$46,21,FALSE))","v":""},{"$f":"IF(AX91=\"\",\"\",VLOOKUP(AX91,'（ユニット型）シフト記号表'!$C$5:$W$46,21,FALSE))","v":""},{"$f":"IF(AY91=\"\",\"\",VLOOKUP(AY91,'（ユニット型）シフト記号表'!$C$5:$W$46,21,FALSE))","v":""},{"$f":"IF(AZ91=\"\",\"\",VLOOKUP(AZ91,'（ユニット型）シフト記号表'!$C$5:$W$46,21,FALSE))","v":""},{"$f":"IF(BA91=\"\",\"\",VLOOKUP(BA91,'（ユニット型）シフト記号表'!$C$5:$W$46,21,FALSE))","v":""},{"$f":"IF(BB91=\"\",\"\",VLOOKUP(BB91,'（ユニット型）シフト記号表'!$C$5:$W$46,21,FALSE))","v":""},{"$f":"IF(BC91=\"\",\"\",VLOOKUP(BC91,'（ユニット型）シフト記号表'!$C$5:$W$46,21,FALSE))","v":""},{"$f":"IF(BD91=\"\",\"\",VLOOKUP(BD91,'（ユニット型）シフト記号表'!$C$5:$W$46,21,FALSE))","v":""},{"$f":"IF(BE91=\"\",\"\",VLOOKUP(BE91,'（ユニット型）シフト記号表'!$C$5:$W$46,21,FALSE))","v":""},{"$f":"IF($BI$3=\"計画\",SUM(AA92:BB92),IF($BI$3=\"実績\",SUM(AA92:BE92),\"\"))","v":0},null,{"$f":"IF($BI$3=\"計画\",BF92/4,IF($BI$3=\"実績\",(BF92/($BI$7/7)),\"\"))","v":0}]
[null,null,null,null,null,null,null,null,{"$f":"G92","v":0},null,{"$f":"M92","v":0},null,null,null,null,null,null,null,null,null,null,"夜勤時間帯の勤務時間数",null,null,null,null,{"$f":"IF(AA91=\"\",\"\",VLOOKUP(AA91,'（ユニット型）シフト記号表'!$C$5:$Y$46,23,FALSE))","v":""},{"$f":"IF(AB91=\"\",\"\",VLOOKUP(AB91,'（ユニット型）シフト記号表'!$C$5:$Y$46,23,FALSE))","v":""},{"$f":"IF(AC91=\"\",\"\",VLOOKUP(AC91,'（ユニット型）シフト記号表'!$C$5:$Y$46,23,FALSE))","v":""},{"$f":"IF(AD91=\"\",\"\",VLOOKUP(AD91,'（ユニット型）シフト記号表'!$C$5:$Y$46,23,FALSE))","v":""},{"$f":"IF(AE91=\"\",\"\",VLOOKUP(AE91,'（ユニット型）シフト記号表'!$C$5:$Y$46,23,FALSE))","v":""},{"$f":"IF(AF91=\"\",\"\",VLOOKUP(AF91,'（ユニット型）シフト記号表'!$C$5:$Y$46,23,FALSE))","v":""},{"$f":"IF(AG91=\"\",\"\",VLOOKUP(AG91,'（ユニット型）シフト記号表'!$C$5:$Y$46,23,FALSE))","v":""},{"$f":"IF(AH91=\"\",\"\",VLOOKUP(AH91,'（ユニット型）シフト記号表'!$C$5:$Y$46,23,FALSE))","v":""},{"$f":"IF(AI91=\"\",\"\",VLOOKUP(AI91,'（ユニット型）シフト記号表'!$C$5:$Y$46,23,FALSE))","v":""},{"$f":"IF(AJ91=\"\",\"\",VLOOKUP(AJ91,'（ユニット型）シフト記号表'!$C$5:$Y$46,23,FALSE))","v":""},{"$f":"IF(AK91=\"\",\"\",VLOOKUP(AK91,'（ユニット型）シフト記号表'!$C$5:$Y$46,23,FALSE))","v":""},{"$f":"IF(AL91=\"\",\"\",VLOOKUP(AL91,'（ユニット型）シフト記号表'!$C$5:$Y$46,23,FALSE))","v":""},{"$f":"IF(AM91=\"\",\"\",VLOOKUP(AM91,'（ユニット型）シフト記号表'!$C$5:$Y$46,23,FALSE))","v":""},{"$f":"IF(AN91=\"\",\"\",VLOOKUP(AN91,'（ユニット型）シフト記号表'!$C$5:$Y$46,23,FALSE))","v":""},{"$f":"IF(AO91=\"\",\"\",VLOOKUP(AO91,'（ユニット型）シフト記号表'!$C$5:$Y$46,23,FALSE))","v":""},{"$f":"IF(AP91=\"\",\"\",VLOOKUP(AP91,'（ユニット型）シフト記号表'!$C$5:$Y$46,23,FALSE))","v":""},{"$f":"IF(AQ91=\"\",\"\",VLOOKUP(AQ91,'（ユニット型）シフト記号表'!$C$5:$Y$46,23,FALSE))","v":""},{"$f":"IF(AR91=\"\",\"\",VLOOKUP(AR91,'（ユニット型）シフト記号表'!$C$5:$Y$46,23,FALSE))","v":""},{"$f":"IF(AS91=\"\",\"\",VLOOKUP(AS91,'（ユニット型）シフト記号表'!$C$5:$Y$46,23,FALSE))","v":""},{"$f":"IF(AT91=\"\",\"\",VLOOKUP(AT91,'（ユニット型）シフト記号表'!$C$5:$Y$46,23,FALSE))","v":""},{"$f":"IF(AU91=\"\",\"\",VLOOKUP(AU91,'（ユニット型）シフト記号表'!$C$5:$Y$46,23,FALSE))","v":""},{"$f":"IF(AV91=\"\",\"\",VLOOKUP(AV91,'（ユニット型）シフト記号表'!$C$5:$Y$46,23,FALSE))","v":""},{"$f":"IF(AW91=\"\",\"\",VLOOKUP(AW91,'（ユニット型）シフト記号表'!$C$5:$Y$46,23,FALSE))","v":""},{"$f":"IF(AX91=\"\",\"\",VLOOKUP(AX91,'（ユニット型）シフト記号表'!$C$5:$Y$46,23,FALSE))","v":""},{"$f":"IF(AY91=\"\",\"\",VLOOKUP(AY91,'（ユニット型）シフト記号表'!$C$5:$Y$46,23,FALSE))","v":""},{"$f":"IF(AZ91=\"\",\"\",VLOOKUP(AZ91,'（ユニット型）シフト記号表'!$C$5:$Y$46,23,FALSE))","v":""},{"$f":"IF(BA91=\"\",\"\",VLOOKUP(BA91,'（ユニット型）シフト記号表'!$C$5:$Y$46,23,FALSE))","v":""},{"$f":"IF(BB91=\"\",\"\",VLOOKUP(BB91,'（ユニット型）シフト記号表'!$C$5:$Y$46,23,FALSE))","v":""},{"$f":"IF(BC91=\"\",\"\",VLOOKUP(BC91,'（ユニット型）シフト記号表'!$C$5:$Y$46,23,FALSE))","v":""},{"$f":"IF(BD91=\"\",\"\",VLOOKUP(BD91,'（ユニット型）シフト記号表'!$C$5:$Y$46,23,FALSE))","v":""},{"$f":"IF(BE91=\"\",\"\",VLOOKUP(BE91,'（ユニット型）シフト記号表'!$C$5:$Y$46,23,FALSE))","v":""},{"$f":"IF($BI$3=\"計画\",SUM(AA93:BB93),IF($BI$3=\"実績\",SUM(AA93:BE93),\"\"))","v":0},null,{"$f":"IF($BI$3=\"計画\",BF93/4,IF($BI$3=\"実績\",(BF93/($BI$7/7)),\"\"))","v":0}]
[null,null,null,null,null,null,null,null,null,null,null,null,null,null,null,null,null,null,null,null,null,"シフト記号"]
[null,{"$f":"B92+1","v":26},null,null,null,null,null,null,null,null,null,null,null,null,null,null,null,null,null,null,null,"日中の勤務時間数",null,null,null,null,{"$f":"IF(AA94=\"\",\"\",VLOOKUP(AA94,'（ユニット型）シフト記号表'!$C$5:$W$46,21,FALSE))","v":""},{"$f":"IF(AB94=\"\",\"\",VLOOKUP(AB94,'（ユニット型）シフト記号表'!$C$5:$W$46,21,FALSE))","v":""},{"$f":"IF(AC94=\"\",\"\",VLOOKUP(AC94,'（ユニット型）シフト記号表'!$C$5:$W$46,21,FALSE))","v":""},{"$f":"IF(AD94=\"\",\"\",VLOOKUP(AD94,'（ユニット型）シフト記号表'!$C$5:$W$46,21,FALSE))","v":""},{"$f":"IF(AE94=\"\",\"\",VLOOKUP(AE94,'（ユニット型）シフト記号表'!$C$5:$W$46,21,FALSE))","v":""},{"$f":"IF(AF94=\"\",\"\",VLOOKUP(AF94,'（ユニット型）シフト記号表'!$C$5:$W$46,21,FALSE))","v":""},{"$f":"IF(AG94=\"\",\"\",VLOOKUP(AG94,'（ユニット型）シフト記号表'!$C$5:$W$46,21,FALSE))","v":""},{"$f":"IF(AH94=\"\",\"\",VLOOKUP(AH94,'（ユニット型）シフト記号表'!$C$5:$W$46,21,FALSE))","v":""},{"$f":"IF(AI94=\"\",\"\",VLOOKUP(AI94,'（ユニット型）シフト記号表'!$C$5:$W$46,21,FALSE))","v":""},{"$f":"IF(AJ94=\"\",\"\",VLOOKUP(AJ94,'（ユニット型）シフト記号表'!$C$5:$W$46,21,FALSE))","v":""},{"$f":"IF(AK94=\"\",\"\",VLOOKUP(AK94,'（ユニット型）シフト記号表'!$C$5:$W$46,21,FALSE))","v":""},{"$f":"IF(AL94=\"\",\"\",VLOOKUP(AL94,'（ユニット型）シフト記号表'!$C$5:$W$46,21,FALSE))","v":""},{"$f":"IF(AM94=\"\",\"\",VLOOKUP(AM94,'（ユニット型）シフト記号表'!$C$5:$W$46,21,FALSE))","v":""},{"$f":"IF(AN94=\"\",\"\",VLOOKUP(AN94,'（ユニット型）シフト記号表'!$C$5:$W$46,21,FALSE))","v":""},{"$f":"IF(AO94=\"\",\"\",VLOOKUP(AO94,'（ユニット型）シフト記号表'!$C$5:$W$46,21,FALSE))","v":""},{"$f":"IF(AP94=\"\",\"\",VLOOKUP(AP94,'（ユニット型）シフト記号表'!$C$5:$W$46,21,FALSE))","v":""},{"$f":"IF(AQ94=\"\",\"\",VLOOKUP(AQ94,'（ユニット型）シフト記号表'!$C$5:$W$46,21,FALSE))","v":""},{"$f":"IF(AR94=\"\",\"\",VLOOKUP(AR94,'（ユニット型）シフト記号表'!$C$5:$W$46,21,FALSE))","v":""},{"$f":"IF(AS94=\"\",\"\",VLOOKUP(AS94,'（ユニット型）シフト記号表'!$C$5:$W$46,21,FALSE))","v":""},{"$f":"IF(AT94=\"\",\"\",VLOOKUP(AT94,'（ユニット型）シフト記号表'!$C$5:$W$46,21,FALSE))","v":""},{"$f":"IF(AU94=\"\",\"\",VLOOKUP(AU94,'（ユニット型）シフト記号表'!$C$5:$W$46,21,FALSE))","v":""},{"$f":"IF(AV94=\"\",\"\",VLOOKUP(AV94,'（ユニット型）シフト記号表'!$C$5:$W$46,21,FALSE))","v":""},{"$f":"IF(AW94=\"\",\"\",VLOOKUP(AW94,'（ユニット型）シフト記号表'!$C$5:$W$46,21,FALSE))","v":""},{"$f":"IF(AX94=\"\",\"\",VLOOKUP(AX94,'（ユニット型）シフト記号表'!$C$5:$W$46,21,FALSE))","v":""},{"$f":"IF(AY94=\"\",\"\",VLOOKUP(AY94,'（ユニット型）シフト記号表'!$C$5:$W$46,21,FALSE))","v":""},{"$f":"IF(AZ94=\"\",\"\",VLOOKUP(AZ94,'（ユニット型）シフト記号表'!$C$5:$W$46,21,FALSE))","v":""},{"$f":"IF(BA94=\"\",\"\",VLOOKUP(BA94,'（ユニット型）シフト記号表'!$C$5:$W$46,21,FALSE))","v":""},{"$f":"IF(BB94=\"\",\"\",VLOOKUP(BB94,'（ユニット型）シフト記号表'!$C$5:$W$46,21,FALSE))","v":""},{"$f":"IF(BC94=\"\",\"\",VLOOKUP(BC94,'（ユニット型）シフト記号表'!$C$5:$W$46,21,FALSE))","v":""},{"$f":"IF(BD94=\"\",\"\",VLOOKUP(BD94,'（ユニット型）シフト記号表'!$C$5:$W$46,21,FALSE))","v":""},{"$f":"IF(BE94=\"\",\"\",VLOOKUP(BE94,'（ユニット型）シフト記号表'!$C$5:$W$46,21,FALSE))","v":""},{"$f":"IF($BI$3=\"計画\",SUM(AA95:BB95),IF($BI$3=\"実績\",SUM(AA95:BE95),\"\"))","v":0},null,{"$f":"IF($BI$3=\"計画\",BF95/4,IF($BI$3=\"実績\",(BF95/($BI$7/7)),\"\"))","v":0}]
[null,null,null,null,null,null,null,null,{"$f":"G95","v":0},null,{"$f":"M95","v":0},null,null,null,null,null,null,null,null,null,null,"夜勤時間帯の勤務時間数",null,null,null,null,{"$f":"IF(AA94=\"\",\"\",VLOOKUP(AA94,'（ユニット型）シフト記号表'!$C$5:$Y$46,23,FALSE))","v":""},{"$f":"IF(AB94=\"\",\"\",VLOOKUP(AB94,'（ユニット型）シフト記号表'!$C$5:$Y$46,23,FALSE))","v":""},{"$f":"IF(AC94=\"\",\"\",VLOOKUP(AC94,'（ユニット型）シフト記号表'!$C$5:$Y$46,23,FALSE))","v":""},{"$f":"IF(AD94=\"\",\"\",VLOOKUP(AD94,'（ユニット型）シフト記号表'!$C$5:$Y$46,23,FALSE))","v":""},{"$f":"IF(AE94=\"\",\"\",VLOOKUP(AE94,'（ユニット型）シフト記号表'!$C$5:$Y$46,23,FALSE))","v":""},{"$f":"IF(AF94=\"\",\"\",VLOOKUP(AF94,'（ユニット型）シフト記号表'!$C$5:$Y$46,23,FALSE))","v":""},{"$f":"IF(AG94=\"\",\"\",VLOOKUP(AG94,'（ユニット型）シフト記号表'!$C$5:$Y$46,23,FALSE))","v":""},{"$f":"IF(AH94=\"\",\"\",VLOOKUP(AH94,'（ユニット型）シフト記号表'!$C$5:$Y$46,23,FALSE))","v":""},{"$f":"IF(AI94=\"\",\"\",VLOOKUP(AI94,'（ユニット型）シフト記号表'!$C$5:$Y$46,23,FALSE))","v":""},{"$f":"IF(AJ94=\"\",\"\",VLOOKUP(AJ94,'（ユニット型）シフト記号表'!$C$5:$Y$46,23,FALSE))","v":""},{"$f":"IF(AK94=\"\",\"\",VLOOKUP(AK94,'（ユニット型）シフト記号表'!$C$5:$Y$46,23,FALSE))","v":""},{"$f":"IF(AL94=\"\",\"\",VLOOKUP(AL94,'（ユニット型）シフト記号表'!$C$5:$Y$46,23,FALSE))","v":""},{"$f":"IF(AM94=\"\",\"\",VLOOKUP(AM94,'（ユニット型）シフト記号表'!$C$5:$Y$46,23,FALSE))","v":""},{"$f":"IF(AN94=\"\",\"\",VLOOKUP(AN94,'（ユニット型）シフト記号表'!$C$5:$Y$46,23,FALSE))","v":""},{"$f":"IF(AO94=\"\",\"\",VLOOKUP(AO94,'（ユニット型）シフト記号表'!$C$5:$Y$46,23,FALSE))","v":""},{"$f":"IF(AP94=\"\",\"\",VLOOKUP(AP94,'（ユニット型）シフト記号表'!$C$5:$Y$46,23,FALSE))","v":""},{"$f":"IF(AQ94=\"\",\"\",VLOOKUP(AQ94,'（ユニット型）シフト記号表'!$C$5:$Y$46,23,FALSE))","v":""},{"$f":"IF(AR94=\"\",\"\",VLOOKUP(AR94,'（ユニット型）シフト記号表'!$C$5:$Y$46,23,FALSE))","v":""},{"$f":"IF(AS94=\"\",\"\",VLOOKUP(AS94,'（ユニット型）シフト記号表'!$C$5:$Y$46,23,FALSE))","v":""},{"$f":"IF(AT94=\"\",\"\",VLOOKUP(AT94,'（ユニット型）シフト記号表'!$C$5:$Y$46,23,FALSE))","v":""},{"$f":"IF(AU94=\"\",\"\",VLOOKUP(AU94,'（ユニット型）シフト記号表'!$C$5:$Y$46,23,FALSE))","v":""},{"$f":"IF(AV94=\"\",\"\",VLOOKUP(AV94,'（ユニット型）シフト記号表'!$C$5:$Y$46,23,FALSE))","v":""},{"$f":"IF(AW94=\"\",\"\",VLOOKUP(AW94,'（ユニット型）シフト記号表'!$C$5:$Y$46,23,FALSE))","v":""},{"$f":"IF(AX94=\"\",\"\",VLOOKUP(AX94,'（ユニット型）シフト記号表'!$C$5:$Y$46,23,FALSE))","v":""},{"$f":"IF(AY94=\"\",\"\",VLOOKUP(AY94,'（ユニット型）シフト記号表'!$C$5:$Y$46,23,FALSE))","v":""},{"$f":"IF(AZ94=\"\",\"\",VLOOKUP(AZ94,'（ユニット型）シフト記号表'!$C$5:$Y$46,23,FALSE))","v":""},{"$f":"IF(BA94=\"\",\"\",VLOOKUP(BA94,'（ユニット型）シフト記号表'!$C$5:$Y$46,23,FALSE))","v":""},{"$f":"IF(BB94=\"\",\"\",VLOOKUP(BB94,'（ユニット型）シフト記号表'!$C$5:$Y$46,23,FALSE))","v":""},{"$f":"IF(BC94=\"\",\"\",VLOOKUP(BC94,'（ユニット型）シフト記号表'!$C$5:$Y$46,23,FALSE))","v":""},{"$f":"IF(BD94=\"\",\"\",VLOOKUP(BD94,'（ユニット型）シフト記号表'!$C$5:$Y$46,23,FALSE))","v":""},{"$f":"IF(BE94=\"\",\"\",VLOOKUP(BE94,'（ユニット型）シフト記号表'!$C$5:$Y$46,23,FALSE))","v":""},{"$f":"IF($BI$3=\"計画\",SUM(AA96:BB96),IF($BI$3=\"実績\",SUM(AA96:BE96),\"\"))","v":0},null,{"$f":"IF($BI$3=\"計画\",BF96/4,IF($BI$3=\"実績\",(BF96/($BI$7/7)),\"\"))","v":0}]
[null,null,null,null,null,null,null,null,null,null,null,null,null,null,null,null,null,null,null,null,null,"シフト記号"]
[null,{"$f":"B95+1","v":27},null,null,null,null,null,null,null,null,null,null,null,null,null,null,null,null,null,null,null,"日中の勤務時間数",null,null,null,null,{"$f":"IF(AA97=\"\",\"\",VLOOKUP(AA97,'（ユニット型）シフト記号表'!$C$5:$W$46,21,FALSE))","v":""},{"$f":"IF(AB97=\"\",\"\",VLOOKUP(AB97,'（ユニット型）シフト記号表'!$C$5:$W$46,21,FALSE))","v":""},{"$f":"IF(AC97=\"\",\"\",VLOOKUP(AC97,'（ユニット型）シフト記号表'!$C$5:$W$46,21,FALSE))","v":""},{"$f":"IF(AD97=\"\",\"\",VLOOKUP(AD97,'（ユニット型）シフト記号表'!$C$5:$W$46,21,FALSE))","v":""},{"$f":"IF(AE97=\"\",\"\",VLOOKUP(AE97,'（ユニット型）シフト記号表'!$C$5:$W$46,21,FALSE))","v":""},{"$f":"IF(AF97=\"\",\"\",VLOOKUP(AF97,'（ユニット型）シフト記号表'!$C$5:$W$46,21,FALSE))","v":""},{"$f":"IF(AG97=\"\",\"\",VLOOKUP(AG97,'（ユニット型）シフト記号表'!$C$5:$W$46,21,FALSE))","v":""},{"$f":"IF(AH97=\"\",\"\",VLOOKUP(AH97,'（ユニット型）シフト記号表'!$C$5:$W$46,21,FALSE))","v":""},{"$f":"IF(AI97=\"\",\"\",VLOOKUP(AI97,'（ユニット型）シフト記号表'!$C$5:$W$46,21,FALSE))","v":""},{"$f":"IF(AJ97=\"\",\"\",VLOOKUP(AJ97,'（ユニット型）シフト記号表'!$C$5:$W$46,21,FALSE))","v":""},{"$f":"IF(AK97=\"\",\"\",VLOOKUP(AK97,'（ユニット型）シフト記号表'!$C$5:$W$46,21,FALSE))","v":""},{"$f":"IF(AL97=\"\",\"\",VLOOKUP(AL97,'（ユニット型）シフト記号表'!$C$5:$W$46,21,FALSE))","v":""},{"$f":"IF(AM97=\"\",\"\",VLOOKUP(AM97,'（ユニット型）シフト記号表'!$C$5:$W$46,21,FALSE))","v":""},{"$f":"IF(AN97=\"\",\"\",VLOOKUP(AN97,'（ユニット型）シフト記号表'!$C$5:$W$46,21,FALSE))","v":""},{"$f":"IF(AO97=\"\",\"\",VLOOKUP(AO97,'（ユニット型）シフト記号表'!$C$5:$W$46,21,FALSE))","v":""},{"$f":"IF(AP97=\"\",\"\",VLOOKUP(AP97,'（ユニット型）シフト記号表'!$C$5:$W$46,21,FALSE))","v":""},{"$f":"IF(AQ97=\"\",\"\",VLOOKUP(AQ97,'（ユニット型）シフト記号表'!$C$5:$W$46,21,FALSE))","v":""},{"$f":"IF(AR97=\"\",\"\",VLOOKUP(AR97,'（ユニット型）シフト記号表'!$C$5:$W$46,21,FALSE))","v":""},{"$f":"IF(AS97=\"\",\"\",VLOOKUP(AS97,'（ユニット型）シフト記号表'!$C$5:$W$46,21,FALSE))","v":""},{"$f":"IF(AT97=\"\",\"\",VLOOKUP(AT97,'（ユニット型）シフト記号表'!$C$5:$W$46,21,FALSE))","v":""},{"$f":"IF(AU97=\"\",\"\",VLOOKUP(AU97,'（ユニット型）シフト記号表'!$C$5:$W$46,21,FALSE))","v":""},{"$f":"IF(AV97=\"\",\"\",VLOOKUP(AV97,'（ユニット型）シフト記号表'!$C$5:$W$46,21,FALSE))","v":""},{"$f":"IF(AW97=\"\",\"\",VLOOKUP(AW97,'（ユニット型）シフト記号表'!$C$5:$W$46,21,FALSE))","v":""},{"$f":"IF(AX97=\"\",\"\",VLOOKUP(AX97,'（ユニット型）シフト記号表'!$C$5:$W$46,21,FALSE))","v":""},{"$f":"IF(AY97=\"\",\"\",VLOOKUP(AY97,'（ユニット型）シフト記号表'!$C$5:$W$46,21,FALSE))","v":""},{"$f":"IF(AZ97=\"\",\"\",VLOOKUP(AZ97,'（ユニット型）シフト記号表'!$C$5:$W$46,21,FALSE))","v":""},{"$f":"IF(BA97=\"\",\"\",VLOOKUP(BA97,'（ユニット型）シフト記号表'!$C$5:$W$46,21,FALSE))","v":""},{"$f":"IF(BB97=\"\",\"\",VLOOKUP(BB97,'（ユニット型）シフト記号表'!$C$5:$W$46,21,FALSE))","v":""},{"$f":"IF(BC97=\"\",\"\",VLOOKUP(BC97,'（ユニット型）シフト記号表'!$C$5:$W$46,21,FALSE))","v":""},{"$f":"IF(BD97=\"\",\"\",VLOOKUP(BD97,'（ユニット型）シフト記号表'!$C$5:$W$46,21,FALSE))","v":""},{"$f":"IF(BE97=\"\",\"\",VLOOKUP(BE97,'（ユニット型）シフト記号表'!$C$5:$W$46,21,FALSE))","v":""},{"$f":"IF($BI$3=\"計画\",SUM(AA98:BB98),IF($BI$3=\"実績\",SUM(AA98:BE98),\"\"))","v":0},null,{"$f":"IF($BI$3=\"計画\",BF98/4,IF($BI$3=\"実績\",(BF98/($BI$7/7)),\"\"))","v":0}]
[null,null,null,null,null,null,null,null,{"$f":"G98","v":0},null,{"$f":"M98","v":0},null,null,null,null,null,null,null,null,null,null,"夜勤時間帯の勤務時間数",null,null,null,null,{"$f":"IF(AA97=\"\",\"\",VLOOKUP(AA97,'（ユニット型）シフト記号表'!$C$5:$Y$46,23,FALSE))","v":""},{"$f":"IF(AB97=\"\",\"\",VLOOKUP(AB97,'（ユニット型）シフト記号表'!$C$5:$Y$46,23,FALSE))","v":""},{"$f":"IF(AC97=\"\",\"\",VLOOKUP(AC97,'（ユニット型）シフト記号表'!$C$5:$Y$46,23,FALSE))","v":""},{"$f":"IF(AD97=\"\",\"\",VLOOKUP(AD97,'（ユニット型）シフト記号表'!$C$5:$Y$46,23,FALSE))","v":""},{"$f":"IF(AE97=\"\",\"\",VLOOKUP(AE97,'（ユニット型）シフト記号表'!$C$5:$Y$46,23,FALSE))","v":""},{"$f":"IF(AF97=\"\",\"\",VLOOKUP(AF97,'（ユニット型）シフト記号表'!$C$5:$Y$46,23,FALSE))","v":""},{"$f":"IF(AG97=\"\",\"\",VLOOKUP(AG97,'（ユニット型）シフト記号表'!$C$5:$Y$46,23,FALSE))","v":""},{"$f":"IF(AH97=\"\",\"\",VLOOKUP(AH97,'（ユニット型）シフト記号表'!$C$5:$Y$46,23,FALSE))","v":""},{"$f":"IF(AI97=\"\",\"\",VLOOKUP(AI97,'（ユニット型）シフト記号表'!$C$5:$Y$46,23,FALSE))","v":""},{"$f":"IF(AJ97=\"\",\"\",VLOOKUP(AJ97,'（ユニット型）シフト記号表'!$C$5:$Y$46,23,FALSE))","v":""},{"$f":"IF(AK97=\"\",\"\",VLOOKUP(AK97,'（ユニット型）シフト記号表'!$C$5:$Y$46,23,FALSE))","v":""},{"$f":"IF(AL97=\"\",\"\",VLOOKUP(AL97,'（ユニット型）シフト記号表'!$C$5:$Y$46,23,FALSE))","v":""},{"$f":"IF(AM97=\"\",\"\",VLOOKUP(AM97,'（ユニット型）シフト記号表'!$C$5:$Y$46,23,FALSE))","v":""},{"$f":"IF(AN97=\"\",\"\",VLOOKUP(AN97,'（ユニット型）シフト記号表'!$C$5:$Y$46,23,FALSE))","v":""},{"$f":"IF(AO97=\"\",\"\",VLOOKUP(AO97,'（ユニット型）シフト記号表'!$C$5:$Y$46,23,FALSE))","v":""},{"$f":"IF(AP97=\"\",\"\",VLOOKUP(AP97,'（ユニット型）シフト記号表'!$C$5:$Y$46,23,FALSE))","v":""},{"$f":"IF(AQ97=\"\",\"\",VLOOKUP(AQ97,'（ユニット型）シフト記号表'!$C$5:$Y$46,23,FALSE))","v":""},{"$f":"IF(AR97=\"\",\"\",VLOOKUP(AR97,'（ユニット型）シフト記号表'!$C$5:$Y$46,23,FALSE))","v":""},{"$f":"IF(AS97=\"\",\"\",VLOOKUP(AS97,'（ユニット型）シフト記号表'!$C$5:$Y$46,23,FALSE))","v":""},{"$f":"IF(AT97=\"\",\"\",VLOOKUP(AT97,'（ユニット型）シフト記号表'!$C$5:$Y$46,23,FALSE))","v":""},{"$f":"IF(AU97=\"\",\"\",VLOOKUP(AU97,'（ユニット型）シフト記号表'!$C$5:$Y$46,23,FALSE))","v":""},{"$f":"IF(AV97=\"\",\"\",VLOOKUP(AV97,'（ユニット型）シフト記号表'!$C$5:$Y$46,23,FALSE))","v":""},{"$f":"IF(AW97=\"\",\"\",VLOOKUP(AW97,'（ユニット型）シフト記号表'!$C$5:$Y$46,23,FALSE))","v":""},{"$f":"IF(AX97=\"\",\"\",VLOOKUP(AX97,'（ユニット型）シフト記号表'!$C$5:$Y$46,23,FALSE))","v":""},{"$f":"IF(AY97=\"\",\"\",VLOOKUP(AY97,'（ユニット型）シフト記号表'!$C$5:$Y$46,23,FALSE))","v":""},{"$f":"IF(AZ97=\"\",\"\",VLOOKUP(AZ97,'（ユニット型）シフト記号表'!$C$5:$Y$46,23,FALSE))","v":""},{"$f":"IF(BA97=\"\",\"\",VLOOKUP(BA97,'（ユニット型）シフト記号表'!$C$5:$Y$46,23,FALSE))","v":""},{"$f":"IF(BB97=\"\",\"\",VLOOKUP(BB97,'（ユニット型）シフト記号表'!$C$5:$Y$46,23,FALSE))","v":""},{"$f":"IF(BC97=\"\",\"\",VLOOKUP(BC97,'（ユニット型）シフト記号表'!$C$5:$Y$46,23,FALSE))","v":""},{"$f":"IF(BD97=\"\",\"\",VLOOKUP(BD97,'（ユニット型）シフト記号表'!$C$5:$Y$46,23,FALSE))","v":""},{"$f":"IF(BE97=\"\",\"\",VLOOKUP(BE97,'（ユニット型）シフト記号表'!$C$5:$Y$46,23,FALSE))","v":""},{"$f":"IF($BI$3=\"計画\",SUM(AA99:BB99),IF($BI$3=\"実績\",SUM(AA99:BE99),\"\"))","v":0},null,{"$f":"IF($BI$3=\"計画\",BF99/4,IF($BI$3=\"実績\",(BF99/($BI$7/7)),\"\"))","v":0}]
[null,null,null,null,null,null,null,null,null,null,null,null,null,null,null,null,null,null,null,null,null,"シフト記号"]
[null,{"$f":"B98+1","v":28},null,null,null,null,null,null,null,null,null,null,null,null,null,null,null,null,null,null,null,"日中の勤務時間数",null,null,null,null,{"$f":"IF(AA100=\"\",\"\",VLOOKUP(AA100,'（ユニット型）シフト記号表'!$C$5:$W$46,21,FALSE))","v":""},{"$f":"IF(AB100=\"\",\"\",VLOOKUP(AB100,'（ユニット型）シフト記号表'!$C$5:$W$46,21,FALSE))","v":""},{"$f":"IF(AC100=\"\",\"\",VLOOKUP(AC100,'（ユニット型）シフト記号表'!$C$5:$W$46,21,FALSE))","v":""},{"$f":"IF(AD100=\"\",\"\",VLOOKUP(AD100,'（ユニット型）シフト記号表'!$C$5:$W$46,21,FALSE))","v":""},{"$f":"IF(AE100=\"\",\"\",VLOOKUP(AE100,'（ユニット型）シフト記号表'!$C$5:$W$46,21,FALSE))","v":""},{"$f":"IF(AF100=\"\",\"\",VLOOKUP(AF100,'（ユニット型）シフト記号表'!$C$5:$W$46,21,FALSE))","v":""},{"$f":"IF(AG100=\"\",\"\",VLOOKUP(AG100,'（ユニット型）シフト記号表'!$C$5:$W$46,21,FALSE))","v":""},{"$f":"IF(AH100=\"\",\"\",VLOOKUP(AH100,'（ユニット型）シフト記号表'!$C$5:$W$46,21,FALSE))","v":""},{"$f":"IF(AI100=\"\",\"\",VLOOKUP(AI100,'（ユニット型）シフト記号表'!$C$5:$W$46,21,FALSE))","v":""},{"$f":"IF(AJ100=\"\",\"\",VLOOKUP(AJ100,'（ユニット型）シフト記号表'!$C$5:$W$46,21,FALSE))","v":""},{"$f":"IF(AK100=\"\",\"\",VLOOKUP(AK100,'（ユニット型）シフト記号表'!$C$5:$W$46,21,FALSE))","v":""},{"$f":"IF(AL100=\"\",\"\",VLOOKUP(AL100,'（ユニット型）シフト記号表'!$C$5:$W$46,21,FALSE))","v":""},{"$f":"IF(AM100=\"\",\"\",VLOOKUP(AM100,'（ユニット型）シフト記号表'!$C$5:$W$46,21,FALSE))","v":""},{"$f":"IF(AN100=\"\",\"\",VLOOKUP(AN100,'（ユニット型）シフト記号表'!$C$5:$W$46,21,FALSE))","v":""},{"$f":"IF(AO100=\"\",\"\",VLOOKUP(AO100,'（ユニット型）シフト記号表'!$C$5:$W$46,21,FALSE))","v":""},{"$f":"IF(AP100=\"\",\"\",VLOOKUP(AP100,'（ユニット型）シフト記号表'!$C$5:$W$46,21,FALSE))","v":""},{"$f":"IF(AQ100=\"\",\"\",VLOOKUP(AQ100,'（ユニット型）シフト記号表'!$C$5:$W$46,21,FALSE))","v":""},{"$f":"IF(AR100=\"\",\"\",VLOOKUP(AR100,'（ユニット型）シフト記号表'!$C$5:$W$46,21,FALSE))","v":""},{"$f":"IF(AS100=\"\",\"\",VLOOKUP(AS100,'（ユニット型）シフト記号表'!$C$5:$W$46,21,FALSE))","v":""},{"$f":"IF(AT100=\"\",\"\",VLOOKUP(AT100,'（ユニット型）シフト記号表'!$C$5:$W$46,21,FALSE))","v":""},{"$f":"IF(AU100=\"\",\"\",VLOOKUP(AU100,'（ユニット型）シフト記号表'!$C$5:$W$46,21,FALSE))","v":""},{"$f":"IF(AV100=\"\",\"\",VLOOKUP(AV100,'（ユニット型）シフト記号表'!$C$5:$W$46,21,FALSE))","v":""},{"$f":"IF(AW100=\"\",\"\",VLOOKUP(AW100,'（ユニット型）シフト記号表'!$C$5:$W$46,21,FALSE))","v":""},{"$f":"IF(AX100=\"\",\"\",VLOOKUP(AX100,'（ユニット型）シフト記号表'!$C$5:$W$46,21,FALSE))","v":""},{"$f":"IF(AY100=\"\",\"\",VLOOKUP(AY100,'（ユニット型）シフト記号表'!$C$5:$W$46,21,FALSE))","v":""},{"$f":"IF(AZ100=\"\",\"\",VLOOKUP(AZ100,'（ユニット型）シフト記号表'!$C$5:$W$46,21,FALSE))","v":""},{"$f":"IF(BA100=\"\",\"\",VLOOKUP(BA100,'（ユニット型）シフト記号表'!$C$5:$W$46,21,FALSE))","v":""},{"$f":"IF(BB100=\"\",\"\",VLOOKUP(BB100,'（ユニット型）シフト記号表'!$C$5:$W$46,21,FALSE))","v":""},{"$f":"IF(BC100=\"\",\"\",VLOOKUP(BC100,'（ユニット型）シフト記号表'!$C$5:$W$46,21,FALSE))","v":""},{"$f":"IF(BD100=\"\",\"\",VLOOKUP(BD100,'（ユニット型）シフト記号表'!$C$5:$W$46,21,FALSE))","v":""},{"$f":"IF(BE100=\"\",\"\",VLOOKUP(BE100,'（ユニット型）シフト記号表'!$C$5:$W$46,21,FALSE))","v":""},{"$f":"IF($BI$3=\"計画\",SUM(AA101:BB101),IF($BI$3=\"実績\",SUM(AA101:BE101),\"\"))","v":0},null,{"$f":"IF($BI$3=\"計画\",BF101/4,IF($BI$3=\"実績\",(BF101/($BI$7/7)),\"\"))","v":0}]
[null,null,null,null,null,null,null,null,{"$f":"G101","v":0},null,{"$f":"M101","v":0},null,null,null,null,null,null,null,null,null,null,"夜勤時間帯の勤務時間数",null,null,null,null,{"$f":"IF(AA100=\"\",\"\",VLOOKUP(AA100,'（ユニット型）シフト記号表'!$C$5:$Y$46,23,FALSE))","v":""},{"$f":"IF(AB100=\"\",\"\",VLOOKUP(AB100,'（ユニット型）シフト記号表'!$C$5:$Y$46,23,FALSE))","v":""},{"$f":"IF(AC100=\"\",\"\",VLOOKUP(AC100,'（ユニット型）シフト記号表'!$C$5:$Y$46,23,FALSE))","v":""},{"$f":"IF(AD100=\"\",\"\",VLOOKUP(AD100,'（ユニット型）シフト記号表'!$C$5:$Y$46,23,FALSE))","v":""},{"$f":"IF(AE100=\"\",\"\",VLOOKUP(AE100,'（ユニット型）シフト記号表'!$C$5:$Y$46,23,FALSE))","v":""},{"$f":"IF(AF100=\"\",\"\",VLOOKUP(AF100,'（ユニット型）シフト記号表'!$C$5:$Y$46,23,FALSE))","v":""},{"$f":"IF(AG100=\"\",\"\",VLOOKUP(AG100,'（ユニット型）シフト記号表'!$C$5:$Y$46,23,FALSE))","v":""},{"$f":"IF(AH100=\"\",\"\",VLOOKUP(AH100,'（ユニット型）シフト記号表'!$C$5:$Y$46,23,FALSE))","v":""},{"$f":"IF(AI100=\"\",\"\",VLOOKUP(AI100,'（ユニット型）シフト記号表'!$C$5:$Y$46,23,FALSE))","v":""},{"$f":"IF(AJ100=\"\",\"\",VLOOKUP(AJ100,'（ユニット型）シフト記号表'!$C$5:$Y$46,23,FALSE))","v":""},{"$f":"IF(AK100=\"\",\"\",VLOOKUP(AK100,'（ユニット型）シフト記号表'!$C$5:$Y$46,23,FALSE))","v":""},{"$f":"IF(AL100=\"\",\"\",VLOOKUP(AL100,'（ユニット型）シフト記号表'!$C$5:$Y$46,23,FALSE))","v":""},{"$f":"IF(AM100=\"\",\"\",VLOOKUP(AM100,'（ユニット型）シフト記号表'!$C$5:$Y$46,23,FALSE))","v":""},{"$f":"IF(AN100=\"\",\"\",VLOOKUP(AN100,'（ユニット型）シフト記号表'!$C$5:$Y$46,23,FALSE))","v":""},{"$f":"IF(AO100=\"\",\"\",VLOOKUP(AO100,'（ユニット型）シフト記号表'!$C$5:$Y$46,23,FALSE))","v":""},{"$f":"IF(AP100=\"\",\"\",VLOOKUP(AP100,'（ユニット型）シフト記号表'!$C$5:$Y$46,23,FALSE))","v":""},{"$f":"IF(AQ100=\"\",\"\",VLOOKUP(AQ100,'（ユニット型）シフト記号表'!$C$5:$Y$46,23,FALSE))","v":""},{"$f":"IF(AR100=\"\",\"\",VLOOKUP(AR100,'（ユニット型）シフト記号表'!$C$5:$Y$46,23,FALSE))","v":""},{"$f":"IF(AS100=\"\",\"\",VLOOKUP(AS100,'（ユニット型）シフト記号表'!$C$5:$Y$46,23,FALSE))","v":""},{"$f":"IF(AT100=\"\",\"\",VLOOKUP(AT100,'（ユニット型）シフト記号表'!$C$5:$Y$46,23,FALSE))","v":""},{"$f":"IF(AU100=\"\",\"\",VLOOKUP(AU100,'（ユニット型）シフト記号表'!$C$5:$Y$46,23,FALSE))","v":""},{"$f":"IF(AV100=\"\",\"\",VLOOKUP(AV100,'（ユニット型）シフト記号表'!$C$5:$Y$46,23,FALSE))","v":""},{"$f":"IF(AW100=\"\",\"\",VLOOKUP(AW100,'（ユニット型）シフト記号表'!$C$5:$Y$46,23,FALSE))","v":""},{"$f":"IF(AX100=\"\",\"\",VLOOKUP(AX100,'（ユニット型）シフト記号表'!$C$5:$Y$46,23,FALSE))","v":""},{"$f":"IF(AY100=\"\",\"\",VLOOKUP(AY100,'（ユニット型）シフト記号表'!$C$5:$Y$46,23,FALSE))","v":""},{"$f":"IF(AZ100=\"\",\"\",VLOOKUP(AZ100,'（ユニット型）シフト記号表'!$C$5:$Y$46,23,FALSE))","v":""},{"$f":"IF(BA100=\"\",\"\",VLOOKUP(BA100,'（ユニット型）シフト記号表'!$C$5:$Y$46,23,FALSE))","v":""},{"$f":"IF(BB100=\"\",\"\",VLOOKUP(BB100,'（ユニット型）シフト記号表'!$C$5:$Y$46,23,FALSE))","v":""},{"$f":"IF(BC100=\"\",\"\",VLOOKUP(BC100,'（ユニット型）シフト記号表'!$C$5:$Y$46,23,FALSE))","v":""},{"$f":"IF(BD100=\"\",\"\",VLOOKUP(BD100,'（ユニット型）シフト記号表'!$C$5:$Y$46,23,FALSE))","v":""},{"$f":"IF(BE100=\"\",\"\",VLOOKUP(BE100,'（ユニット型）シフト記号表'!$C$5:$Y$46,23,FALSE))","v":""},{"$f":"IF($BI$3=\"計画\",SUM(AA102:BB102),IF($BI$3=\"実績\",SUM(AA102:BE102),\"\"))","v":0},null,{"$f":"IF($BI$3=\"計画\",BF102/4,IF($BI$3=\"実績\",(BF102/($BI$7/7)),\"\"))","v":0}]
[null,null,null,null,null,null,null,null,null,null,null,null,null,null,null,null,null,null,null,null,null,"シフト記号"]
[null,{"$f":"B101+1","v":29},null,null,null,null,null,null,null,null,null,null,null,null,null,null,null,null,null,null,null,"日中の勤務時間数",null,null,null,null,{"$f":"IF(AA103=\"\",\"\",VLOOKUP(AA103,'（ユニット型）シフト記号表'!$C$5:$W$46,21,FALSE))","v":""},{"$f":"IF(AB103=\"\",\"\",VLOOKUP(AB103,'（ユニット型）シフト記号表'!$C$5:$W$46,21,FALSE))","v":""},{"$f":"IF(AC103=\"\",\"\",VLOOKUP(AC103,'（ユニット型）シフト記号表'!$C$5:$W$46,21,FALSE))","v":""},{"$f":"IF(AD103=\"\",\"\",VLOOKUP(AD103,'（ユニット型）シフト記号表'!$C$5:$W$46,21,FALSE))","v":""},{"$f":"IF(AE103=\"\",\"\",VLOOKUP(AE103,'（ユニット型）シフト記号表'!$C$5:$W$46,21,FALSE))","v":""},{"$f":"IF(AF103=\"\",\"\",VLOOKUP(AF103,'（ユニット型）シフト記号表'!$C$5:$W$46,21,FALSE))","v":""},{"$f":"IF(AG103=\"\",\"\",VLOOKUP(AG103,'（ユニット型）シフト記号表'!$C$5:$W$46,21,FALSE))","v":""},{"$f":"IF(AH103=\"\",\"\",VLOOKUP(AH103,'（ユニット型）シフト記号表'!$C$5:$W$46,21,FALSE))","v":""},{"$f":"IF(AI103=\"\",\"\",VLOOKUP(AI103,'（ユニット型）シフト記号表'!$C$5:$W$46,21,FALSE))","v":""},{"$f":"IF(AJ103=\"\",\"\",VLOOKUP(AJ103,'（ユニット型）シフト記号表'!$C$5:$W$46,21,FALSE))","v":""},{"$f":"IF(AK103=\"\",\"\",VLOOKUP(AK103,'（ユニット型）シフト記号表'!$C$5:$W$46,21,FALSE))","v":""},{"$f":"IF(AL103=\"\",\"\",VLOOKUP(AL103,'（ユニット型）シフト記号表'!$C$5:$W$46,21,FALSE))","v":""},{"$f":"IF(AM103=\"\",\"\",VLOOKUP(AM103,'（ユニット型）シフト記号表'!$C$5:$W$46,21,FALSE))","v":""},{"$f":"IF(AN103=\"\",\"\",VLOOKUP(AN103,'（ユニット型）シフト記号表'!$C$5:$W$46,21,FALSE))","v":""},{"$f":"IF(AO103=\"\",\"\",VLOOKUP(AO103,'（ユニット型）シフト記号表'!$C$5:$W$46,21,FALSE))","v":""},{"$f":"IF(AP103=\"\",\"\",VLOOKUP(AP103,'（ユニット型）シフト記号表'!$C$5:$W$46,21,FALSE))","v":""},{"$f":"IF(AQ103=\"\",\"\",VLOOKUP(AQ103,'（ユニット型）シフト記号表'!$C$5:$W$46,21,FALSE))","v":""},{"$f":"IF(AR103=\"\",\"\",VLOOKUP(AR103,'（ユニット型）シフト記号表'!$C$5:$W$46,21,FALSE))","v":""},{"$f":"IF(AS103=\"\",\"\",VLOOKUP(AS103,'（ユニット型）シフト記号表'!$C$5:$W$46,21,FALSE))","v":""},{"$f":"IF(AT103=\"\",\"\",VLOOKUP(AT103,'（ユニット型）シフト記号表'!$C$5:$W$46,21,FALSE))","v":""},{"$f":"IF(AU103=\"\",\"\",VLOOKUP(AU103,'（ユニット型）シフト記号表'!$C$5:$W$46,21,FALSE))","v":""},{"$f":"IF(AV103=\"\",\"\",VLOOKUP(AV103,'（ユニット型）シフト記号表'!$C$5:$W$46,21,FALSE))","v":""},{"$f":"IF(AW103=\"\",\"\",VLOOKUP(AW103,'（ユニット型）シフト記号表'!$C$5:$W$46,21,FALSE))","v":""},{"$f":"IF(AX103=\"\",\"\",VLOOKUP(AX103,'（ユニット型）シフト記号表'!$C$5:$W$46,21,FALSE))","v":""},{"$f":"IF(AY103=\"\",\"\",VLOOKUP(AY103,'（ユニット型）シフト記号表'!$C$5:$W$46,21,FALSE))","v":""},{"$f":"IF(AZ103=\"\",\"\",VLOOKUP(AZ103,'（ユニット型）シフト記号表'!$C$5:$W$46,21,FALSE))","v":""},{"$f":"IF(BA103=\"\",\"\",VLOOKUP(BA103,'（ユニット型）シフト記号表'!$C$5:$W$46,21,FALSE))","v":""},{"$f":"IF(BB103=\"\",\"\",VLOOKUP(BB103,'（ユニット型）シフト記号表'!$C$5:$W$46,21,FALSE))","v":""},{"$f":"IF(BC103=\"\",\"\",VLOOKUP(BC103,'（ユニット型）シフト記号表'!$C$5:$W$46,21,FALSE))","v":""},{"$f":"IF(BD103=\"\",\"\",VLOOKUP(BD103,'（ユニット型）シフト記号表'!$C$5:$W$46,21,FALSE))","v":""},{"$f":"IF(BE103=\"\",\"\",VLOOKUP(BE103,'（ユニット型）シフト記号表'!$C$5:$W$46,21,FALSE))","v":""},{"$f":"IF($BI$3=\"計画\",SUM(AA104:BB104),IF($BI$3=\"実績\",SUM(AA104:BE104),\"\"))","v":0},null,{"$f":"IF($BI$3=\"計画\",BF104/4,IF($BI$3=\"実績\",(BF104/($BI$7/7)),\"\"))","v":0}]
[null,null,null,null,null,null,null,null,{"$f":"G104","v":0},null,{"$f":"M104","v":0},null,null,null,null,null,null,null,null,null,null,"夜勤時間帯の勤務時間数",null,null,null,null,{"$f":"IF(AA103=\"\",\"\",VLOOKUP(AA103,'（ユニット型）シフト記号表'!$C$5:$Y$46,23,FALSE))","v":""},{"$f":"IF(AB103=\"\",\"\",VLOOKUP(AB103,'（ユニット型）シフト記号表'!$C$5:$Y$46,23,FALSE))","v":""},{"$f":"IF(AC103=\"\",\"\",VLOOKUP(AC103,'（ユニット型）シフト記号表'!$C$5:$Y$46,23,FALSE))","v":""},{"$f":"IF(AD103=\"\",\"\",VLOOKUP(AD103,'（ユニット型）シフト記号表'!$C$5:$Y$46,23,FALSE))","v":""},{"$f":"IF(AE103=\"\",\"\",VLOOKUP(AE103,'（ユニット型）シフト記号表'!$C$5:$Y$46,23,FALSE))","v":""},{"$f":"IF(AF103=\"\",\"\",VLOOKUP(AF103,'（ユニット型）シフト記号表'!$C$5:$Y$46,23,FALSE))","v":""},{"$f":"IF(AG103=\"\",\"\",VLOOKUP(AG103,'（ユニット型）シフト記号表'!$C$5:$Y$46,23,FALSE))","v":""},{"$f":"IF(AH103=\"\",\"\",VLOOKUP(AH103,'（ユニット型）シフト記号表'!$C$5:$Y$46,23,FALSE))","v":""},{"$f":"IF(AI103=\"\",\"\",VLOOKUP(AI103,'（ユニット型）シフト記号表'!$C$5:$Y$46,23,FALSE))","v":""},{"$f":"IF(AJ103=\"\",\"\",VLOOKUP(AJ103,'（ユニット型）シフト記号表'!$C$5:$Y$46,23,FALSE))","v":""},{"$f":"IF(AK103=\"\",\"\",VLOOKUP(AK103,'（ユニット型）シフト記号表'!$C$5:$Y$46,23,FALSE))","v":""},{"$f":"IF(AL103=\"\",\"\",VLOOKUP(AL103,'（ユニット型）シフト記号表'!$C$5:$Y$46,23,FALSE))","v":""},{"$f":"IF(AM103=\"\",\"\",VLOOKUP(AM103,'（ユニット型）シフト記号表'!$C$5:$Y$46,23,FALSE))","v":""},{"$f":"IF(AN103=\"\",\"\",VLOOKUP(AN103,'（ユニット型）シフト記号表'!$C$5:$Y$46,23,FALSE))","v":""},{"$f":"IF(AO103=\"\",\"\",VLOOKUP(AO103,'（ユニット型）シフト記号表'!$C$5:$Y$46,23,FALSE))","v":""},{"$f":"IF(AP103=\"\",\"\",VLOOKUP(AP103,'（ユニット型）シフト記号表'!$C$5:$Y$46,23,FALSE))","v":""},{"$f":"IF(AQ103=\"\",\"\",VLOOKUP(AQ103,'（ユニット型）シフト記号表'!$C$5:$Y$46,23,FALSE))","v":""},{"$f":"IF(AR103=\"\",\"\",VLOOKUP(AR103,'（ユニット型）シフト記号表'!$C$5:$Y$46,23,FALSE))","v":""},{"$f":"IF(AS103=\"\",\"\",VLOOKUP(AS103,'（ユニット型）シフト記号表'!$C$5:$Y$46,23,FALSE))","v":""},{"$f":"IF(AT103=\"\",\"\",VLOOKUP(AT103,'（ユニット型）シフト記号表'!$C$5:$Y$46,23,FALSE))","v":""},{"$f":"IF(AU103=\"\",\"\",VLOOKUP(AU103,'（ユニット型）シフト記号表'!$C$5:$Y$46,23,FALSE))","v":""},{"$f":"IF(AV103=\"\",\"\",VLOOKUP(AV103,'（ユニット型）シフト記号表'!$C$5:$Y$46,23,FALSE))","v":""},{"$f":"IF(AW103=\"\",\"\",VLOOKUP(AW103,'（ユニット型）シフト記号表'!$C$5:$Y$46,23,FALSE))","v":""},{"$f":"IF(AX103=\"\",\"\",VLOOKUP(AX103,'（ユニット型）シフト記号表'!$C$5:$Y$46,23,FALSE))","v":""},{"$f":"IF(AY103=\"\",\"\",VLOOKUP(AY103,'（ユニット型）シフト記号表'!$C$5:$Y$46,23,FALSE))","v":""},{"$f":"IF(AZ103=\"\",\"\",VLOOKUP(AZ103,'（ユニット型）シフト記号表'!$C$5:$Y$46,23,FALSE))","v":""},{"$f":"IF(BA103=\"\",\"\",VLOOKUP(BA103,'（ユニット型）シフト記号表'!$C$5:$Y$46,23,FALSE))","v":""},{"$f":"IF(BB103=\"\",\"\",VLOOKUP(BB103,'（ユニット型）シフト記号表'!$C$5:$Y$46,23,FALSE))","v":""},{"$f":"IF(BC103=\"\",\"\",VLOOKUP(BC103,'（ユニット型）シフト記号表'!$C$5:$Y$46,23,FALSE))","v":""},{"$f":"IF(BD103=\"\",\"\",VLOOKUP(BD103,'（ユニット型）シフト記号表'!$C$5:$Y$46,23,FALSE))","v":""},{"$f":"IF(BE103=\"\",\"\",VLOOKUP(BE103,'（ユニット型）シフト記号表'!$C$5:$Y$46,23,FALSE))","v":""},{"$f":"IF($BI$3=\"計画\",SUM(AA105:BB105),IF($BI$3=\"実績\",SUM(AA105:BE105),\"\"))","v":0},null,{"$f":"IF($BI$3=\"計画\",BF105/4,IF($BI$3=\"実績\",(BF105/($BI$7/7)),\"\"))","v":0}]
[null,null,null,null,null,null,null,null,null,null,null,null,null,null,null,null,null,null,null,null,null,"シフト記号"]
[null,{"$f":"B104+1","v":30},null,null,null,null,null,null,null,null,null,null,null,null,null,null,null,null,null,null,null,"日中の勤務時間数",null,null,null,null,{"$f":"IF(AA106=\"\",\"\",VLOOKUP(AA106,'（ユニット型）シフト記号表'!$C$5:$W$46,21,FALSE))","v":""},{"$f":"IF(AB106=\"\",\"\",VLOOKUP(AB106,'（ユニット型）シフト記号表'!$C$5:$W$46,21,FALSE))","v":""},{"$f":"IF(AC106=\"\",\"\",VLOOKUP(AC106,'（ユニット型）シフト記号表'!$C$5:$W$46,21,FALSE))","v":""},{"$f":"IF(AD106=\"\",\"\",VLOOKUP(AD106,'（ユニット型）シフト記号表'!$C$5:$W$46,21,FALSE))","v":""},{"$f":"IF(AE106=\"\",\"\",VLOOKUP(AE106,'（ユニット型）シフト記号表'!$C$5:$W$46,21,FALSE))","v":""},{"$f":"IF(AF106=\"\",\"\",VLOOKUP(AF106,'（ユニット型）シフト記号表'!$C$5:$W$46,21,FALSE))","v":""},{"$f":"IF(AG106=\"\",\"\",VLOOKUP(AG106,'（ユニット型）シフト記号表'!$C$5:$W$46,21,FALSE))","v":""},{"$f":"IF(AH106=\"\",\"\",VLOOKUP(AH106,'（ユニット型）シフト記号表'!$C$5:$W$46,21,FALSE))","v":""},{"$f":"IF(AI106=\"\",\"\",VLOOKUP(AI106,'（ユニット型）シフト記号表'!$C$5:$W$46,21,FALSE))","v":""},{"$f":"IF(AJ106=\"\",\"\",VLOOKUP(AJ106,'（ユニット型）シフト記号表'!$C$5:$W$46,21,FALSE))","v":""},{"$f":"IF(AK106=\"\",\"\",VLOOKUP(AK106,'（ユニット型）シフト記号表'!$C$5:$W$46,21,FALSE))","v":""},{"$f":"IF(AL106=\"\",\"\",VLOOKUP(AL106,'（ユニット型）シフト記号表'!$C$5:$W$46,21,FALSE))","v":""},{"$f":"IF(AM106=\"\",\"\",VLOOKUP(AM106,'（ユニット型）シフト記号表'!$C$5:$W$46,21,FALSE))","v":""},{"$f":"IF(AN106=\"\",\"\",VLOOKUP(AN106,'（ユニット型）シフト記号表'!$C$5:$W$46,21,FALSE))","v":""},{"$f":"IF(AO106=\"\",\"\",VLOOKUP(AO106,'（ユニット型）シフト記号表'!$C$5:$W$46,21,FALSE))","v":""},{"$f":"IF(AP106=\"\",\"\",VLOOKUP(AP106,'（ユニット型）シフト記号表'!$C$5:$W$46,21,FALSE))","v":""},{"$f":"IF(AQ106=\"\",\"\",VLOOKUP(AQ106,'（ユニット型）シフト記号表'!$C$5:$W$46,21,FALSE))","v":""},{"$f":"IF(AR106=\"\",\"\",VLOOKUP(AR106,'（ユニット型）シフト記号表'!$C$5:$W$46,21,FALSE))","v":""},{"$f":"IF(AS106=\"\",\"\",VLOOKUP(AS106,'（ユニット型）シフト記号表'!$C$5:$W$46,21,FALSE))","v":""},{"$f":"IF(AT106=\"\",\"\",VLOOKUP(AT106,'（ユニット型）シフト記号表'!$C$5:$W$46,21,FALSE))","v":""},{"$f":"IF(AU106=\"\",\"\",VLOOKUP(AU106,'（ユニット型）シフト記号表'!$C$5:$W$46,21,FALSE))","v":""},{"$f":"IF(AV106=\"\",\"\",VLOOKUP(AV106,'（ユニット型）シフト記号表'!$C$5:$W$46,21,FALSE))","v":""},{"$f":"IF(AW106=\"\",\"\",VLOOKUP(AW106,'（ユニット型）シフト記号表'!$C$5:$W$46,21,FALSE))","v":""},{"$f":"IF(AX106=\"\",\"\",VLOOKUP(AX106,'（ユニット型）シフト記号表'!$C$5:$W$46,21,FALSE))","v":""},{"$f":"IF(AY106=\"\",\"\",VLOOKUP(AY106,'（ユニット型）シフト記号表'!$C$5:$W$46,21,FALSE))","v":""},{"$f":"IF(AZ106=\"\",\"\",VLOOKUP(AZ106,'（ユニット型）シフト記号表'!$C$5:$W$46,21,FALSE))","v":""},{"$f":"IF(BA106=\"\",\"\",VLOOKUP(BA106,'（ユニット型）シフト記号表'!$C$5:$W$46,21,FALSE))","v":""},{"$f":"IF(BB106=\"\",\"\",VLOOKUP(BB106,'（ユニット型）シフト記号表'!$C$5:$W$46,21,FALSE))","v":""},{"$f":"IF(BC106=\"\",\"\",VLOOKUP(BC106,'（ユニット型）シフト記号表'!$C$5:$W$46,21,FALSE))","v":""},{"$f":"IF(BD106=\"\",\"\",VLOOKUP(BD106,'（ユニット型）シフト記号表'!$C$5:$W$46,21,FALSE))","v":""},{"$f":"IF(BE106=\"\",\"\",VLOOKUP(BE106,'（ユニット型）シフト記号表'!$C$5:$W$46,21,FALSE))","v":""},{"$f":"IF($BI$3=\"計画\",SUM(AA107:BB107),IF($BI$3=\"実績\",SUM(AA107:BE107),\"\"))","v":0},null,{"$f":"IF($BI$3=\"計画\",BF107/4,IF($BI$3=\"実績\",(BF107/($BI$7/7)),\"\"))","v":0}]
[null,null,null,null,null,null,null,null,{"$f":"G107","v":0},null,{"$f":"M107","v":0},null,null,null,null,null,null,null,null,null,null,"夜勤時間帯の勤務時間数",null,null,null,null,{"$f":"IF(AA106=\"\",\"\",VLOOKUP(AA106,'（ユニット型）シフト記号表'!$C$5:$Y$46,23,FALSE))","v":""},{"$f":"IF(AB106=\"\",\"\",VLOOKUP(AB106,'（ユニット型）シフト記号表'!$C$5:$Y$46,23,FALSE))","v":""},{"$f":"IF(AC106=\"\",\"\",VLOOKUP(AC106,'（ユニット型）シフト記号表'!$C$5:$Y$46,23,FALSE))","v":""},{"$f":"IF(AD106=\"\",\"\",VLOOKUP(AD106,'（ユニット型）シフト記号表'!$C$5:$Y$46,23,FALSE))","v":""},{"$f":"IF(AE106=\"\",\"\",VLOOKUP(AE106,'（ユニット型）シフト記号表'!$C$5:$Y$46,23,FALSE))","v":""},{"$f":"IF(AF106=\"\",\"\",VLOOKUP(AF106,'（ユニット型）シフト記号表'!$C$5:$Y$46,23,FALSE))","v":""},{"$f":"IF(AG106=\"\",\"\",VLOOKUP(AG106,'（ユニット型）シフト記号表'!$C$5:$Y$46,23,FALSE))","v":""},{"$f":"IF(AH106=\"\",\"\",VLOOKUP(AH106,'（ユニット型）シフト記号表'!$C$5:$Y$46,23,FALSE))","v":""},{"$f":"IF(AI106=\"\",\"\",VLOOKUP(AI106,'（ユニット型）シフト記号表'!$C$5:$Y$46,23,FALSE))","v":""},{"$f":"IF(AJ106=\"\",\"\",VLOOKUP(AJ106,'（ユニット型）シフト記号表'!$C$5:$Y$46,23,FALSE))","v":""},{"$f":"IF(AK106=\"\",\"\",VLOOKUP(AK106,'（ユニット型）シフト記号表'!$C$5:$Y$46,23,FALSE))","v":""},{"$f":"IF(AL106=\"\",\"\",VLOOKUP(AL106,'（ユニット型）シフト記号表'!$C$5:$Y$46,23,FALSE))","v":""},{"$f":"IF(AM106=\"\",\"\",VLOOKUP(AM106,'（ユニット型）シフト記号表'!$C$5:$Y$46,23,FALSE))","v":""},{"$f":"IF(AN106=\"\",\"\",VLOOKUP(AN106,'（ユニット型）シフト記号表'!$C$5:$Y$46,23,FALSE))","v":""},{"$f":"IF(AO106=\"\",\"\",VLOOKUP(AO106,'（ユニット型）シフト記号表'!$C$5:$Y$46,23,FALSE))","v":""},{"$f":"IF(AP106=\"\",\"\",VLOOKUP(AP106,'（ユニット型）シフト記号表'!$C$5:$Y$46,23,FALSE))","v":""},{"$f":"IF(AQ106=\"\",\"\",VLOOKUP(AQ106,'（ユニット型）シフト記号表'!$C$5:$Y$46,23,FALSE))","v":""},{"$f":"IF(AR106=\"\",\"\",VLOOKUP(AR106,'（ユニット型）シフト記号表'!$C$5:$Y$46,23,FALSE))","v":""},{"$f":"IF(AS106=\"\",\"\",VLOOKUP(AS106,'（ユニット型）シフト記号表'!$C$5:$Y$46,23,FALSE))","v":""},{"$f":"IF(AT106=\"\",\"\",VLOOKUP(AT106,'（ユニット型）シフト記号表'!$C$5:$Y$46,23,FALSE))","v":""},{"$f":"IF(AU106=\"\",\"\",VLOOKUP(AU106,'（ユニット型）シフト記号表'!$C$5:$Y$46,23,FALSE))","v":""},{"$f":"IF(AV106=\"\",\"\",VLOOKUP(AV106,'（ユニット型）シフト記号表'!$C$5:$Y$46,23,FALSE))","v":""},{"$f":"IF(AW106=\"\",\"\",VLOOKUP(AW106,'（ユニット型）シフト記号表'!$C$5:$Y$46,23,FALSE))","v":""},{"$f":"IF(AX106=\"\",\"\",VLOOKUP(AX106,'（ユニット型）シフト記号表'!$C$5:$Y$46,23,FALSE))","v":""},{"$f":"IF(AY106=\"\",\"\",VLOOKUP(AY106,'（ユニット型）シフト記号表'!$C$5:$Y$46,23,FALSE))","v":""},{"$f":"IF(AZ106=\"\",\"\",VLOOKUP(AZ106,'（ユニット型）シフト記号表'!$C$5:$Y$46,23,FALSE))","v":""},{"$f":"IF(BA106=\"\",\"\",VLOOKUP(BA106,'（ユニット型）シフト記号表'!$C$5:$Y$46,23,FALSE))","v":""},{"$f":"IF(BB106=\"\",\"\",VLOOKUP(BB106,'（ユニット型）シフト記号表'!$C$5:$Y$46,23,FALSE))","v":""},{"$f":"IF(BC106=\"\",\"\",VLOOKUP(BC106,'（ユニット型）シフト記号表'!$C$5:$Y$46,23,FALSE))","v":""},{"$f":"IF(BD106=\"\",\"\",VLOOKUP(BD106,'（ユニット型）シフト記号表'!$C$5:$Y$46,23,FALSE))","v":""},{"$f":"IF(BE106=\"\",\"\",VLOOKUP(BE106,'（ユニット型）シフト記号表'!$C$5:$Y$46,23,FALSE))","v":""},{"$f":"IF($BI$3=\"計画\",SUM(AA108:BB108),IF($BI$3=\"実績\",SUM(AA108:BE108),\"\"))","v":0},null,{"$f":"IF($BI$3=\"計画\",BF108/4,IF($BI$3=\"実績\",(BF108/($BI$7/7)),\"\"))","v":0}]
[null,null,null,null,null,null,null,null,null,null,null,null,null,null,null,null,null,null,null,null,null,"シフト記号"]
[null,{"$f":"B107+1","v":31},null,null,null,null,null,null,null,null,null,null,null,null,null,null,null,null,null,null,null,"日中の勤務時間数",null,null,null,null,{"$f":"IF(AA109=\"\",\"\",VLOOKUP(AA109,'（ユニット型）シフト記号表'!$C$5:$W$46,21,FALSE))","v":""},{"$f":"IF(AB109=\"\",\"\",VLOOKUP(AB109,'（ユニット型）シフト記号表'!$C$5:$W$46,21,FALSE))","v":""},{"$f":"IF(AC109=\"\",\"\",VLOOKUP(AC109,'（ユニット型）シフト記号表'!$C$5:$W$46,21,FALSE))","v":""},{"$f":"IF(AD109=\"\",\"\",VLOOKUP(AD109,'（ユニット型）シフト記号表'!$C$5:$W$46,21,FALSE))","v":""},{"$f":"IF(AE109=\"\",\"\",VLOOKUP(AE109,'（ユニット型）シフト記号表'!$C$5:$W$46,21,FALSE))","v":""},{"$f":"IF(AF109=\"\",\"\",VLOOKUP(AF109,'（ユニット型）シフト記号表'!$C$5:$W$46,21,FALSE))","v":""},{"$f":"IF(AG109=\"\",\"\",VLOOKUP(AG109,'（ユニット型）シフト記号表'!$C$5:$W$46,21,FALSE))","v":""},{"$f":"IF(AH109=\"\",\"\",VLOOKUP(AH109,'（ユニット型）シフト記号表'!$C$5:$W$46,21,FALSE))","v":""},{"$f":"IF(AI109=\"\",\"\",VLOOKUP(AI109,'（ユニット型）シフト記号表'!$C$5:$W$46,21,FALSE))","v":""},{"$f":"IF(AJ109=\"\",\"\",VLOOKUP(AJ109,'（ユニット型）シフト記号表'!$C$5:$W$46,21,FALSE))","v":""},{"$f":"IF(AK109=\"\",\"\",VLOOKUP(AK109,'（ユニット型）シフト記号表'!$C$5:$W$46,21,FALSE))","v":""},{"$f":"IF(AL109=\"\",\"\",VLOOKUP(AL109,'（ユニット型）シフト記号表'!$C$5:$W$46,21,FALSE))","v":""},{"$f":"IF(AM109=\"\",\"\",VLOOKUP(AM109,'（ユニット型）シフト記号表'!$C$5:$W$46,21,FALSE))","v":""},{"$f":"IF(AN109=\"\",\"\",VLOOKUP(AN109,'（ユニット型）シフト記号表'!$C$5:$W$46,21,FALSE))","v":""},{"$f":"IF(AO109=\"\",\"\",VLOOKUP(AO109,'（ユニット型）シフト記号表'!$C$5:$W$46,21,FALSE))","v":""},{"$f":"IF(AP109=\"\",\"\",VLOOKUP(AP109,'（ユニット型）シフト記号表'!$C$5:$W$46,21,FALSE))","v":""},{"$f":"IF(AQ109=\"\",\"\",VLOOKUP(AQ109,'（ユニット型）シフト記号表'!$C$5:$W$46,21,FALSE))","v":""},{"$f":"IF(AR109=\"\",\"\",VLOOKUP(AR109,'（ユニット型）シフト記号表'!$C$5:$W$46,21,FALSE))","v":""},{"$f":"IF(AS109=\"\",\"\",VLOOKUP(AS109,'（ユニット型）シフト記号表'!$C$5:$W$46,21,FALSE))","v":""},{"$f":"IF(AT109=\"\",\"\",VLOOKUP(AT109,'（ユニット型）シフト記号表'!$C$5:$W$46,21,FALSE))","v":""},{"$f":"IF(AU109=\"\",\"\",VLOOKUP(AU109,'（ユニット型）シフト記号表'!$C$5:$W$46,21,FALSE))","v":""},{"$f":"IF(AV109=\"\",\"\",VLOOKUP(AV109,'（ユニット型）シフト記号表'!$C$5:$W$46,21,FALSE))","v":""},{"$f":"IF(AW109=\"\",\"\",VLOOKUP(AW109,'（ユニット型）シフト記号表'!$C$5:$W$46,21,FALSE))","v":""},{"$f":"IF(AX109=\"\",\"\",VLOOKUP(AX109,'（ユニット型）シフト記号表'!$C$5:$W$46,21,FALSE))","v":""},{"$f":"IF(AY109=\"\",\"\",VLOOKUP(AY109,'（ユニット型）シフト記号表'!$C$5:$W$46,21,FALSE))","v":""},{"$f":"IF(AZ109=\"\",\"\",VLOOKUP(AZ109,'（ユニット型）シフト記号表'!$C$5:$W$46,21,FALSE))","v":""},{"$f":"IF(BA109=\"\",\"\",VLOOKUP(BA109,'（ユニット型）シフト記号表'!$C$5:$W$46,21,FALSE))","v":""},{"$f":"IF(BB109=\"\",\"\",VLOOKUP(BB109,'（ユニット型）シフト記号表'!$C$5:$W$46,21,FALSE))","v":""},{"$f":"IF(BC109=\"\",\"\",VLOOKUP(BC109,'（ユニット型）シフト記号表'!$C$5:$W$46,21,FALSE))","v":""},{"$f":"IF(BD109=\"\",\"\",VLOOKUP(BD109,'（ユニット型）シフト記号表'!$C$5:$W$46,21,FALSE))","v":""},{"$f":"IF(BE109=\"\",\"\",VLOOKUP(BE109,'（ユニット型）シフト記号表'!$C$5:$W$46,21,FALSE))","v":""},{"$f":"IF($BI$3=\"計画\",SUM(AA110:BB110),IF($BI$3=\"実績\",SUM(AA110:BE110),\"\"))","v":0},null,{"$f":"IF($BI$3=\"計画\",BF110/4,IF($BI$3=\"実績\",(BF110/($BI$7/7)),\"\"))","v":0}]
[null,null,null,null,null,null,null,null,{"$f":"G110","v":0},null,{"$f":"M110","v":0},null,null,null,null,null,null,null,null,null,null,"夜勤時間帯の勤務時間数",null,null,null,null,{"$f":"IF(AA109=\"\",\"\",VLOOKUP(AA109,'（ユニット型）シフト記号表'!$C$5:$Y$46,23,FALSE))","v":""},{"$f":"IF(AB109=\"\",\"\",VLOOKUP(AB109,'（ユニット型）シフト記号表'!$C$5:$Y$46,23,FALSE))","v":""},{"$f":"IF(AC109=\"\",\"\",VLOOKUP(AC109,'（ユニット型）シフト記号表'!$C$5:$Y$46,23,FALSE))","v":""},{"$f":"IF(AD109=\"\",\"\",VLOOKUP(AD109,'（ユニット型）シフト記号表'!$C$5:$Y$46,23,FALSE))","v":""},{"$f":"IF(AE109=\"\",\"\",VLOOKUP(AE109,'（ユニット型）シフト記号表'!$C$5:$Y$46,23,FALSE))","v":""},{"$f":"IF(AF109=\"\",\"\",VLOOKUP(AF109,'（ユニット型）シフト記号表'!$C$5:$Y$46,23,FALSE))","v":""},{"$f":"IF(AG109=\"\",\"\",VLOOKUP(AG109,'（ユニット型）シフト記号表'!$C$5:$Y$46,23,FALSE))","v":""},{"$f":"IF(AH109=\"\",\"\",VLOOKUP(AH109,'（ユニット型）シフト記号表'!$C$5:$Y$46,23,FALSE))","v":""},{"$f":"IF(AI109=\"\",\"\",VLOOKUP(AI109,'（ユニット型）シフト記号表'!$C$5:$Y$46,23,FALSE))","v":""},{"$f":"IF(AJ109=\"\",\"\",VLOOKUP(AJ109,'（ユニット型）シフト記号表'!$C$5:$Y$46,23,FALSE))","v":""},{"$f":"IF(AK109=\"\",\"\",VLOOKUP(AK109,'（ユニット型）シフト記号表'!$C$5:$Y$46,23,FALSE))","v":""},{"$f":"IF(AL109=\"\",\"\",VLOOKUP(AL109,'（ユニット型）シフト記号表'!$C$5:$Y$46,23,FALSE))","v":""},{"$f":"IF(AM109=\"\",\"\",VLOOKUP(AM109,'（ユニット型）シフト記号表'!$C$5:$Y$46,23,FALSE))","v":""},{"$f":"IF(AN109=\"\",\"\",VLOOKUP(AN109,'（ユニット型）シフト記号表'!$C$5:$Y$46,23,FALSE))","v":""},{"$f":"IF(AO109=\"\",\"\",VLOOKUP(AO109,'（ユニット型）シフト記号表'!$C$5:$Y$46,23,FALSE))","v":""},{"$f":"IF(AP109=\"\",\"\",VLOOKUP(AP109,'（ユニット型）シフト記号表'!$C$5:$Y$46,23,FALSE))","v":""},{"$f":"IF(AQ109=\"\",\"\",VLOOKUP(AQ109,'（ユニット型）シフト記号表'!$C$5:$Y$46,23,FALSE))","v":""},{"$f":"IF(AR109=\"\",\"\",VLOOKUP(AR109,'（ユニット型）シフト記号表'!$C$5:$Y$46,23,FALSE))","v":""},{"$f":"IF(AS109=\"\",\"\",VLOOKUP(AS109,'（ユニット型）シフト記号表'!$C$5:$Y$46,23,FALSE))","v":""},{"$f":"IF(AT109=\"\",\"\",VLOOKUP(AT109,'（ユニット型）シフト記号表'!$C$5:$Y$46,23,FALSE))","v":""},{"$f":"IF(AU109=\"\",\"\",VLOOKUP(AU109,'（ユニット型）シフト記号表'!$C$5:$Y$46,23,FALSE))","v":""},{"$f":"IF(AV109=\"\",\"\",VLOOKUP(AV109,'（ユニット型）シフト記号表'!$C$5:$Y$46,23,FALSE))","v":""},{"$f":"IF(AW109=\"\",\"\",VLOOKUP(AW109,'（ユニット型）シフト記号表'!$C$5:$Y$46,23,FALSE))","v":""},{"$f":"IF(AX109=\"\",\"\",VLOOKUP(AX109,'（ユニット型）シフト記号表'!$C$5:$Y$46,23,FALSE))","v":""},{"$f":"IF(AY109=\"\",\"\",VLOOKUP(AY109,'（ユニット型）シフト記号表'!$C$5:$Y$46,23,FALSE))","v":""},{"$f":"IF(AZ109=\"\",\"\",VLOOKUP(AZ109,'（ユニット型）シフト記号表'!$C$5:$Y$46,23,FALSE))","v":""},{"$f":"IF(BA109=\"\",\"\",VLOOKUP(BA109,'（ユニット型）シフト記号表'!$C$5:$Y$46,23,FALSE))","v":""},{"$f":"IF(BB109=\"\",\"\",VLOOKUP(BB109,'（ユニット型）シフト記号表'!$C$5:$Y$46,23,FALSE))","v":""},{"$f":"IF(BC109=\"\",\"\",VLOOKUP(BC109,'（ユニット型）シフト記号表'!$C$5:$Y$46,23,FALSE))","v":""},{"$f":"IF(BD109=\"\",\"\",VLOOKUP(BD109,'（ユニット型）シフト記号表'!$C$5:$Y$46,23,FALSE))","v":""},{"$f":"IF(BE109=\"\",\"\",VLOOKUP(BE109,'（ユニット型）シフト記号表'!$C$5:$Y$46,23,FALSE))","v":""},{"$f":"IF($BI$3=\"計画\",SUM(AA111:BB111),IF($BI$3=\"実績\",SUM(AA111:BE111),\"\"))","v":0},null,{"$f":"IF($BI$3=\"計画\",BF111/4,IF($BI$3=\"実績\",(BF111/($BI$7/7)),\"\"))","v":0}]
[null,null,null,null,null,null,null,null,null,null,null,null,null,null,null,null,null,null,null,null,null,"シフト記号"]
[null,{"$f":"B110+1","v":32},null,null,null,null,null,null,null,null,null,null,null,null,null,null,null,null,null,null,null,"日中の勤務時間数",null,null,null,null,{"$f":"IF(AA112=\"\",\"\",VLOOKUP(AA112,'（ユニット型）シフト記号表'!$C$5:$W$46,21,FALSE))","v":""},{"$f":"IF(AB112=\"\",\"\",VLOOKUP(AB112,'（ユニット型）シフト記号表'!$C$5:$W$46,21,FALSE))","v":""},{"$f":"IF(AC112=\"\",\"\",VLOOKUP(AC112,'（ユニット型）シフト記号表'!$C$5:$W$46,21,FALSE))","v":""},{"$f":"IF(AD112=\"\",\"\",VLOOKUP(AD112,'（ユニット型）シフト記号表'!$C$5:$W$46,21,FALSE))","v":""},{"$f":"IF(AE112=\"\",\"\",VLOOKUP(AE112,'（ユニット型）シフト記号表'!$C$5:$W$46,21,FALSE))","v":""},{"$f":"IF(AF112=\"\",\"\",VLOOKUP(AF112,'（ユニット型）シフト記号表'!$C$5:$W$46,21,FALSE))","v":""},{"$f":"IF(AG112=\"\",\"\",VLOOKUP(AG112,'（ユニット型）シフト記号表'!$C$5:$W$46,21,FALSE))","v":""},{"$f":"IF(AH112=\"\",\"\",VLOOKUP(AH112,'（ユニット型）シフト記号表'!$C$5:$W$46,21,FALSE))","v":""},{"$f":"IF(AI112=\"\",\"\",VLOOKUP(AI112,'（ユニット型）シフト記号表'!$C$5:$W$46,21,FALSE))","v":""},{"$f":"IF(AJ112=\"\",\"\",VLOOKUP(AJ112,'（ユニット型）シフト記号表'!$C$5:$W$46,21,FALSE))","v":""},{"$f":"IF(AK112=\"\",\"\",VLOOKUP(AK112,'（ユニット型）シフト記号表'!$C$5:$W$46,21,FALSE))","v":""},{"$f":"IF(AL112=\"\",\"\",VLOOKUP(AL112,'（ユニット型）シフト記号表'!$C$5:$W$46,21,FALSE))","v":""},{"$f":"IF(AM112=\"\",\"\",VLOOKUP(AM112,'（ユニット型）シフト記号表'!$C$5:$W$46,21,FALSE))","v":""},{"$f":"IF(AN112=\"\",\"\",VLOOKUP(AN112,'（ユニット型）シフト記号表'!$C$5:$W$46,21,FALSE))","v":""},{"$f":"IF(AO112=\"\",\"\",VLOOKUP(AO112,'（ユニット型）シフト記号表'!$C$5:$W$46,21,FALSE))","v":""},{"$f":"IF(AP112=\"\",\"\",VLOOKUP(AP112,'（ユニット型）シフト記号表'!$C$5:$W$46,21,FALSE))","v":""},{"$f":"IF(AQ112=\"\",\"\",VLOOKUP(AQ112,'（ユニット型）シフト記号表'!$C$5:$W$46,21,FALSE))","v":""},{"$f":"IF(AR112=\"\",\"\",VLOOKUP(AR112,'（ユニット型）シフト記号表'!$C$5:$W$46,21,FALSE))","v":""},{"$f":"IF(AS112=\"\",\"\",VLOOKUP(AS112,'（ユニット型）シフト記号表'!$C$5:$W$46,21,FALSE))","v":""},{"$f":"IF(AT112=\"\",\"\",VLOOKUP(AT112,'（ユニット型）シフト記号表'!$C$5:$W$46,21,FALSE))","v":""},{"$f":"IF(AU112=\"\",\"\",VLOOKUP(AU112,'（ユニット型）シフト記号表'!$C$5:$W$46,21,FALSE))","v":""},{"$f":"IF(AV112=\"\",\"\",VLOOKUP(AV112,'（ユニット型）シフト記号表'!$C$5:$W$46,21,FALSE))","v":""},{"$f":"IF(AW112=\"\",\"\",VLOOKUP(AW112,'（ユニット型）シフト記号表'!$C$5:$W$46,21,FALSE))","v":""},{"$f":"IF(AX112=\"\",\"\",VLOOKUP(AX112,'（ユニット型）シフト記号表'!$C$5:$W$46,21,FALSE))","v":""},{"$f":"IF(AY112=\"\",\"\",VLOOKUP(AY112,'（ユニット型）シフト記号表'!$C$5:$W$46,21,FALSE))","v":""},{"$f":"IF(AZ112=\"\",\"\",VLOOKUP(AZ112,'（ユニット型）シフト記号表'!$C$5:$W$46,21,FALSE))","v":""},{"$f":"IF(BA112=\"\",\"\",VLOOKUP(BA112,'（ユニット型）シフト記号表'!$C$5:$W$46,21,FALSE))","v":""},{"$f":"IF(BB112=\"\",\"\",VLOOKUP(BB112,'（ユニット型）シフト記号表'!$C$5:$W$46,21,FALSE))","v":""},{"$f":"IF(BC112=\"\",\"\",VLOOKUP(BC112,'（ユニット型）シフト記号表'!$C$5:$W$46,21,FALSE))","v":""},{"$f":"IF(BD112=\"\",\"\",VLOOKUP(BD112,'（ユニット型）シフト記号表'!$C$5:$W$46,21,FALSE))","v":""},{"$f":"IF(BE112=\"\",\"\",VLOOKUP(BE112,'（ユニット型）シフト記号表'!$C$5:$W$46,21,FALSE))","v":""},{"$f":"IF($BI$3=\"計画\",SUM(AA113:BB113),IF($BI$3=\"実績\",SUM(AA113:BE113),\"\"))","v":0},null,{"$f":"IF($BI$3=\"計画\",BF113/4,IF($BI$3=\"実績\",(BF113/($BI$7/7)),\"\"))","v":0}]
[null,null,null,null,null,null,null,null,{"$f":"G113","v":0},null,{"$f":"M113","v":0},null,null,null,null,null,null,null,null,null,null,"夜勤時間帯の勤務時間数",null,null,null,null,{"$f":"IF(AA112=\"\",\"\",VLOOKUP(AA112,'（ユニット型）シフト記号表'!$C$5:$Y$46,23,FALSE))","v":""},{"$f":"IF(AB112=\"\",\"\",VLOOKUP(AB112,'（ユニット型）シフト記号表'!$C$5:$Y$46,23,FALSE))","v":""},{"$f":"IF(AC112=\"\",\"\",VLOOKUP(AC112,'（ユニット型）シフト記号表'!$C$5:$Y$46,23,FALSE))","v":""},{"$f":"IF(AD112=\"\",\"\",VLOOKUP(AD112,'（ユニット型）シフト記号表'!$C$5:$Y$46,23,FALSE))","v":""},{"$f":"IF(AE112=\"\",\"\",VLOOKUP(AE112,'（ユニット型）シフト記号表'!$C$5:$Y$46,23,FALSE))","v":""},{"$f":"IF(AF112=\"\",\"\",VLOOKUP(AF112,'（ユニット型）シフト記号表'!$C$5:$Y$46,23,FALSE))","v":""},{"$f":"IF(AG112=\"\",\"\",VLOOKUP(AG112,'（ユニット型）シフト記号表'!$C$5:$Y$46,23,FALSE))","v":""},{"$f":"IF(AH112=\"\",\"\",VLOOKUP(AH112,'（ユニット型）シフト記号表'!$C$5:$Y$46,23,FALSE))","v":""},{"$f":"IF(AI112=\"\",\"\",VLOOKUP(AI112,'（ユニット型）シフト記号表'!$C$5:$Y$46,23,FALSE))","v":""},{"$f":"IF(AJ112=\"\",\"\",VLOOKUP(AJ112,'（ユニット型）シフト記号表'!$C$5:$Y$46,23,FALSE))","v":""},{"$f":"IF(AK112=\"\",\"\",VLOOKUP(AK112,'（ユニット型）シフト記号表'!$C$5:$Y$46,23,FALSE))","v":""},{"$f":"IF(AL112=\"\",\"\",VLOOKUP(AL112,'（ユニット型）シフト記号表'!$C$5:$Y$46,23,FALSE))","v":""},{"$f":"IF(AM112=\"\",\"\",VLOOKUP(AM112,'（ユニット型）シフト記号表'!$C$5:$Y$46,23,FALSE))","v":""},{"$f":"IF(AN112=\"\",\"\",VLOOKUP(AN112,'（ユニット型）シフト記号表'!$C$5:$Y$46,23,FALSE))","v":""},{"$f":"IF(AO112=\"\",\"\",VLOOKUP(AO112,'（ユニット型）シフト記号表'!$C$5:$Y$46,23,FALSE))","v":""},{"$f":"IF(AP112=\"\",\"\",VLOOKUP(AP112,'（ユニット型）シフト記号表'!$C$5:$Y$46,23,FALSE))","v":""},{"$f":"IF(AQ112=\"\",\"\",VLOOKUP(AQ112,'（ユニット型）シフト記号表'!$C$5:$Y$46,23,FALSE))","v":""},{"$f":"IF(AR112=\"\",\"\",VLOOKUP(AR112,'（ユニット型）シフト記号表'!$C$5:$Y$46,23,FALSE))","v":""},{"$f":"IF(AS112=\"\",\"\",VLOOKUP(AS112,'（ユニット型）シフト記号表'!$C$5:$Y$46,23,FALSE))","v":""},{"$f":"IF(AT112=\"\",\"\",VLOOKUP(AT112,'（ユニット型）シフト記号表'!$C$5:$Y$46,23,FALSE))","v":""},{"$f":"IF(AU112=\"\",\"\",VLOOKUP(AU112,'（ユニット型）シフト記号表'!$C$5:$Y$46,23,FALSE))","v":""},{"$f":"IF(AV112=\"\",\"\",VLOOKUP(AV112,'（ユニット型）シフト記号表'!$C$5:$Y$46,23,FALSE))","v":""},{"$f":"IF(AW112=\"\",\"\",VLOOKUP(AW112,'（ユニット型）シフト記号表'!$C$5:$Y$46,23,FALSE))","v":""},{"$f":"IF(AX112=\"\",\"\",VLOOKUP(AX112,'（ユニット型）シフト記号表'!$C$5:$Y$46,23,FALSE))","v":""},{"$f":"IF(AY112=\"\",\"\",VLOOKUP(AY112,'（ユニット型）シフト記号表'!$C$5:$Y$46,23,FALSE))","v":""},{"$f":"IF(AZ112=\"\",\"\",VLOOKUP(AZ112,'（ユニット型）シフト記号表'!$C$5:$Y$46,23,FALSE))","v":""},{"$f":"IF(BA112=\"\",\"\",VLOOKUP(BA112,'（ユニット型）シフト記号表'!$C$5:$Y$46,23,FALSE))","v":""},{"$f":"IF(BB112=\"\",\"\",VLOOKUP(BB112,'（ユニット型）シフト記号表'!$C$5:$Y$46,23,FALSE))","v":""},{"$f":"IF(BC112=\"\",\"\",VLOOKUP(BC112,'（ユニット型）シフト記号表'!$C$5:$Y$46,23,FALSE))","v":""},{"$f":"IF(BD112=\"\",\"\",VLOOKUP(BD112,'（ユニット型）シフト記号表'!$C$5:$Y$46,23,FALSE))","v":""},{"$f":"IF(BE112=\"\",\"\",VLOOKUP(BE112,'（ユニット型）シフト記号表'!$C$5:$Y$46,23,FALSE))","v":""},{"$f":"IF($BI$3=\"計画\",SUM(AA114:BB114),IF($BI$3=\"実績\",SUM(AA114:BE114),\"\"))","v":0},null,{"$f":"IF($BI$3=\"計画\",BF114/4,IF($BI$3=\"実績\",(BF114/($BI$7/7)),\"\"))","v":0}]
[null,null,null,null,null,null,null,null,null,null,null,null,null,null,null,null,null,null,null,null,null,"シフト記号"]
[null,{"$f":"B113+1","v":33},null,null,null,null,null,null,null,null,null,null,null,null,null,null,null,null,null,null,null,"日中の勤務時間数",null,null,null,null,{"$f":"IF(AA115=\"\",\"\",VLOOKUP(AA115,'（ユニット型）シフト記号表'!$C$5:$W$46,21,FALSE))","v":""},{"$f":"IF(AB115=\"\",\"\",VLOOKUP(AB115,'（ユニット型）シフト記号表'!$C$5:$W$46,21,FALSE))","v":""},{"$f":"IF(AC115=\"\",\"\",VLOOKUP(AC115,'（ユニット型）シフト記号表'!$C$5:$W$46,21,FALSE))","v":""},{"$f":"IF(AD115=\"\",\"\",VLOOKUP(AD115,'（ユニット型）シフト記号表'!$C$5:$W$46,21,FALSE))","v":""},{"$f":"IF(AE115=\"\",\"\",VLOOKUP(AE115,'（ユニット型）シフト記号表'!$C$5:$W$46,21,FALSE))","v":""},{"$f":"IF(AF115=\"\",\"\",VLOOKUP(AF115,'（ユニット型）シフト記号表'!$C$5:$W$46,21,FALSE))","v":""},{"$f":"IF(AG115=\"\",\"\",VLOOKUP(AG115,'（ユニット型）シフト記号表'!$C$5:$W$46,21,FALSE))","v":""},{"$f":"IF(AH115=\"\",\"\",VLOOKUP(AH115,'（ユニット型）シフト記号表'!$C$5:$W$46,21,FALSE))","v":""},{"$f":"IF(AI115=\"\",\"\",VLOOKUP(AI115,'（ユニット型）シフト記号表'!$C$5:$W$46,21,FALSE))","v":""},{"$f":"IF(AJ115=\"\",\"\",VLOOKUP(AJ115,'（ユニット型）シフト記号表'!$C$5:$W$46,21,FALSE))","v":""},{"$f":"IF(AK115=\"\",\"\",VLOOKUP(AK115,'（ユニット型）シフト記号表'!$C$5:$W$46,21,FALSE))","v":""},{"$f":"IF(AL115=\"\",\"\",VLOOKUP(AL115,'（ユニット型）シフト記号表'!$C$5:$W$46,21,FALSE))","v":""},{"$f":"IF(AM115=\"\",\"\",VLOOKUP(AM115,'（ユニット型）シフト記号表'!$C$5:$W$46,21,FALSE))","v":""},{"$f":"IF(AN115=\"\",\"\",VLOOKUP(AN115,'（ユニット型）シフト記号表'!$C$5:$W$46,21,FALSE))","v":""},{"$f":"IF(AO115=\"\",\"\",VLOOKUP(AO115,'（ユニット型）シフト記号表'!$C$5:$W$46,21,FALSE))","v":""},{"$f":"IF(AP115=\"\",\"\",VLOOKUP(AP115,'（ユニット型）シフト記号表'!$C$5:$W$46,21,FALSE))","v":""},{"$f":"IF(AQ115=\"\",\"\",VLOOKUP(AQ115,'（ユニット型）シフト記号表'!$C$5:$W$46,21,FALSE))","v":""},{"$f":"IF(AR115=\"\",\"\",VLOOKUP(AR115,'（ユニット型）シフト記号表'!$C$5:$W$46,21,FALSE))","v":""},{"$f":"IF(AS115=\"\",\"\",VLOOKUP(AS115,'（ユニット型）シフト記号表'!$C$5:$W$46,21,FALSE))","v":""},{"$f":"IF(AT115=\"\",\"\",VLOOKUP(AT115,'（ユニット型）シフト記号表'!$C$5:$W$46,21,FALSE))","v":""},{"$f":"IF(AU115=\"\",\"\",VLOOKUP(AU115,'（ユニット型）シフト記号表'!$C$5:$W$46,21,FALSE))","v":""},{"$f":"IF(AV115=\"\",\"\",VLOOKUP(AV115,'（ユニット型）シフト記号表'!$C$5:$W$46,21,FALSE))","v":""},{"$f":"IF(AW115=\"\",\"\",VLOOKUP(AW115,'（ユニット型）シフト記号表'!$C$5:$W$46,21,FALSE))","v":""},{"$f":"IF(AX115=\"\",\"\",VLOOKUP(AX115,'（ユニット型）シフト記号表'!$C$5:$W$46,21,FALSE))","v":""},{"$f":"IF(AY115=\"\",\"\",VLOOKUP(AY115,'（ユニット型）シフト記号表'!$C$5:$W$46,21,FALSE))","v":""},{"$f":"IF(AZ115=\"\",\"\",VLOOKUP(AZ115,'（ユニット型）シフト記号表'!$C$5:$W$46,21,FALSE))","v":""},{"$f":"IF(BA115=\"\",\"\",VLOOKUP(BA115,'（ユニット型）シフト記号表'!$C$5:$W$46,21,FALSE))","v":""},{"$f":"IF(BB115=\"\",\"\",VLOOKUP(BB115,'（ユニット型）シフト記号表'!$C$5:$W$46,21,FALSE))","v":""},{"$f":"IF(BC115=\"\",\"\",VLOOKUP(BC115,'（ユニット型）シフト記号表'!$C$5:$W$46,21,FALSE))","v":""},{"$f":"IF(BD115=\"\",\"\",VLOOKUP(BD115,'（ユニット型）シフト記号表'!$C$5:$W$46,21,FALSE))","v":""},{"$f":"IF(BE115=\"\",\"\",VLOOKUP(BE115,'（ユニット型）シフト記号表'!$C$5:$W$46,21,FALSE))","v":""},{"$f":"IF($BI$3=\"計画\",SUM(AA116:BB116),IF($BI$3=\"実績\",SUM(AA116:BE116),\"\"))","v":0},null,{"$f":"IF($BI$3=\"計画\",BF116/4,IF($BI$3=\"実績\",(BF116/($BI$7/7)),\"\"))","v":0}]
[null,null,null,null,null,null,null,null,{"$f":"G116","v":0},null,{"$f":"M116","v":0},null,null,null,null,null,null,null,null,null,null,"夜勤時間帯の勤務時間数",null,null,null,null,{"$f":"IF(AA115=\"\",\"\",VLOOKUP(AA115,'（ユニット型）シフト記号表'!$C$5:$Y$46,23,FALSE))","v":""},{"$f":"IF(AB115=\"\",\"\",VLOOKUP(AB115,'（ユニット型）シフト記号表'!$C$5:$Y$46,23,FALSE))","v":""},{"$f":"IF(AC115=\"\",\"\",VLOOKUP(AC115,'（ユニット型）シフト記号表'!$C$5:$Y$46,23,FALSE))","v":""},{"$f":"IF(AD115=\"\",\"\",VLOOKUP(AD115,'（ユニット型）シフト記号表'!$C$5:$Y$46,23,FALSE))","v":""},{"$f":"IF(AE115=\"\",\"\",VLOOKUP(AE115,'（ユニット型）シフト記号表'!$C$5:$Y$46,23,FALSE))","v":""},{"$f":"IF(AF115=\"\",\"\",VLOOKUP(AF115,'（ユニット型）シフト記号表'!$C$5:$Y$46,23,FALSE))","v":""},{"$f":"IF(AG115=\"\",\"\",VLOOKUP(AG115,'（ユニット型）シフト記号表'!$C$5:$Y$46,23,FALSE))","v":""},{"$f":"IF(AH115=\"\",\"\",VLOOKUP(AH115,'（ユニット型）シフト記号表'!$C$5:$Y$46,23,FALSE))","v":""},{"$f":"IF(AI115=\"\",\"\",VLOOKUP(AI115,'（ユニット型）シフト記号表'!$C$5:$Y$46,23,FALSE))","v":""},{"$f":"IF(AJ115=\"\",\"\",VLOOKUP(AJ115,'（ユニット型）シフト記号表'!$C$5:$Y$46,23,FALSE))","v":""},{"$f":"IF(AK115=\"\",\"\",VLOOKUP(AK115,'（ユニット型）シフト記号表'!$C$5:$Y$46,23,FALSE))","v":""},{"$f":"IF(AL115=\"\",\"\",VLOOKUP(AL115,'（ユニット型）シフト記号表'!$C$5:$Y$46,23,FALSE))","v":""},{"$f":"IF(AM115=\"\",\"\",VLOOKUP(AM115,'（ユニット型）シフト記号表'!$C$5:$Y$46,23,FALSE))","v":""},{"$f":"IF(AN115=\"\",\"\",VLOOKUP(AN115,'（ユニット型）シフト記号表'!$C$5:$Y$46,23,FALSE))","v":""},{"$f":"IF(AO115=\"\",\"\",VLOOKUP(AO115,'（ユニット型）シフト記号表'!$C$5:$Y$46,23,FALSE))","v":""},{"$f":"IF(AP115=\"\",\"\",VLOOKUP(AP115,'（ユニット型）シフト記号表'!$C$5:$Y$46,23,FALSE))","v":""},{"$f":"IF(AQ115=\"\",\"\",VLOOKUP(AQ115,'（ユニット型）シフト記号表'!$C$5:$Y$46,23,FALSE))","v":""},{"$f":"IF(AR115=\"\",\"\",VLOOKUP(AR115,'（ユニット型）シフト記号表'!$C$5:$Y$46,23,FALSE))","v":""},{"$f":"IF(AS115=\"\",\"\",VLOOKUP(AS115,'（ユニット型）シフト記号表'!$C$5:$Y$46,23,FALSE))","v":""},{"$f":"IF(AT115=\"\",\"\",VLOOKUP(AT115,'（ユニット型）シフト記号表'!$C$5:$Y$46,23,FALSE))","v":""},{"$f":"IF(AU115=\"\",\"\",VLOOKUP(AU115,'（ユニット型）シフト記号表'!$C$5:$Y$46,23,FALSE))","v":""},{"$f":"IF(AV115=\"\",\"\",VLOOKUP(AV115,'（ユニット型）シフト記号表'!$C$5:$Y$46,23,FALSE))","v":""},{"$f":"IF(AW115=\"\",\"\",VLOOKUP(AW115,'（ユニット型）シフト記号表'!$C$5:$Y$46,23,FALSE))","v":""},{"$f":"IF(AX115=\"\",\"\",VLOOKUP(AX115,'（ユニット型）シフト記号表'!$C$5:$Y$46,23,FALSE))","v":""},{"$f":"IF(AY115=\"\",\"\",VLOOKUP(AY115,'（ユニット型）シフト記号表'!$C$5:$Y$46,23,FALSE))","v":""},{"$f":"IF(AZ115=\"\",\"\",VLOOKUP(AZ115,'（ユニット型）シフト記号表'!$C$5:$Y$46,23,FALSE))","v":""},{"$f":"IF(BA115=\"\",\"\",VLOOKUP(BA115,'（ユニット型）シフト記号表'!$C$5:$Y$46,23,FALSE))","v":""},{"$f":"IF(BB115=\"\",\"\",VLOOKUP(BB115,'（ユニット型）シフト記号表'!$C$5:$Y$46,23,FALSE))","v":""},{"$f":"IF(BC115=\"\",\"\",VLOOKUP(BC115,'（ユニット型）シフト記号表'!$C$5:$Y$46,23,FALSE))","v":""},{"$f":"IF(BD115=\"\",\"\",VLOOKUP(BD115,'（ユニット型）シフト記号表'!$C$5:$Y$46,23,FALSE))","v":""},{"$f":"IF(BE115=\"\",\"\",VLOOKUP(BE115,'（ユニット型）シフト記号表'!$C$5:$Y$46,23,FALSE))","v":""},{"$f":"IF($BI$3=\"計画\",SUM(AA117:BB117),IF($BI$3=\"実績\",SUM(AA117:BE117),\"\"))","v":0},null,{"$f":"IF($BI$3=\"計画\",BF117/4,IF($BI$3=\"実績\",(BF117/($BI$7/7)),\"\"))","v":0}]
[null,null,null,null,null,null,null,null,null,null,null,null,null,null,null,null,null,null,null,null,null,"シフト記号"]
[null,{"$f":"B116+1","v":34},null,null,null,null,null,null,null,null,null,null,null,null,null,null,null,null,null,null,null,"日中の勤務時間数",null,null,null,null,{"$f":"IF(AA118=\"\",\"\",VLOOKUP(AA118,'（ユニット型）シフト記号表'!$C$5:$W$46,21,FALSE))","v":""},{"$f":"IF(AB118=\"\",\"\",VLOOKUP(AB118,'（ユニット型）シフト記号表'!$C$5:$W$46,21,FALSE))","v":""},{"$f":"IF(AC118=\"\",\"\",VLOOKUP(AC118,'（ユニット型）シフト記号表'!$C$5:$W$46,21,FALSE))","v":""},{"$f":"IF(AD118=\"\",\"\",VLOOKUP(AD118,'（ユニット型）シフト記号表'!$C$5:$W$46,21,FALSE))","v":""},{"$f":"IF(AE118=\"\",\"\",VLOOKUP(AE118,'（ユニット型）シフト記号表'!$C$5:$W$46,21,FALSE))","v":""},{"$f":"IF(AF118=\"\",\"\",VLOOKUP(AF118,'（ユニット型）シフト記号表'!$C$5:$W$46,21,FALSE))","v":""},{"$f":"IF(AG118=\"\",\"\",VLOOKUP(AG118,'（ユニット型）シフト記号表'!$C$5:$W$46,21,FALSE))","v":""},{"$f":"IF(AH118=\"\",\"\",VLOOKUP(AH118,'（ユニット型）シフト記号表'!$C$5:$W$46,21,FALSE))","v":""},{"$f":"IF(AI118=\"\",\"\",VLOOKUP(AI118,'（ユニット型）シフト記号表'!$C$5:$W$46,21,FALSE))","v":""},{"$f":"IF(AJ118=\"\",\"\",VLOOKUP(AJ118,'（ユニット型）シフト記号表'!$C$5:$W$46,21,FALSE))","v":""},{"$f":"IF(AK118=\"\",\"\",VLOOKUP(AK118,'（ユニット型）シフト記号表'!$C$5:$W$46,21,FALSE))","v":""},{"$f":"IF(AL118=\"\",\"\",VLOOKUP(AL118,'（ユニット型）シフト記号表'!$C$5:$W$46,21,FALSE))","v":""},{"$f":"IF(AM118=\"\",\"\",VLOOKUP(AM118,'（ユニット型）シフト記号表'!$C$5:$W$46,21,FALSE))","v":""},{"$f":"IF(AN118=\"\",\"\",VLOOKUP(AN118,'（ユニット型）シフト記号表'!$C$5:$W$46,21,FALSE))","v":""},{"$f":"IF(AO118=\"\",\"\",VLOOKUP(AO118,'（ユニット型）シフト記号表'!$C$5:$W$46,21,FALSE))","v":""},{"$f":"IF(AP118=\"\",\"\",VLOOKUP(AP118,'（ユニット型）シフト記号表'!$C$5:$W$46,21,FALSE))","v":""},{"$f":"IF(AQ118=\"\",\"\",VLOOKUP(AQ118,'（ユニット型）シフト記号表'!$C$5:$W$46,21,FALSE))","v":""},{"$f":"IF(AR118=\"\",\"\",VLOOKUP(AR118,'（ユニット型）シフト記号表'!$C$5:$W$46,21,FALSE))","v":""},{"$f":"IF(AS118=\"\",\"\",VLOOKUP(AS118,'（ユニット型）シフト記号表'!$C$5:$W$46,21,FALSE))","v":""},{"$f":"IF(AT118=\"\",\"\",VLOOKUP(AT118,'（ユニット型）シフト記号表'!$C$5:$W$46,21,FALSE))","v":""},{"$f":"IF(AU118=\"\",\"\",VLOOKUP(AU118,'（ユニット型）シフト記号表'!$C$5:$W$46,21,FALSE))","v":""},{"$f":"IF(AV118=\"\",\"\",VLOOKUP(AV118,'（ユニット型）シフト記号表'!$C$5:$W$46,21,FALSE))","v":""},{"$f":"IF(AW118=\"\",\"\",VLOOKUP(AW118,'（ユニット型）シフト記号表'!$C$5:$W$46,21,FALSE))","v":""},{"$f":"IF(AX118=\"\",\"\",VLOOKUP(AX118,'（ユニット型）シフト記号表'!$C$5:$W$46,21,FALSE))","v":""},{"$f":"IF(AY118=\"\",\"\",VLOOKUP(AY118,'（ユニット型）シフト記号表'!$C$5:$W$46,21,FALSE))","v":""},{"$f":"IF(AZ118=\"\",\"\",VLOOKUP(AZ118,'（ユニット型）シフト記号表'!$C$5:$W$46,21,FALSE))","v":""},{"$f":"IF(BA118=\"\",\"\",VLOOKUP(BA118,'（ユニット型）シフト記号表'!$C$5:$W$46,21,FALSE))","v":""},{"$f":"IF(BB118=\"\",\"\",VLOOKUP(BB118,'（ユニット型）シフト記号表'!$C$5:$W$46,21,FALSE))","v":""},{"$f":"IF(BC118=\"\",\"\",VLOOKUP(BC118,'（ユニット型）シフト記号表'!$C$5:$W$46,21,FALSE))","v":""},{"$f":"IF(BD118=\"\",\"\",VLOOKUP(BD118,'（ユニット型）シフト記号表'!$C$5:$W$46,21,FALSE))","v":""},{"$f":"IF(BE118=\"\",\"\",VLOOKUP(BE118,'（ユニット型）シフト記号表'!$C$5:$W$46,21,FALSE))","v":""},{"$f":"IF($BI$3=\"計画\",SUM(AA119:BB119),IF($BI$3=\"実績\",SUM(AA119:BE119),\"\"))","v":0},null,{"$f":"IF($BI$3=\"計画\",BF119/4,IF($BI$3=\"実績\",(BF119/($BI$7/7)),\"\"))","v":0}]
[null,null,null,null,null,null,null,null,{"$f":"G119","v":0},null,{"$f":"M119","v":0},null,null,null,null,null,null,null,null,null,null,"夜勤時間帯の勤務時間数",null,null,null,null,{"$f":"IF(AA118=\"\",\"\",VLOOKUP(AA118,'（ユニット型）シフト記号表'!$C$5:$Y$46,23,FALSE))","v":""},{"$f":"IF(AB118=\"\",\"\",VLOOKUP(AB118,'（ユニット型）シフト記号表'!$C$5:$Y$46,23,FALSE))","v":""},{"$f":"IF(AC118=\"\",\"\",VLOOKUP(AC118,'（ユニット型）シフト記号表'!$C$5:$Y$46,23,FALSE))","v":""},{"$f":"IF(AD118=\"\",\"\",VLOOKUP(AD118,'（ユニット型）シフト記号表'!$C$5:$Y$46,23,FALSE))","v":""},{"$f":"IF(AE118=\"\",\"\",VLOOKUP(AE118,'（ユニット型）シフト記号表'!$C$5:$Y$46,23,FALSE))","v":""},{"$f":"IF(AF118=\"\",\"\",VLOOKUP(AF118,'（ユニット型）シフト記号表'!$C$5:$Y$46,23,FALSE))","v":""},{"$f":"IF(AG118=\"\",\"\",VLOOKUP(AG118,'（ユニット型）シフト記号表'!$C$5:$Y$46,23,FALSE))","v":""},{"$f":"IF(AH118=\"\",\"\",VLOOKUP(AH118,'（ユニット型）シフト記号表'!$C$5:$Y$46,23,FALSE))","v":""},{"$f":"IF(AI118=\"\",\"\",VLOOKUP(AI118,'（ユニット型）シフト記号表'!$C$5:$Y$46,23,FALSE))","v":""},{"$f":"IF(AJ118=\"\",\"\",VLOOKUP(AJ118,'（ユニット型）シフト記号表'!$C$5:$Y$46,23,FALSE))","v":""},{"$f":"IF(AK118=\"\",\"\",VLOOKUP(AK118,'（ユニット型）シフト記号表'!$C$5:$Y$46,23,FALSE))","v":""},{"$f":"IF(AL118=\"\",\"\",VLOOKUP(AL118,'（ユニット型）シフト記号表'!$C$5:$Y$46,23,FALSE))","v":""},{"$f":"IF(AM118=\"\",\"\",VLOOKUP(AM118,'（ユニット型）シフト記号表'!$C$5:$Y$46,23,FALSE))","v":""},{"$f":"IF(AN118=\"\",\"\",VLOOKUP(AN118,'（ユニット型）シフト記号表'!$C$5:$Y$46,23,FALSE))","v":""},{"$f":"IF(AO118=\"\",\"\",VLOOKUP(AO118,'（ユニット型）シフト記号表'!$C$5:$Y$46,23,FALSE))","v":""},{"$f":"IF(AP118=\"\",\"\",VLOOKUP(AP118,'（ユニット型）シフト記号表'!$C$5:$Y$46,23,FALSE))","v":""},{"$f":"IF(AQ118=\"\",\"\",VLOOKUP(AQ118,'（ユニット型）シフト記号表'!$C$5:$Y$46,23,FALSE))","v":""},{"$f":"IF(AR118=\"\",\"\",VLOOKUP(AR118,'（ユニット型）シフト記号表'!$C$5:$Y$46,23,FALSE))","v":""},{"$f":"IF(AS118=\"\",\"\",VLOOKUP(AS118,'（ユニット型）シフト記号表'!$C$5:$Y$46,23,FALSE))","v":""},{"$f":"IF(AT118=\"\",\"\",VLOOKUP(AT118,'（ユニット型）シフト記号表'!$C$5:$Y$46,23,FALSE))","v":""},{"$f":"IF(AU118=\"\",\"\",VLOOKUP(AU118,'（ユニット型）シフト記号表'!$C$5:$Y$46,23,FALSE))","v":""},{"$f":"IF(AV118=\"\",\"\",VLOOKUP(AV118,'（ユニット型）シフト記号表'!$C$5:$Y$46,23,FALSE))","v":""},{"$f":"IF(AW118=\"\",\"\",VLOOKUP(AW118,'（ユニット型）シフト記号表'!$C$5:$Y$46,23,FALSE))","v":""},{"$f":"IF(AX118=\"\",\"\",VLOOKUP(AX118,'（ユニット型）シフト記号表'!$C$5:$Y$46,23,FALSE))","v":""},{"$f":"IF(AY118=\"\",\"\",VLOOKUP(AY118,'（ユニット型）シフト記号表'!$C$5:$Y$46,23,FALSE))","v":""},{"$f":"IF(AZ118=\"\",\"\",VLOOKUP(AZ118,'（ユニット型）シフト記号表'!$C$5:$Y$46,23,FALSE))","v":""},{"$f":"IF(BA118=\"\",\"\",VLOOKUP(BA118,'（ユニット型）シフト記号表'!$C$5:$Y$46,23,FALSE))","v":""},{"$f":"IF(BB118=\"\",\"\",VLOOKUP(BB118,'（ユニット型）シフト記号表'!$C$5:$Y$46,23,FALSE))","v":""},{"$f":"IF(BC118=\"\",\"\",VLOOKUP(BC118,'（ユニット型）シフト記号表'!$C$5:$Y$46,23,FALSE))","v":""},{"$f":"IF(BD118=\"\",\"\",VLOOKUP(BD118,'（ユニット型）シフト記号表'!$C$5:$Y$46,23,FALSE))","v":""},{"$f":"IF(BE118=\"\",\"\",VLOOKUP(BE118,'（ユニット型）シフト記号表'!$C$5:$Y$46,23,FALSE))","v":""},{"$f":"IF($BI$3=\"計画\",SUM(AA120:BB120),IF($BI$3=\"実績\",SUM(AA120:BE120),\"\"))","v":0},null,{"$f":"IF($BI$3=\"計画\",BF120/4,IF($BI$3=\"実績\",(BF120/($BI$7/7)),\"\"))","v":0}]
[null,null,null,null,null,null,null,null,null,null,null,null,null,null,null,null,null,null,null,null,null,"シフト記号"]
[null,{"$f":"B119+1","v":35},null,null,null,null,null,null,null,null,null,null,null,null,null,null,null,null,null,null,null,"日中の勤務時間数",null,null,null,null,{"$f":"IF(AA121=\"\",\"\",VLOOKUP(AA121,'（ユニット型）シフト記号表'!$C$5:$W$46,21,FALSE))","v":""},{"$f":"IF(AB121=\"\",\"\",VLOOKUP(AB121,'（ユニット型）シフト記号表'!$C$5:$W$46,21,FALSE))","v":""},{"$f":"IF(AC121=\"\",\"\",VLOOKUP(AC121,'（ユニット型）シフト記号表'!$C$5:$W$46,21,FALSE))","v":""},{"$f":"IF(AD121=\"\",\"\",VLOOKUP(AD121,'（ユニット型）シフト記号表'!$C$5:$W$46,21,FALSE))","v":""},{"$f":"IF(AE121=\"\",\"\",VLOOKUP(AE121,'（ユニット型）シフト記号表'!$C$5:$W$46,21,FALSE))","v":""},{"$f":"IF(AF121=\"\",\"\",VLOOKUP(AF121,'（ユニット型）シフト記号表'!$C$5:$W$46,21,FALSE))","v":""},{"$f":"IF(AG121=\"\",\"\",VLOOKUP(AG121,'（ユニット型）シフト記号表'!$C$5:$W$46,21,FALSE))","v":""},{"$f":"IF(AH121=\"\",\"\",VLOOKUP(AH121,'（ユニット型）シフト記号表'!$C$5:$W$46,21,FALSE))","v":""},{"$f":"IF(AI121=\"\",\"\",VLOOKUP(AI121,'（ユニット型）シフト記号表'!$C$5:$W$46,21,FALSE))","v":""},{"$f":"IF(AJ121=\"\",\"\",VLOOKUP(AJ121,'（ユニット型）シフト記号表'!$C$5:$W$46,21,FALSE))","v":""},{"$f":"IF(AK121=\"\",\"\",VLOOKUP(AK121,'（ユニット型）シフト記号表'!$C$5:$W$46,21,FALSE))","v":""},{"$f":"IF(AL121=\"\",\"\",VLOOKUP(AL121,'（ユニット型）シフト記号表'!$C$5:$W$46,21,FALSE))","v":""},{"$f":"IF(AM121=\"\",\"\",VLOOKUP(AM121,'（ユニット型）シフト記号表'!$C$5:$W$46,21,FALSE))","v":""},{"$f":"IF(AN121=\"\",\"\",VLOOKUP(AN121,'（ユニット型）シフト記号表'!$C$5:$W$46,21,FALSE))","v":""},{"$f":"IF(AO121=\"\",\"\",VLOOKUP(AO121,'（ユニット型）シフト記号表'!$C$5:$W$46,21,FALSE))","v":""},{"$f":"IF(AP121=\"\",\"\",VLOOKUP(AP121,'（ユニット型）シフト記号表'!$C$5:$W$46,21,FALSE))","v":""},{"$f":"IF(AQ121=\"\",\"\",VLOOKUP(AQ121,'（ユニット型）シフト記号表'!$C$5:$W$46,21,FALSE))","v":""},{"$f":"IF(AR121=\"\",\"\",VLOOKUP(AR121,'（ユニット型）シフト記号表'!$C$5:$W$46,21,FALSE))","v":""},{"$f":"IF(AS121=\"\",\"\",VLOOKUP(AS121,'（ユニット型）シフト記号表'!$C$5:$W$46,21,FALSE))","v":""},{"$f":"IF(AT121=\"\",\"\",VLOOKUP(AT121,'（ユニット型）シフト記号表'!$C$5:$W$46,21,FALSE))","v":""},{"$f":"IF(AU121=\"\",\"\",VLOOKUP(AU121,'（ユニット型）シフト記号表'!$C$5:$W$46,21,FALSE))","v":""},{"$f":"IF(AV121=\"\",\"\",VLOOKUP(AV121,'（ユニット型）シフト記号表'!$C$5:$W$46,21,FALSE))","v":""},{"$f":"IF(AW121=\"\",\"\",VLOOKUP(AW121,'（ユニット型）シフト記号表'!$C$5:$W$46,21,FALSE))","v":""},{"$f":"IF(AX121=\"\",\"\",VLOOKUP(AX121,'（ユニット型）シフト記号表'!$C$5:$W$46,21,FALSE))","v":""},{"$f":"IF(AY121=\"\",\"\",VLOOKUP(AY121,'（ユニット型）シフト記号表'!$C$5:$W$46,21,FALSE))","v":""},{"$f":"IF(AZ121=\"\",\"\",VLOOKUP(AZ121,'（ユニット型）シフト記号表'!$C$5:$W$46,21,FALSE))","v":""},{"$f":"IF(BA121=\"\",\"\",VLOOKUP(BA121,'（ユニット型）シフト記号表'!$C$5:$W$46,21,FALSE))","v":""},{"$f":"IF(BB121=\"\",\"\",VLOOKUP(BB121,'（ユニット型）シフト記号表'!$C$5:$W$46,21,FALSE))","v":""},{"$f":"IF(BC121=\"\",\"\",VLOOKUP(BC121,'（ユニット型）シフト記号表'!$C$5:$W$46,21,FALSE))","v":""},{"$f":"IF(BD121=\"\",\"\",VLOOKUP(BD121,'（ユニット型）シフト記号表'!$C$5:$W$46,21,FALSE))","v":""},{"$f":"IF(BE121=\"\",\"\",VLOOKUP(BE121,'（ユニット型）シフト記号表'!$C$5:$W$46,21,FALSE))","v":""},{"$f":"IF($BI$3=\"計画\",SUM(AA122:BB122),IF($BI$3=\"実績\",SUM(AA122:BE122),\"\"))","v":0},null,{"$f":"IF($BI$3=\"計画\",BF122/4,IF($BI$3=\"実績\",(BF122/($BI$7/7)),\"\"))","v":0}]
[null,null,null,null,null,null,null,null,{"$f":"G122","v":0},null,{"$f":"M122","v":0},null,null,null,null,null,null,null,null,null,null,"夜勤時間帯の勤務時間数",null,null,null,null,{"$f":"IF(AA121=\"\",\"\",VLOOKUP(AA121,'（ユニット型）シフト記号表'!$C$5:$Y$46,23,FALSE))","v":""},{"$f":"IF(AB121=\"\",\"\",VLOOKUP(AB121,'（ユニット型）シフト記号表'!$C$5:$Y$46,23,FALSE))","v":""},{"$f":"IF(AC121=\"\",\"\",VLOOKUP(AC121,'（ユニット型）シフト記号表'!$C$5:$Y$46,23,FALSE))","v":""},{"$f":"IF(AD121=\"\",\"\",VLOOKUP(AD121,'（ユニット型）シフト記号表'!$C$5:$Y$46,23,FALSE))","v":""},{"$f":"IF(AE121=\"\",\"\",VLOOKUP(AE121,'（ユニット型）シフト記号表'!$C$5:$Y$46,23,FALSE))","v":""},{"$f":"IF(AF121=\"\",\"\",VLOOKUP(AF121,'（ユニット型）シフト記号表'!$C$5:$Y$46,23,FALSE))","v":""},{"$f":"IF(AG121=\"\",\"\",VLOOKUP(AG121,'（ユニット型）シフト記号表'!$C$5:$Y$46,23,FALSE))","v":""},{"$f":"IF(AH121=\"\",\"\",VLOOKUP(AH121,'（ユニット型）シフト記号表'!$C$5:$Y$46,23,FALSE))","v":""},{"$f":"IF(AI121=\"\",\"\",VLOOKUP(AI121,'（ユニット型）シフト記号表'!$C$5:$Y$46,23,FALSE))","v":""},{"$f":"IF(AJ121=\"\",\"\",VLOOKUP(AJ121,'（ユニット型）シフト記号表'!$C$5:$Y$46,23,FALSE))","v":""},{"$f":"IF(AK121=\"\",\"\",VLOOKUP(AK121,'（ユニット型）シフト記号表'!$C$5:$Y$46,23,FALSE))","v":""},{"$f":"IF(AL121=\"\",\"\",VLOOKUP(AL121,'（ユニット型）シフト記号表'!$C$5:$Y$46,23,FALSE))","v":""},{"$f":"IF(AM121=\"\",\"\",VLOOKUP(AM121,'（ユニット型）シフト記号表'!$C$5:$Y$46,23,FALSE))","v":""},{"$f":"IF(AN121=\"\",\"\",VLOOKUP(AN121,'（ユニット型）シフト記号表'!$C$5:$Y$46,23,FALSE))","v":""},{"$f":"IF(AO121=\"\",\"\",VLOOKUP(AO121,'（ユニット型）シフト記号表'!$C$5:$Y$46,23,FALSE))","v":""},{"$f":"IF(AP121=\"\",\"\",VLOOKUP(AP121,'（ユニット型）シフト記号表'!$C$5:$Y$46,23,FALSE))","v":""},{"$f":"IF(AQ121=\"\",\"\",VLOOKUP(AQ121,'（ユニット型）シフト記号表'!$C$5:$Y$46,23,FALSE))","v":""},{"$f":"IF(AR121=\"\",\"\",VLOOKUP(AR121,'（ユニット型）シフト記号表'!$C$5:$Y$46,23,FALSE))","v":""},{"$f":"IF(AS121=\"\",\"\",VLOOKUP(AS121,'（ユニット型）シフト記号表'!$C$5:$Y$46,23,FALSE))","v":""},{"$f":"IF(AT121=\"\",\"\",VLOOKUP(AT121,'（ユニット型）シフト記号表'!$C$5:$Y$46,23,FALSE))","v":""},{"$f":"IF(AU121=\"\",\"\",VLOOKUP(AU121,'（ユニット型）シフト記号表'!$C$5:$Y$46,23,FALSE))","v":""},{"$f":"IF(AV121=\"\",\"\",VLOOKUP(AV121,'（ユニット型）シフト記号表'!$C$5:$Y$46,23,FALSE))","v":""},{"$f":"IF(AW121=\"\",\"\",VLOOKUP(AW121,'（ユニット型）シフト記号表'!$C$5:$Y$46,23,FALSE))","v":""},{"$f":"IF(AX121=\"\",\"\",VLOOKUP(AX121,'（ユニット型）シフト記号表'!$C$5:$Y$46,23,FALSE))","v":""},{"$f":"IF(AY121=\"\",\"\",VLOOKUP(AY121,'（ユニット型）シフト記号表'!$C$5:$Y$46,23,FALSE))","v":""},{"$f":"IF(AZ121=\"\",\"\",VLOOKUP(AZ121,'（ユニット型）シフト記号表'!$C$5:$Y$46,23,FALSE))","v":""},{"$f":"IF(BA121=\"\",\"\",VLOOKUP(BA121,'（ユニット型）シフト記号表'!$C$5:$Y$46,23,FALSE))","v":""},{"$f":"IF(BB121=\"\",\"\",VLOOKUP(BB121,'（ユニット型）シフト記号表'!$C$5:$Y$46,23,FALSE))","v":""},{"$f":"IF(BC121=\"\",\"\",VLOOKUP(BC121,'（ユニット型）シフト記号表'!$C$5:$Y$46,23,FALSE))","v":""},{"$f":"IF(BD121=\"\",\"\",VLOOKUP(BD121,'（ユニット型）シフト記号表'!$C$5:$Y$46,23,FALSE))","v":""},{"$f":"IF(BE121=\"\",\"\",VLOOKUP(BE121,'（ユニット型）シフト記号表'!$C$5:$Y$46,23,FALSE))","v":""},{"$f":"IF($BI$3=\"計画\",SUM(AA123:BB123),IF($BI$3=\"実績\",SUM(AA123:BE123),\"\"))","v":0},null,{"$f":"IF($BI$3=\"計画\",BF123/4,IF($BI$3=\"実績\",(BF123/($BI$7/7)),\"\"))","v":0}]
[null,null,null,null,null,null,null,null,null,null,null,null,null,null,null,null,null,null,null,null,null,"シフト記号"]
[null,{"$f":"B122+1","v":36},null,null,null,null,null,null,null,null,null,null,null,null,null,null,null,null,null,null,null,"日中の勤務時間数",null,null,null,null,{"$f":"IF(AA124=\"\",\"\",VLOOKUP(AA124,'（ユニット型）シフト記号表'!$C$5:$W$46,21,FALSE))","v":""},{"$f":"IF(AB124=\"\",\"\",VLOOKUP(AB124,'（ユニット型）シフト記号表'!$C$5:$W$46,21,FALSE))","v":""},{"$f":"IF(AC124=\"\",\"\",VLOOKUP(AC124,'（ユニット型）シフト記号表'!$C$5:$W$46,21,FALSE))","v":""},{"$f":"IF(AD124=\"\",\"\",VLOOKUP(AD124,'（ユニット型）シフト記号表'!$C$5:$W$46,21,FALSE))","v":""},{"$f":"IF(AE124=\"\",\"\",VLOOKUP(AE124,'（ユニット型）シフト記号表'!$C$5:$W$46,21,FALSE))","v":""},{"$f":"IF(AF124=\"\",\"\",VLOOKUP(AF124,'（ユニット型）シフト記号表'!$C$5:$W$46,21,FALSE))","v":""},{"$f":"IF(AG124=\"\",\"\",VLOOKUP(AG124,'（ユニット型）シフト記号表'!$C$5:$W$46,21,FALSE))","v":""},{"$f":"IF(AH124=\"\",\"\",VLOOKUP(AH124,'（ユニット型）シフト記号表'!$C$5:$W$46,21,FALSE))","v":""},{"$f":"IF(AI124=\"\",\"\",VLOOKUP(AI124,'（ユニット型）シフト記号表'!$C$5:$W$46,21,FALSE))","v":""},{"$f":"IF(AJ124=\"\",\"\",VLOOKUP(AJ124,'（ユニット型）シフト記号表'!$C$5:$W$46,21,FALSE))","v":""},{"$f":"IF(AK124=\"\",\"\",VLOOKUP(AK124,'（ユニット型）シフト記号表'!$C$5:$W$46,21,FALSE))","v":""},{"$f":"IF(AL124=\"\",\"\",VLOOKUP(AL124,'（ユニット型）シフト記号表'!$C$5:$W$46,21,FALSE))","v":""},{"$f":"IF(AM124=\"\",\"\",VLOOKUP(AM124,'（ユニット型）シフト記号表'!$C$5:$W$46,21,FALSE))","v":""},{"$f":"IF(AN124=\"\",\"\",VLOOKUP(AN124,'（ユニット型）シフト記号表'!$C$5:$W$46,21,FALSE))","v":""},{"$f":"IF(AO124=\"\",\"\",VLOOKUP(AO124,'（ユニット型）シフト記号表'!$C$5:$W$46,21,FALSE))","v":""},{"$f":"IF(AP124=\"\",\"\",VLOOKUP(AP124,'（ユニット型）シフト記号表'!$C$5:$W$46,21,FALSE))","v":""},{"$f":"IF(AQ124=\"\",\"\",VLOOKUP(AQ124,'（ユニット型）シフト記号表'!$C$5:$W$46,21,FALSE))","v":""},{"$f":"IF(AR124=\"\",\"\",VLOOKUP(AR124,'（ユニット型）シフト記号表'!$C$5:$W$46,21,FALSE))","v":""},{"$f":"IF(AS124=\"\",\"\",VLOOKUP(AS124,'（ユニット型）シフト記号表'!$C$5:$W$46,21,FALSE))","v":""},{"$f":"IF(AT124=\"\",\"\",VLOOKUP(AT124,'（ユニット型）シフト記号表'!$C$5:$W$46,21,FALSE))","v":""},{"$f":"IF(AU124=\"\",\"\",VLOOKUP(AU124,'（ユニット型）シフト記号表'!$C$5:$W$46,21,FALSE))","v":""},{"$f":"IF(AV124=\"\",\"\",VLOOKUP(AV124,'（ユニット型）シフト記号表'!$C$5:$W$46,21,FALSE))","v":""},{"$f":"IF(AW124=\"\",\"\",VLOOKUP(AW124,'（ユニット型）シフト記号表'!$C$5:$W$46,21,FALSE))","v":""},{"$f":"IF(AX124=\"\",\"\",VLOOKUP(AX124,'（ユニット型）シフト記号表'!$C$5:$W$46,21,FALSE))","v":""},{"$f":"IF(AY124=\"\",\"\",VLOOKUP(AY124,'（ユニット型）シフト記号表'!$C$5:$W$46,21,FALSE))","v":""},{"$f":"IF(AZ124=\"\",\"\",VLOOKUP(AZ124,'（ユニット型）シフト記号表'!$C$5:$W$46,21,FALSE))","v":""},{"$f":"IF(BA124=\"\",\"\",VLOOKUP(BA124,'（ユニット型）シフト記号表'!$C$5:$W$46,21,FALSE))","v":""},{"$f":"IF(BB124=\"\",\"\",VLOOKUP(BB124,'（ユニット型）シフト記号表'!$C$5:$W$46,21,FALSE))","v":""},{"$f":"IF(BC124=\"\",\"\",VLOOKUP(BC124,'（ユニット型）シフト記号表'!$C$5:$W$46,21,FALSE))","v":""},{"$f":"IF(BD124=\"\",\"\",VLOOKUP(BD124,'（ユニット型）シフト記号表'!$C$5:$W$46,21,FALSE))","v":""},{"$f":"IF(BE124=\"\",\"\",VLOOKUP(BE124,'（ユニット型）シフト記号表'!$C$5:$W$46,21,FALSE))","v":""},{"$f":"IF($BI$3=\"計画\",SUM(AA125:BB125),IF($BI$3=\"実績\",SUM(AA125:BE125),\"\"))","v":0},null,{"$f":"IF($BI$3=\"計画\",BF125/4,IF($BI$3=\"実績\",(BF125/($BI$7/7)),\"\"))","v":0}]
[null,null,null,null,null,null,null,null,{"$f":"G125","v":0},null,{"$f":"M125","v":0},null,null,null,null,null,null,null,null,null,null,"夜勤時間帯の勤務時間数",null,null,null,null,{"$f":"IF(AA124=\"\",\"\",VLOOKUP(AA124,'（ユニット型）シフト記号表'!$C$5:$Y$46,23,FALSE))","v":""},{"$f":"IF(AB124=\"\",\"\",VLOOKUP(AB124,'（ユニット型）シフト記号表'!$C$5:$Y$46,23,FALSE))","v":""},{"$f":"IF(AC124=\"\",\"\",VLOOKUP(AC124,'（ユニット型）シフト記号表'!$C$5:$Y$46,23,FALSE))","v":""},{"$f":"IF(AD124=\"\",\"\",VLOOKUP(AD124,'（ユニット型）シフト記号表'!$C$5:$Y$46,23,FALSE))","v":""},{"$f":"IF(AE124=\"\",\"\",VLOOKUP(AE124,'（ユニット型）シフト記号表'!$C$5:$Y$46,23,FALSE))","v":""},{"$f":"IF(AF124=\"\",\"\",VLOOKUP(AF124,'（ユニット型）シフト記号表'!$C$5:$Y$46,23,FALSE))","v":""},{"$f":"IF(AG124=\"\",\"\",VLOOKUP(AG124,'（ユニット型）シフト記号表'!$C$5:$Y$46,23,FALSE))","v":""},{"$f":"IF(AH124=\"\",\"\",VLOOKUP(AH124,'（ユニット型）シフト記号表'!$C$5:$Y$46,23,FALSE))","v":""},{"$f":"IF(AI124=\"\",\"\",VLOOKUP(AI124,'（ユニット型）シフト記号表'!$C$5:$Y$46,23,FALSE))","v":""},{"$f":"IF(AJ124=\"\",\"\",VLOOKUP(AJ124,'（ユニット型）シフト記号表'!$C$5:$Y$46,23,FALSE))","v":""},{"$f":"IF(AK124=\"\",\"\",VLOOKUP(AK124,'（ユニット型）シフト記号表'!$C$5:$Y$46,23,FALSE))","v":""},{"$f":"IF(AL124=\"\",\"\",VLOOKUP(AL124,'（ユニット型）シフト記号表'!$C$5:$Y$46,23,FALSE))","v":""},{"$f":"IF(AM124=\"\",\"\",VLOOKUP(AM124,'（ユニット型）シフト記号表'!$C$5:$Y$46,23,FALSE))","v":""},{"$f":"IF(AN124=\"\",\"\",VLOOKUP(AN124,'（ユニット型）シフト記号表'!$C$5:$Y$46,23,FALSE))","v":""},{"$f":"IF(AO124=\"\",\"\",VLOOKUP(AO124,'（ユニット型）シフト記号表'!$C$5:$Y$46,23,FALSE))","v":""},{"$f":"IF(AP124=\"\",\"\",VLOOKUP(AP124,'（ユニット型）シフト記号表'!$C$5:$Y$46,23,FALSE))","v":""},{"$f":"IF(AQ124=\"\",\"\",VLOOKUP(AQ124,'（ユニット型）シフト記号表'!$C$5:$Y$46,23,FALSE))","v":""},{"$f":"IF(AR124=\"\",\"\",VLOOKUP(AR124,'（ユニット型）シフト記号表'!$C$5:$Y$46,23,FALSE))","v":""},{"$f":"IF(AS124=\"\",\"\",VLOOKUP(AS124,'（ユニット型）シフト記号表'!$C$5:$Y$46,23,FALSE))","v":""},{"$f":"IF(AT124=\"\",\"\",VLOOKUP(AT124,'（ユニット型）シフト記号表'!$C$5:$Y$46,23,FALSE))","v":""},{"$f":"IF(AU124=\"\",\"\",VLOOKUP(AU124,'（ユニット型）シフト記号表'!$C$5:$Y$46,23,FALSE))","v":""},{"$f":"IF(AV124=\"\",\"\",VLOOKUP(AV124,'（ユニット型）シフト記号表'!$C$5:$Y$46,23,FALSE))","v":""},{"$f":"IF(AW124=\"\",\"\",VLOOKUP(AW124,'（ユニット型）シフト記号表'!$C$5:$Y$46,23,FALSE))","v":""},{"$f":"IF(AX124=\"\",\"\",VLOOKUP(AX124,'（ユニット型）シフト記号表'!$C$5:$Y$46,23,FALSE))","v":""},{"$f":"IF(AY124=\"\",\"\",VLOOKUP(AY124,'（ユニット型）シフト記号表'!$C$5:$Y$46,23,FALSE))","v":""},{"$f":"IF(AZ124=\"\",\"\",VLOOKUP(AZ124,'（ユニット型）シフト記号表'!$C$5:$Y$46,23,FALSE))","v":""},{"$f":"IF(BA124=\"\",\"\",VLOOKUP(BA124,'（ユニット型）シフト記号表'!$C$5:$Y$46,23,FALSE))","v":""},{"$f":"IF(BB124=\"\",\"\",VLOOKUP(BB124,'（ユニット型）シフト記号表'!$C$5:$Y$46,23,FALSE))","v":""},{"$f":"IF(BC124=\"\",\"\",VLOOKUP(BC124,'（ユニット型）シフト記号表'!$C$5:$Y$46,23,FALSE))","v":""},{"$f":"IF(BD124=\"\",\"\",VLOOKUP(BD124,'（ユニット型）シフト記号表'!$C$5:$Y$46,23,FALSE))","v":""},{"$f":"IF(BE124=\"\",\"\",VLOOKUP(BE124,'（ユニット型）シフト記号表'!$C$5:$Y$46,23,FALSE))","v":""},{"$f":"IF($BI$3=\"計画\",SUM(AA126:BB126),IF($BI$3=\"実績\",SUM(AA126:BE126),\"\"))","v":0},null,{"$f":"IF($BI$3=\"計画\",BF126/4,IF($BI$3=\"実績\",(BF126/($BI$7/7)),\"\"))","v":0}]
[]
[null,null,null,null,null,null,null,null,null,null,null,null,null,"(18)人員基準の確認（看護職員・介護職員）"]
[null,null,null,null,null,null,null,null,null,null,null,null,null,null,"①看護職員",null,null,null,null,null,null,null,null,null,null,null,null,null,null,null,"②介護職員",null,null,null,null,null,null,null,null,null,null,null,null,null,null,null,"③看護職員と介護職員の合計"]
[null,null,null,null,null,null,null,null,null,null,null,null,null,null,"勤務形態",null,"勤務時間数合計",null,null,null,null,"常勤換算の対象時間数",null,null,null,null,"常勤換算方法対象外の",null,null,null,"勤務形態",null,"勤務時間数合計",null,null,null,null,"常勤換算の対象時間数",null,null,null,null,"常勤換算方法対象外の"]
[null,null,null,null,null,null,null,null,null,null,null,null,null,null,null,null,"当月合計",null,"週平均",null,null,"当月合計",null,"週平均",null,null,"常勤の従業者の人数",null,null,null,null,null,"当月合計",null,"週平均",null,null,"当月合計",null,"週平均",null,null,"常勤の従業者の人数",null,null,null,"看護職員",null,null,null,null,"介護職員",null,null,null,null,"合計"]
[null,null,null,null,null,null,null,null,null,null,null,null,null,null,"A",null,{"$f":"SUMIFS($BF$19:$BG$126,$G$19:$H$126,\"看護職員\",$M$19:$N$126,\"A\")+SUMIFS($BF$19:$BG$126,$I$19:$J$126,\"看護職員\",$K$19:$L$126,\"A\")","v":0},null,{"$f":"SUMIFS($BH$19:$BI$126,$G$19:$H$126,\"看護職員\",$M$19:$N$126,\"A\")+SUMIFS($BH$19:$BI$126,$I$19:$J$126,\"看護職員\",$K$19:$L$126,\"A\")","v":0},null,null,0,null,0,null,null,0,null,null,null,"A",null,{"$f":"SUMIFS($BF$19:$BG$126,$G$19:$H$126,\"介護職員\",$M$19:$N$126,\"A\")+SUMIFS($BF$19:$BG$126,$I$19:$J$126,\"介護職員\",$K$19:$L$126,\"A\")","v":0},null,{"$f":"SUMIFS($BH$19:$BI$126,$G$19:$H$126,\"介護職員\",$M$19:$N$126,\"A\")+SUMIFS($BH$19:$BI$126,$I$19:$J$126,\"介護職員\",$K$19:$L$126,\"A\")","v":0},null,null,0,null,0,null,null,0,null,null,null,{"$f":"Y146","v":0},null,null,null,"＋",{"$f":"AO146","v":0},null,null,null,"＝",{"$f":"ROUNDDOWN(AU132+AZ132,1)","v":0}]
[null,null,null,null,null,null,null,null,null,null,null,null,null,null,"B",null,{"$f":"SUMIFS($BF$19:$BG$126,$G$19:$H$126,\"看護職員\",$M$19:$N$126,\"B\")+SUMIFS($BF$19:$BG$126,$I$19:$J$126,\"看護職員\",$K$19:$L$126,\"B\")","v":0},null,{"$f":"SUMIFS($BH$19:$BI$126,$G$19:$H$126,\"看護職員\",$M$19:$N$126,\"B\")+SUMIFS($BH$19:$BI$126,$I$19:$J$126,\"看護職員\",$K$19:$L$126,\"B\")","v":0},null,null,0,null,0,null,null,0,null,null,null,"B",null,{"$f":"SUMIFS($BF$19:$BG$126,$G$19:$H$126,\"介護職員\",$M$19:$N$126,\"B\")+SUMIFS($BF$19:$BG$126,$I$19:$J$126,\"介護職員\",$K$19:$L$126,\"B\")","v":0},null,{"$f":"SUMIFS($BH$19:$BI$126,$G$19:$H$126,\"介護職員\",$M$19:$N$126,\"B\")+SUMIFS($BH$19:$BI$126,$I$19:$J$126,\"介護職員\",$K$19:$L$126,\"B\")","v":0},null,null,0,null,0,null,null,0]
[null,null,null,null,null,null,null,null,null,null,null,null,null,null,"C",null,{"$f":"SUMIFS($BF$19:$BG$126,$G$19:$H$126,\"看護職員\",$M$19:$N$126,\"C\")+SUMIFS($BF$19:$BG$126,$I$19:$J$126,\"看護職員\",$K$19:$L$126,\"C\")","v":0},null,{"$f":"SUMIFS($BH$19:$BI$126,$G$19:$H$126,\"看護職員\",$M$19:$N$126,\"C\")+SUMIFS($BH$19:$BI$126,$I$19:$J$126,\"看護職員\",$K$19:$L$126,\"C\")","v":0},null,null,0,null,0,null,null,"-",null,null,null,"C",null,{"$f":"SUMIFS($BF$19:$BG$126,$G$19:$H$126,\"介護職員\",$M$19:$N$126,\"C\")+SUMIFS($BF$19:$BG$126,$I$19:$J$126,\"介護職員\",$K$19:$L$126,\"C\")","v":0},null,{"$f":"SUMIFS($BH$19:$BI$126,$G$19:$H$126,\"介護職員\",$M$19:$N$126,\"C\")+SUMIFS($BH$19:$BI$126,$I$19:$J$126,\"介護職員\",$K$19:$L$126,\"C\")","v":0},null,null,0,null,0,null,null,"-"]
[null,null,null,null,null,null,null,null,null,null,null,null,null,null,"D",null,{"$f":"SUMIFS($BF$19:$BG$126,$G$19:$H$126,\"看護職員\",$M$19:$N$126,\"D\")+SUMIFS($BF$19:$BG$126,$I$19:$J$126,\"看護職員\",$K$19:$L$126,\"D\")","v":0},null,{"$f":"SUMIFS($BH$19:$BI$126,$G$19:$H$126,\"看護職員\",$M$19:$N$126,\"D\")+SUMIFS($BH$19:$BI$126,$I$19:$J$126,\"看護職員\",$K$19:$L$126,\"D\")","v":0},null,null,0,null,0,null,null,"-",null,null,null,"D",null,{"$f":"SUMIFS($BF$19:$BG$126,$G$19:$H$126,\"介護職員\",$M$19:$N$126,\"D\")+SUMIFS($BF$19:$BG$126,$I$19:$J$126,\"介護職員\",$K$19:$L$126,\"D\")","v":0},null,{"$f":"SUMIFS($BH$19:$BI$126,$G$19:$H$126,\"介護職員\",$M$19:$N$126,\"D\")+SUMIFS($BH$19:$BI$126,$I$19:$J$126,\"介護職員\",$K$19:$L$126,\"D\")","v":0},null,null,0,null,0,null,null,"-",null,null,null,"（勤務形態の記号）"]
[null,null,null,null,null,null,null,null,null,null,null,null,null,null,"合計",null,{"$f":"SUM(Q132:R135)","v":0},null,{"$f":"SUM(S132:T135)","v":0},null,null,{"$f":"SUM(V132:W135)","v":0},null,{"$f":"SUM(X132:Y135)","v":0},null,null,{"$f":"SUM(AA132:AB133)","v":0},null,null,null,"合計",null,{"$f":"SUM(AG132:AH135)","v":0},null,{"$f":"SUM(AI132:AJ135)","v":0},null,null,{"$f":"SUM(AL132:AM135)","v":0},null,{"$f":"SUM(AN132:AO135)","v":0},null,null,{"$f":"SUM(AQ132:AR133)","v":0},null,null,null,"記号",null,"区分"]
[null,null,null,null,null,null,null,null,null,null,null,null,null,null,null,null,null,null,null,null,null,null,null,null,null,null,null,null,null,null,null,null,null,null,null,null,null,null,null,null,null,null,null,null,null,null,"A",null,"常勤で専従"]
[null,null,null,null,null,null,null,null,null,null,null,null,null,null,"■ 常勤換算方法による人数",null,null,null,null,null,null,null,null,null,null,null,null,null,null,null,"■ 常勤換算方法による人数",null,null,null,null,null,null,null,null,null,null,null,null,null,null,null,"B",null,"常勤で兼務"]
[null,null,null,null,null,null,null,null,null,null,null,null,null,null,"常勤換算の",null,null,null,null,"常勤の従業者が",null,null,null,null,null,null,null,null,null,null,"常勤換算の",null,null,null,null,"常勤の従業者が",null,null,null,null,null,null,null,null,null,null,"C",null,"非常勤で専従"]
[null,null,null,null,null,null,null,null,null,null,null,null,null,null,{"$f":"IF($BI$3=\"計画\",\"対象時間数（週平均）\",\"対象時間数（当月合計）\")","v":"対象時間数（週平均）"},null,null,null,null,{"$f":"IF($BI$3=\"計画\",\"週に勤務すべき時間数\",\"当月に勤務すべき時間数\")","v":"週に勤務すべき時間数"},null,null,null,null,"常勤換算後の人数",null,null,null,null,null,{"$f":"IF($BI$3=\"計画\",\"対象時間数（週平均）\",\"対象時間数（当月合計）\")","v":"対象時間数（週平均）"},null,null,null,null,{"$f":"IF($BI$3=\"計画\",\"週に勤務すべき時間数\",\"当月に勤務すべき時間数\")","v":"週に勤務すべき時間数"},null,null,null,null,"常勤換算後の人数",null,null,null,null,null,"D",null,"非常勤で兼務"]
[null,null,null,null,null,null,null,null,null,null,null,null,null,null,{"$f":"IF($BI$3=\"計画\",X136,V136)","v":0},null,null,null,"÷",{"$f":"IF($BI$3=\"計画\",$BE$5,$BI$5)","v":40},null,null,null,"＝",{"$f":"ROUNDDOWN(O141/T141,1)","v":0},null,null,null,null,null,{"$f":"IF($BI$3=\"計画\",AN136,AL136)","v":0},null,null,null,"÷",{"$f":"IF($BI$3=\"計画\",$BE$5,$BI$5)","v":40},null,null,null,"＝",{"$f":"ROUNDDOWN(AE141/AJ141,1)","v":0}]
[null,null,null,null,null,null,null,null,null,null,null,null,null,null,null,null,null,null,null,null,null,null,null,null,"（小数点第2位以下切り捨て）",null,null,null,null,null,null,null,null,null,null,null,null,null,null,null,"（小数点第2位以下切り捨て）"]
[null,null,null,null,null,null,null,null,null,null,null,null,null,null,"■ 看護職員の常勤換算方法による人数",null,null,null,null,null,null,null,null,null,null,null,null,null,null,null,"■ 介護職員の常勤換算方法による人数"]
[null,null,null,null,null,null,null,null,null,null,null,null,null,null,"常勤換算方法対象外の",null,null,null,null,null,null,null,null,null,null,null,null,null,null,null,"常勤換算方法対象外の"]
[null,null,null,null,null,null,null,null,null,null,null,null,null,null,"常勤の従業者の人数",null,null,null,null,"常勤換算方法による人数",null,null,null,null,"合計",null,null,null,null,null,"常勤の従業者の人数",null,null,null,null,"常勤換算方法による人数",null,null,null,null,"合計"]
[null,null,null,null,null,null,null,null,null,null,null,null,null,null,{"$f":"AA136","v":0},null,null,null,"＋",{"$f":"Y141","v":0},null,null,null,"＝",{"$f":"ROUNDDOWN(O146+T146,1)","v":0},null,null,null,null,null,{"$f":"AQ136","v":0},null,null,null,"＋",{"$f":"AO141","v":0},null,null,null,"＝",{"$f":"ROUNDDOWN(AE146+AJ146,1)","v":0}]

{"sheet":"（ユニット型）シフト記号表","index":3,"n_rows":47,"n_cols":27,"rows_kept":47,"cut":false,"hidden":false,"merged":[[2,4,2,10],[2,12,2,14],[2,16,2,22]]}
[null,"≪要 提出≫"]
[null,"■シフト記号表（勤務時間帯）",null,null,"※24時間表記",null,null,null,"休憩時間1時間は「1:00」、休憩時間45分は「00:45」と入力してください。"]
[null,null,null,null,"勤務時間",null,null,null,null,null,null,null,"日中（夜勤時間帯以外）の時間帯",null,null,null,"日中（夜勤時間帯以外）の勤務時間",null,null,null,null,null,null,null,"夜勤時間帯"]
[null,"（記号の意味）","記号",null,"始業時間",null,"終業時間",null,"うち、休憩時間",null,"勤務時間",null,"開始",null,"終了",null,"開始",null,"終了",null,"うち、休憩時間",null,"勤務時間",null,"の勤務時間"]
[null,"休：休暇","休","：","-","～","-","（","-","）","-",null,"-","～","-",null,"-","～","-","（","-","）","-",null,"-"]
[null,"出：出張","出","：","-","～","-","（","-","）","-",null,"-","～","-",null,"-","～","-","（","-","）","-",null,"-"]
[null,"研：研修","研","：","-","～","-","（","-","）","-",null,"-","～","-",null,"-","～","-","（","-","）","-",null,"-"]
[null,null,"a","：","07:00:00","～","16:00:00","（","01:00:00","）",{"$f":"IF(OR(E8=\"\",G8=\"\"),\"\",(G8+IF(E8>G8,1,0)-E8-I8)*24)","v":7.9999999999999982},null,{"$f":"'（ユニット型）介護老人保健施設'!$Q$11","v":"09:00:00"},"～",{"$f":"'（ユニット型）介護老人保健施設'!$U$11","v":"17:00:00"},null,{"$f":"IF(E8=\"\",\"\",IF(E8<M8,M8,IF(E8>=O8,\"\",E8)))","v":"09:00:00"},"～",{"$f":"IF(G8=\"\",\"\",IF(G8>E8,IF(G8<O8,G8,O8),O8))","v":"16:00:00"},"（","01:00:00","）",{"$f":"IF(Q8=\"\",\"\",IF((S8+IF(Q8>S8,1,0)-Q8-U8)*24=0,\"\",(S8+IF(Q8>S8,1,0)-Q8-U8)*24))","v":5.9999999999999991},null,{"$f":"IF(W8=\"\",K8,IF(OR(K8-W8=0,K8-W8<0),\"-\",K8-W8))","v":1.9999999999999991}]
[null,null,"b","：","09:00:00","～","18:00:00","（","01:00:00","）",{"$f":"IF(OR(E9=\"\",G9=\"\"),\"\",(G9+IF(E9>G9,1,0)-E9-I9)*24)","v":8},null,{"$f":"'（ユニット型）介護老人保健施設'!$Q$11","v":"09:00:00"},"～",{"$f":"'（ユニット型）介護老人保健施設'!$U$11","v":"17:00:00"},null,"09:00:00","～","17:00:00","（","01:00:00","）",{"$f":"IF(Q9=\"\",\"\",IF((S9+IF(Q9>S9,1,0)-Q9-U9)*24=0,\"\",(S9+IF(Q9>S9,1,0)-Q9-U9)*24))","v":7},null,{"$f":"IF(W9=\"\",K9,IF(OR(K9-W9=0,K9-W9<0),\"-\",K9-W9))","v":1}]
[null,null,"c","：","10:00:00","～","19:00:00","（","01:00:00","）",7.9999999999999982,null,{"$f":"'（ユニット型）介護老人保健施設'!$Q$11","v":"09:00:00"},"～",{"$f":"'（ユニット型）介護老人保健施設'!$U$11","v":"17:00:00"},null,"10:00:00","～","17:00:00","（","01:00:00","）",6,null,1.9999999999999982]
[null,null,"d","：","12:00:00","～","21:00:00","（","01:00:00","）",8,null,{"$f":"'（ユニット型）介護老人保健施設'!$Q$11","v":"09:00:00"},"～",{"$f":"'（ユニット型）介護老人保健施設'!$U$11","v":"17:00:00"},null,"12:00:00","～","17:00:00","（","00:00:00","）",5.0000000000000009,null,2.9999999999999991]
[null,null,"e","：","09:00:00","～","13:00:00","（","00:00:00","）",3.9999999999999991,null,{"$f":"'（ユニット型）介護老人保健施設'!$Q$11","v":"09:00:00"},"～",{"$f":"'（ユニット型）介護老人保健施設'!$U$11","v":"17:00:00"},null,"09:00:00","～","13:00:00","（","00:00:00","）",3.9999999999999991,null,"-"]
[null,null,"f","：","13:00:00","～","17:00:00","（","00:00:00","）",4.0000000000000018,null,{"$f":"'（ユニット型）介護老人保健施設'!$Q$11","v":"09:00:00"},"～",{"$f":"'（ユニット型）介護老人保健施設'!$U$11","v":"17:00:00"},null,"13:00:00","～","17:00:00","（","00:00:00","）",4.0000000000000018,null,"-"]
[null,null,"g","：","14:00:00","～","20:00:00","（","00:00:00","）",6,null,{"$f":"'（ユニット型）介護老人保健施設'!$Q$11","v":"09:00:00"},"～",{"$f":"'（ユニット型）介護老人保健施設'!$U$11","v":"17:00:00"},null,"14:00:00","～","17:00:00","（","00:00:00","）",3,null,3]
[null,null,"h","：","16:00:00","～","09:00:00","（","02:00:00","）",15,null,{"$f":"'（ユニット型）介護老人保健施設'!$Q$11","v":"09:00:00"},"～",{"$f":"'（ユニット型）介護老人保健施設'!$U$11","v":"17:00:00"},null,"16:00:00","～","17:00:00","（","00:00:00","）",1.0000000000000018,null,13.999999999999998]
[null,null,"i","：","06:00:00","～","12:00:00","（","00:00:00","）",6,null,{"$f":"'（ユニット型）介護老人保健施設'!$Q$11","v":"09:00:00"},"～",{"$f":"'（ユニット型）介護老人保健施設'!$U$11","v":"17:00:00"},null,"09:00:00","～","12:00:00","（","00:00:00","）",3,null,3]
[null,null,"j","：",null,"～",null,"（","00:00:00","）","",null,{"$f":"'（ユニット型）介護老人保健施設'!$Q$11","v":"09:00:00"},"～",{"$f":"'（ユニット型）介護老人保健施設'!$U$11","v":"17:00:00"},null,"","～","","（","00:00:00","）","",null,""]
[null,null,"k","：",null,"～",null,"（","00:00:00","）","",null,{"$f":"'（ユニット型）介護老人保健施設'!$Q$11","v":"09:00:00"},"～",{"$f":"'（ユニット型）介護老人保健施設'!$U$11","v":"17:00:00"},null,"","～","","（","00:00:00","）","",null,""]
[null,null,"l","：",null,"～",null,"（","00:00:00","）","",null,{"$f":"'（ユニット型）介護老人保健施設'!$Q$11","v":"09:00:00"},"～",{"$f":"'（ユニット型）介護老人保健施設'!$U$11","v":"17:00:00"},null,"","～","","（","00:00:00","）","",null,""]
[null,null,"m","：",null,"～",null,"（","00:00:00","）","",null,{"$f":"'（ユニット型）介護老人保健施設'!$Q$11","v":"09:00:00"},"～",{"$f":"'（ユニット型）介護老人保健施設'!$U$11","v":"17:00:00"},null,"","～","","（","00:00:00","）","",null,""]
[null,null,"n","：",null,"～",null,"（","00:00:00","）","",null,{"$f":"'（ユニット型）介護老人保健施設'!$Q$11","v":"09:00:00"},"～",{"$f":"'（ユニット型）介護老人保健施設'!$U$11","v":"17:00:00"},null,"","～","","（","00:00:00","）","",null,""]
[null,null,"o","：","16:00:00","～","10:00:00","（","02:00:00","）",16,null,null,"～",null,null,null,"～",null,"（","02:00:00","）",2,null,14]
[null,null,"p","：",null,"～",null,"（",null,"）",2,null,null,"～",null,null,null,"～",null,"（",null,"）",2]
[null,null,"q","：",null,"～",null,"（",null,"）",3,null,null,"～",null,null,null,"～",null,"（",null,"）",3]
[null,null,"r","：",null,"～",null,"（",null,"）",4,null,null,"～",null,null,null,"～",null,"（",null,"）",4]
[null,null,"s","：",null,"～",null,"（",null,"）",5,null,null,"～",null,null,null,"～",null,"（",null,"）",5]
[null,null,"t","：",null,"～",null,"（",null,"）",6,null,null,"～",null,null,null,"～",null,"（",null,"）",6]
[null,null,"u","：",null,"～",null,"（",null,"）",7,null,null,"～",null,null,null,"～",null,"（",null,"）",7]
[null,null,"v","：",null,"～",null,"（",null,"）",8,null,null,"～",null,null,null,"～",null,"（",null,"）",8]
[null,null,"w","：",null,"～",null,"（",null,"）",1,null,null,"～",null,null,null,"～",null,"（",null,"）",null,null,1]
[null,null,"x","：",null,"～",null,"（",null,"）",2,null,null,"～",null,null,null,"～",null,"（",null,"）",null,null,2]
[null,null,"y","：",null,"～",null,"（",null,"）",3,null,null,"～",null,null,null,"～",null,"（",null,"）",null,null,3]
[null,null,"z","：",null,"～",null,"（",null,"）",4,null,null,"～",null,null,null,"～",null,"（",null,"）",null,null,4]
[null,null,"aa","：",null,"～",null,"（",null,"）",5,null,null,"～",null,null,null,"～",null,"（",null,"）",null,null,5]
[null,null,"ab","：",null,"～",null,"（",null,"）",6,null,null,"～",null,null,null,"～",null,"（",null,"）",null,null,6]
[null,null,"ac","：",null,"～",null,"（",null,"）",7,null,null,"～",null,null,null,"～",null,"（",null,"）",null,null,7]
[null,null,"ad","：",null,"～",null,"（",null,"）",8,null,null,"～",null,null,null,"～",null,"（",null,"）",null,null,8]
[null,null,"ae","：",null,"～",null,"（","00:00:00","）",{"$f":"IF(OR(E38=\"\",G38=\"\"),\"\",(G38+IF(E38>G38,1,0)-E38-I38)*24)","v":""},null,{"$f":"'（ユニット型）介護老人保健施設'!$Q$11","v":"09:00:00"},"～",{"$f":"'（ユニット型）介護老人保健施設'!$U$11","v":"17:00:00"},null,{"$f":"IF(E38=\"\",\"\",IF(E38<M38,M38,IF(E38>=O38,\"\",E38)))","v":""},"～",{"$f":"IF(G38=\"\",\"\",IF(G38>E38,IF(G38<O38,G38,O38),O38))","v":""},"（",{"$f":"I38","v":"00:00:00"},"）",{"$f":"IF(Q38=\"\",\"\",IF((S38+IF(Q38>S38,1,0)-Q38-U38)*24=0,\"\",(S38+IF(Q38>S38,1,0)-Q38-U38)*24))","v":""},null,{"$f":"IF(W38=\"\",K38,IF(OR(K38-W38=0,K38-W38<0),\"-\",K38-W38))","v":""}]
[null,null,"af","：",null,"～",null,"（","00:00:00","）","",null,{"$f":"'（ユニット型）介護老人保健施設'!$Q$11","v":"09:00:00"},"～",{"$f":"'（ユニット型）介護老人保健施設'!$U$11","v":"17:00:00"},null,"","～","","（",{"$f":"I39","v":"00:00:00"},"）","",null,{"$f":"IF(W39=\"\",K39,IF(OR(K39-W39=0,K39-W39<0),\"-\",K39-W39))","v":""}]
[null,null,"ag","：",null,"～",null,"（","00:00:00","）",{"$f":"IF(OR(E40=\"\",G40=\"\"),\"\",(G40+IF(E40>G40,1,0)-E40-I40)*24)","v":""},null,{"$f":"'（ユニット型）介護老人保健施設'!$Q$11","v":"09:00:00"},"～",{"$f":"'（ユニット型）介護老人保健施設'!$U$11","v":"17:00:00"},null,{"$f":"IF(E40=\"\",\"\",IF(E40<M40,M40,IF(E40>=O40,\"\",E40)))","v":""},"～",{"$f":"IF(G40=\"\",\"\",IF(G40>E40,IF(G40<O40,G40,O40),O40))","v":""},"（",{"$f":"I40","v":"00:00:00"},"）",{"$f":"IF(Q40=\"\",\"\",IF((S40+IF(Q40>S40,1,0)-Q40-U40)*24=0,\"\",(S40+IF(Q40>S40,1,0)-Q40-U40)*24))","v":""},null,""]
[null,null,"早退(1)","：",null,"～",null,"（","00:00:00","）","",null,{"$f":"'（ユニット型）介護老人保健施設'!$Q$11","v":"09:00:00"},"～",{"$f":"'（ユニット型）介護老人保健施設'!$U$11","v":"17:00:00"},null,"","～","","（","00:00:00","）","",null,"",null,"実績で早退者がいた場合に使用"]
[null,null,"早退(2)","：",null,"～",null,"（","00:00:00","）","",null,{"$f":"'（ユニット型）介護老人保健施設'!$Q$11","v":"09:00:00"},"～",{"$f":"'（ユニット型）介護老人保健施設'!$U$11","v":"17:00:00"},null,"","～","","（","00:00:00","）","",null,"",null,"実績で早退者がいた場合に使用"]
[null,null,"az","：",null,"～",null,"（","00:00:00","）","",null,{"$f":"'（ユニット型）介護老人保健施設'!$Q$11","v":"09:00:00"},"～",{"$f":"'（ユニット型）介護老人保健施設'!$U$11","v":"17:00:00"},null,"","～","","（","00:00:00","）",{"$f":"IF(Q43=\"\",\"\",IF((S43+IF(Q43>S43,1,0)-Q43-U43)*24=0,\"\",(S43+IF(Q43>S43,1,0)-Q43-U43)*24))","v":""},null,""]
[null,"1日のうち",null,"：","07:00:00","～","09:30:00","（","00:00:00","）",2.4999999999999991,null,{"$f":"'（ユニット型）介護老人保健施設'!$Q$11","v":"09:00:00"},"～",{"$f":"'（ユニット型）介護老人保健施設'!$U$11","v":"17:00:00"},null,"09:00:00","～","09:30:00","（","00:00:00","）",0.49999999999999956,null,1.9999999999999996]
[null,"朝・夜の2回",null,"：","16:30:00","～","20:00:00","（","00:00:00","）",3.5000000000000009,null,{"$f":"'（ユニット型）介護老人保健施設'!$Q$11","v":"09:00:00"},"～",{"$f":"'（ユニット型）介護老人保健施設'!$U$11","v":"17:00:00"},null,"16:30:00","～","17:00:00","（","00:00:00","）",0.50000000000000089,null,3]
[null,"勤務の場合","ba","：","-","～","-","（","-","）",{"$f":"K44+K45","v":6},null,{"$f":"'（ユニット型）介護老人保健施設'!$Q$11","v":"09:00:00"},"～",{"$f":"'（ユニット型）介護老人保健施設'!$U$11","v":"17:00:00"},null,"","～","17:00:00","（","-","）",{"$f":"W44+W45","v":1.0000000000000004},null,5]
[null,"（プルダウン対象外）→","宿直","：","20:00:00","～","07:00:00","（",null,"）",{"$f":"IF(OR(E47=\"\",G47=\"\"),\"\",(G47+IF(E47>G47,1,0)-E47-I47)*24)","v":11},null,{"$f":"'（ユニット型）介護老人保健施設'!$Q$11","v":"09:00:00"},"～",{"$f":"'（ユニット型）介護老人保健施設'!$U$11","v":"17:00:00"},null,{"$f":"IF(E47=\"\",\"\",IF(E47<M47,M47,IF(E47>=O47,\"\",E47)))","v":""},"～",{"$f":"IF(G47=\"\",\"\",IF(G47>E47,IF(G47<O47,G47,O47),O47))","v":"17:00:00"},"（",{"$f":"I47","v":"00:00:00"},"）",{"$f":"IF(Q47=\"\",\"\",IF((S47+IF(Q47>S47,1,0)-Q47-U47)*24=0,\"\",(S47+IF(Q47>S47,1,0)-Q47-U47)*24))","v":""},null,11]

{"sheet":"（ユニット型）記入方法","index":4,"n_rows":88,"n_cols":6,"rows_kept":88,"cut":false,"hidden":false,"merged":[[3,5,4,10]]}
[null,"≪提出不要≫"]
[null,"従業者の勤務の体制及び勤務形態一覧表　記入方法　（【ユニット型】指定介護老人保健施設・短期入所療養介護）"]
[]
[null,null,"・・・直接入力する必要がある箇所です。",null,null,"下記の記入方法に従って、入力してください。"]
[null,null,"・・・プルダウンから選択して入力する必要がある箇所です。"]
[null,"　なお、「従業者の勤務の体制及び勤務形態一覧表」に「シフト記号表（勤務時間帯）」も必ず添付して提出してください。"]
[]
[null,"　・最初に「年月欄」「サービス種別」「事業所名」を入力してください。"]
[]
[null,"　(1) 「計画」・「実績」のいずれかを選択してください。"]
[null,"　　  指定基準の確認に際しては、「計画」を選択し、４週分の勤務時間を入力してください。"]
[null,"　　  実績を表す場合は、「実績」を選択し、暦月分で勤務時間を入力してください。"]
[]
[null,"　(2) 事業所における常勤の従業者が勤務すべき時間数を入力してください。"]
[]
[null,"　(3) 事業所における夜勤時間帯を入力してください。"]
[null,"　　  ※夜勤時間帯　・・・　２２：００～翌５：００（原則）を含めた、連続する16時間で事業所・施設が定めたもの"]
[]
[null,"　(4) 指定介護老人保健施設の場合、入所定員数を入力してください。"]
[]
[null,"　(5) 指定介護老人保健施設の場合、入所者数を入力してください。入所者数は、前年度の平均値（前年度の入所者延数を当該前年度の日数で除して得た数。小数点第2位以下を切り上げ）とします。"]
[null,"　　  新規又は再開の場合は、推定数を入力してください。"]
[]
[null,"　(6) 短期入所療養介護の場合、利用定員数を入力してください。"]
[]
[null,"　(7) 短期入所療養介護の場合、利用者数を入力してください。利用者数は、前年度の平均値（前年度の利用者延数を当該前年度の日数で除して得た数。小数点第2位以下を切り上げ）とします。"]
[null,"　　  新規又は再開の場合は、推定数を入力してください。"]
[]
[null,"　(8) ユニットリーダーに以下の印をつけてください。"]
[null,"　　  ユニットケアリーダー研修を受講した従業者（以下、「研修受講者」）　・・・　◎"]
[null,"　　  研修受講者ではない、ユニットにおけるケアに責任を持つ従業者　　　　・・・　○"]
[]
[null,"　(9) ユニットに属する従業者（看護職員・介護職員）については、その属するユニット名を入力してください。"]
[null,"　　  記入の順序はユニットごとにまとめてください。また、夜勤時間帯に、２ユニットごとに1人以上の看護職員・介護職員を配置する場合は、"]
[null,"　　  原則、そのユニットを並べて記載してください。"]
[null,"　　  なお、夜勤時間帯に２ユニットを担当する従業者は、通常主に担当するユニット名を入力してください。"]
[]
[null,"　(10) 従業者の職種について、下記のうち該当する職種をプルダウンより選択してください。"]
[null," 　　 記入の順序は、職種ごとにまとめてください。ただし、ユニットに属する看護職員の場合は、看護職員・介護職員をユニット単位でまとめて記載してください。"]
[]
[null,null,"No","職種名"]
[null,null,1,"管理者"]
[null,null,2,"医師"]
[null,null,3,"薬剤師"]
[null,null,4,"看護職員"]
[null,null,5,"介護職員"]
[null,null,6,"支援相談員"]
[null,null,7,"理学療法士"]
[null,null,8,"作業療法士"]
[null,null,9,"言語聴覚士"]
[null,null,10,"栄養士"]
[null,null,11,"介護支援専門員"]
[null,null,12,"調理員"]
[null,null,13,"事務員"]
[null,null,14,"その他の従業者"]
[]
[null,"　(11) 従業者の勤務形態について、下記のうち該当する区分の記号をプルダウンより選択してください。"]
[null," 　　 記入の順序は、各職種の中で勤務形態の区分ごとにまとめてください。"]
[]
[null,null,"記号","区分"]
[null,null,"A","常勤で専従"]
[null,null,"B","常勤で兼務"]
[null,null,"C","非常勤で専従"]
[null,null,"D","非常勤で兼務"]
[]
[null,null,"（注）常勤・非常勤の区分について"]
[null,null,"　　　当該事業所における勤務時間が、当該事業所において定められている常勤の従業者が勤務すべき時間数に達していることをいいます。雇用の形態は考慮しません。"]
[null,null,"　　（例えば、常勤者は週に40時間勤務することとされた事業所であれば、非正規雇用であっても、週40時間勤務する従業者は常勤扱いとなります。）"]
[]
[null,"　(12) 従業者の保有する資格について、該当する資格名称をプルダウンより選択してください。"]
[null," 　　 複数の資格を保有する従業者については、当該事業所にて従事する業務に最も関連する資格１つを選択してください。人員基準上、求められている資格等は必ずご記入ください。"]
[null,"　　 ※選択した資格及び研修に関して、必要に応じて、資格証又は研修修了証等の写しを添付資料として提出してください。"]
[null,"　　 ※ユニットケアリーダー研修を受講した従業者については、必要に応じて、ユニットケアリーダー研修修了証の写しを添付資料として提出してください。"]
[]
[null,"　(13) 従業者の氏名を記入してください。"]
[]
[null,"　(14) 申請する事業に係る従業者（管理者を含む。）の1ヶ月分の勤務時間数を入力してください。（別シートの「シフト記号表」を作成し、シフト記号を選択または入力してください。）"]
[null,"　　  ※指定基準の確認に際しては、4週分の入力で可とします。実績を表す場合には、暦月で入力ください。"]
[]
[null,"　(15) 従業者ごとに、合計勤務時間数が自動計算されますので、誤りがないか確認してください。"]
[null," 　　 ※入力することができる勤務時間数は、当該事業所において常勤の従業者が勤務すべき勤務時間数を上限とします。"]
[]
[null,"　(16) 従業者ごとに、週平均の勤務時間数が自動計算されますので、誤りがないか確認してください。"]
[]
[null,"　(17) 申請する事業所以外の事業所・施設との兼務がある場合は、兼務先の事業所・施設の名称、兼務する職務の内容、兼務時間数について記入してください。"]
[null,"　　　 同一事業所内の兼務についても兼務する職務の内容を記入してください。"]
[]
[null,"　(18) 常勤換算による配置が求められる職種について、各欄に該当する数字を確認・入力し、常勤換算後の人数を算出してください。"]

{"sheet":"（従来型）介護老人保健施設","index":5,"n_rows":146,"n_cols":66,"rows_kept":146,"cut":false,"hidden":false,"merged":[[0,49,0,64],[1,32,1,33],[1,35,1,36],[1,39,1,40],[1,49,1,64],[2,60,2,63],[10,16,10,18],[10,20,10,22],[9,41,9,42],[9,49,9,50],[9,54,9,55],[9,62,9,63],[11,16,11,18],[11,20,11,22],[4,52,4,53],[4,56,4,57],[4,60,4,61],[6,60,6,61],[8,26,8,27],[11,49,11,50],[11,62,11,63],[13,1,17,1],[13,2,17,2],[13,3,17,5],[13,6,17,7],[13,12,17,13],[13,14,17,17],[13,18,17,20],[13,21,17,25],[13,26,13,56],[20,12,20,13],[20,14,20,17],[20,57,20,58],[20,59,20,60],[13,57,17,58],[13,59,17,60],[13,61,17,65],[14,26,14,32],[14,33,14,39],[14,40,14,46],[14,47,14,53],[14,54,14,56],[18,61,20,65],[21,2,23,2],[21,3,23,5],[21,6,21,7],[21,12,21,13],[21,14,21,17],[21,18,23,20],[21,57,21,58],[21,59,21,60],[18,2,20,2],[18,3,20,5],[18,57,18,58],[18,59,18,60],[19,6,19,7],[19,12,19,13],[19,14,19,17],[19,57,19,58],[19,59,19,60],[20,6,20,7],[20,8,20,9],[18,6,18,7],[18,12,18,13],[18,14,18,17],[18,18,20,20],[20,10,20,11],[21,61,23,65],[22,6,22,7],[22,12,22,13],[22,14,22,17],[22,57,22,58],[22,59,22,60],[23,6,23,7],[23,8,23,9],[23,10,23,11],[23,12,23,13],[23,14,23,17],[23,57,23,58],[23,59,23,60],[24,2,26,2],[24,3,26,5],[24,6,24,7],[24,12,24,13],[24,14,24,17],[24,18,26,20],[24,57,24,58],[24,59,24,60],[24,61,26,65],[25,6,25,7],[25,12,25,13],[25,14,25,17],[25,57,25,58],[25,59,25,60],[26,6,26,7],[26,8,26,9],[26,10,26,11],[26,12,26,13],[26,14,26,17],[26,57,26,58],[26,59,26,60],[27,2,29,2],[27,3,29,5],[27,6,27,7],[27,12,27,13],[27,14,27,17],[27,18,29,20],[30,2,32,2],[30,3,32,5],[30,6,30,7],[30,12,30,13],[30,14,30,17],[27,57,27,58],[27,59,27,60],[27,61,29,65],[28,6,28,7],[28,12,28,13],[28,14,28,17],[28,57,28,58],[28,59,28,60],[29,6,29,7],[29,8,29,9],[30,61,32,65],[31,6,31,7],[31,12,31,13],[31,14,31,17],[31,57,31,58],[31,59,31,60],[32,6,32,7],[29,10,29,11],[29,12,29,13],[29,14,29,17],[29,57,29,58],[29,59,29,60],[32,8,32,9],[32,10,32,11],[32,12,32,13],[32,14,32,17],[32,57,32,58],[32,59,32,60],[30,18,32,20],[30,57,30,58],[30,59,30,60],[33,61,35,65],[34,6,34,7],[34,12,34,13],[34,14,34,17],[34,57,34,58],[34,59,34,60],[35,6,35,7],[35,8,35,9],[33,6,33,7],[33,12,33,13],[33,14,33,17],[33,18,35,20],[35,10,35,11],[35,12,35,13],[35,14,35,17],[35,57,35,58],[35,59,35,60],[36,2,38,2],[36,3,38,5],[36,6,36,7],[36,12,36,13],[36,14,36,17],[36,18,38,20],[36,57,36,58],[36,59,36,60],[33,2,35,2],[33,3,35,5],[33,57,33,58],[33,59,33,60],[36,61,38,65],[37,6,37,7],[37,12,37,13],[37,14,37,17],[37,57,37,58],[37,59,37,60],[38,6,38,7],[38,8,38,9],[38,10,38,11],[38,12,38,13],[38,14,38,17],[38,57,38,58],[38,59,38,60],[39,2,41,2],[39,3,41,5],[39,6,39,7],[39,12,39,13],[39,14,39,17],[39,18,41,20],[39,57,39,58],[39,59,39,60],[39,61,41,65],[40,6,40,7],[40,12,40,13],[40,14,40,17],[40,57,40,58],[40,59,40,60],[41,6,41,7],[41,8,41,9],[41,10,41,11],[41,12,41,13],[41,14,41,17],[41,57,41,58],[41,59,41,60],[42,2,44,2],[42,3,44,5],[42,6,42,7],[42,12,42,13],[42,14,42,17],[42,18,44,20],[45,2,47,2],[45,3,47,5],[45,6,45,7],[45,12,45,13],[45,14,45,17],[42,57,42,58],[42,59,42,60],[42,61,44,65],[43,6,43,7],[43,12,43,13],[43,14,43,17],[43,57,43,58],[43,59,43,60],[44,6,44,7],[44,8,44,9],[45,61,47,65],[46,6,46,7],[46,12,46,13],[46,14,46,17],[46,57,46,58],[46,59,46,60],[47,6,47,7],[44,10,44,11],[44,12,44,13],[44,14,44,17],[44,57,44,58],[44,59,44,60],[47,8,47,9],[47,10,47,11],[47,12,47,13],[47,14,47,17],[47,57,47,58],[47,59,47,60],[45,18,47,20],[45,57,45,58],[45,59,45,60],[48,61,50,65],[49,6,49,7],[49,12,49,13],[49,14,49,17],[49,57,49,58],[49,59,49,60],[50,6,50,7],[50,8,50,9],[48,6,48,7],[48,12,48,13],[48,14,48,17],[48,18,50,20],[50,10,50,11],[50,12,50,13],[50,14,50,17],[50,57,50,58],[50,59,50,60],[51,2,53,2],[51,3,53,5],[51,6,51,7],[51,12,51,13],[51,14,51,17],[51,18,53,20],[51,57,51,58],[51,59,51,60],[48,2,50,2],[48,3,50,5],[48,57,48,58],[48,59,48,60],[51,61,53,65],[52,6,52,7],[52,12,52,13],[52,14,52,17],[52,57,52,58],[52,59,52,60],[53,6,53,7],[53,8,53,9],[53,10,53,11],[53,12,53,13],[53,14,53,17],[53,57,53,58],[53,59,53,60],[54,2,56,2],[54,3,56,5],[54,6,54,7],[54,12,54,13],[54,14,54,17],[54,18,56,20],[54,57,54,58],[54,59,54,60],[54,61,56,65],[55,6,55,7],[55,12,55,13],[55,14,55,17],[55,57,55,58],[55,59,55,60],[56,6,56,7],[56,8,56,9],[56,10,56,11],[56,12,56,13],[56,14,56,17],[56,57,56,58],[56,59,56,60],[57,2,59,2],[57,3,59,5],[57,6,57,7],[57,12,57,13],[57,14,57,17],[57,18,59,20],[60,2,62,2],[60,3,62,5],[60,6,60,7],[60,12,60,13],[60,14,60,17],[57,57,57,58],[57,59,57,60],[57,61,59,65],[58,6,58,7],[58,12,58,13],[58,14,58,17],[58,57,58,58],[58,59,58,60],[59,6,59,7],[59,8,59,9],[60,61,62,65],[61,6,61,7],[61,12,61,13],[61,14,61,17],[61,57,61,58],[61,59,61,60],[62,6,62,7],[59,10,59,11],[59,12,59,13],[59,14,59,17],[59,57,59,58],[59,59,59,60],[62,8,62,9],[62,10,62,11],[62,12,62,13],[62,14,62,17],[62,57,62,58],[62,59,62,60],[60,18,62,20],[60,57,60,58],[60,59,60,60],[63,61,65,65],[64,6,64,7],[64,12,64,13],[64,14,64,17],[64,57,64,58],[64,59,64,60],[65,6,65,7],[65,8,65,9],[63,6,63,7],[63,12,63,13],[63,14,63,17],[63,18,65,20],[65,10,65,11],[65,12,65,13],[65,14,65,17],[65,57,65,58],[65,59,65,60],[66,2,68,2],[66,3,68,5],[66,6,66,7],[66,12,66,13],[66,14,66,17],[66,18,68,20],[66,57,66,58],[66,59,66,60],[63,2,65,2],[63,3,65,5],[63,57,63,58],[63,59,63,60],[66,61,68,65],[67,6,67,7],[67,12,67,13],[67,14,67,17],[67,57,67,58],[67,59,67,60],[68,6,68,7],[68,8,68,9],[68,10,68,11],[68,12,68,13],[68,14,68,17],[68,57,68,58],[68,59,68,60],[69,2,71,2],[69,3,71,5],[69,6,69,7],[69,12,69,13],[69,14,69,17],[69,18,71,20],[69,57,69,58],[69,59,69,60],[69,61,71,65],[70,6,70,7],[70,12,70,13],[70,14,70,17],[70,57,70,58],[70,59,70,60],[71,6,71,7],[71,8,71,9],[71,10,71,11],[71,12,71,13],[71,14,71,17],[71,57,71,58],[71,59,71,60],[72,2,74,2],[72,3,74,5],[72,6,72,7],[72,12,72,13],[72,14,72,17],[72,18,74,20],[75,2,77,2],[75,3,77,5],[75,6,75,7],[75,12,75,13],[75,14,75,17],[72,57,72,58],[72,59,72,60],[72,61,74,65],[73,6,73,7],[73,12,73,13],[73,14,73,17],[73,57,73,58],[73,59,73,60],[74,6,74,7],[74,8,74,9],[75,61,77,65],[76,6,76,7],[76,12,76,13],[76,14,76,17],[76,57,76,58],[76,59,76,60],[77,6,77,7],[74,10,74,11],[74,12,74,13],[74,14,74,17],[74,57,74,58],[74,59,74,60],[77,8,77,9],[77,10,77,11],[77,12,77,13],[77,14,77,17],[77,57,77,58],[77,59,77,60],[75,18,77,20],[75,57,75,58],[75,59,75,60],[78,61,80,65],[79,6,79,7],[79,12,79,13],[79,14,79,17],[79,57,79,58],[79,59,79,60],[80,6,80,7],[80,8,80,9],[78,6,78,7],[78,12,78,13],[78,14,78,17],[78,18,80,20],[80,10,80,11],[80,12,80,13],[80,14,80,17],[80,57,80,58],[80,59,80,60],[81,2,83,2],[81,3,83,5],[81,6,81,7],[81,12,81,13],[81,14,81,17],[81,18,83,20],[81,57,81,58],[81,59,81,60],[78,2,80,2],[78,3,80,5],[78,57,78,58],[78,59,78,60],[81,61,83,65],[82,6,82,7],[82,12,82,13],[82,14,82,17],[82,57,82,58],[82,59,82,60],[83,6,83,7],[83,8,83,9],[83,10,83,11],[83,12,83,13],[83,14,83,17],[83,57,83,58],[83,59,83,60],[84,2,86,2],[84,3,86,5],[84,6,84,7],[84,12,84,13],[84,14,84,17],[84,18,86,20],[84,57,84,58],[84,59,84,60],[84,61,86,65],[85,6,85,7],[85,12,85,13],[85,14,85,17],[85,57,85,58],[85,59,85,60],[86,6,86,7],[86,8,86,9],[86,10,86,11],[86,12,86,13],[86,14,86,17],[86,57,86,58],[86,59,86,60],[87,2,89,2],[87,3,89,5],[87,6,87,7],[87,12,87,13],[87,14,87,17],[87,18,89,20],[90,2,92,2],[90,3,92,5],[90,6,90,7],[90,12,90,13],[90,14,90,17],[87,57,87,58],[87,59,87,60],[87,61,89,65],[88,6,88,7],[88,12,88,13],[88,14,88,17],[88,57,88,58],[88,59,88,60],[89,6,89,7],[89,8,89,9],[90,61,92,65],[91,6,91,7],[91,12,91,13],[91,14,91,17],[91,57,91,58],[91,59,91,60],[92,6,92,7],[89,10,89,11],[89,12,89,13],[89,14,89,17],[89,57,89,58],[89,59,89,60],[92,8,92,9],[92,10,92,11],[92,12,92,13],[92,14,92,17],[92,57,92,58],[92,59,92,60],[90,18,92,20],[90,57,90,58],[90,59,90,60],[93,61,95,65],[94,6,94,7],[94,12,94,13],[94,14,94,17],[94,57,94,58],[94,59,94,60],[95,6,95,7],[95,8,95,9],[93,6,93,7],[93,12,93,13],[93,14,93,17],[93,18,95,20],[95,10,95,11],[95,12,95,13],[95,14,95,17],[95,57,95,58],[95,59,95,60],[96,2,98,2],[96,3,98,5],[96,6,96,7],[96,12,96,13],[96,14,96,17],[96,18,98,20],[96,57,96,58],[96,59,96,60],[93,2,95,2],[93,3,95,5],[93,57,93,58],[93,59,93,60],[96,61,98,65],[97,6,97,7],[97,12,97,13],[97,14,97,17],[97,57,97,58],[97,59,97,60],[98,6,98,7],[98,8,98,9],[98,10,98,11],[98,12,98,13],[98,14,98,17],[98,57,98,58],[98,59,98,60],[99,2,101,2],[99,3,101,5],[99,6,99,7],[99,12,99,13],[99,14,99,17],[99,18,101,20],[99,57,99,58],[99,59,99,60],[99,61,101,65],[100,6,100,7],[100,12,100,13],[100,14,100,17],[100,57,100,58],[100,59,100,60],[101,6,101,7],[101,8,101,9],[101,10,101,11],[101,12,101,13],[101,14,101,17],[101,57,101,58],[101,59,101,60],[102,2,104,2],[102,3,104,5],[102,6,102,7],[102,12,102,13],[102,14,102,17],[102,18,104,20],[105,2,107,2],[105,3,107,5],[105,6,105,7],[105,12,105,13],[105,14,105,17],[102,57,102,58],[102,59,102,60],[102,61,104,65],[103,6,103,7],[103,12,103,13],[103,14,103,17],[103,57,103,58],[103,59,103,60],[104,6,104,7],[104,8,104,9],[105,61,107,65],[106,6,106,7],[106,12,106,13],[106,14,106,17],[106,57,106,58],[106,59,106,60],[107,6,107,7],[104,10,104,11],[104,12,104,13],[104,14,104,17],[104,57,104,58],[104,59,104,60],[107,8,107,9],[107,10,107,11],[107,12,107,13],[107,14,107,17],[107,57,107,58],[107,59,107,60],[105,18,107,20],[105,57,105,58],[105,59,105,60],[108,61,110,65],[109,6,109,7],[109,12,109,13],[109,14,109,17],[109,57,109,58],[109,59,109,60],[110,6,110,7],[110,8,110,9],[108,6,108,7],[108,12,108,13],[108,14,108,17],[108,18,110,20],[110,10,110,11],[110,12,110,13],[110,14,110,17],[110,57,110,58],[110,59,110,60],[111,2,113,2],[111,3,113,5],[111,6,111,7],[111,12,111,13],[111,14,111,17],[111,18,113,20],[111,57,111,58],[111,59,111,60],[108,2,110,2],[108,3,110,5],[108,57,108,58],[108,59,108,60],[111,61,113,65],[112,6,112,7],[112,12,112,13],[112,14,112,17],[112,57,112,58],[112,59,112,60],[113,6,113,7],[113,8,113,9],[113,10,113,11],[113,12,113,13],[113,14,113,17],[113,57,113,58],[113,59,113,60],[114,2,116,2],[114,3,116,5],[114,6,114,7],[114,12,114,13],[114,14,114,17],[114,18,116,20],[114,57,114,58],[114,59,114,60],[114,61,116,65],[115,6,115,7],[115,12,115,13],[115,14,115,17],[115,57,115,58],[115,59,115,60],[116,6,116,7],[116,8,116,9],[116,10,116,11],[116,12,116,13],[116,14,116,17],[116,57,116,58],[116,59,116,60],[117,2,119,2],[117,3,119,5],[117,6,117,7],[117,12,117,13],[117,14,117,17],[117,18,119,20],[120,2,122,2],[120,3,122,5],[120,6,120,7],[120,12,120,13],[120,14,120,17],[117,57,117,58],[117,59,117,60],[117,61,119,65],[118,6,118,7],[118,12,118,13],[118,14,118,17],[118,57,118,58],[118,59,118,60],[119,6,119,7],[119,8,119,9],[120,61,122,65],[121,6,121,7],[121,12,121,13],[121,14,121,17],[121,57,121,58],[121,59,121,60],[122,6,122,7],[119,10,119,11],[119,12,119,13],[119,14,119,17],[119,57,119,58],[119,59,119,60],[122,8,122,9],[122,10,122,11],[122,12,122,13],[122,14,122,17],[122,57,122,58],[122,59,122,60],[120,18,122,20],[120,57,120,58],[120,59,120,60],[123,2,125,2],[123,3,125,5],[123,6,123,7],[123,12,123,13],[123,14,123,17],[123,18,125,20],[125,10,125,11],[125,12,125,13],[125,14,125,17],[123,57,123,58],[123,59,123,60],[123,61,125,65],[124,6,124,7],[124,12,124,13],[124,14,124,17],[124,57,124,58],[124,59,124,60],[125,6,125,7],[125,8,125,9],[125,57,125,58],[125,59,125,60],[129,14,130,15],[129,16,129,19],[129,21,129,24],[129,30,130,31],[129,32,129,35],[129,37,129,40],[130,37,130,38],[130,39,130,40],[130,56,130,59],[130,32,130,33],[130,34,130,35],[130,16,130,17],[130,18,130,19],[130,21,130,22],[130,23,130,24],[132,42,132,43],[131,46,131,49],[131,51,131,54],[131,37,131,38],[131,39,131,40],[131,42,131,43],[132,23,132,24],[132,26,132,27],[131,30,131,31],[131,32,131,33],[131,34,131,35],[132,30,132,31],[132,32,132,33],[132,34,132,35],[132,39,132,40],[131,56,131,59],[131,14,131,15],[131,16,131,17],[133,30,133,31],[133,32,133,33],[133,34,133,35],[133,37,133,38],[133,39,133,40],[133,42,133,43],[133,14,133,15],[133,16,133,17],[133,18,133,19],[133,21,133,22],[133,23,133,24],[133,26,133,27],[132,14,132,15],[132,16,132,17],[132,18,132,19],[132,21,132,22],[131,18,131,19],[131,21,131,22],[131,23,131,24],[131,26,131,27],[132,37,132,38],[134,37,134,38],[134,39,134,40],[134,42,134,43],[134,14,134,15],[134,16,134,17],[134,18,134,19],[134,21,134,22],[134,23,134,24],[134,26,134,27],[135,14,135,15],[135,16,135,17],[135,18,135,19],[135,21,135,22],[135,23,135,24],[135,26,135,27],[134,30,134,31],[134,32,134,33],[134,34,134,35],[135,46,135,47],[135,48,135,51],[136,46,136,47],[136,48,136,51],[137,46,137,47],[137,48,137,51],[135,30,135,31],[135,32,135,33],[135,34,135,35],[135,37,135,38],[135,39,135,40],[135,42,135,43],[138,46,138,47],[138,48,138,51],[139,46,139,47],[139,48,139,51],[140,14,140,17],[140,19,140,22],[140,24,140,27],[140,30,140,33],[140,35,140,38],[140,40,140,43],[143,24,143,27],[143,40,143,43],[144,24,144,27],[144,40,144,43],[145,14,145,17],[145,19,145,22],[145,24,145,27],[145,30,145,33],[145,35,145,38],[145,40,145,43]]}
[null,null,null,null,null,null,"（参考様式）",null,null,null,null,null,null,null,null,null,"従業者の勤務の体制及び勤務形態一覧表　",null,null,null,null,null,null,null,null,null,null,null,null,null,null,null,null,null,null,null,null,null,null,null,null,null,null,null,null,null,null,null,"サービス種別（","指定介護老人福祉施設（従来型）",null,null,null,null,null,null,null,null,null,null,null,null,null,null,null,"）"]
[null,null,null,null,null,null,null,null,null,null,null,null,null,null,null,null,null,null,null,null,null,null,null,null,null,null,null,null,null,null,null,"令和",2,null,"(",{"$f":"IF(AG2=0,\"\",YEAR(DATE(2018+AG2,1,1)))","v":2020},null,")","年",4,null,"月",null,null,null,null,null,null,"事業所名（","○○○○",null,null,null,null,null,null,null,null,null,null,null,null,null,null,null,"）"]
[null,null,null,null,null,null,null,null,null,null,null,null,null,null,null,null,null,null,null,null,null,null,null,null,null,null,null,null,null,null,null,null,null,null,null,null,null,null,null,null,null,null,null,null,null,null,null,null,null,null,null,null,null,null,null,null,null,null,null,"(1)","計画"]
[]
[null,null,null,null,null,null,null,null,null,null,null,null,null,null,null,null,null,null,null,null,null,null,null,null,null,null,null,null,null,null,null,null,null,null,null,null,null,null,null,null,"(2) 事業所における常勤の従業者が勤務すべき時間数",null,null,null,null,null,null,null,null,null,null,null,8,null,"時間/日",null,40,null,"時間/週",null,160,null,"時間/月"]
[]
[null,null,null,null,null,null,null,null,null,null,null,null,null,null,null,null,null,null,null,null,null,null,null,null,null,null,null,null,null,null,null,null,null,null,null,null,null,null,null,null,null,null,null,null,null,null,null,null,null,null,null,null,null,null,null,null,null,"当月の日数",null,null,{"$f":"DAY(EOMONTH(DATE(AJ2,AN2,1),0))","v":30},null,"日"]
[null,null,null,null,null,null,null,null,null,null,null,null,null,null,null,null,null,null,null,null,null,null,null,null,null,null,null,null,null,null,null,null,null,null,null,null,null,null,null,null,"(介護老人保健施設）",null,null,null,null,null,null,null,null,null,null,null,null,"(短期入所療養介護）"]
[null,null,null,null,null,null,null,null,null,null,null,null,null,null,null,null,null,null,null,null,null,null,null,null,null,null,null,null,null,null,null,null,null,null,null,null,null,null,null,null,"(4) 入所定員",null,null,null,"(5) 入所者数",null,null,null,null,null,null,null,null,"(6) 利用定員",null,null,null,"(7) 利用者数"]
[null,"(3) 日中／夜勤の時間帯の区分",null,null,null,null,null,null,null,null,null,null,null,null,null,null,null,null,null,null,null,null,null,null,null,null,null,null,null,null,null,null,null,null,null,null,null,null,null,null,null,null,null,"人",null,"前年度の平均値",null,null,null,null,null,"人",null,null,null,null,"人",null,"前年度の平均値",null,null,null,null,null,"人"]
[null,"日中（夜勤時間帯以外）の時間帯",null,null,null,null,null,null,null,null,null,null,null,null,null,null,{"$f":"U12","v":"09:00:00"},null,null,"～",{"$f":"Q12","v":"17:00:00"},null,null,null,null,null,null,null,null,null,null,null,null,null,null,null,null,null,null,null,null,null,null,null,null,"（新規に指定を受ける場合）",null,null,null,null,null,null,null,null,null,null,null,null,"（新規に指定を受ける場合）"]
[null,"夜勤時間帯",null,null,null,null,null,null,null,null,null,null,null,null,null,null,"17:00:00",null,null,"～","09:00:00",null,null,null,null,null,null,null,null,null,null,null,null,null,null,null,null,null,null,null,null,null,null,null,null,"推定数",null,null,null,null,null,"人",null,null,null,null,null,null,"推定数",null,null,null,null,null,"人"]
[]
[null,"No","(6)\nユニットリーダー","(7)ユニット名",null,null,"(8) \n職種",null,null,null,null,null,"(9)\n勤務\n形態",null,"(10) 資格",null,null,null,"(11) 氏　名",null,null,"日中／夜勤時間帯\nの区分",null,null,null,null,"(12) 勤 務 時 間 数",null,null,null,null,null,null,null,null,null,null,null,null,null,null,null,null,null,null,null,null,null,null,null,null,null,null,null,null,null,null,{"$f":"IF(BI3=\"計画\",\"(13)1～4週目の勤務時間数合計\",\"(13)1か月の勤務時間数　合計\")","v":"(13)1～4週目の勤務時間数合計"},null,"(14)\n週平均\n勤務時間数",null,"(15) 兼務状況\n（兼務先/兼務する職務の内容\n/兼務時間数））"]
[null,null,null,null,null,null,null,null,null,null,null,null,null,null,null,null,null,null,null,null,null,null,null,null,null,null,"1週目",null,null,null,null,null,null,"2週目",null,null,null,null,null,null,"3週目",null,null,null,null,null,null,"4週目",null,null,null,null,null,null,"5週目"]
[null,null,null,null,null,null,null,null,null,null,null,null,null,null,null,null,null,null,null,null,null,null,null,null,null,null,1,2,3,4,5,6,7,8,9,10,11,12,13,14,15,16,17,18,19,20,21,22,23,24,25,26,27,28,{"$f":"IF($BI$3=\"実績\",IF(DAY(DATE($AJ$2,$AN$2,29))=29,29,\"\"),\"\")","v":""},{"$f":"IF($BI$3=\"実績\",IF(DAY(DATE($AJ$2,$AN$2,30))=30,30,\"\"),\"\")","v":""},{"$f":"IF($BI$3=\"実績\",IF(DAY(DATE($AJ$2,$AN$2,31))=31,31,\"\"),\"\")","v":""}]
[null,null,null,null,null,null,null,null,null,null,null,null,null,null,null,null,null,null,null,null,null,null,null,null,null,null,{"$f":"WEEKDAY(DATE($AJ$2,$AN$2,1))","v":4},{"$f":"WEEKDAY(DATE($AJ$2,$AN$2,2))","v":5},{"$f":"WEEKDAY(DATE($AJ$2,$AN$2,3))","v":6},{"$f":"WEEKDAY(DATE($AJ$2,$AN$2,4))","v":7},{"$f":"WEEKDAY(DATE($AJ$2,$AN$2,5))","v":1},{"$f":"WEEKDAY(DATE($AJ$2,$AN$2,6))","v":2},{"$f":"WEEKDAY(DATE($AJ$2,$AN$2,7))","v":3},{"$f":"WEEKDAY(DATE($AJ$2,$AN$2,8))","v":4},{"$f":"WEEKDAY(DATE($AJ$2,$AN$2,9))","v":5},{"$f":"WEEKDAY(DATE($AJ$2,$AN$2,10))","v":6},{"$f":"WEEKDAY(DATE($AJ$2,$AN$2,11))","v":7},{"$f":"WEEKDAY(DATE($AJ$2,$AN$2,12))","v":1},{"$f":"WEEKDAY(DATE($AJ$2,$AN$2,13))","v":2},{"$f":"WEEKDAY(DATE($AJ$2,$AN$2,14))","v":3},{"$f":"WEEKDAY(DATE($AJ$2,$AN$2,15))","v":4},{"$f":"WEEKDAY(DATE($AJ$2,$AN$2,16))","v":5},{"$f":"WEEKDAY(DATE($AJ$2,$AN$2,17))","v":6},{"$f":"WEEKDAY(DATE($AJ$2,$AN$2,18))","v":7},{"$f":"WEEKDAY(DATE($AJ$2,$AN$2,19))","v":1},{"$f":"WEEKDAY(DATE($AJ$2,$AN$2,20))","v":2},{"$f":"WEEKDAY(DATE($AJ$2,$AN$2,21))","v":3},{"$f":"WEEKDAY(DATE($AJ$2,$AN$2,22))","v":4},{"$f":"WEEKDAY(DATE($AJ$2,$AN$2,23))","v":5},{"$f":"WEEKDAY(DATE($AJ$2,$AN$2,24))","v":6},{"$f":"WEEKDAY(DATE($AJ$2,$AN$2,25))","v":7},{"$f":"WEEKDAY(DATE($AJ$2,$AN$2,26))","v":1},{"$f":"WEEKDAY(DATE($AJ$2,$AN$2,27))","v":2},{"$f":"WEEKDAY(DATE($AJ$2,$AN$2,28))","v":3},{"$f":"IF(BC16=29,WEEKDAY(DATE($AJ$2,$AN$2,29)),0)","v":0},{"$f":"IF(BD16=30,WEEKDAY(DATE($AJ$2,$AN$2,30)),0)","v":0},{"$f":"IF(BE16=31,WEEKDAY(DATE($AJ$2,$AN$2,31)),0)","v":0}]
[null,null,null,null,null,null,null,null,null,null,null,null,null,null,null,null,null,null,null,null,null,null,null,null,null,null,{"$f":"IF(AA17=1,\"日\",IF(AA17=2,\"月\",IF(AA17=3,\"火\",IF(AA17=4,\"水\",IF(AA17=5,\"木\",IF(AA17=6,\"金\",\"土\"))))))","v":"水"},{"$f":"IF(AB17=1,\"日\",IF(AB17=2,\"月\",IF(AB17=3,\"火\",IF(AB17=4,\"水\",IF(AB17=5,\"木\",IF(AB17=6,\"金\",\"土\"))))))","v":"木"},"金","土","日","月","火",{"$f":"IF(AH17=1,\"日\",IF(AH17=2,\"月\",IF(AH17=3,\"火\",IF(AH17=4,\"水\",IF(AH17=5,\"木\",IF(AH17=6,\"金\",\"土\"))))))","v":"水"},"木","金","土","日","月","火",{"$f":"IF(AO17=1,\"日\",IF(AO17=2,\"月\",IF(AO17=3,\"火\",IF(AO17=4,\"水\",IF(AO17=5,\"木\",IF(AO17=6,\"金\",\"土\"))))))","v":"水"},"木","金","土","日","月","火",{"$f":"IF(AV17=1,\"日\",IF(AV17=2,\"月\",IF(AV17=3,\"火\",IF(AV17=4,\"水\",IF(AV17=5,\"木\",IF(AV17=6,\"金\",\"土\"))))))","v":"水"},"木","金","土","日","月","火",{"$f":"IF(BC17=1,\"日\",IF(BC17=2,\"月\",IF(BC17=3,\"火\",IF(BC17=4,\"水\",IF(BC17=5,\"木\",IF(BC17=6,\"金\",IF(BC17=0,\"\",\"土\")))))))","v":""},{"$f":"IF(BD17=1,\"日\",IF(BD17=2,\"月\",IF(BD17=3,\"火\",IF(BD17=4,\"水\",IF(BD17=5,\"木\",IF(BD17=6,\"金\",IF(BD17=0,\"\",\"土\")))))))","v":""},{"$f":"IF(BE17=1,\"日\",IF(BE17=2,\"月\",IF(BE17=3,\"火\",IF(BE17=4,\"水\",IF(BE17=5,\"木\",IF(BE17=6,\"金\",IF(BE17=0,\"\",\"土\")))))))","v":""}]
[null,null,null,null,null,null,null,null,null,null,null,null,null,null,null,null,null,null,null,null,null,"シフト記号"]
[null,1,null,null,null,null,null,null,null,null,null,null,null,null,null,null,null,null,null,null,null,"日中の勤務時間数",null,null,null,null,{"$f":"IF(AA19=\"\",\"\",VLOOKUP(AA19,'（従来型）シフト記号表'!$C$5:$W$46,21,FALSE))","v":""},{"$f":"IF(AB19=\"\",\"\",VLOOKUP(AB19,'（従来型）シフト記号表'!$C$5:$W$46,21,FALSE))","v":""},{"$f":"IF(AC19=\"\",\"\",VLOOKUP(AC19,'（従来型）シフト記号表'!$C$5:$W$46,21,FALSE))","v":""},{"$f":"IF(AD19=\"\",\"\",VLOOKUP(AD19,'（従来型）シフト記号表'!$C$5:$W$46,21,FALSE))","v":""},{"$f":"IF(AE19=\"\",\"\",VLOOKUP(AE19,'（従来型）シフト記号表'!$C$5:$W$46,21,FALSE))","v":""},{"$f":"IF(AF19=\"\",\"\",VLOOKUP(AF19,'（従来型）シフト記号表'!$C$5:$W$46,21,FALSE))","v":""},{"$f":"IF(AG19=\"\",\"\",VLOOKUP(AG19,'（従来型）シフト記号表'!$C$5:$W$46,21,FALSE))","v":""},{"$f":"IF(AH19=\"\",\"\",VLOOKUP(AH19,'（従来型）シフト記号表'!$C$5:$W$46,21,FALSE))","v":""},{"$f":"IF(AI19=\"\",\"\",VLOOKUP(AI19,'（従来型）シフト記号表'!$C$5:$W$46,21,FALSE))","v":""},{"$f":"IF(AJ19=\"\",\"\",VLOOKUP(AJ19,'（従来型）シフト記号表'!$C$5:$W$46,21,FALSE))","v":""},{"$f":"IF(AK19=\"\",\"\",VLOOKUP(AK19,'（従来型）シフト記号表'!$C$5:$W$46,21,FALSE))","v":""},{"$f":"IF(AL19=\"\",\"\",VLOOKUP(AL19,'（従来型）シフト記号表'!$C$5:$W$46,21,FALSE))","v":""},{"$f":"IF(AM19=\"\",\"\",VLOOKUP(AM19,'（従来型）シフト記号表'!$C$5:$W$46,21,FALSE))","v":""},{"$f":"IF(AN19=\"\",\"\",VLOOKUP(AN19,'（従来型）シフト記号表'!$C$5:$W$46,21,FALSE))","v":""},{"$f":"IF(AO19=\"\",\"\",VLOOKUP(AO19,'（従来型）シフト記号表'!$C$5:$W$46,21,FALSE))","v":""},{"$f":"IF(AP19=\"\",\"\",VLOOKUP(AP19,'（従来型）シフト記号表'!$C$5:$W$46,21,FALSE))","v":""},{"$f":"IF(AQ19=\"\",\"\",VLOOKUP(AQ19,'（従来型）シフト記号表'!$C$5:$W$46,21,FALSE))","v":""},{"$f":"IF(AR19=\"\",\"\",VLOOKUP(AR19,'（従来型）シフト記号表'!$C$5:$W$46,21,FALSE))","v":""},{"$f":"IF(AS19=\"\",\"\",VLOOKUP(AS19,'（従来型）シフト記号表'!$C$5:$W$46,21,FALSE))","v":""},{"$f":"IF(AT19=\"\",\"\",VLOOKUP(AT19,'（従来型）シフト記号表'!$C$5:$W$46,21,FALSE))","v":""},{"$f":"IF(AU19=\"\",\"\",VLOOKUP(AU19,'（従来型）シフト記号表'!$C$5:$W$46,21,FALSE))","v":""},{"$f":"IF(AV19=\"\",\"\",VLOOKUP(AV19,'（従来型）シフト記号表'!$C$5:$W$46,21,FALSE))","v":""},{"$f":"IF(AW19=\"\",\"\",VLOOKUP(AW19,'（従来型）シフト記号表'!$C$5:$W$46,21,FALSE))","v":""},{"$f":"IF(AX19=\"\",\"\",VLOOKUP(AX19,'（従来型）シフト記号表'!$C$5:$W$46,21,FALSE))","v":""},{"$f":"IF(AY19=\"\",\"\",VLOOKUP(AY19,'（従来型）シフト記号表'!$C$5:$W$46,21,FALSE))","v":""},{"$f":"IF(AZ19=\"\",\"\",VLOOKUP(AZ19,'（従来型）シフト記号表'!$C$5:$W$46,21,FALSE))","v":""},{"$f":"IF(BA19=\"\",\"\",VLOOKUP(BA19,'（従来型）シフト記号表'!$C$5:$W$46,21,FALSE))","v":""},{"$f":"IF(BB19=\"\",\"\",VLOOKUP(BB19,'（従来型）シフト記号表'!$C$5:$W$46,21,FALSE))","v":""},{"$f":"IF(BC19=\"\",\"\",VLOOKUP(BC19,'（従来型）シフト記号表'!$C$5:$W$46,21,FALSE))","v":""},{"$f":"IF(BD19=\"\",\"\",VLOOKUP(BD19,'（従来型）シフト記号表'!$C$5:$W$46,21,FALSE))","v":""},{"$f":"IF(BE19=\"\",\"\",VLOOKUP(BE19,'（従来型）シフト記号表'!$C$5:$W$46,21,FALSE))","v":""},{"$f":"IF($BI$3=\"計画\",SUM(AA20:BB20),IF($BI$3=\"実績\",SUM(AA20:BE20),\"\"))","v":0},null,{"$f":"IF($BI$3=\"計画\",BF20/4,IF($BI$3=\"実績\",(BF20/($BI$7/7)),\"\"))","v":0}]
[null,null,null,null,null,null,null,null,{"$f":"G20","v":0},null,{"$f":"M20","v":0},null,null,null,null,null,null,null,null,null,null,"夜勤時間帯の勤務時間数",null,null,null,null,{"$f":"IF(AA19=\"\",\"\",VLOOKUP(AA19,'（従来型）シフト記号表'!$C$5:$Y$46,23,FALSE))","v":""},{"$f":"IF(AB19=\"\",\"\",VLOOKUP(AB19,'（従来型）シフト記号表'!$C$5:$Y$46,23,FALSE))","v":""},{"$f":"IF(AC19=\"\",\"\",VLOOKUP(AC19,'（従来型）シフト記号表'!$C$5:$Y$46,23,FALSE))","v":""},{"$f":"IF(AD19=\"\",\"\",VLOOKUP(AD19,'（従来型）シフト記号表'!$C$5:$Y$46,23,FALSE))","v":""},{"$f":"IF(AE19=\"\",\"\",VLOOKUP(AE19,'（従来型）シフト記号表'!$C$5:$Y$46,23,FALSE))","v":""},{"$f":"IF(AF19=\"\",\"\",VLOOKUP(AF19,'（従来型）シフト記号表'!$C$5:$Y$46,23,FALSE))","v":""},{"$f":"IF(AG19=\"\",\"\",VLOOKUP(AG19,'（従来型）シフト記号表'!$C$5:$Y$46,23,FALSE))","v":""},{"$f":"IF(AH19=\"\",\"\",VLOOKUP(AH19,'（従来型）シフト記号表'!$C$5:$Y$46,23,FALSE))","v":""},{"$f":"IF(AI19=\"\",\"\",VLOOKUP(AI19,'（従来型）シフト記号表'!$C$5:$Y$46,23,FALSE))","v":""},{"$f":"IF(AJ19=\"\",\"\",VLOOKUP(AJ19,'（従来型）シフト記号表'!$C$5:$Y$46,23,FALSE))","v":""},{"$f":"IF(AK19=\"\",\"\",VLOOKUP(AK19,'（従来型）シフト記号表'!$C$5:$Y$46,23,FALSE))","v":""},{"$f":"IF(AL19=\"\",\"\",VLOOKUP(AL19,'（従来型）シフト記号表'!$C$5:$Y$46,23,FALSE))","v":""},{"$f":"IF(AM19=\"\",\"\",VLOOKUP(AM19,'（従来型）シフト記号表'!$C$5:$Y$46,23,FALSE))","v":""},{"$f":"IF(AN19=\"\",\"\",VLOOKUP(AN19,'（従来型）シフト記号表'!$C$5:$Y$46,23,FALSE))","v":""},{"$f":"IF(AO19=\"\",\"\",VLOOKUP(AO19,'（従来型）シフト記号表'!$C$5:$Y$46,23,FALSE))","v":""},{"$f":"IF(AP19=\"\",\"\",VLOOKUP(AP19,'（従来型）シフト記号表'!$C$5:$Y$46,23,FALSE))","v":""},{"$f":"IF(AQ19=\"\",\"\",VLOOKUP(AQ19,'（従来型）シフト記号表'!$C$5:$Y$46,23,FALSE))","v":""},{"$f":"IF(AR19=\"\",\"\",VLOOKUP(AR19,'（従来型）シフト記号表'!$C$5:$Y$46,23,FALSE))","v":""},{"$f":"IF(AS19=\"\",\"\",VLOOKUP(AS19,'（従来型）シフト記号表'!$C$5:$Y$46,23,FALSE))","v":""},{"$f":"IF(AT19=\"\",\"\",VLOOKUP(AT19,'（従来型）シフト記号表'!$C$5:$Y$46,23,FALSE))","v":""},{"$f":"IF(AU19=\"\",\"\",VLOOKUP(AU19,'（従来型）シフト記号表'!$C$5:$Y$46,23,FALSE))","v":""},{"$f":"IF(AV19=\"\",\"\",VLOOKUP(AV19,'（従来型）シフト記号表'!$C$5:$Y$46,23,FALSE))","v":""},{"$f":"IF(AW19=\"\",\"\",VLOOKUP(AW19,'（従来型）シフト記号表'!$C$5:$Y$46,23,FALSE))","v":""},{"$f":"IF(AX19=\"\",\"\",VLOOKUP(AX19,'（従来型）シフト記号表'!$C$5:$Y$46,23,FALSE))","v":""},{"$f":"IF(AY19=\"\",\"\",VLOOKUP(AY19,'（従来型）シフト記号表'!$C$5:$Y$46,23,FALSE))","v":""},{"$f":"IF(AZ19=\"\",\"\",VLOOKUP(AZ19,'（従来型）シフト記号表'!$C$5:$Y$46,23,FALSE))","v":""},{"$f":"IF(BA19=\"\",\"\",VLOOKUP(BA19,'（従来型）シフト記号表'!$C$5:$Y$46,23,FALSE))","v":""},{"$f":"IF(BB19=\"\",\"\",VLOOKUP(BB19,'（従来型）シフト記号表'!$C$5:$Y$46,23,FALSE))","v":""},{"$f":"IF(BC19=\"\",\"\",VLOOKUP(BC19,'（従来型）シフト記号表'!$C$5:$Y$46,23,FALSE))","v":""},{"$f":"IF(BD19=\"\",\"\",VLOOKUP(BD19,'（従来型）シフト記号表'!$C$5:$Y$46,23,FALSE))","v":""},{"$f":"IF(BE19=\"\",\"\",VLOOKUP(BE19,'（従来型）シフト記号表'!$C$5:$Y$46,23,FALSE))","v":""},{"$f":"IF($BI$3=\"計画\",SUM(AA21:BB21),IF($BI$3=\"実績\",SUM(AA21:BE21),\"\"))","v":0},null,{"$f":"IF($BI$3=\"計画\",BF21/4,IF($BI$3=\"実績\",(BF21/($BI$7/7)),\"\"))","v":0}]
[null,null,null,null,null,null,null,null,null,null,null,null,null,null,null,null,null,null,null,null,null,"シフト記号"]
[null,{"$f":"B20+1","v":2},null,null,null,null,null,null,null,null,null,null,null,null,null,null,null,null,null,null,null,"日中の勤務時間数",null,null,null,null,{"$f":"IF(AA22=\"\",\"\",VLOOKUP(AA22,'（従来型）シフト記号表'!$C$5:$W$46,21,FALSE))","v":""},{"$f":"IF(AB22=\"\",\"\",VLOOKUP(AB22,'（従来型）シフト記号表'!$C$5:$W$46,21,FALSE))","v":""},{"$f":"IF(AC22=\"\",\"\",VLOOKUP(AC22,'（従来型）シフト記号表'!$C$5:$W$46,21,FALSE))","v":""},{"$f":"IF(AD22=\"\",\"\",VLOOKUP(AD22,'（従来型）シフト記号表'!$C$5:$W$46,21,FALSE))","v":""},{"$f":"IF(AE22=\"\",\"\",VLOOKUP(AE22,'（従来型）シフト記号表'!$C$5:$W$46,21,FALSE))","v":""},{"$f":"IF(AF22=\"\",\"\",VLOOKUP(AF22,'（従来型）シフト記号表'!$C$5:$W$46,21,FALSE))","v":""},{"$f":"IF(AG22=\"\",\"\",VLOOKUP(AG22,'（従来型）シフト記号表'!$C$5:$W$46,21,FALSE))","v":""},{"$f":"IF(AH22=\"\",\"\",VLOOKUP(AH22,'（従来型）シフト記号表'!$C$5:$W$46,21,FALSE))","v":""},{"$f":"IF(AI22=\"\",\"\",VLOOKUP(AI22,'（従来型）シフト記号表'!$C$5:$W$46,21,FALSE))","v":""},{"$f":"IF(AJ22=\"\",\"\",VLOOKUP(AJ22,'（従来型）シフト記号表'!$C$5:$W$46,21,FALSE))","v":""},{"$f":"IF(AK22=\"\",\"\",VLOOKUP(AK22,'（従来型）シフト記号表'!$C$5:$W$46,21,FALSE))","v":""},{"$f":"IF(AL22=\"\",\"\",VLOOKUP(AL22,'（従来型）シフト記号表'!$C$5:$W$46,21,FALSE))","v":""},{"$f":"IF(AM22=\"\",\"\",VLOOKUP(AM22,'（従来型）シフト記号表'!$C$5:$W$46,21,FALSE))","v":""},{"$f":"IF(AN22=\"\",\"\",VLOOKUP(AN22,'（従来型）シフト記号表'!$C$5:$W$46,21,FALSE))","v":""},{"$f":"IF(AO22=\"\",\"\",VLOOKUP(AO22,'（従来型）シフト記号表'!$C$5:$W$46,21,FALSE))","v":""},{"$f":"IF(AP22=\"\",\"\",VLOOKUP(AP22,'（従来型）シフト記号表'!$C$5:$W$46,21,FALSE))","v":""},{"$f":"IF(AQ22=\"\",\"\",VLOOKUP(AQ22,'（従来型）シフト記号表'!$C$5:$W$46,21,FALSE))","v":""},{"$f":"IF(AR22=\"\",\"\",VLOOKUP(AR22,'（従来型）シフト記号表'!$C$5:$W$46,21,FALSE))","v":""},{"$f":"IF(AS22=\"\",\"\",VLOOKUP(AS22,'（従来型）シフト記号表'!$C$5:$W$46,21,FALSE))","v":""},{"$f":"IF(AT22=\"\",\"\",VLOOKUP(AT22,'（従来型）シフト記号表'!$C$5:$W$46,21,FALSE))","v":""},{"$f":"IF(AU22=\"\",\"\",VLOOKUP(AU22,'（従来型）シフト記号表'!$C$5:$W$46,21,FALSE))","v":""},{"$f":"IF(AV22=\"\",\"\",VLOOKUP(AV22,'（従来型）シフト記号表'!$C$5:$W$46,21,FALSE))","v":""},{"$f":"IF(AW22=\"\",\"\",VLOOKUP(AW22,'（従来型）シフト記号表'!$C$5:$W$46,21,FALSE))","v":""},{"$f":"IF(AX22=\"\",\"\",VLOOKUP(AX22,'（従来型）シフト記号表'!$C$5:$W$46,21,FALSE))","v":""},{"$f":"IF(AY22=\"\",\"\",VLOOKUP(AY22,'（従来型）シフト記号表'!$C$5:$W$46,21,FALSE))","v":""},{"$f":"IF(AZ22=\"\",\"\",VLOOKUP(AZ22,'（従来型）シフト記号表'!$C$5:$W$46,21,FALSE))","v":""},{"$f":"IF(BA22=\"\",\"\",VLOOKUP(BA22,'（従来型）シフト記号表'!$C$5:$W$46,21,FALSE))","v":""},{"$f":"IF(BB22=\"\",\"\",VLOOKUP(BB22,'（従来型）シフト記号表'!$C$5:$W$46,21,FALSE))","v":""},{"$f":"IF(BC22=\"\",\"\",VLOOKUP(BC22,'（従来型）シフト記号表'!$C$5:$W$46,21,FALSE))","v":""},{"$f":"IF(BD22=\"\",\"\",VLOOKUP(BD22,'（従来型）シフト記号表'!$C$5:$W$46,21,FALSE))","v":""},{"$f":"IF(BE22=\"\",\"\",VLOOKUP(BE22,'（従来型）シフト記号表'!$C$5:$W$46,21,FALSE))","v":""},{"$f":"IF($BI$3=\"計画\",SUM(AA23:BB23),IF($BI$3=\"実績\",SUM(AA23:BE23),\"\"))","v":0},null,{"$f":"IF($BI$3=\"計画\",BF23/4,IF($BI$3=\"実績\",(BF23/($BI$7/7)),\"\"))","v":0}]
[null,null,null,null,null,null,null,null,{"$f":"G23","v":0},null,{"$f":"M23","v":0},null,null,null,null,null,null,null,null,null,null,"夜勤時間帯の勤務時間数",null,null,null,null,{"$f":"IF(AA22=\"\",\"\",VLOOKUP(AA22,'（従来型）シフト記号表'!$C$5:$Y$46,23,FALSE))","v":""},{"$f":"IF(AB22=\"\",\"\",VLOOKUP(AB22,'（従来型）シフト記号表'!$C$5:$Y$46,23,FALSE))","v":""},{"$f":"IF(AC22=\"\",\"\",VLOOKUP(AC22,'（従来型）シフト記号表'!$C$5:$Y$46,23,FALSE))","v":""},{"$f":"IF(AD22=\"\",\"\",VLOOKUP(AD22,'（従来型）シフト記号表'!$C$5:$Y$46,23,FALSE))","v":""},{"$f":"IF(AE22=\"\",\"\",VLOOKUP(AE22,'（従来型）シフト記号表'!$C$5:$Y$46,23,FALSE))","v":""},{"$f":"IF(AF22=\"\",\"\",VLOOKUP(AF22,'（従来型）シフト記号表'!$C$5:$Y$46,23,FALSE))","v":""},{"$f":"IF(AG22=\"\",\"\",VLOOKUP(AG22,'（従来型）シフト記号表'!$C$5:$Y$46,23,FALSE))","v":""},{"$f":"IF(AH22=\"\",\"\",VLOOKUP(AH22,'（従来型）シフト記号表'!$C$5:$Y$46,23,FALSE))","v":""},{"$f":"IF(AI22=\"\",\"\",VLOOKUP(AI22,'（従来型）シフト記号表'!$C$5:$Y$46,23,FALSE))","v":""},{"$f":"IF(AJ22=\"\",\"\",VLOOKUP(AJ22,'（従来型）シフト記号表'!$C$5:$Y$46,23,FALSE))","v":""},{"$f":"IF(AK22=\"\",\"\",VLOOKUP(AK22,'（従来型）シフト記号表'!$C$5:$Y$46,23,FALSE))","v":""},{"$f":"IF(AL22=\"\",\"\",VLOOKUP(AL22,'（従来型）シフト記号表'!$C$5:$Y$46,23,FALSE))","v":""},{"$f":"IF(AM22=\"\",\"\",VLOOKUP(AM22,'（従来型）シフト記号表'!$C$5:$Y$46,23,FALSE))","v":""},{"$f":"IF(AN22=\"\",\"\",VLOOKUP(AN22,'（従来型）シフト記号表'!$C$5:$Y$46,23,FALSE))","v":""},{"$f":"IF(AO22=\"\",\"\",VLOOKUP(AO22,'（従来型）シフト記号表'!$C$5:$Y$46,23,FALSE))","v":""},{"$f":"IF(AP22=\"\",\"\",VLOOKUP(AP22,'（従来型）シフト記号表'!$C$5:$Y$46,23,FALSE))","v":""},{"$f":"IF(AQ22=\"\",\"\",VLOOKUP(AQ22,'（従来型）シフト記号表'!$C$5:$Y$46,23,FALSE))","v":""},{"$f":"IF(AR22=\"\",\"\",VLOOKUP(AR22,'（従来型）シフト記号表'!$C$5:$Y$46,23,FALSE))","v":""},{"$f":"IF(AS22=\"\",\"\",VLOOKUP(AS22,'（従来型）シフト記号表'!$C$5:$Y$46,23,FALSE))","v":""},{"$f":"IF(AT22=\"\",\"\",VLOOKUP(AT22,'（従来型）シフト記号表'!$C$5:$Y$46,23,FALSE))","v":""},{"$f":"IF(AU22=\"\",\"\",VLOOKUP(AU22,'（従来型）シフト記号表'!$C$5:$Y$46,23,FALSE))","v":""},{"$f":"IF(AV22=\"\",\"\",VLOOKUP(AV22,'（従来型）シフト記号表'!$C$5:$Y$46,23,FALSE))","v":""},{"$f":"IF(AW22=\"\",\"\",VLOOKUP(AW22,'（従来型）シフト記号表'!$C$5:$Y$46,23,FALSE))","v":""},{"$f":"IF(AX22=\"\",\"\",VLOOKUP(AX22,'（従来型）シフト記号表'!$C$5:$Y$46,23,FALSE))","v":""},{"$f":"IF(AY22=\"\",\"\",VLOOKUP(AY22,'（従来型）シフト記号表'!$C$5:$Y$46,23,FALSE))","v":""},{"$f":"IF(AZ22=\"\",\"\",VLOOKUP(AZ22,'（従来型）シフト記号表'!$C$5:$Y$46,23,FALSE))","v":""},{"$f":"IF(BA22=\"\",\"\",VLOOKUP(BA22,'（従来型）シフト記号表'!$C$5:$Y$46,23,FALSE))","v":""},{"$f":"IF(BB22=\"\",\"\",VLOOKUP(BB22,'（従来型）シフト記号表'!$C$5:$Y$46,23,FALSE))","v":""},{"$f":"IF(BC22=\"\",\"\",VLOOKUP(BC22,'（従来型）シフト記号表'!$C$5:$Y$46,23,FALSE))","v":""},{"$f":"IF(BD22=\"\",\"\",VLOOKUP(BD22,'（従来型）シフト記号表'!$C$5:$Y$46,23,FALSE))","v":""},{"$f":"IF(BE22=\"\",\"\",VLOOKUP(BE22,'（従来型）シフト記号表'!$C$5:$Y$46,23,FALSE))","v":""},{"$f":"IF($BI$3=\"計画\",SUM(AA24:BB24),IF($BI$3=\"実績\",SUM(AA24:BE24),\"\"))","v":0},null,{"$f":"IF($BI$3=\"計画\",BF24/4,IF($BI$3=\"実績\",(BF24/($BI$7/7)),\"\"))","v":0}]
[null,null,null,null,null,null,null,null,null,null,null,null,null,null,null,null,null,null,null,null,null,"シフト記号"]
[null,{"$f":"B23+1","v":3},null,null,null,null,null,null,null,null,null,null,null,null,null,null,null,null,null,null,null,"日中の勤務時間数",null,null,null,null,{"$f":"IF(AA25=\"\",\"\",VLOOKUP(AA25,'（従来型）シフト記号表'!$C$5:$W$46,21,FALSE))","v":""},{"$f":"IF(AB25=\"\",\"\",VLOOKUP(AB25,'（従来型）シフト記号表'!$C$5:$W$46,21,FALSE))","v":""},{"$f":"IF(AC25=\"\",\"\",VLOOKUP(AC25,'（従来型）シフト記号表'!$C$5:$W$46,21,FALSE))","v":""},{"$f":"IF(AD25=\"\",\"\",VLOOKUP(AD25,'（従来型）シフト記号表'!$C$5:$W$46,21,FALSE))","v":""},{"$f":"IF(AE25=\"\",\"\",VLOOKUP(AE25,'（従来型）シフト記号表'!$C$5:$W$46,21,FALSE))","v":""},{"$f":"IF(AF25=\"\",\"\",VLOOKUP(AF25,'（従来型）シフト記号表'!$C$5:$W$46,21,FALSE))","v":""},{"$f":"IF(AG25=\"\",\"\",VLOOKUP(AG25,'（従来型）シフト記号表'!$C$5:$W$46,21,FALSE))","v":""},{"$f":"IF(AH25=\"\",\"\",VLOOKUP(AH25,'（従来型）シフト記号表'!$C$5:$W$46,21,FALSE))","v":""},{"$f":"IF(AI25=\"\",\"\",VLOOKUP(AI25,'（従来型）シフト記号表'!$C$5:$W$46,21,FALSE))","v":""},{"$f":"IF(AJ25=\"\",\"\",VLOOKUP(AJ25,'（従来型）シフト記号表'!$C$5:$W$46,21,FALSE))","v":""},{"$f":"IF(AK25=\"\",\"\",VLOOKUP(AK25,'（従来型）シフト記号表'!$C$5:$W$46,21,FALSE))","v":""},{"$f":"IF(AL25=\"\",\"\",VLOOKUP(AL25,'（従来型）シフト記号表'!$C$5:$W$46,21,FALSE))","v":""},{"$f":"IF(AM25=\"\",\"\",VLOOKUP(AM25,'（従来型）シフト記号表'!$C$5:$W$46,21,FALSE))","v":""},{"$f":"IF(AN25=\"\",\"\",VLOOKUP(AN25,'（従来型）シフト記号表'!$C$5:$W$46,21,FALSE))","v":""},{"$f":"IF(AO25=\"\",\"\",VLOOKUP(AO25,'（従来型）シフト記号表'!$C$5:$W$46,21,FALSE))","v":""},{"$f":"IF(AP25=\"\",\"\",VLOOKUP(AP25,'（従来型）シフト記号表'!$C$5:$W$46,21,FALSE))","v":""},{"$f":"IF(AQ25=\"\",\"\",VLOOKUP(AQ25,'（従来型）シフト記号表'!$C$5:$W$46,21,FALSE))","v":""},{"$f":"IF(AR25=\"\",\"\",VLOOKUP(AR25,'（従来型）シフト記号表'!$C$5:$W$46,21,FALSE))","v":""},{"$f":"IF(AS25=\"\",\"\",VLOOKUP(AS25,'（従来型）シフト記号表'!$C$5:$W$46,21,FALSE))","v":""},{"$f":"IF(AT25=\"\",\"\",VLOOKUP(AT25,'（従来型）シフト記号表'!$C$5:$W$46,21,FALSE))","v":""},{"$f":"IF(AU25=\"\",\"\",VLOOKUP(AU25,'（従来型）シフト記号表'!$C$5:$W$46,21,FALSE))","v":""},{"$f":"IF(AV25=\"\",\"\",VLOOKUP(AV25,'（従来型）シフト記号表'!$C$5:$W$46,21,FALSE))","v":""},{"$f":"IF(AW25=\"\",\"\",VLOOKUP(AW25,'（従来型）シフト記号表'!$C$5:$W$46,21,FALSE))","v":""},{"$f":"IF(AX25=\"\",\"\",VLOOKUP(AX25,'（従来型）シフト記号表'!$C$5:$W$46,21,FALSE))","v":""},{"$f":"IF(AY25=\"\",\"\",VLOOKUP(AY25,'（従来型）シフト記号表'!$C$5:$W$46,21,FALSE))","v":""},{"$f":"IF(AZ25=\"\",\"\",VLOOKUP(AZ25,'（従来型）シフト記号表'!$C$5:$W$46,21,FALSE))","v":""},{"$f":"IF(BA25=\"\",\"\",VLOOKUP(BA25,'（従来型）シフト記号表'!$C$5:$W$46,21,FALSE))","v":""},{"$f":"IF(BB25=\"\",\"\",VLOOKUP(BB25,'（従来型）シフト記号表'!$C$5:$W$46,21,FALSE))","v":""},{"$f":"IF(BC25=\"\",\"\",VLOOKUP(BC25,'（従来型）シフト記号表'!$C$5:$W$46,21,FALSE))","v":""},{"$f":"IF(BD25=\"\",\"\",VLOOKUP(BD25,'（従来型）シフト記号表'!$C$5:$W$46,21,FALSE))","v":""},{"$f":"IF(BE25=\"\",\"\",VLOOKUP(BE25,'（従来型）シフト記号表'!$C$5:$W$46,21,FALSE))","v":""},{"$f":"IF($BI$3=\"計画\",SUM(AA26:BB26),IF($BI$3=\"実績\",SUM(AA26:BE26),\"\"))","v":0},null,{"$f":"IF($BI$3=\"計画\",BF26/4,IF($BI$3=\"実績\",(BF26/($BI$7/7)),\"\"))","v":0}]
[null,null,null,null,null,null,null,null,{"$f":"G26","v":0},null,{"$f":"M26","v":0},null,null,null,null,null,null,null,null,null,null,"夜勤時間帯の勤務時間数",null,null,null,null,{"$f":"IF(AA25=\"\",\"\",VLOOKUP(AA25,'（従来型）シフト記号表'!$C$5:$Y$46,23,FALSE))","v":""},{"$f":"IF(AB25=\"\",\"\",VLOOKUP(AB25,'（従来型）シフト記号表'!$C$5:$Y$46,23,FALSE))","v":""},{"$f":"IF(AC25=\"\",\"\",VLOOKUP(AC25,'（従来型）シフト記号表'!$C$5:$Y$46,23,FALSE))","v":""},{"$f":"IF(AD25=\"\",\"\",VLOOKUP(AD25,'（従来型）シフト記号表'!$C$5:$Y$46,23,FALSE))","v":""},{"$f":"IF(AE25=\"\",\"\",VLOOKUP(AE25,'（従来型）シフト記号表'!$C$5:$Y$46,23,FALSE))","v":""},{"$f":"IF(AF25=\"\",\"\",VLOOKUP(AF25,'（従来型）シフト記号表'!$C$5:$Y$46,23,FALSE))","v":""},{"$f":"IF(AG25=\"\",\"\",VLOOKUP(AG25,'（従来型）シフト記号表'!$C$5:$Y$46,23,FALSE))","v":""},{"$f":"IF(AH25=\"\",\"\",VLOOKUP(AH25,'（従来型）シフト記号表'!$C$5:$Y$46,23,FALSE))","v":""},{"$f":"IF(AI25=\"\",\"\",VLOOKUP(AI25,'（従来型）シフト記号表'!$C$5:$Y$46,23,FALSE))","v":""},{"$f":"IF(AJ25=\"\",\"\",VLOOKUP(AJ25,'（従来型）シフト記号表'!$C$5:$Y$46,23,FALSE))","v":""},{"$f":"IF(AK25=\"\",\"\",VLOOKUP(AK25,'（従来型）シフト記号表'!$C$5:$Y$46,23,FALSE))","v":""},{"$f":"IF(AL25=\"\",\"\",VLOOKUP(AL25,'（従来型）シフト記号表'!$C$5:$Y$46,23,FALSE))","v":""},{"$f":"IF(AM25=\"\",\"\",VLOOKUP(AM25,'（従来型）シフト記号表'!$C$5:$Y$46,23,FALSE))","v":""},{"$f":"IF(AN25=\"\",\"\",VLOOKUP(AN25,'（従来型）シフト記号表'!$C$5:$Y$46,23,FALSE))","v":""},{"$f":"IF(AO25=\"\",\"\",VLOOKUP(AO25,'（従来型）シフト記号表'!$C$5:$Y$46,23,FALSE))","v":""},{"$f":"IF(AP25=\"\",\"\",VLOOKUP(AP25,'（従来型）シフト記号表'!$C$5:$Y$46,23,FALSE))","v":""},{"$f":"IF(AQ25=\"\",\"\",VLOOKUP(AQ25,'（従来型）シフト記号表'!$C$5:$Y$46,23,FALSE))","v":""},{"$f":"IF(AR25=\"\",\"\",VLOOKUP(AR25,'（従来型）シフト記号表'!$C$5:$Y$46,23,FALSE))","v":""},{"$f":"IF(AS25=\"\",\"\",VLOOKUP(AS25,'（従来型）シフト記号表'!$C$5:$Y$46,23,FALSE))","v":""},{"$f":"IF(AT25=\"\",\"\",VLOOKUP(AT25,'（従来型）シフト記号表'!$C$5:$Y$46,23,FALSE))","v":""},{"$f":"IF(AU25=\"\",\"\",VLOOKUP(AU25,'（従来型）シフト記号表'!$C$5:$Y$46,23,FALSE))","v":""},{"$f":"IF(AV25=\"\",\"\",VLOOKUP(AV25,'（従来型）シフト記号表'!$C$5:$Y$46,23,FALSE))","v":""},{"$f":"IF(AW25=\"\",\"\",VLOOKUP(AW25,'（従来型）シフト記号表'!$C$5:$Y$46,23,FALSE))","v":""},{"$f":"IF(AX25=\"\",\"\",VLOOKUP(AX25,'（従来型）シフト記号表'!$C$5:$Y$46,23,FALSE))","v":""},{"$f":"IF(AY25=\"\",\"\",VLOOKUP(AY25,'（従来型）シフト記号表'!$C$5:$Y$46,23,FALSE))","v":""},{"$f":"IF(AZ25=\"\",\"\",VLOOKUP(AZ25,'（従来型）シフト記号表'!$C$5:$Y$46,23,FALSE))","v":""},{"$f":"IF(BA25=\"\",\"\",VLOOKUP(BA25,'（従来型）シフト記号表'!$C$5:$Y$46,23,FALSE))","v":""},{"$f":"IF(BB25=\"\",\"\",VLOOKUP(BB25,'（従来型）シフト記号表'!$C$5:$Y$46,23,FALSE))","v":""},{"$f":"IF(BC25=\"\",\"\",VLOOKUP(BC25,'（従来型）シフト記号表'!$C$5:$Y$46,23,FALSE))","v":""},{"$f":"IF(BD25=\"\",\"\",VLOOKUP(BD25,'（従来型）シフト記号表'!$C$5:$Y$46,23,FALSE))","v":""},{"$f":"IF(BE25=\"\",\"\",VLOOKUP(BE25,'（従来型）シフト記号表'!$C$5:$Y$46,23,FALSE))","v":""},{"$f":"IF($BI$3=\"計画\",SUM(AA27:BB27),IF($BI$3=\"実績\",SUM(AA27:BE27),\"\"))","v":0},null,{"$f":"IF($BI$3=\"計画\",BF27/4,IF($BI$3=\"実績\",(BF27/($BI$7/7)),\"\"))","v":0}]
[null,null,null,null,null,null,null,null,null,null,null,null,null,null,null,null,null,null,null,null,null,"シフト記号"]
[null,{"$f":"B26+1","v":4},null,null,null,null,null,null,null,null,null,null,null,null,null,null,null,null,null,null,null,"日中の勤務時間数",null,null,null,null,{"$f":"IF(AA28=\"\",\"\",VLOOKUP(AA28,'（従来型）シフト記号表'!$C$5:$W$46,21,FALSE))","v":""},{"$f":"IF(AB28=\"\",\"\",VLOOKUP(AB28,'（従来型）シフト記号表'!$C$5:$W$46,21,FALSE))","v":""},{"$f":"IF(AC28=\"\",\"\",VLOOKUP(AC28,'（従来型）シフト記号表'!$C$5:$W$46,21,FALSE))","v":""},{"$f":"IF(AD28=\"\",\"\",VLOOKUP(AD28,'（従来型）シフト記号表'!$C$5:$W$46,21,FALSE))","v":""},{"$f":"IF(AE28=\"\",\"\",VLOOKUP(AE28,'（従来型）シフト記号表'!$C$5:$W$46,21,FALSE))","v":""},{"$f":"IF(AF28=\"\",\"\",VLOOKUP(AF28,'（従来型）シフト記号表'!$C$5:$W$46,21,FALSE))","v":""},{"$f":"IF(AG28=\"\",\"\",VLOOKUP(AG28,'（従来型）シフト記号表'!$C$5:$W$46,21,FALSE))","v":""},{"$f":"IF(AH28=\"\",\"\",VLOOKUP(AH28,'（従来型）シフト記号表'!$C$5:$W$46,21,FALSE))","v":""},{"$f":"IF(AI28=\"\",\"\",VLOOKUP(AI28,'（従来型）シフト記号表'!$C$5:$W$46,21,FALSE))","v":""},{"$f":"IF(AJ28=\"\",\"\",VLOOKUP(AJ28,'（従来型）シフト記号表'!$C$5:$W$46,21,FALSE))","v":""},{"$f":"IF(AK28=\"\",\"\",VLOOKUP(AK28,'（従来型）シフト記号表'!$C$5:$W$46,21,FALSE))","v":""},{"$f":"IF(AL28=\"\",\"\",VLOOKUP(AL28,'（従来型）シフト記号表'!$C$5:$W$46,21,FALSE))","v":""},{"$f":"IF(AM28=\"\",\"\",VLOOKUP(AM28,'（従来型）シフト記号表'!$C$5:$W$46,21,FALSE))","v":""},{"$f":"IF(AN28=\"\",\"\",VLOOKUP(AN28,'（従来型）シフト記号表'!$C$5:$W$46,21,FALSE))","v":""},{"$f":"IF(AO28=\"\",\"\",VLOOKUP(AO28,'（従来型）シフト記号表'!$C$5:$W$46,21,FALSE))","v":""},{"$f":"IF(AP28=\"\",\"\",VLOOKUP(AP28,'（従来型）シフト記号表'!$C$5:$W$46,21,FALSE))","v":""},{"$f":"IF(AQ28=\"\",\"\",VLOOKUP(AQ28,'（従来型）シフト記号表'!$C$5:$W$46,21,FALSE))","v":""},{"$f":"IF(AR28=\"\",\"\",VLOOKUP(AR28,'（従来型）シフト記号表'!$C$5:$W$46,21,FALSE))","v":""},{"$f":"IF(AS28=\"\",\"\",VLOOKUP(AS28,'（従来型）シフト記号表'!$C$5:$W$46,21,FALSE))","v":""},{"$f":"IF(AT28=\"\",\"\",VLOOKUP(AT28,'（従来型）シフト記号表'!$C$5:$W$46,21,FALSE))","v":""},{"$f":"IF(AU28=\"\",\"\",VLOOKUP(AU28,'（従来型）シフト記号表'!$C$5:$W$46,21,FALSE))","v":""},{"$f":"IF(AV28=\"\",\"\",VLOOKUP(AV28,'（従来型）シフト記号表'!$C$5:$W$46,21,FALSE))","v":""},{"$f":"IF(AW28=\"\",\"\",VLOOKUP(AW28,'（従来型）シフト記号表'!$C$5:$W$46,21,FALSE))","v":""},{"$f":"IF(AX28=\"\",\"\",VLOOKUP(AX28,'（従来型）シフト記号表'!$C$5:$W$46,21,FALSE))","v":""},{"$f":"IF(AY28=\"\",\"\",VLOOKUP(AY28,'（従来型）シフト記号表'!$C$5:$W$46,21,FALSE))","v":""},{"$f":"IF(AZ28=\"\",\"\",VLOOKUP(AZ28,'（従来型）シフト記号表'!$C$5:$W$46,21,FALSE))","v":""},{"$f":"IF(BA28=\"\",\"\",VLOOKUP(BA28,'（従来型）シフト記号表'!$C$5:$W$46,21,FALSE))","v":""},{"$f":"IF(BB28=\"\",\"\",VLOOKUP(BB28,'（従来型）シフト記号表'!$C$5:$W$46,21,FALSE))","v":""},{"$f":"IF(BC28=\"\",\"\",VLOOKUP(BC28,'（従来型）シフト記号表'!$C$5:$W$46,21,FALSE))","v":""},{"$f":"IF(BD28=\"\",\"\",VLOOKUP(BD28,'（従来型）シフト記号表'!$C$5:$W$46,21,FALSE))","v":""},{"$f":"IF(BE28=\"\",\"\",VLOOKUP(BE28,'（従来型）シフト記号表'!$C$5:$W$46,21,FALSE))","v":""},{"$f":"IF($BI$3=\"計画\",SUM(AA29:BB29),IF($BI$3=\"実績\",SUM(AA29:BE29),\"\"))","v":0},null,{"$f":"IF($BI$3=\"計画\",BF29/4,IF($BI$3=\"実績\",(BF29/($BI$7/7)),\"\"))","v":0}]
[null,null,null,null,null,null,null,null,{"$f":"G29","v":0},null,{"$f":"M29","v":0},null,null,null,null,null,null,null,null,null,null,"夜勤時間帯の勤務時間数",null,null,null,null,{"$f":"IF(AA28=\"\",\"\",VLOOKUP(AA28,'（従来型）シフト記号表'!$C$5:$Y$46,23,FALSE))","v":""},{"$f":"IF(AB28=\"\",\"\",VLOOKUP(AB28,'（従来型）シフト記号表'!$C$5:$Y$46,23,FALSE))","v":""},{"$f":"IF(AC28=\"\",\"\",VLOOKUP(AC28,'（従来型）シフト記号表'!$C$5:$Y$46,23,FALSE))","v":""},{"$f":"IF(AD28=\"\",\"\",VLOOKUP(AD28,'（従来型）シフト記号表'!$C$5:$Y$46,23,FALSE))","v":""},{"$f":"IF(AE28=\"\",\"\",VLOOKUP(AE28,'（従来型）シフト記号表'!$C$5:$Y$46,23,FALSE))","v":""},{"$f":"IF(AF28=\"\",\"\",VLOOKUP(AF28,'（従来型）シフト記号表'!$C$5:$Y$46,23,FALSE))","v":""},{"$f":"IF(AG28=\"\",\"\",VLOOKUP(AG28,'（従来型）シフト記号表'!$C$5:$Y$46,23,FALSE))","v":""},{"$f":"IF(AH28=\"\",\"\",VLOOKUP(AH28,'（従来型）シフト記号表'!$C$5:$Y$46,23,FALSE))","v":""},{"$f":"IF(AI28=\"\",\"\",VLOOKUP(AI28,'（従来型）シフト記号表'!$C$5:$Y$46,23,FALSE))","v":""},{"$f":"IF(AJ28=\"\",\"\",VLOOKUP(AJ28,'（従来型）シフト記号表'!$C$5:$Y$46,23,FALSE))","v":""},{"$f":"IF(AK28=\"\",\"\",VLOOKUP(AK28,'（従来型）シフト記号表'!$C$5:$Y$46,23,FALSE))","v":""},{"$f":"IF(AL28=\"\",\"\",VLOOKUP(AL28,'（従来型）シフト記号表'!$C$5:$Y$46,23,FALSE))","v":""},{"$f":"IF(AM28=\"\",\"\",VLOOKUP(AM28,'（従来型）シフト記号表'!$C$5:$Y$46,23,FALSE))","v":""},{"$f":"IF(AN28=\"\",\"\",VLOOKUP(AN28,'（従来型）シフト記号表'!$C$5:$Y$46,23,FALSE))","v":""},{"$f":"IF(AO28=\"\",\"\",VLOOKUP(AO28,'（従来型）シフト記号表'!$C$5:$Y$46,23,FALSE))","v":""},{"$f":"IF(AP28=\"\",\"\",VLOOKUP(AP28,'（従来型）シフト記号表'!$C$5:$Y$46,23,FALSE))","v":""},{"$f":"IF(AQ28=\"\",\"\",VLOOKUP(AQ28,'（従来型）シフト記号表'!$C$5:$Y$46,23,FALSE))","v":""},{"$f":"IF(AR28=\"\",\"\",VLOOKUP(AR28,'（従来型）シフト記号表'!$C$5:$Y$46,23,FALSE))","v":""},{"$f":"IF(AS28=\"\",\"\",VLOOKUP(AS28,'（従来型）シフト記号表'!$C$5:$Y$46,23,FALSE))","v":""},{"$f":"IF(AT28=\"\",\"\",VLOOKUP(AT28,'（従来型）シフト記号表'!$C$5:$Y$46,23,FALSE))","v":""},{"$f":"IF(AU28=\"\",\"\",VLOOKUP(AU28,'（従来型）シフト記号表'!$C$5:$Y$46,23,FALSE))","v":""},{"$f":"IF(AV28=\"\",\"\",VLOOKUP(AV28,'（従来型）シフト記号表'!$C$5:$Y$46,23,FALSE))","v":""},{"$f":"IF(AW28=\"\",\"\",VLOOKUP(AW28,'（従来型）シフト記号表'!$C$5:$Y$46,23,FALSE))","v":""},{"$f":"IF(AX28=\"\",\"\",VLOOKUP(AX28,'（従来型）シフト記号表'!$C$5:$Y$46,23,FALSE))","v":""},{"$f":"IF(AY28=\"\",\"\",VLOOKUP(AY28,'（従来型）シフト記号表'!$C$5:$Y$46,23,FALSE))","v":""},{"$f":"IF(AZ28=\"\",\"\",VLOOKUP(AZ28,'（従来型）シフト記号表'!$C$5:$Y$46,23,FALSE))","v":""},{"$f":"IF(BA28=\"\",\"\",VLOOKUP(BA28,'（従来型）シフト記号表'!$C$5:$Y$46,23,FALSE))","v":""},{"$f":"IF(BB28=\"\",\"\",VLOOKUP(BB28,'（従来型）シフト記号表'!$C$5:$Y$46,23,FALSE))","v":""},{"$f":"IF(BC28=\"\",\"\",VLOOKUP(BC28,'（従来型）シフト記号表'!$C$5:$Y$46,23,FALSE))","v":""},{"$f":"IF(BD28=\"\",\"\",VLOOKUP(BD28,'（従来型）シフト記号表'!$C$5:$Y$46,23,FALSE))","v":""},{"$f":"IF(BE28=\"\",\"\",VLOOKUP(BE28,'（従来型）シフト記号表'!$C$5:$Y$46,23,FALSE))","v":""},{"$f":"IF($BI$3=\"計画\",SUM(AA30:BB30),IF($BI$3=\"実績\",SUM(AA30:BE30),\"\"))","v":0},null,{"$f":"IF($BI$3=\"計画\",BF30/4,IF($BI$3=\"実績\",(BF30/($BI$7/7)),\"\"))","v":0}]
[null,null,null,null,null,null,null,null,null,null,null,null,null,null,null,null,null,null,null,null,null,"シフト記号"]
[null,{"$f":"B29+1","v":5},null,null,null,null,null,null,null,null,null,null,null,null,null,null,null,null,null,null,null,"日中の勤務時間数",null,null,null,null,{"$f":"IF(AA31=\"\",\"\",VLOOKUP(AA31,'（従来型）シフト記号表'!$C$5:$W$46,21,FALSE))","v":""},{"$f":"IF(AB31=\"\",\"\",VLOOKUP(AB31,'（従来型）シフト記号表'!$C$5:$W$46,21,FALSE))","v":""},{"$f":"IF(AC31=\"\",\"\",VLOOKUP(AC31,'（従来型）シフト記号表'!$C$5:$W$46,21,FALSE))","v":""},{"$f":"IF(AD31=\"\",\"\",VLOOKUP(AD31,'（従来型）シフト記号表'!$C$5:$W$46,21,FALSE))","v":""},{"$f":"IF(AE31=\"\",\"\",VLOOKUP(AE31,'（従来型）シフト記号表'!$C$5:$W$46,21,FALSE))","v":""},{"$f":"IF(AF31=\"\",\"\",VLOOKUP(AF31,'（従来型）シフト記号表'!$C$5:$W$46,21,FALSE))","v":""},{"$f":"IF(AG31=\"\",\"\",VLOOKUP(AG31,'（従来型）シフト記号表'!$C$5:$W$46,21,FALSE))","v":""},{"$f":"IF(AH31=\"\",\"\",VLOOKUP(AH31,'（従来型）シフト記号表'!$C$5:$W$46,21,FALSE))","v":""},{"$f":"IF(AI31=\"\",\"\",VLOOKUP(AI31,'（従来型）シフト記号表'!$C$5:$W$46,21,FALSE))","v":""},{"$f":"IF(AJ31=\"\",\"\",VLOOKUP(AJ31,'（従来型）シフト記号表'!$C$5:$W$46,21,FALSE))","v":""},{"$f":"IF(AK31=\"\",\"\",VLOOKUP(AK31,'（従来型）シフト記号表'!$C$5:$W$46,21,FALSE))","v":""},{"$f":"IF(AL31=\"\",\"\",VLOOKUP(AL31,'（従来型）シフト記号表'!$C$5:$W$46,21,FALSE))","v":""},{"$f":"IF(AM31=\"\",\"\",VLOOKUP(AM31,'（従来型）シフト記号表'!$C$5:$W$46,21,FALSE))","v":""},{"$f":"IF(AN31=\"\",\"\",VLOOKUP(AN31,'（従来型）シフト記号表'!$C$5:$W$46,21,FALSE))","v":""},{"$f":"IF(AO31=\"\",\"\",VLOOKUP(AO31,'（従来型）シフト記号表'!$C$5:$W$46,21,FALSE))","v":""},{"$f":"IF(AP31=\"\",\"\",VLOOKUP(AP31,'（従来型）シフト記号表'!$C$5:$W$46,21,FALSE))","v":""},{"$f":"IF(AQ31=\"\",\"\",VLOOKUP(AQ31,'（従来型）シフト記号表'!$C$5:$W$46,21,FALSE))","v":""},{"$f":"IF(AR31=\"\",\"\",VLOOKUP(AR31,'（従来型）シフト記号表'!$C$5:$W$46,21,FALSE))","v":""},{"$f":"IF(AS31=\"\",\"\",VLOOKUP(AS31,'（従来型）シフト記号表'!$C$5:$W$46,21,FALSE))","v":""},{"$f":"IF(AT31=\"\",\"\",VLOOKUP(AT31,'（従来型）シフト記号表'!$C$5:$W$46,21,FALSE))","v":""},{"$f":"IF(AU31=\"\",\"\",VLOOKUP(AU31,'（従来型）シフト記号表'!$C$5:$W$46,21,FALSE))","v":""},{"$f":"IF(AV31=\"\",\"\",VLOOKUP(AV31,'（従来型）シフト記号表'!$C$5:$W$46,21,FALSE))","v":""},{"$f":"IF(AW31=\"\",\"\",VLOOKUP(AW31,'（従来型）シフト記号表'!$C$5:$W$46,21,FALSE))","v":""},{"$f":"IF(AX31=\"\",\"\",VLOOKUP(AX31,'（従来型）シフト記号表'!$C$5:$W$46,21,FALSE))","v":""},{"$f":"IF(AY31=\"\",\"\",VLOOKUP(AY31,'（従来型）シフト記号表'!$C$5:$W$46,21,FALSE))","v":""},{"$f":"IF(AZ31=\"\",\"\",VLOOKUP(AZ31,'（従来型）シフト記号表'!$C$5:$W$46,21,FALSE))","v":""},{"$f":"IF(BA31=\"\",\"\",VLOOKUP(BA31,'（従来型）シフト記号表'!$C$5:$W$46,21,FALSE))","v":""},{"$f":"IF(BB31=\"\",\"\",VLOOKUP(BB31,'（従来型）シフト記号表'!$C$5:$W$46,21,FALSE))","v":""},{"$f":"IF(BC31=\"\",\"\",VLOOKUP(BC31,'（従来型）シフト記号表'!$C$5:$W$46,21,FALSE))","v":""},{"$f":"IF(BD31=\"\",\"\",VLOOKUP(BD31,'（従来型）シフト記号表'!$C$5:$W$46,21,FALSE))","v":""},{"$f":"IF(BE31=\"\",\"\",VLOOKUP(BE31,'（従来型）シフト記号表'!$C$5:$W$46,21,FALSE))","v":""},{"$f":"IF($BI$3=\"計画\",SUM(AA32:BB32),IF($BI$3=\"実績\",SUM(AA32:BE32),\"\"))","v":0},null,{"$f":"IF($BI$3=\"計画\",BF32/4,IF($BI$3=\"実績\",(BF32/($BI$7/7)),\"\"))","v":0}]
[null,null,null,null,null,null,null,null,{"$f":"G32","v":0},null,{"$f":"M32","v":0},null,null,null,null,null,null,null,null,null,null,"夜勤時間帯の勤務時間数",null,null,null,null,{"$f":"IF(AA31=\"\",\"\",VLOOKUP(AA31,'（従来型）シフト記号表'!$C$5:$Y$46,23,FALSE))","v":""},{"$f":"IF(AB31=\"\",\"\",VLOOKUP(AB31,'（従来型）シフト記号表'!$C$5:$Y$46,23,FALSE))","v":""},{"$f":"IF(AC31=\"\",\"\",VLOOKUP(AC31,'（従来型）シフト記号表'!$C$5:$Y$46,23,FALSE))","v":""},{"$f":"IF(AD31=\"\",\"\",VLOOKUP(AD31,'（従来型）シフト記号表'!$C$5:$Y$46,23,FALSE))","v":""},{"$f":"IF(AE31=\"\",\"\",VLOOKUP(AE31,'（従来型）シフト記号表'!$C$5:$Y$46,23,FALSE))","v":""},{"$f":"IF(AF31=\"\",\"\",VLOOKUP(AF31,'（従来型）シフト記号表'!$C$5:$Y$46,23,FALSE))","v":""},{"$f":"IF(AG31=\"\",\"\",VLOOKUP(AG31,'（従来型）シフト記号表'!$C$5:$Y$46,23,FALSE))","v":""},{"$f":"IF(AH31=\"\",\"\",VLOOKUP(AH31,'（従来型）シフト記号表'!$C$5:$Y$46,23,FALSE))","v":""},{"$f":"IF(AI31=\"\",\"\",VLOOKUP(AI31,'（従来型）シフト記号表'!$C$5:$Y$46,23,FALSE))","v":""},{"$f":"IF(AJ31=\"\",\"\",VLOOKUP(AJ31,'（従来型）シフト記号表'!$C$5:$Y$46,23,FALSE))","v":""},{"$f":"IF(AK31=\"\",\"\",VLOOKUP(AK31,'（従来型）シフト記号表'!$C$5:$Y$46,23,FALSE))","v":""},{"$f":"IF(AL31=\"\",\"\",VLOOKUP(AL31,'（従来型）シフト記号表'!$C$5:$Y$46,23,FALSE))","v":""},{"$f":"IF(AM31=\"\",\"\",VLOOKUP(AM31,'（従来型）シフト記号表'!$C$5:$Y$46,23,FALSE))","v":""},{"$f":"IF(AN31=\"\",\"\",VLOOKUP(AN31,'（従来型）シフト記号表'!$C$5:$Y$46,23,FALSE))","v":""},{"$f":"IF(AO31=\"\",\"\",VLOOKUP(AO31,'（従来型）シフト記号表'!$C$5:$Y$46,23,FALSE))","v":""},{"$f":"IF(AP31=\"\",\"\",VLOOKUP(AP31,'（従来型）シフト記号表'!$C$5:$Y$46,23,FALSE))","v":""},{"$f":"IF(AQ31=\"\",\"\",VLOOKUP(AQ31,'（従来型）シフト記号表'!$C$5:$Y$46,23,FALSE))","v":""},{"$f":"IF(AR31=\"\",\"\",VLOOKUP(AR31,'（従来型）シフト記号表'!$C$5:$Y$46,23,FALSE))","v":""},{"$f":"IF(AS31=\"\",\"\",VLOOKUP(AS31,'（従来型）シフト記号表'!$C$5:$Y$46,23,FALSE))","v":""},{"$f":"IF(AT31=\"\",\"\",VLOOKUP(AT31,'（従来型）シフト記号表'!$C$5:$Y$46,23,FALSE))","v":""},{"$f":"IF(AU31=\"\",\"\",VLOOKUP(AU31,'（従来型）シフト記号表'!$C$5:$Y$46,23,FALSE))","v":""},{"$f":"IF(AV31=\"\",\"\",VLOOKUP(AV31,'（従来型）シフト記号表'!$C$5:$Y$46,23,FALSE))","v":""},{"$f":"IF(AW31=\"\",\"\",VLOOKUP(AW31,'（従来型）シフト記号表'!$C$5:$Y$46,23,FALSE))","v":""},{"$f":"IF(AX31=\"\",\"\",VLOOKUP(AX31,'（従来型）シフト記号表'!$C$5:$Y$46,23,FALSE))","v":""},{"$f":"IF(AY31=\"\",\"\",VLOOKUP(AY31,'（従来型）シフト記号表'!$C$5:$Y$46,23,FALSE))","v":""},{"$f":"IF(AZ31=\"\",\"\",VLOOKUP(AZ31,'（従来型）シフト記号表'!$C$5:$Y$46,23,FALSE))","v":""},{"$f":"IF(BA31=\"\",\"\",VLOOKUP(BA31,'（従来型）シフト記号表'!$C$5:$Y$46,23,FALSE))","v":""},{"$f":"IF(BB31=\"\",\"\",VLOOKUP(BB31,'（従来型）シフト記号表'!$C$5:$Y$46,23,FALSE))","v":""},{"$f":"IF(BC31=\"\",\"\",VLOOKUP(BC31,'（従来型）シフト記号表'!$C$5:$Y$46,23,FALSE))","v":""},{"$f":"IF(BD31=\"\",\"\",VLOOKUP(BD31,'（従来型）シフト記号表'!$C$5:$Y$46,23,FALSE))","v":""},{"$f":"IF(BE31=\"\",\"\",VLOOKUP(BE31,'（従来型）シフト記号表'!$C$5:$Y$46,23,FALSE))","v":""},{"$f":"IF($BI$3=\"計画\",SUM(AA33:BB33),IF($BI$3=\"実績\",SUM(AA33:BE33),\"\"))","v":0},null,{"$f":"IF($BI$3=\"計画\",BF33/4,IF($BI$3=\"実績\",(BF33/($BI$7/7)),\"\"))","v":0}]
[null,null,null,null,null,null,null,null,null,null,null,null,null,null,null,null,null,null,null,null,null,"シフト記号"]
[null,{"$f":"B32+1","v":6},null,null,null,null,null,null,null,null,null,null,null,null,null,null,null,null,null,null,null,"日中の勤務時間数",null,null,null,null,{"$f":"IF(AA34=\"\",\"\",VLOOKUP(AA34,'（従来型）シフト記号表'!$C$5:$W$46,21,FALSE))","v":""},{"$f":"IF(AB34=\"\",\"\",VLOOKUP(AB34,'（従来型）シフト記号表'!$C$5:$W$46,21,FALSE))","v":""},{"$f":"IF(AC34=\"\",\"\",VLOOKUP(AC34,'（従来型）シフト記号表'!$C$5:$W$46,21,FALSE))","v":""},{"$f":"IF(AD34=\"\",\"\",VLOOKUP(AD34,'（従来型）シフト記号表'!$C$5:$W$46,21,FALSE))","v":""},{"$f":"IF(AE34=\"\",\"\",VLOOKUP(AE34,'（従来型）シフト記号表'!$C$5:$W$46,21,FALSE))","v":""},{"$f":"IF(AF34=\"\",\"\",VLOOKUP(AF34,'（従来型）シフト記号表'!$C$5:$W$46,21,FALSE))","v":""},{"$f":"IF(AG34=\"\",\"\",VLOOKUP(AG34,'（従来型）シフト記号表'!$C$5:$W$46,21,FALSE))","v":""},{"$f":"IF(AH34=\"\",\"\",VLOOKUP(AH34,'（従来型）シフト記号表'!$C$5:$W$46,21,FALSE))","v":""},{"$f":"IF(AI34=\"\",\"\",VLOOKUP(AI34,'（従来型）シフト記号表'!$C$5:$W$46,21,FALSE))","v":""},{"$f":"IF(AJ34=\"\",\"\",VLOOKUP(AJ34,'（従来型）シフト記号表'!$C$5:$W$46,21,FALSE))","v":""},{"$f":"IF(AK34=\"\",\"\",VLOOKUP(AK34,'（従来型）シフト記号表'!$C$5:$W$46,21,FALSE))","v":""},{"$f":"IF(AL34=\"\",\"\",VLOOKUP(AL34,'（従来型）シフト記号表'!$C$5:$W$46,21,FALSE))","v":""},{"$f":"IF(AM34=\"\",\"\",VLOOKUP(AM34,'（従来型）シフト記号表'!$C$5:$W$46,21,FALSE))","v":""},{"$f":"IF(AN34=\"\",\"\",VLOOKUP(AN34,'（従来型）シフト記号表'!$C$5:$W$46,21,FALSE))","v":""},{"$f":"IF(AO34=\"\",\"\",VLOOKUP(AO34,'（従来型）シフト記号表'!$C$5:$W$46,21,FALSE))","v":""},{"$f":"IF(AP34=\"\",\"\",VLOOKUP(AP34,'（従来型）シフト記号表'!$C$5:$W$46,21,FALSE))","v":""},{"$f":"IF(AQ34=\"\",\"\",VLOOKUP(AQ34,'（従来型）シフト記号表'!$C$5:$W$46,21,FALSE))","v":""},{"$f":"IF(AR34=\"\",\"\",VLOOKUP(AR34,'（従来型）シフト記号表'!$C$5:$W$46,21,FALSE))","v":""},{"$f":"IF(AS34=\"\",\"\",VLOOKUP(AS34,'（従来型）シフト記号表'!$C$5:$W$46,21,FALSE))","v":""},{"$f":"IF(AT34=\"\",\"\",VLOOKUP(AT34,'（従来型）シフト記号表'!$C$5:$W$46,21,FALSE))","v":""},{"$f":"IF(AU34=\"\",\"\",VLOOKUP(AU34,'（従来型）シフト記号表'!$C$5:$W$46,21,FALSE))","v":""},{"$f":"IF(AV34=\"\",\"\",VLOOKUP(AV34,'（従来型）シフト記号表'!$C$5:$W$46,21,FALSE))","v":""},{"$f":"IF(AW34=\"\",\"\",VLOOKUP(AW34,'（従来型）シフト記号表'!$C$5:$W$46,21,FALSE))","v":""},{"$f":"IF(AX34=\"\",\"\",VLOOKUP(AX34,'（従来型）シフト記号表'!$C$5:$W$46,21,FALSE))","v":""},{"$f":"IF(AY34=\"\",\"\",VLOOKUP(AY34,'（従来型）シフト記号表'!$C$5:$W$46,21,FALSE))","v":""},{"$f":"IF(AZ34=\"\",\"\",VLOOKUP(AZ34,'（従来型）シフト記号表'!$C$5:$W$46,21,FALSE))","v":""},{"$f":"IF(BA34=\"\",\"\",VLOOKUP(BA34,'（従来型）シフト記号表'!$C$5:$W$46,21,FALSE))","v":""},{"$f":"IF(BB34=\"\",\"\",VLOOKUP(BB34,'（従来型）シフト記号表'!$C$5:$W$46,21,FALSE))","v":""},{"$f":"IF(BC34=\"\",\"\",VLOOKUP(BC34,'（従来型）シフト記号表'!$C$5:$W$46,21,FALSE))","v":""},{"$f":"IF(BD34=\"\",\"\",VLOOKUP(BD34,'（従来型）シフト記号表'!$C$5:$W$46,21,FALSE))","v":""},{"$f":"IF(BE34=\"\",\"\",VLOOKUP(BE34,'（従来型）シフト記号表'!$C$5:$W$46,21,FALSE))","v":""},{"$f":"IF($BI$3=\"計画\",SUM(AA35:BB35),IF($BI$3=\"実績\",SUM(AA35:BE35),\"\"))","v":0},null,{"$f":"IF($BI$3=\"計画\",BF35/4,IF($BI$3=\"実績\",(BF35/($BI$7/7)),\"\"))","v":0}]
[null,null,null,null,null,null,null,null,{"$f":"G35","v":0},null,{"$f":"M35","v":0},null,null,null,null,null,null,null,null,null,null,"夜勤時間帯の勤務時間数",null,null,null,null,{"$f":"IF(AA34=\"\",\"\",VLOOKUP(AA34,'（従来型）シフト記号表'!$C$5:$Y$46,23,FALSE))","v":""},{"$f":"IF(AB34=\"\",\"\",VLOOKUP(AB34,'（従来型）シフト記号表'!$C$5:$Y$46,23,FALSE))","v":""},{"$f":"IF(AC34=\"\",\"\",VLOOKUP(AC34,'（従来型）シフト記号表'!$C$5:$Y$46,23,FALSE))","v":""},{"$f":"IF(AD34=\"\",\"\",VLOOKUP(AD34,'（従来型）シフト記号表'!$C$5:$Y$46,23,FALSE))","v":""},{"$f":"IF(AE34=\"\",\"\",VLOOKUP(AE34,'（従来型）シフト記号表'!$C$5:$Y$46,23,FALSE))","v":""},{"$f":"IF(AF34=\"\",\"\",VLOOKUP(AF34,'（従来型）シフト記号表'!$C$5:$Y$46,23,FALSE))","v":""},{"$f":"IF(AG34=\"\",\"\",VLOOKUP(AG34,'（従来型）シフト記号表'!$C$5:$Y$46,23,FALSE))","v":""},{"$f":"IF(AH34=\"\",\"\",VLOOKUP(AH34,'（従来型）シフト記号表'!$C$5:$Y$46,23,FALSE))","v":""},{"$f":"IF(AI34=\"\",\"\",VLOOKUP(AI34,'（従来型）シフト記号表'!$C$5:$Y$46,23,FALSE))","v":""},{"$f":"IF(AJ34=\"\",\"\",VLOOKUP(AJ34,'（従来型）シフト記号表'!$C$5:$Y$46,23,FALSE))","v":""},{"$f":"IF(AK34=\"\",\"\",VLOOKUP(AK34,'（従来型）シフト記号表'!$C$5:$Y$46,23,FALSE))","v":""},{"$f":"IF(AL34=\"\",\"\",VLOOKUP(AL34,'（従来型）シフト記号表'!$C$5:$Y$46,23,FALSE))","v":""},{"$f":"IF(AM34=\"\",\"\",VLOOKUP(AM34,'（従来型）シフト記号表'!$C$5:$Y$46,23,FALSE))","v":""},{"$f":"IF(AN34=\"\",\"\",VLOOKUP(AN34,'（従来型）シフト記号表'!$C$5:$Y$46,23,FALSE))","v":""},{"$f":"IF(AO34=\"\",\"\",VLOOKUP(AO34,'（従来型）シフト記号表'!$C$5:$Y$46,23,FALSE))","v":""},{"$f":"IF(AP34=\"\",\"\",VLOOKUP(AP34,'（従来型）シフト記号表'!$C$5:$Y$46,23,FALSE))","v":""},{"$f":"IF(AQ34=\"\",\"\",VLOOKUP(AQ34,'（従来型）シフト記号表'!$C$5:$Y$46,23,FALSE))","v":""},{"$f":"IF(AR34=\"\",\"\",VLOOKUP(AR34,'（従来型）シフト記号表'!$C$5:$Y$46,23,FALSE))","v":""},{"$f":"IF(AS34=\"\",\"\",VLOOKUP(AS34,'（従来型）シフト記号表'!$C$5:$Y$46,23,FALSE))","v":""},{"$f":"IF(AT34=\"\",\"\",VLOOKUP(AT34,'（従来型）シフト記号表'!$C$5:$Y$46,23,FALSE))","v":""},{"$f":"IF(AU34=\"\",\"\",VLOOKUP(AU34,'（従来型）シフト記号表'!$C$5:$Y$46,23,FALSE))","v":""},{"$f":"IF(AV34=\"\",\"\",VLOOKUP(AV34,'（従来型）シフト記号表'!$C$5:$Y$46,23,FALSE))","v":""},{"$f":"IF(AW34=\"\",\"\",VLOOKUP(AW34,'（従来型）シフト記号表'!$C$5:$Y$46,23,FALSE))","v":""},{"$f":"IF(AX34=\"\",\"\",VLOOKUP(AX34,'（従来型）シフト記号表'!$C$5:$Y$46,23,FALSE))","v":""},{"$f":"IF(AY34=\"\",\"\",VLOOKUP(AY34,'（従来型）シフト記号表'!$C$5:$Y$46,23,FALSE))","v":""},{"$f":"IF(AZ34=\"\",\"\",VLOOKUP(AZ34,'（従来型）シフト記号表'!$C$5:$Y$46,23,FALSE))","v":""},{"$f":"IF(BA34=\"\",\"\",VLOOKUP(BA34,'（従来型）シフト記号表'!$C$5:$Y$46,23,FALSE))","v":""},{"$f":"IF(BB34=\"\",\"\",VLOOKUP(BB34,'（従来型）シフト記号表'!$C$5:$Y$46,23,FALSE))","v":""},{"$f":"IF(BC34=\"\",\"\",VLOOKUP(BC34,'（従来型）シフト記号表'!$C$5:$Y$46,23,FALSE))","v":""},{"$f":"IF(BD34=\"\",\"\",VLOOKUP(BD34,'（従来型）シフト記号表'!$C$5:$Y$46,23,FALSE))","v":""},{"$f":"IF(BE34=\"\",\"\",VLOOKUP(BE34,'（従来型）シフト記号表'!$C$5:$Y$46,23,FALSE))","v":""},{"$f":"IF($BI$3=\"計画\",SUM(AA36:BB36),IF($BI$3=\"実績\",SUM(AA36:BE36),\"\"))","v":0},null,{"$f":"IF($BI$3=\"計画\",BF36/4,IF($BI$3=\"実績\",(BF36/($BI$7/7)),\"\"))","v":0}]
[null,null,null,null,null,null,null,null,null,null,null,null,null,null,null,null,null,null,null,null,null,"シフト記号"]
[null,{"$f":"B35+1","v":7},null,null,null,null,null,null,null,null,null,null,null,null,null,null,null,null,null,null,null,"日中の勤務時間数",null,null,null,null,{"$f":"IF(AA37=\"\",\"\",VLOOKUP(AA37,'（従来型）シフト記号表'!$C$5:$W$46,21,FALSE))","v":""},{"$f":"IF(AB37=\"\",\"\",VLOOKUP(AB37,'（従来型）シフト記号表'!$C$5:$W$46,21,FALSE))","v":""},{"$f":"IF(AC37=\"\",\"\",VLOOKUP(AC37,'（従来型）シフト記号表'!$C$5:$W$46,21,FALSE))","v":""},{"$f":"IF(AD37=\"\",\"\",VLOOKUP(AD37,'（従来型）シフト記号表'!$C$5:$W$46,21,FALSE))","v":""},{"$f":"IF(AE37=\"\",\"\",VLOOKUP(AE37,'（従来型）シフト記号表'!$C$5:$W$46,21,FALSE))","v":""},{"$f":"IF(AF37=\"\",\"\",VLOOKUP(AF37,'（従来型）シフト記号表'!$C$5:$W$46,21,FALSE))","v":""},{"$f":"IF(AG37=\"\",\"\",VLOOKUP(AG37,'（従来型）シフト記号表'!$C$5:$W$46,21,FALSE))","v":""},{"$f":"IF(AH37=\"\",\"\",VLOOKUP(AH37,'（従来型）シフト記号表'!$C$5:$W$46,21,FALSE))","v":""},{"$f":"IF(AI37=\"\",\"\",VLOOKUP(AI37,'（従来型）シフト記号表'!$C$5:$W$46,21,FALSE))","v":""},{"$f":"IF(AJ37=\"\",\"\",VLOOKUP(AJ37,'（従来型）シフト記号表'!$C$5:$W$46,21,FALSE))","v":""},{"$f":"IF(AK37=\"\",\"\",VLOOKUP(AK37,'（従来型）シフト記号表'!$C$5:$W$46,21,FALSE))","v":""},{"$f":"IF(AL37=\"\",\"\",VLOOKUP(AL37,'（従来型）シフト記号表'!$C$5:$W$46,21,FALSE))","v":""},{"$f":"IF(AM37=\"\",\"\",VLOOKUP(AM37,'（従来型）シフト記号表'!$C$5:$W$46,21,FALSE))","v":""},{"$f":"IF(AN37=\"\",\"\",VLOOKUP(AN37,'（従来型）シフト記号表'!$C$5:$W$46,21,FALSE))","v":""},{"$f":"IF(AO37=\"\",\"\",VLOOKUP(AO37,'（従来型）シフト記号表'!$C$5:$W$46,21,FALSE))","v":""},{"$f":"IF(AP37=\"\",\"\",VLOOKUP(AP37,'（従来型）シフト記号表'!$C$5:$W$46,21,FALSE))","v":""},{"$f":"IF(AQ37=\"\",\"\",VLOOKUP(AQ37,'（従来型）シフト記号表'!$C$5:$W$46,21,FALSE))","v":""},{"$f":"IF(AR37=\"\",\"\",VLOOKUP(AR37,'（従来型）シフト記号表'!$C$5:$W$46,21,FALSE))","v":""},{"$f":"IF(AS37=\"\",\"\",VLOOKUP(AS37,'（従来型）シフト記号表'!$C$5:$W$46,21,FALSE))","v":""},{"$f":"IF(AT37=\"\",\"\",VLOOKUP(AT37,'（従来型）シフト記号表'!$C$5:$W$46,21,FALSE))","v":""},{"$f":"IF(AU37=\"\",\"\",VLOOKUP(AU37,'（従来型）シフト記号表'!$C$5:$W$46,21,FALSE))","v":""},{"$f":"IF(AV37=\"\",\"\",VLOOKUP(AV37,'（従来型）シフト記号表'!$C$5:$W$46,21,FALSE))","v":""},{"$f":"IF(AW37=\"\",\"\",VLOOKUP(AW37,'（従来型）シフト記号表'!$C$5:$W$46,21,FALSE))","v":""},{"$f":"IF(AX37=\"\",\"\",VLOOKUP(AX37,'（従来型）シフト記号表'!$C$5:$W$46,21,FALSE))","v":""},{"$f":"IF(AY37=\"\",\"\",VLOOKUP(AY37,'（従来型）シフト記号表'!$C$5:$W$46,21,FALSE))","v":""},{"$f":"IF(AZ37=\"\",\"\",VLOOKUP(AZ37,'（従来型）シフト記号表'!$C$5:$W$46,21,FALSE))","v":""},{"$f":"IF(BA37=\"\",\"\",VLOOKUP(BA37,'（従来型）シフト記号表'!$C$5:$W$46,21,FALSE))","v":""},{"$f":"IF(BB37=\"\",\"\",VLOOKUP(BB37,'（従来型）シフト記号表'!$C$5:$W$46,21,FALSE))","v":""},{"$f":"IF(BC37=\"\",\"\",VLOOKUP(BC37,'（従来型）シフト記号表'!$C$5:$W$46,21,FALSE))","v":""},{"$f":"IF(BD37=\"\",\"\",VLOOKUP(BD37,'（従来型）シフト記号表'!$C$5:$W$46,21,FALSE))","v":""},{"$f":"IF(BE37=\"\",\"\",VLOOKUP(BE37,'（従来型）シフト記号表'!$C$5:$W$46,21,FALSE))","v":""},{"$f":"IF($BI$3=\"計画\",SUM(AA38:BB38),IF($BI$3=\"実績\",SUM(AA38:BE38),\"\"))","v":0},null,{"$f":"IF($BI$3=\"計画\",BF38/4,IF($BI$3=\"実績\",(BF38/($BI$7/7)),\"\"))","v":0}]
[null,null,null,null,null,null,null,null,{"$f":"G38","v":0},null,{"$f":"M38","v":0},null,null,null,null,null,null,null,null,null,null,"夜勤時間帯の勤務時間数",null,null,null,null,{"$f":"IF(AA37=\"\",\"\",VLOOKUP(AA37,'（従来型）シフト記号表'!$C$5:$Y$46,23,FALSE))","v":""},{"$f":"IF(AB37=\"\",\"\",VLOOKUP(AB37,'（従来型）シフト記号表'!$C$5:$Y$46,23,FALSE))","v":""},{"$f":"IF(AC37=\"\",\"\",VLOOKUP(AC37,'（従来型）シフト記号表'!$C$5:$Y$46,23,FALSE))","v":""},{"$f":"IF(AD37=\"\",\"\",VLOOKUP(AD37,'（従来型）シフト記号表'!$C$5:$Y$46,23,FALSE))","v":""},{"$f":"IF(AE37=\"\",\"\",VLOOKUP(AE37,'（従来型）シフト記号表'!$C$5:$Y$46,23,FALSE))","v":""},{"$f":"IF(AF37=\"\",\"\",VLOOKUP(AF37,'（従来型）シフト記号表'!$C$5:$Y$46,23,FALSE))","v":""},{"$f":"IF(AG37=\"\",\"\",VLOOKUP(AG37,'（従来型）シフト記号表'!$C$5:$Y$46,23,FALSE))","v":""},{"$f":"IF(AH37=\"\",\"\",VLOOKUP(AH37,'（従来型）シフト記号表'!$C$5:$Y$46,23,FALSE))","v":""},{"$f":"IF(AI37=\"\",\"\",VLOOKUP(AI37,'（従来型）シフト記号表'!$C$5:$Y$46,23,FALSE))","v":""},{"$f":"IF(AJ37=\"\",\"\",VLOOKUP(AJ37,'（従来型）シフト記号表'!$C$5:$Y$46,23,FALSE))","v":""},{"$f":"IF(AK37=\"\",\"\",VLOOKUP(AK37,'（従来型）シフト記号表'!$C$5:$Y$46,23,FALSE))","v":""},{"$f":"IF(AL37=\"\",\"\",VLOOKUP(AL37,'（従来型）シフト記号表'!$C$5:$Y$46,23,FALSE))","v":""},{"$f":"IF(AM37=\"\",\"\",VLOOKUP(AM37,'（従来型）シフト記号表'!$C$5:$Y$46,23,FALSE))","v":""},{"$f":"IF(AN37=\"\",\"\",VLOOKUP(AN37,'（従来型）シフト記号表'!$C$5:$Y$46,23,FALSE))","v":""},{"$f":"IF(AO37=\"\",\"\",VLOOKUP(AO37,'（従来型）シフト記号表'!$C$5:$Y$46,23,FALSE))","v":""},{"$f":"IF(AP37=\"\",\"\",VLOOKUP(AP37,'（従来型）シフト記号表'!$C$5:$Y$46,23,FALSE))","v":""},{"$f":"IF(AQ37=\"\",\"\",VLOOKUP(AQ37,'（従来型）シフト記号表'!$C$5:$Y$46,23,FALSE))","v":""},{"$f":"IF(AR37=\"\",\"\",VLOOKUP(AR37,'（従来型）シフト記号表'!$C$5:$Y$46,23,FALSE))","v":""},{"$f":"IF(AS37=\"\",\"\",VLOOKUP(AS37,'（従来型）シフト記号表'!$C$5:$Y$46,23,FALSE))","v":""},{"$f":"IF(AT37=\"\",\"\",VLOOKUP(AT37,'（従来型）シフト記号表'!$C$5:$Y$46,23,FALSE))","v":""},{"$f":"IF(AU37=\"\",\"\",VLOOKUP(AU37,'（従来型）シフト記号表'!$C$5:$Y$46,23,FALSE))","v":""},{"$f":"IF(AV37=\"\",\"\",VLOOKUP(AV37,'（従来型）シフト記号表'!$C$5:$Y$46,23,FALSE))","v":""},{"$f":"IF(AW37=\"\",\"\",VLOOKUP(AW37,'（従来型）シフト記号表'!$C$5:$Y$46,23,FALSE))","v":""},{"$f":"IF(AX37=\"\",\"\",VLOOKUP(AX37,'（従来型）シフト記号表'!$C$5:$Y$46,23,FALSE))","v":""},{"$f":"IF(AY37=\"\",\"\",VLOOKUP(AY37,'（従来型）シフト記号表'!$C$5:$Y$46,23,FALSE))","v":""},{"$f":"IF(AZ37=\"\",\"\",VLOOKUP(AZ37,'（従来型）シフト記号表'!$C$5:$Y$46,23,FALSE))","v":""},{"$f":"IF(BA37=\"\",\"\",VLOOKUP(BA37,'（従来型）シフト記号表'!$C$5:$Y$46,23,FALSE))","v":""},{"$f":"IF(BB37=\"\",\"\",VLOOKUP(BB37,'（従来型）シフト記号表'!$C$5:$Y$46,23,FALSE))","v":""},{"$f":"IF(BC37=\"\",\"\",VLOOKUP(BC37,'（従来型）シフト記号表'!$C$5:$Y$46,23,FALSE))","v":""},{"$f":"IF(BD37=\"\",\"\",VLOOKUP(BD37,'（従来型）シフト記号表'!$C$5:$Y$46,23,FALSE))","v":""},{"$f":"IF(BE37=\"\",\"\",VLOOKUP(BE37,'（従来型）シフト記号表'!$C$5:$Y$46,23,FALSE))","v":""},{"$f":"IF($BI$3=\"計画\",SUM(AA39:BB39),IF($BI$3=\"実績\",SUM(AA39:BE39),\"\"))","v":0},null,{"$f":"IF($BI$3=\"計画\",BF39/4,IF($BI$3=\"実績\",(BF39/($BI$7/7)),\"\"))","v":0}]
[null,null,null,null,null,null,null,null,null,null,null,null,null,null,null,null,null,null,null,null,null,"シフト記号"]
[null,{"$f":"B38+1","v":8},null,null,null,null,null,null,null,null,null,null,null,null,null,null,null,null,null,null,null,"日中の勤務時間数",null,null,null,null,{"$f":"IF(AA40=\"\",\"\",VLOOKUP(AA40,'（従来型）シフト記号表'!$C$5:$W$46,21,FALSE))","v":""},{"$f":"IF(AB40=\"\",\"\",VLOOKUP(AB40,'（従来型）シフト記号表'!$C$5:$W$46,21,FALSE))","v":""},{"$f":"IF(AC40=\"\",\"\",VLOOKUP(AC40,'（従来型）シフト記号表'!$C$5:$W$46,21,FALSE))","v":""},{"$f":"IF(AD40=\"\",\"\",VLOOKUP(AD40,'（従来型）シフト記号表'!$C$5:$W$46,21,FALSE))","v":""},{"$f":"IF(AE40=\"\",\"\",VLOOKUP(AE40,'（従来型）シフト記号表'!$C$5:$W$46,21,FALSE))","v":""},{"$f":"IF(AF40=\"\",\"\",VLOOKUP(AF40,'（従来型）シフト記号表'!$C$5:$W$46,21,FALSE))","v":""},{"$f":"IF(AG40=\"\",\"\",VLOOKUP(AG40,'（従来型）シフト記号表'!$C$5:$W$46,21,FALSE))","v":""},{"$f":"IF(AH40=\"\",\"\",VLOOKUP(AH40,'（従来型）シフト記号表'!$C$5:$W$46,21,FALSE))","v":""},{"$f":"IF(AI40=\"\",\"\",VLOOKUP(AI40,'（従来型）シフト記号表'!$C$5:$W$46,21,FALSE))","v":""},{"$f":"IF(AJ40=\"\",\"\",VLOOKUP(AJ40,'（従来型）シフト記号表'!$C$5:$W$46,21,FALSE))","v":""},{"$f":"IF(AK40=\"\",\"\",VLOOKUP(AK40,'（従来型）シフト記号表'!$C$5:$W$46,21,FALSE))","v":""},{"$f":"IF(AL40=\"\",\"\",VLOOKUP(AL40,'（従来型）シフト記号表'!$C$5:$W$46,21,FALSE))","v":""},{"$f":"IF(AM40=\"\",\"\",VLOOKUP(AM40,'（従来型）シフト記号表'!$C$5:$W$46,21,FALSE))","v":""},{"$f":"IF(AN40=\"\",\"\",VLOOKUP(AN40,'（従来型）シフト記号表'!$C$5:$W$46,21,FALSE))","v":""},{"$f":"IF(AO40=\"\",\"\",VLOOKUP(AO40,'（従来型）シフト記号表'!$C$5:$W$46,21,FALSE))","v":""},{"$f":"IF(AP40=\"\",\"\",VLOOKUP(AP40,'（従来型）シフト記号表'!$C$5:$W$46,21,FALSE))","v":""},{"$f":"IF(AQ40=\"\",\"\",VLOOKUP(AQ40,'（従来型）シフト記号表'!$C$5:$W$46,21,FALSE))","v":""},{"$f":"IF(AR40=\"\",\"\",VLOOKUP(AR40,'（従来型）シフト記号表'!$C$5:$W$46,21,FALSE))","v":""},{"$f":"IF(AS40=\"\",\"\",VLOOKUP(AS40,'（従来型）シフト記号表'!$C$5:$W$46,21,FALSE))","v":""},{"$f":"IF(AT40=\"\",\"\",VLOOKUP(AT40,'（従来型）シフト記号表'!$C$5:$W$46,21,FALSE))","v":""},{"$f":"IF(AU40=\"\",\"\",VLOOKUP(AU40,'（従来型）シフト記号表'!$C$5:$W$46,21,FALSE))","v":""},{"$f":"IF(AV40=\"\",\"\",VLOOKUP(AV40,'（従来型）シフト記号表'!$C$5:$W$46,21,FALSE))","v":""},{"$f":"IF(AW40=\"\",\"\",VLOOKUP(AW40,'（従来型）シフト記号表'!$C$5:$W$46,21,FALSE))","v":""},{"$f":"IF(AX40=\"\",\"\",VLOOKUP(AX40,'（従来型）シフト記号表'!$C$5:$W$46,21,FALSE))","v":""},{"$f":"IF(AY40=\"\",\"\",VLOOKUP(AY40,'（従来型）シフト記号表'!$C$5:$W$46,21,FALSE))","v":""},{"$f":"IF(AZ40=\"\",\"\",VLOOKUP(AZ40,'（従来型）シフト記号表'!$C$5:$W$46,21,FALSE))","v":""},{"$f":"IF(BA40=\"\",\"\",VLOOKUP(BA40,'（従来型）シフト記号表'!$C$5:$W$46,21,FALSE))","v":""},{"$f":"IF(BB40=\"\",\"\",VLOOKUP(BB40,'（従来型）シフト記号表'!$C$5:$W$46,21,FALSE))","v":""},{"$f":"IF(BC40=\"\",\"\",VLOOKUP(BC40,'（従来型）シフト記号表'!$C$5:$W$46,21,FALSE))","v":""},{"$f":"IF(BD40=\"\",\"\",VLOOKUP(BD40,'（従来型）シフト記号表'!$C$5:$W$46,21,FALSE))","v":""},{"$f":"IF(BE40=\"\",\"\",VLOOKUP(BE40,'（従来型）シフト記号表'!$C$5:$W$46,21,FALSE))","v":""},{"$f":"IF($BI$3=\"計画\",SUM(AA41:BB41),IF($BI$3=\"実績\",SUM(AA41:BE41),\"\"))","v":0},null,{"$f":"IF($BI$3=\"計画\",BF41/4,IF($BI$3=\"実績\",(BF41/($BI$7/7)),\"\"))","v":0}]
[null,null,null,null,null,null,null,null,{"$f":"G41","v":0},null,{"$f":"M41","v":0},null,null,null,null,null,null,null,null,null,null,"夜勤時間帯の勤務時間数",null,null,null,null,{"$f":"IF(AA40=\"\",\"\",VLOOKUP(AA40,'（従来型）シフト記号表'!$C$5:$Y$46,23,FALSE))","v":""},{"$f":"IF(AB40=\"\",\"\",VLOOKUP(AB40,'（従来型）シフト記号表'!$C$5:$Y$46,23,FALSE))","v":""},{"$f":"IF(AC40=\"\",\"\",VLOOKUP(AC40,'（従来型）シフト記号表'!$C$5:$Y$46,23,FALSE))","v":""},{"$f":"IF(AD40=\"\",\"\",VLOOKUP(AD40,'（従来型）シフト記号表'!$C$5:$Y$46,23,FALSE))","v":""},{"$f":"IF(AE40=\"\",\"\",VLOOKUP(AE40,'（従来型）シフト記号表'!$C$5:$Y$46,23,FALSE))","v":""},{"$f":"IF(AF40=\"\",\"\",VLOOKUP(AF40,'（従来型）シフト記号表'!$C$5:$Y$46,23,FALSE))","v":""},{"$f":"IF(AG40=\"\",\"\",VLOOKUP(AG40,'（従来型）シフト記号表'!$C$5:$Y$46,23,FALSE))","v":""},{"$f":"IF(AH40=\"\",\"\",VLOOKUP(AH40,'（従来型）シフト記号表'!$C$5:$Y$46,23,FALSE))","v":""},{"$f":"IF(AI40=\"\",\"\",VLOOKUP(AI40,'（従来型）シフト記号表'!$C$5:$Y$46,23,FALSE))","v":""},{"$f":"IF(AJ40=\"\",\"\",VLOOKUP(AJ40,'（従来型）シフト記号表'!$C$5:$Y$46,23,FALSE))","v":""},{"$f":"IF(AK40=\"\",\"\",VLOOKUP(AK40,'（従来型）シフト記号表'!$C$5:$Y$46,23,FALSE))","v":""},{"$f":"IF(AL40=\"\",\"\",VLOOKUP(AL40,'（従来型）シフト記号表'!$C$5:$Y$46,23,FALSE))","v":""},{"$f":"IF(AM40=\"\",\"\",VLOOKUP(AM40,'（従来型）シフト記号表'!$C$5:$Y$46,23,FALSE))","v":""},{"$f":"IF(AN40=\"\",\"\",VLOOKUP(AN40,'（従来型）シフト記号表'!$C$5:$Y$46,23,FALSE))","v":""},{"$f":"IF(AO40=\"\",\"\",VLOOKUP(AO40,'（従来型）シフト記号表'!$C$5:$Y$46,23,FALSE))","v":""},{"$f":"IF(AP40=\"\",\"\",VLOOKUP(AP40,'（従来型）シフト記号表'!$C$5:$Y$46,23,FALSE))","v":""},{"$f":"IF(AQ40=\"\",\"\",VLOOKUP(AQ40,'（従来型）シフト記号表'!$C$5:$Y$46,23,FALSE))","v":""},{"$f":"IF(AR40=\"\",\"\",VLOOKUP(AR40,'（従来型）シフト記号表'!$C$5:$Y$46,23,FALSE))","v":""},{"$f":"IF(AS40=\"\",\"\",VLOOKUP(AS40,'（従来型）シフト記号表'!$C$5:$Y$46,23,FALSE))","v":""},{"$f":"IF(AT40=\"\",\"\",VLOOKUP(AT40,'（従来型）シフト記号表'!$C$5:$Y$46,23,FALSE))","v":""},{"$f":"IF(AU40=\"\",\"\",VLOOKUP(AU40,'（従来型）シフト記号表'!$C$5:$Y$46,23,FALSE))","v":""},{"$f":"IF(AV40=\"\",\"\",VLOOKUP(AV40,'（従来型）シフト記号表'!$C$5:$Y$46,23,FALSE))","v":""},{"$f":"IF(AW40=\"\",\"\",VLOOKUP(AW40,'（従来型）シフト記号表'!$C$5:$Y$46,23,FALSE))","v":""},{"$f":"IF(AX40=\"\",\"\",VLOOKUP(AX40,'（従来型）シフト記号表'!$C$5:$Y$46,23,FALSE))","v":""},{"$f":"IF(AY40=\"\",\"\",VLOOKUP(AY40,'（従来型）シフト記号表'!$C$5:$Y$46,23,FALSE))","v":""},{"$f":"IF(AZ40=\"\",\"\",VLOOKUP(AZ40,'（従来型）シフト記号表'!$C$5:$Y$46,23,FALSE))","v":""},{"$f":"IF(BA40=\"\",\"\",VLOOKUP(BA40,'（従来型）シフト記号表'!$C$5:$Y$46,23,FALSE))","v":""},{"$f":"IF(BB40=\"\",\"\",VLOOKUP(BB40,'（従来型）シフト記号表'!$C$5:$Y$46,23,FALSE))","v":""},{"$f":"IF(BC40=\"\",\"\",VLOOKUP(BC40,'（従来型）シフト記号表'!$C$5:$Y$46,23,FALSE))","v":""},{"$f":"IF(BD40=\"\",\"\",VLOOKUP(BD40,'（従来型）シフト記号表'!$C$5:$Y$46,23,FALSE))","v":""},{"$f":"IF(BE40=\"\",\"\",VLOOKUP(BE40,'（従来型）シフト記号表'!$C$5:$Y$46,23,FALSE))","v":""},{"$f":"IF($BI$3=\"計画\",SUM(AA42:BB42),IF($BI$3=\"実績\",SUM(AA42:BE42),\"\"))","v":0},null,{"$f":"IF($BI$3=\"計画\",BF42/4,IF($BI$3=\"実績\",(BF42/($BI$7/7)),\"\"))","v":0}]
[null,null,null,null,null,null,null,null,null,null,null,null,null,null,null,null,null,null,null,null,null,"シフト記号"]
[null,{"$f":"B41+1","v":9},null,null,null,null,null,null,null,null,null,null,null,null,null,null,null,null,null,null,null,"日中の勤務時間数",null,null,null,null,{"$f":"IF(AA43=\"\",\"\",VLOOKUP(AA43,'（従来型）シフト記号表'!$C$5:$W$46,21,FALSE))","v":""},{"$f":"IF(AB43=\"\",\"\",VLOOKUP(AB43,'（従来型）シフト記号表'!$C$5:$W$46,21,FALSE))","v":""},{"$f":"IF(AC43=\"\",\"\",VLOOKUP(AC43,'（従来型）シフト記号表'!$C$5:$W$46,21,FALSE))","v":""},{"$f":"IF(AD43=\"\",\"\",VLOOKUP(AD43,'（従来型）シフト記号表'!$C$5:$W$46,21,FALSE))","v":""},{"$f":"IF(AE43=\"\",\"\",VLOOKUP(AE43,'（従来型）シフト記号表'!$C$5:$W$46,21,FALSE))","v":""},{"$f":"IF(AF43=\"\",\"\",VLOOKUP(AF43,'（従来型）シフト記号表'!$C$5:$W$46,21,FALSE))","v":""},{"$f":"IF(AG43=\"\",\"\",VLOOKUP(AG43,'（従来型）シフト記号表'!$C$5:$W$46,21,FALSE))","v":""},{"$f":"IF(AH43=\"\",\"\",VLOOKUP(AH43,'（従来型）シフト記号表'!$C$5:$W$46,21,FALSE))","v":""},{"$f":"IF(AI43=\"\",\"\",VLOOKUP(AI43,'（従来型）シフト記号表'!$C$5:$W$46,21,FALSE))","v":""},{"$f":"IF(AJ43=\"\",\"\",VLOOKUP(AJ43,'（従来型）シフト記号表'!$C$5:$W$46,21,FALSE))","v":""},{"$f":"IF(AK43=\"\",\"\",VLOOKUP(AK43,'（従来型）シフト記号表'!$C$5:$W$46,21,FALSE))","v":""},{"$f":"IF(AL43=\"\",\"\",VLOOKUP(AL43,'（従来型）シフト記号表'!$C$5:$W$46,21,FALSE))","v":""},{"$f":"IF(AM43=\"\",\"\",VLOOKUP(AM43,'（従来型）シフト記号表'!$C$5:$W$46,21,FALSE))","v":""},{"$f":"IF(AN43=\"\",\"\",VLOOKUP(AN43,'（従来型）シフト記号表'!$C$5:$W$46,21,FALSE))","v":""},{"$f":"IF(AO43=\"\",\"\",VLOOKUP(AO43,'（従来型）シフト記号表'!$C$5:$W$46,21,FALSE))","v":""},{"$f":"IF(AP43=\"\",\"\",VLOOKUP(AP43,'（従来型）シフト記号表'!$C$5:$W$46,21,FALSE))","v":""},{"$f":"IF(AQ43=\"\",\"\",VLOOKUP(AQ43,'（従来型）シフト記号表'!$C$5:$W$46,21,FALSE))","v":""},{"$f":"IF(AR43=\"\",\"\",VLOOKUP(AR43,'（従来型）シフト記号表'!$C$5:$W$46,21,FALSE))","v":""},{"$f":"IF(AS43=\"\",\"\",VLOOKUP(AS43,'（従来型）シフト記号表'!$C$5:$W$46,21,FALSE))","v":""},{"$f":"IF(AT43=\"\",\"\",VLOOKUP(AT43,'（従来型）シフト記号表'!$C$5:$W$46,21,FALSE))","v":""},{"$f":"IF(AU43=\"\",\"\",VLOOKUP(AU43,'（従来型）シフト記号表'!$C$5:$W$46,21,FALSE))","v":""},{"$f":"IF(AV43=\"\",\"\",VLOOKUP(AV43,'（従来型）シフト記号表'!$C$5:$W$46,21,FALSE))","v":""},{"$f":"IF(AW43=\"\",\"\",VLOOKUP(AW43,'（従来型）シフト記号表'!$C$5:$W$46,21,FALSE))","v":""},{"$f":"IF(AX43=\"\",\"\",VLOOKUP(AX43,'（従来型）シフト記号表'!$C$5:$W$46,21,FALSE))","v":""},{"$f":"IF(AY43=\"\",\"\",VLOOKUP(AY43,'（従来型）シフト記号表'!$C$5:$W$46,21,FALSE))","v":""},{"$f":"IF(AZ43=\"\",\"\",VLOOKUP(AZ43,'（従来型）シフト記号表'!$C$5:$W$46,21,FALSE))","v":""},{"$f":"IF(BA43=\"\",\"\",VLOOKUP(BA43,'（従来型）シフト記号表'!$C$5:$W$46,21,FALSE))","v":""},{"$f":"IF(BB43=\"\",\"\",VLOOKUP(BB43,'（従来型）シフト記号表'!$C$5:$W$46,21,FALSE))","v":""},{"$f":"IF(BC43=\"\",\"\",VLOOKUP(BC43,'（従来型）シフト記号表'!$C$5:$W$46,21,FALSE))","v":""},{"$f":"IF(BD43=\"\",\"\",VLOOKUP(BD43,'（従来型）シフト記号表'!$C$5:$W$46,21,FALSE))","v":""},{"$f":"IF(BE43=\"\",\"\",VLOOKUP(BE43,'（従来型）シフト記号表'!$C$5:$W$46,21,FALSE))","v":""},{"$f":"IF($BI$3=\"計画\",SUM(AA44:BB44),IF($BI$3=\"実績\",SUM(AA44:BE44),\"\"))","v":0},null,{"$f":"IF($BI$3=\"計画\",BF44/4,IF($BI$3=\"実績\",(BF44/($BI$7/7)),\"\"))","v":0}]
[null,null,null,null,null,null,null,null,{"$f":"G44","v":0},null,{"$f":"M44","v":0},null,null,null,null,null,null,null,null,null,null,"夜勤時間帯の勤務時間数",null,null,null,null,{"$f":"IF(AA43=\"\",\"\",VLOOKUP(AA43,'（従来型）シフト記号表'!$C$5:$Y$46,23,FALSE))","v":""},{"$f":"IF(AB43=\"\",\"\",VLOOKUP(AB43,'（従来型）シフト記号表'!$C$5:$Y$46,23,FALSE))","v":""},{"$f":"IF(AC43=\"\",\"\",VLOOKUP(AC43,'（従来型）シフト記号表'!$C$5:$Y$46,23,FALSE))","v":""},{"$f":"IF(AD43=\"\",\"\",VLOOKUP(AD43,'（従来型）シフト記号表'!$C$5:$Y$46,23,FALSE))","v":""},{"$f":"IF(AE43=\"\",\"\",VLOOKUP(AE43,'（従来型）シフト記号表'!$C$5:$Y$46,23,FALSE))","v":""},{"$f":"IF(AF43=\"\",\"\",VLOOKUP(AF43,'（従来型）シフト記号表'!$C$5:$Y$46,23,FALSE))","v":""},{"$f":"IF(AG43=\"\",\"\",VLOOKUP(AG43,'（従来型）シフト記号表'!$C$5:$Y$46,23,FALSE))","v":""},{"$f":"IF(AH43=\"\",\"\",VLOOKUP(AH43,'（従来型）シフト記号表'!$C$5:$Y$46,23,FALSE))","v":""},{"$f":"IF(AI43=\"\",\"\",VLOOKUP(AI43,'（従来型）シフト記号表'!$C$5:$Y$46,23,FALSE))","v":""},{"$f":"IF(AJ43=\"\",\"\",VLOOKUP(AJ43,'（従来型）シフト記号表'!$C$5:$Y$46,23,FALSE))","v":""},{"$f":"IF(AK43=\"\",\"\",VLOOKUP(AK43,'（従来型）シフト記号表'!$C$5:$Y$46,23,FALSE))","v":""},{"$f":"IF(AL43=\"\",\"\",VLOOKUP(AL43,'（従来型）シフト記号表'!$C$5:$Y$46,23,FALSE))","v":""},{"$f":"IF(AM43=\"\",\"\",VLOOKUP(AM43,'（従来型）シフト記号表'!$C$5:$Y$46,23,FALSE))","v":""},{"$f":"IF(AN43=\"\",\"\",VLOOKUP(AN43,'（従来型）シフト記号表'!$C$5:$Y$46,23,FALSE))","v":""},{"$f":"IF(AO43=\"\",\"\",VLOOKUP(AO43,'（従来型）シフト記号表'!$C$5:$Y$46,23,FALSE))","v":""},{"$f":"IF(AP43=\"\",\"\",VLOOKUP(AP43,'（従来型）シフト記号表'!$C$5:$Y$46,23,FALSE))","v":""},{"$f":"IF(AQ43=\"\",\"\",VLOOKUP(AQ43,'（従来型）シフト記号表'!$C$5:$Y$46,23,FALSE))","v":""},{"$f":"IF(AR43=\"\",\"\",VLOOKUP(AR43,'（従来型）シフト記号表'!$C$5:$Y$46,23,FALSE))","v":""},{"$f":"IF(AS43=\"\",\"\",VLOOKUP(AS43,'（従来型）シフト記号表'!$C$5:$Y$46,23,FALSE))","v":""},{"$f":"IF(AT43=\"\",\"\",VLOOKUP(AT43,'（従来型）シフト記号表'!$C$5:$Y$46,23,FALSE))","v":""},{"$f":"IF(AU43=\"\",\"\",VLOOKUP(AU43,'（従来型）シフト記号表'!$C$5:$Y$46,23,FALSE))","v":""},{"$f":"IF(AV43=\"\",\"\",VLOOKUP(AV43,'（従来型）シフト記号表'!$C$5:$Y$46,23,FALSE))","v":""},{"$f":"IF(AW43=\"\",\"\",VLOOKUP(AW43,'（従来型）シフト記号表'!$C$5:$Y$46,23,FALSE))","v":""},{"$f":"IF(AX43=\"\",\"\",VLOOKUP(AX43,'（従来型）シフト記号表'!$C$5:$Y$46,23,FALSE))","v":""},{"$f":"IF(AY43=\"\",\"\",VLOOKUP(AY43,'（従来型）シフト記号表'!$C$5:$Y$46,23,FALSE))","v":""},{"$f":"IF(AZ43=\"\",\"\",VLOOKUP(AZ43,'（従来型）シフト記号表'!$C$5:$Y$46,23,FALSE))","v":""},{"$f":"IF(BA43=\"\",\"\",VLOOKUP(BA43,'（従来型）シフト記号表'!$C$5:$Y$46,23,FALSE))","v":""},{"$f":"IF(BB43=\"\",\"\",VLOOKUP(BB43,'（従来型）シフト記号表'!$C$5:$Y$46,23,FALSE))","v":""},{"$f":"IF(BC43=\"\",\"\",VLOOKUP(BC43,'（従来型）シフト記号表'!$C$5:$Y$46,23,FALSE))","v":""},{"$f":"IF(BD43=\"\",\"\",VLOOKUP(BD43,'（従来型）シフト記号表'!$C$5:$Y$46,23,FALSE))","v":""},{"$f":"IF(BE43=\"\",\"\",VLOOKUP(BE43,'（従来型）シフト記号表'!$C$5:$Y$46,23,FALSE))","v":""},{"$f":"IF($BI$3=\"計画\",SUM(AA45:BB45),IF($BI$3=\"実績\",SUM(AA45:BE45),\"\"))","v":0},null,{"$f":"IF($BI$3=\"計画\",BF45/4,IF($BI$3=\"実績\",(BF45/($BI$7/7)),\"\"))","v":0}]
[null,null,null,null,null,null,null,null,null,null,null,null,null,null,null,null,null,null,null,null,null,"シフト記号"]
[null,{"$f":"B44+1","v":10},null,null,null,null,null,null,null,null,null,null,null,null,null,null,null,null,null,null,null,"日中の勤務時間数",null,null,null,null,{"$f":"IF(AA46=\"\",\"\",VLOOKUP(AA46,'（従来型）シフト記号表'!$C$5:$W$46,21,FALSE))","v":""},{"$f":"IF(AB46=\"\",\"\",VLOOKUP(AB46,'（従来型）シフト記号表'!$C$5:$W$46,21,FALSE))","v":""},{"$f":"IF(AC46=\"\",\"\",VLOOKUP(AC46,'（従来型）シフト記号表'!$C$5:$W$46,21,FALSE))","v":""},{"$f":"IF(AD46=\"\",\"\",VLOOKUP(AD46,'（従来型）シフト記号表'!$C$5:$W$46,21,FALSE))","v":""},{"$f":"IF(AE46=\"\",\"\",VLOOKUP(AE46,'（従来型）シフト記号表'!$C$5:$W$46,21,FALSE))","v":""},{"$f":"IF(AF46=\"\",\"\",VLOOKUP(AF46,'（従来型）シフト記号表'!$C$5:$W$46,21,FALSE))","v":""},{"$f":"IF(AG46=\"\",\"\",VLOOKUP(AG46,'（従来型）シフト記号表'!$C$5:$W$46,21,FALSE))","v":""},{"$f":"IF(AH46=\"\",\"\",VLOOKUP(AH46,'（従来型）シフト記号表'!$C$5:$W$46,21,FALSE))","v":""},{"$f":"IF(AI46=\"\",\"\",VLOOKUP(AI46,'（従来型）シフト記号表'!$C$5:$W$46,21,FALSE))","v":""},{"$f":"IF(AJ46=\"\",\"\",VLOOKUP(AJ46,'（従来型）シフト記号表'!$C$5:$W$46,21,FALSE))","v":""},{"$f":"IF(AK46=\"\",\"\",VLOOKUP(AK46,'（従来型）シフト記号表'!$C$5:$W$46,21,FALSE))","v":""},{"$f":"IF(AL46=\"\",\"\",VLOOKUP(AL46,'（従来型）シフト記号表'!$C$5:$W$46,21,FALSE))","v":""},{"$f":"IF(AM46=\"\",\"\",VLOOKUP(AM46,'（従来型）シフト記号表'!$C$5:$W$46,21,FALSE))","v":""},{"$f":"IF(AN46=\"\",\"\",VLOOKUP(AN46,'（従来型）シフト記号表'!$C$5:$W$46,21,FALSE))","v":""},{"$f":"IF(AO46=\"\",\"\",VLOOKUP(AO46,'（従来型）シフト記号表'!$C$5:$W$46,21,FALSE))","v":""},{"$f":"IF(AP46=\"\",\"\",VLOOKUP(AP46,'（従来型）シフト記号表'!$C$5:$W$46,21,FALSE))","v":""},{"$f":"IF(AQ46=\"\",\"\",VLOOKUP(AQ46,'（従来型）シフト記号表'!$C$5:$W$46,21,FALSE))","v":""},{"$f":"IF(AR46=\"\",\"\",VLOOKUP(AR46,'（従来型）シフト記号表'!$C$5:$W$46,21,FALSE))","v":""},{"$f":"IF(AS46=\"\",\"\",VLOOKUP(AS46,'（従来型）シフト記号表'!$C$5:$W$46,21,FALSE))","v":""},{"$f":"IF(AT46=\"\",\"\",VLOOKUP(AT46,'（従来型）シフト記号表'!$C$5:$W$46,21,FALSE))","v":""},{"$f":"IF(AU46=\"\",\"\",VLOOKUP(AU46,'（従来型）シフト記号表'!$C$5:$W$46,21,FALSE))","v":""},{"$f":"IF(AV46=\"\",\"\",VLOOKUP(AV46,'（従来型）シフト記号表'!$C$5:$W$46,21,FALSE))","v":""},{"$f":"IF(AW46=\"\",\"\",VLOOKUP(AW46,'（従来型）シフト記号表'!$C$5:$W$46,21,FALSE))","v":""},{"$f":"IF(AX46=\"\",\"\",VLOOKUP(AX46,'（従来型）シフト記号表'!$C$5:$W$46,21,FALSE))","v":""},{"$f":"IF(AY46=\"\",\"\",VLOOKUP(AY46,'（従来型）シフト記号表'!$C$5:$W$46,21,FALSE))","v":""},{"$f":"IF(AZ46=\"\",\"\",VLOOKUP(AZ46,'（従来型）シフト記号表'!$C$5:$W$46,21,FALSE))","v":""},{"$f":"IF(BA46=\"\",\"\",VLOOKUP(BA46,'（従来型）シフト記号表'!$C$5:$W$46,21,FALSE))","v":""},{"$f":"IF(BB46=\"\",\"\",VLOOKUP(BB46,'（従来型）シフト記号表'!$C$5:$W$46,21,FALSE))","v":""},{"$f":"IF(BC46=\"\",\"\",VLOOKUP(BC46,'（従来型）シフト記号表'!$C$5:$W$46,21,FALSE))","v":""},{"$f":"IF(BD46=\"\",\"\",VLOOKUP(BD46,'（従来型）シフト記号表'!$C$5:$W$46,21,FALSE))","v":""},{"$f":"IF(BE46=\"\",\"\",VLOOKUP(BE46,'（従来型）シフト記号表'!$C$5:$W$46,21,FALSE))","v":""},{"$f":"IF($BI$3=\"計画\",SUM(AA47:BB47),IF($BI$3=\"実績\",SUM(AA47:BE47),\"\"))","v":0},null,{"$f":"IF($BI$3=\"計画\",BF47/4,IF($BI$3=\"実績\",(BF47/($BI$7/7)),\"\"))","v":0}]
[null,null,null,null,null,null,null,null,{"$f":"G47","v":0},null,{"$f":"M47","v":0},null,null,null,null,null,null,null,null,null,null,"夜勤時間帯の勤務時間数",null,null,null,null,{"$f":"IF(AA46=\"\",\"\",VLOOKUP(AA46,'（従来型）シフト記号表'!$C$5:$Y$46,23,FALSE))","v":""},{"$f":"IF(AB46=\"\",\"\",VLOOKUP(AB46,'（従来型）シフト記号表'!$C$5:$Y$46,23,FALSE))","v":""},{"$f":"IF(AC46=\"\",\"\",VLOOKUP(AC46,'（従来型）シフト記号表'!$C$5:$Y$46,23,FALSE))","v":""},{"$f":"IF(AD46=\"\",\"\",VLOOKUP(AD46,'（従来型）シフト記号表'!$C$5:$Y$46,23,FALSE))","v":""},{"$f":"IF(AE46=\"\",\"\",VLOOKUP(AE46,'（従来型）シフト記号表'!$C$5:$Y$46,23,FALSE))","v":""},{"$f":"IF(AF46=\"\",\"\",VLOOKUP(AF46,'（従来型）シフト記号表'!$C$5:$Y$46,23,FALSE))","v":""},{"$f":"IF(AG46=\"\",\"\",VLOOKUP(AG46,'（従来型）シフト記号表'!$C$5:$Y$46,23,FALSE))","v":""},{"$f":"IF(AH46=\"\",\"\",VLOOKUP(AH46,'（従来型）シフト記号表'!$C$5:$Y$46,23,FALSE))","v":""},{"$f":"IF(AI46=\"\",\"\",VLOOKUP(AI46,'（従来型）シフト記号表'!$C$5:$Y$46,23,FALSE))","v":""},{"$f":"IF(AJ46=\"\",\"\",VLOOKUP(AJ46,'（従来型）シフト記号表'!$C$5:$Y$46,23,FALSE))","v":""},{"$f":"IF(AK46=\"\",\"\",VLOOKUP(AK46,'（従来型）シフト記号表'!$C$5:$Y$46,23,FALSE))","v":""},{"$f":"IF(AL46=\"\",\"\",VLOOKUP(AL46,'（従来型）シフト記号表'!$C$5:$Y$46,23,FALSE))","v":""},{"$f":"IF(AM46=\"\",\"\",VLOOKUP(AM46,'（従来型）シフト記号表'!$C$5:$Y$46,23,FALSE))","v":""},{"$f":"IF(AN46=\"\",\"\",VLOOKUP(AN46,'（従来型）シフト記号表'!$C$5:$Y$46,23,FALSE))","v":""},{"$f":"IF(AO46=\"\",\"\",VLOOKUP(AO46,'（従来型）シフト記号表'!$C$5:$Y$46,23,FALSE))","v":""},{"$f":"IF(AP46=\"\",\"\",VLOOKUP(AP46,'（従来型）シフト記号表'!$C$5:$Y$46,23,FALSE))","v":""},{"$f":"IF(AQ46=\"\",\"\",VLOOKUP(AQ46,'（従来型）シフト記号表'!$C$5:$Y$46,23,FALSE))","v":""},{"$f":"IF(AR46=\"\",\"\",VLOOKUP(AR46,'（従来型）シフト記号表'!$C$5:$Y$46,23,FALSE))","v":""},{"$f":"IF(AS46=\"\",\"\",VLOOKUP(AS46,'（従来型）シフト記号表'!$C$5:$Y$46,23,FALSE))","v":""},{"$f":"IF(AT46=\"\",\"\",VLOOKUP(AT46,'（従来型）シフト記号表'!$C$5:$Y$46,23,FALSE))","v":""},{"$f":"IF(AU46=\"\",\"\",VLOOKUP(AU46,'（従来型）シフト記号表'!$C$5:$Y$46,23,FALSE))","v":""},{"$f":"IF(AV46=\"\",\"\",VLOOKUP(AV46,'（従来型）シフト記号表'!$C$5:$Y$46,23,FALSE))","v":""},{"$f":"IF(AW46=\"\",\"\",VLOOKUP(AW46,'（従来型）シフト記号表'!$C$5:$Y$46,23,FALSE))","v":""},{"$f":"IF(AX46=\"\",\"\",VLOOKUP(AX46,'（従来型）シフト記号表'!$C$5:$Y$46,23,FALSE))","v":""},{"$f":"IF(AY46=\"\",\"\",VLOOKUP(AY46,'（従来型）シフト記号表'!$C$5:$Y$46,23,FALSE))","v":""},{"$f":"IF(AZ46=\"\",\"\",VLOOKUP(AZ46,'（従来型）シフト記号表'!$C$5:$Y$46,23,FALSE))","v":""},{"$f":"IF(BA46=\"\",\"\",VLOOKUP(BA46,'（従来型）シフト記号表'!$C$5:$Y$46,23,FALSE))","v":""},{"$f":"IF(BB46=\"\",\"\",VLOOKUP(BB46,'（従来型）シフト記号表'!$C$5:$Y$46,23,FALSE))","v":""},{"$f":"IF(BC46=\"\",\"\",VLOOKUP(BC46,'（従来型）シフト記号表'!$C$5:$Y$46,23,FALSE))","v":""},{"$f":"IF(BD46=\"\",\"\",VLOOKUP(BD46,'（従来型）シフト記号表'!$C$5:$Y$46,23,FALSE))","v":""},{"$f":"IF(BE46=\"\",\"\",VLOOKUP(BE46,'（従来型）シフト記号表'!$C$5:$Y$46,23,FALSE))","v":""},{"$f":"IF($BI$3=\"計画\",SUM(AA48:BB48),IF($BI$3=\"実績\",SUM(AA48:BE48),\"\"))","v":0},null,{"$f":"IF($BI$3=\"計画\",BF48/4,IF($BI$3=\"実績\",(BF48/($BI$7/7)),\"\"))","v":0}]
[null,null,null,null,null,null,null,null,null,null,null,null,null,null,null,null,null,null,null,null,null,"シフト記号"]
[null,{"$f":"B47+1","v":11},null,null,null,null,null,null,null,null,null,null,null,null,null,null,null,null,null,null,null,"日中の勤務時間数",null,null,null,null,{"$f":"IF(AA49=\"\",\"\",VLOOKUP(AA49,'（従来型）シフト記号表'!$C$5:$W$46,21,FALSE))","v":""},{"$f":"IF(AB49=\"\",\"\",VLOOKUP(AB49,'（従来型）シフト記号表'!$C$5:$W$46,21,FALSE))","v":""},{"$f":"IF(AC49=\"\",\"\",VLOOKUP(AC49,'（従来型）シフト記号表'!$C$5:$W$46,21,FALSE))","v":""},{"$f":"IF(AD49=\"\",\"\",VLOOKUP(AD49,'（従来型）シフト記号表'!$C$5:$W$46,21,FALSE))","v":""},{"$f":"IF(AE49=\"\",\"\",VLOOKUP(AE49,'（従来型）シフト記号表'!$C$5:$W$46,21,FALSE))","v":""},{"$f":"IF(AF49=\"\",\"\",VLOOKUP(AF49,'（従来型）シフト記号表'!$C$5:$W$46,21,FALSE))","v":""},{"$f":"IF(AG49=\"\",\"\",VLOOKUP(AG49,'（従来型）シフト記号表'!$C$5:$W$46,21,FALSE))","v":""},{"$f":"IF(AH49=\"\",\"\",VLOOKUP(AH49,'（従来型）シフト記号表'!$C$5:$W$46,21,FALSE))","v":""},{"$f":"IF(AI49=\"\",\"\",VLOOKUP(AI49,'（従来型）シフト記号表'!$C$5:$W$46,21,FALSE))","v":""},{"$f":"IF(AJ49=\"\",\"\",VLOOKUP(AJ49,'（従来型）シフト記号表'!$C$5:$W$46,21,FALSE))","v":""},{"$f":"IF(AK49=\"\",\"\",VLOOKUP(AK49,'（従来型）シフト記号表'!$C$5:$W$46,21,FALSE))","v":""},{"$f":"IF(AL49=\"\",\"\",VLOOKUP(AL49,'（従来型）シフト記号表'!$C$5:$W$46,21,FALSE))","v":""},{"$f":"IF(AM49=\"\",\"\",VLOOKUP(AM49,'（従来型）シフト記号表'!$C$5:$W$46,21,FALSE))","v":""},{"$f":"IF(AN49=\"\",\"\",VLOOKUP(AN49,'（従来型）シフト記号表'!$C$5:$W$46,21,FALSE))","v":""},{"$f":"IF(AO49=\"\",\"\",VLOOKUP(AO49,'（従来型）シフト記号表'!$C$5:$W$46,21,FALSE))","v":""},{"$f":"IF(AP49=\"\",\"\",VLOOKUP(AP49,'（従来型）シフト記号表'!$C$5:$W$46,21,FALSE))","v":""},{"$f":"IF(AQ49=\"\",\"\",VLOOKUP(AQ49,'（従来型）シフト記号表'!$C$5:$W$46,21,FALSE))","v":""},{"$f":"IF(AR49=\"\",\"\",VLOOKUP(AR49,'（従来型）シフト記号表'!$C$5:$W$46,21,FALSE))","v":""},{"$f":"IF(AS49=\"\",\"\",VLOOKUP(AS49,'（従来型）シフト記号表'!$C$5:$W$46,21,FALSE))","v":""},{"$f":"IF(AT49=\"\",\"\",VLOOKUP(AT49,'（従来型）シフト記号表'!$C$5:$W$46,21,FALSE))","v":""},{"$f":"IF(AU49=\"\",\"\",VLOOKUP(AU49,'（従来型）シフト記号表'!$C$5:$W$46,21,FALSE))","v":""},{"$f":"IF(AV49=\"\",\"\",VLOOKUP(AV49,'（従来型）シフト記号表'!$C$5:$W$46,21,FALSE))","v":""},{"$f":"IF(AW49=\"\",\"\",VLOOKUP(AW49,'（従来型）シフト記号表'!$C$5:$W$46,21,FALSE))","v":""},{"$f":"IF(AX49=\"\",\"\",VLOOKUP(AX49,'（従来型）シフト記号表'!$C$5:$W$46,21,FALSE))","v":""},{"$f":"IF(AY49=\"\",\"\",VLOOKUP(AY49,'（従来型）シフト記号表'!$C$5:$W$46,21,FALSE))","v":""},{"$f":"IF(AZ49=\"\",\"\",VLOOKUP(AZ49,'（従来型）シフト記号表'!$C$5:$W$46,21,FALSE))","v":""},{"$f":"IF(BA49=\"\",\"\",VLOOKUP(BA49,'（従来型）シフト記号表'!$C$5:$W$46,21,FALSE))","v":""},{"$f":"IF(BB49=\"\",\"\",VLOOKUP(BB49,'（従来型）シフト記号表'!$C$5:$W$46,21,FALSE))","v":""},{"$f":"IF(BC49=\"\",\"\",VLOOKUP(BC49,'（従来型）シフト記号表'!$C$5:$W$46,21,FALSE))","v":""},{"$f":"IF(BD49=\"\",\"\",VLOOKUP(BD49,'（従来型）シフト記号表'!$C$5:$W$46,21,FALSE))","v":""},{"$f":"IF(BE49=\"\",\"\",VLOOKUP(BE49,'（従来型）シフト記号表'!$C$5:$W$46,21,FALSE))","v":""},{"$f":"IF($BI$3=\"計画\",SUM(AA50:BB50),IF($BI$3=\"実績\",SUM(AA50:BE50),\"\"))","v":0},null,{"$f":"IF($BI$3=\"計画\",BF50/4,IF($BI$3=\"実績\",(BF50/($BI$7/7)),\"\"))","v":0}]
[null,null,null,null,null,null,null,null,{"$f":"G50","v":0},null,{"$f":"M50","v":0},null,null,null,null,null,null,null,null,null,null,"夜勤時間帯の勤務時間数",null,null,null,null,{"$f":"IF(AA49=\"\",\"\",VLOOKUP(AA49,'（従来型）シフト記号表'!$C$5:$Y$46,23,FALSE))","v":""},{"$f":"IF(AB49=\"\",\"\",VLOOKUP(AB49,'（従来型）シフト記号表'!$C$5:$Y$46,23,FALSE))","v":""},{"$f":"IF(AC49=\"\",\"\",VLOOKUP(AC49,'（従来型）シフト記号表'!$C$5:$Y$46,23,FALSE))","v":""},{"$f":"IF(AD49=\"\",\"\",VLOOKUP(AD49,'（従来型）シフト記号表'!$C$5:$Y$46,23,FALSE))","v":""},{"$f":"IF(AE49=\"\",\"\",VLOOKUP(AE49,'（従来型）シフト記号表'!$C$5:$Y$46,23,FALSE))","v":""},{"$f":"IF(AF49=\"\",\"\",VLOOKUP(AF49,'（従来型）シフト記号表'!$C$5:$Y$46,23,FALSE))","v":""},{"$f":"IF(AG49=\"\",\"\",VLOOKUP(AG49,'（従来型）シフト記号表'!$C$5:$Y$46,23,FALSE))","v":""},{"$f":"IF(AH49=\"\",\"\",VLOOKUP(AH49,'（従来型）シフト記号表'!$C$5:$Y$46,23,FALSE))","v":""},{"$f":"IF(AI49=\"\",\"\",VLOOKUP(AI49,'（従来型）シフト記号表'!$C$5:$Y$46,23,FALSE))","v":""},{"$f":"IF(AJ49=\"\",\"\",VLOOKUP(AJ49,'（従来型）シフト記号表'!$C$5:$Y$46,23,FALSE))","v":""},{"$f":"IF(AK49=\"\",\"\",VLOOKUP(AK49,'（従来型）シフト記号表'!$C$5:$Y$46,23,FALSE))","v":""},{"$f":"IF(AL49=\"\",\"\",VLOOKUP(AL49,'（従来型）シフト記号表'!$C$5:$Y$46,23,FALSE))","v":""},{"$f":"IF(AM49=\"\",\"\",VLOOKUP(AM49,'（従来型）シフト記号表'!$C$5:$Y$46,23,FALSE))","v":""},{"$f":"IF(AN49=\"\",\"\",VLOOKUP(AN49,'（従来型）シフト記号表'!$C$5:$Y$46,23,FALSE))","v":""},{"$f":"IF(AO49=\"\",\"\",VLOOKUP(AO49,'（従来型）シフト記号表'!$C$5:$Y$46,23,FALSE))","v":""},{"$f":"IF(AP49=\"\",\"\",VLOOKUP(AP49,'（従来型）シフト記号表'!$C$5:$Y$46,23,FALSE))","v":""},{"$f":"IF(AQ49=\"\",\"\",VLOOKUP(AQ49,'（従来型）シフト記号表'!$C$5:$Y$46,23,FALSE))","v":""},{"$f":"IF(AR49=\"\",\"\",VLOOKUP(AR49,'（従来型）シフト記号表'!$C$5:$Y$46,23,FALSE))","v":""},{"$f":"IF(AS49=\"\",\"\",VLOOKUP(AS49,'（従来型）シフト記号表'!$C$5:$Y$46,23,FALSE))","v":""},{"$f":"IF(AT49=\"\",\"\",VLOOKUP(AT49,'（従来型）シフト記号表'!$C$5:$Y$46,23,FALSE))","v":""},{"$f":"IF(AU49=\"\",\"\",VLOOKUP(AU49,'（従来型）シフト記号表'!$C$5:$Y$46,23,FALSE))","v":""},{"$f":"IF(AV49=\"\",\"\",VLOOKUP(AV49,'（従来型）シフト記号表'!$C$5:$Y$46,23,FALSE))","v":""},{"$f":"IF(AW49=\"\",\"\",VLOOKUP(AW49,'（従来型）シフト記号表'!$C$5:$Y$46,23,FALSE))","v":""},{"$f":"IF(AX49=\"\",\"\",VLOOKUP(AX49,'（従来型）シフト記号表'!$C$5:$Y$46,23,FALSE))","v":""},{"$f":"IF(AY49=\"\",\"\",VLOOKUP(AY49,'（従来型）シフト記号表'!$C$5:$Y$46,23,FALSE))","v":""},{"$f":"IF(AZ49=\"\",\"\",VLOOKUP(AZ49,'（従来型）シフト記号表'!$C$5:$Y$46,23,FALSE))","v":""},{"$f":"IF(BA49=\"\",\"\",VLOOKUP(BA49,'（従来型）シフト記号表'!$C$5:$Y$46,23,FALSE))","v":""},{"$f":"IF(BB49=\"\",\"\",VLOOKUP(BB49,'（従来型）シフト記号表'!$C$5:$Y$46,23,FALSE))","v":""},{"$f":"IF(BC49=\"\",\"\",VLOOKUP(BC49,'（従来型）シフト記号表'!$C$5:$Y$46,23,FALSE))","v":""},{"$f":"IF(BD49=\"\",\"\",VLOOKUP(BD49,'（従来型）シフト記号表'!$C$5:$Y$46,23,FALSE))","v":""},{"$f":"IF(BE49=\"\",\"\",VLOOKUP(BE49,'（従来型）シフト記号表'!$C$5:$Y$46,23,FALSE))","v":""},{"$f":"IF($BI$3=\"計画\",SUM(AA51:BB51),IF($BI$3=\"実績\",SUM(AA51:BE51),\"\"))","v":0},null,{"$f":"IF($BI$3=\"計画\",BF51/4,IF($BI$3=\"実績\",(BF51/($BI$7/7)),\"\"))","v":0}]
[null,null,null,null,null,null,null,null,null,null,null,null,null,null,null,null,null,null,null,null,null,"シフト記号"]
[null,{"$f":"B50+1","v":12},null,null,null,null,null,null,null,null,null,null,null,null,null,null,null,null,null,null,null,"日中の勤務時間数",null,null,null,null,{"$f":"IF(AA52=\"\",\"\",VLOOKUP(AA52,'（従来型）シフト記号表'!$C$5:$W$46,21,FALSE))","v":""},{"$f":"IF(AB52=\"\",\"\",VLOOKUP(AB52,'（従来型）シフト記号表'!$C$5:$W$46,21,FALSE))","v":""},{"$f":"IF(AC52=\"\",\"\",VLOOKUP(AC52,'（従来型）シフト記号表'!$C$5:$W$46,21,FALSE))","v":""},{"$f":"IF(AD52=\"\",\"\",VLOOKUP(AD52,'（従来型）シフト記号表'!$C$5:$W$46,21,FALSE))","v":""},{"$f":"IF(AE52=\"\",\"\",VLOOKUP(AE52,'（従来型）シフト記号表'!$C$5:$W$46,21,FALSE))","v":""},{"$f":"IF(AF52=\"\",\"\",VLOOKUP(AF52,'（従来型）シフト記号表'!$C$5:$W$46,21,FALSE))","v":""},{"$f":"IF(AG52=\"\",\"\",VLOOKUP(AG52,'（従来型）シフト記号表'!$C$5:$W$46,21,FALSE))","v":""},{"$f":"IF(AH52=\"\",\"\",VLOOKUP(AH52,'（従来型）シフト記号表'!$C$5:$W$46,21,FALSE))","v":""},{"$f":"IF(AI52=\"\",\"\",VLOOKUP(AI52,'（従来型）シフト記号表'!$C$5:$W$46,21,FALSE))","v":""},{"$f":"IF(AJ52=\"\",\"\",VLOOKUP(AJ52,'（従来型）シフト記号表'!$C$5:$W$46,21,FALSE))","v":""},{"$f":"IF(AK52=\"\",\"\",VLOOKUP(AK52,'（従来型）シフト記号表'!$C$5:$W$46,21,FALSE))","v":""},{"$f":"IF(AL52=\"\",\"\",VLOOKUP(AL52,'（従来型）シフト記号表'!$C$5:$W$46,21,FALSE))","v":""},{"$f":"IF(AM52=\"\",\"\",VLOOKUP(AM52,'（従来型）シフト記号表'!$C$5:$W$46,21,FALSE))","v":""},{"$f":"IF(AN52=\"\",\"\",VLOOKUP(AN52,'（従来型）シフト記号表'!$C$5:$W$46,21,FALSE))","v":""},{"$f":"IF(AO52=\"\",\"\",VLOOKUP(AO52,'（従来型）シフト記号表'!$C$5:$W$46,21,FALSE))","v":""},{"$f":"IF(AP52=\"\",\"\",VLOOKUP(AP52,'（従来型）シフト記号表'!$C$5:$W$46,21,FALSE))","v":""},{"$f":"IF(AQ52=\"\",\"\",VLOOKUP(AQ52,'（従来型）シフト記号表'!$C$5:$W$46,21,FALSE))","v":""},{"$f":"IF(AR52=\"\",\"\",VLOOKUP(AR52,'（従来型）シフト記号表'!$C$5:$W$46,21,FALSE))","v":""},{"$f":"IF(AS52=\"\",\"\",VLOOKUP(AS52,'（従来型）シフト記号表'!$C$5:$W$46,21,FALSE))","v":""},{"$f":"IF(AT52=\"\",\"\",VLOOKUP(AT52,'（従来型）シフト記号表'!$C$5:$W$46,21,FALSE))","v":""},{"$f":"IF(AU52=\"\",\"\",VLOOKUP(AU52,'（従来型）シフト記号表'!$C$5:$W$46,21,FALSE))","v":""},{"$f":"IF(AV52=\"\",\"\",VLOOKUP(AV52,'（従来型）シフト記号表'!$C$5:$W$46,21,FALSE))","v":""},{"$f":"IF(AW52=\"\",\"\",VLOOKUP(AW52,'（従来型）シフト記号表'!$C$5:$W$46,21,FALSE))","v":""},{"$f":"IF(AX52=\"\",\"\",VLOOKUP(AX52,'（従来型）シフト記号表'!$C$5:$W$46,21,FALSE))","v":""},{"$f":"IF(AY52=\"\",\"\",VLOOKUP(AY52,'（従来型）シフト記号表'!$C$5:$W$46,21,FALSE))","v":""},{"$f":"IF(AZ52=\"\",\"\",VLOOKUP(AZ52,'（従来型）シフト記号表'!$C$5:$W$46,21,FALSE))","v":""},{"$f":"IF(BA52=\"\",\"\",VLOOKUP(BA52,'（従来型）シフト記号表'!$C$5:$W$46,21,FALSE))","v":""},{"$f":"IF(BB52=\"\",\"\",VLOOKUP(BB52,'（従来型）シフト記号表'!$C$5:$W$46,21,FALSE))","v":""},{"$f":"IF(BC52=\"\",\"\",VLOOKUP(BC52,'（従来型）シフト記号表'!$C$5:$W$46,21,FALSE))","v":""},{"$f":"IF(BD52=\"\",\"\",VLOOKUP(BD52,'（従来型）シフト記号表'!$C$5:$W$46,21,FALSE))","v":""},{"$f":"IF(BE52=\"\",\"\",VLOOKUP(BE52,'（従来型）シフト記号表'!$C$5:$W$46,21,FALSE))","v":""},{"$f":"IF($BI$3=\"計画\",SUM(AA53:BB53),IF($BI$3=\"実績\",SUM(AA53:BE53),\"\"))","v":0},null,{"$f":"IF($BI$3=\"計画\",BF53/4,IF($BI$3=\"実績\",(BF53/($BI$7/7)),\"\"))","v":0}]
[null,null,null,null,null,null,null,null,{"$f":"G53","v":0},null,{"$f":"M53","v":0},null,null,null,null,null,null,null,null,null,null,"夜勤時間帯の勤務時間数",null,null,null,null,{"$f":"IF(AA52=\"\",\"\",VLOOKUP(AA52,'（従来型）シフト記号表'!$C$5:$Y$46,23,FALSE))","v":""},{"$f":"IF(AB52=\"\",\"\",VLOOKUP(AB52,'（従来型）シフト記号表'!$C$5:$Y$46,23,FALSE))","v":""},{"$f":"IF(AC52=\"\",\"\",VLOOKUP(AC52,'（従来型）シフト記号表'!$C$5:$Y$46,23,FALSE))","v":""},{"$f":"IF(AD52=\"\",\"\",VLOOKUP(AD52,'（従来型）シフト記号表'!$C$5:$Y$46,23,FALSE))","v":""},{"$f":"IF(AE52=\"\",\"\",VLOOKUP(AE52,'（従来型）シフト記号表'!$C$5:$Y$46,23,FALSE))","v":""},{"$f":"IF(AF52=\"\",\"\",VLOOKUP(AF52,'（従来型）シフト記号表'!$C$5:$Y$46,23,FALSE))","v":""},{"$f":"IF(AG52=\"\",\"\",VLOOKUP(AG52,'（従来型）シフト記号表'!$C$5:$Y$46,23,FALSE))","v":""},{"$f":"IF(AH52=\"\",\"\",VLOOKUP(AH52,'（従来型）シフト記号表'!$C$5:$Y$46,23,FALSE))","v":""},{"$f":"IF(AI52=\"\",\"\",VLOOKUP(AI52,'（従来型）シフト記号表'!$C$5:$Y$46,23,FALSE))","v":""},{"$f":"IF(AJ52=\"\",\"\",VLOOKUP(AJ52,'（従来型）シフト記号表'!$C$5:$Y$46,23,FALSE))","v":""},{"$f":"IF(AK52=\"\",\"\",VLOOKUP(AK52,'（従来型）シフト記号表'!$C$5:$Y$46,23,FALSE))","v":""},{"$f":"IF(AL52=\"\",\"\",VLOOKUP(AL52,'（従来型）シフト記号表'!$C$5:$Y$46,23,FALSE))","v":""},{"$f":"IF(AM52=\"\",\"\",VLOOKUP(AM52,'（従来型）シフト記号表'!$C$5:$Y$46,23,FALSE))","v":""},{"$f":"IF(AN52=\"\",\"\",VLOOKUP(AN52,'（従来型）シフト記号表'!$C$5:$Y$46,23,FALSE))","v":""},{"$f":"IF(AO52=\"\",\"\",VLOOKUP(AO52,'（従来型）シフト記号表'!$C$5:$Y$46,23,FALSE))","v":""},{"$f":"IF(AP52=\"\",\"\",VLOOKUP(AP52,'（従来型）シフト記号表'!$C$5:$Y$46,23,FALSE))","v":""},{"$f":"IF(AQ52=\"\",\"\",VLOOKUP(AQ52,'（従来型）シフト記号表'!$C$5:$Y$46,23,FALSE))","v":""},{"$f":"IF(AR52=\"\",\"\",VLOOKUP(AR52,'（従来型）シフト記号表'!$C$5:$Y$46,23,FALSE))","v":""},{"$f":"IF(AS52=\"\",\"\",VLOOKUP(AS52,'（従来型）シフト記号表'!$C$5:$Y$46,23,FALSE))","v":""},{"$f":"IF(AT52=\"\",\"\",VLOOKUP(AT52,'（従来型）シフト記号表'!$C$5:$Y$46,23,FALSE))","v":""},{"$f":"IF(AU52=\"\",\"\",VLOOKUP(AU52,'（従来型）シフト記号表'!$C$5:$Y$46,23,FALSE))","v":""},{"$f":"IF(AV52=\"\",\"\",VLOOKUP(AV52,'（従来型）シフト記号表'!$C$5:$Y$46,23,FALSE))","v":""},{"$f":"IF(AW52=\"\",\"\",VLOOKUP(AW52,'（従来型）シフト記号表'!$C$5:$Y$46,23,FALSE))","v":""},{"$f":"IF(AX52=\"\",\"\",VLOOKUP(AX52,'（従来型）シフト記号表'!$C$5:$Y$46,23,FALSE))","v":""},{"$f":"IF(AY52=\"\",\"\",VLOOKUP(AY52,'（従来型）シフト記号表'!$C$5:$Y$46,23,FALSE))","v":""},{"$f":"IF(AZ52=\"\",\"\",VLOOKUP(AZ52,'（従来型）シフト記号表'!$C$5:$Y$46,23,FALSE))","v":""},{"$f":"IF(BA52=\"\",\"\",VLOOKUP(BA52,'（従来型）シフト記号表'!$C$5:$Y$46,23,FALSE))","v":""},{"$f":"IF(BB52=\"\",\"\",VLOOKUP(BB52,'（従来型）シフト記号表'!$C$5:$Y$46,23,FALSE))","v":""},{"$f":"IF(BC52=\"\",\"\",VLOOKUP(BC52,'（従来型）シフト記号表'!$C$5:$Y$46,23,FALSE))","v":""},{"$f":"IF(BD52=\"\",\"\",VLOOKUP(BD52,'（従来型）シフト記号表'!$C$5:$Y$46,23,FALSE))","v":""},{"$f":"IF(BE52=\"\",\"\",VLOOKUP(BE52,'（従来型）シフト記号表'!$C$5:$Y$46,23,FALSE))","v":""},{"$f":"IF($BI$3=\"計画\",SUM(AA54:BB54),IF($BI$3=\"実績\",SUM(AA54:BE54),\"\"))","v":0},null,{"$f":"IF($BI$3=\"計画\",BF54/4,IF($BI$3=\"実績\",(BF54/($BI$7/7)),\"\"))","v":0}]
[null,null,null,null,null,null,null,null,null,null,null,null,null,null,null,null,null,null,null,null,null,"シフト記号"]
[null,{"$f":"B53+1","v":13},null,null,null,null,null,null,null,null,null,null,null,null,null,null,null,null,null,null,null,"日中の勤務時間数",null,null,null,null,{"$f":"IF(AA55=\"\",\"\",VLOOKUP(AA55,'（従来型）シフト記号表'!$C$5:$W$46,21,FALSE))","v":""},{"$f":"IF(AB55=\"\",\"\",VLOOKUP(AB55,'（従来型）シフト記号表'!$C$5:$W$46,21,FALSE))","v":""},{"$f":"IF(AC55=\"\",\"\",VLOOKUP(AC55,'（従来型）シフト記号表'!$C$5:$W$46,21,FALSE))","v":""},{"$f":"IF(AD55=\"\",\"\",VLOOKUP(AD55,'（従来型）シフト記号表'!$C$5:$W$46,21,FALSE))","v":""},{"$f":"IF(AE55=\"\",\"\",VLOOKUP(AE55,'（従来型）シフト記号表'!$C$5:$W$46,21,FALSE))","v":""},{"$f":"IF(AF55=\"\",\"\",VLOOKUP(AF55,'（従来型）シフト記号表'!$C$5:$W$46,21,FALSE))","v":""},{"$f":"IF(AG55=\"\",\"\",VLOOKUP(AG55,'（従来型）シフト記号表'!$C$5:$W$46,21,FALSE))","v":""},{"$f":"IF(AH55=\"\",\"\",VLOOKUP(AH55,'（従来型）シフト記号表'!$C$5:$W$46,21,FALSE))","v":""},{"$f":"IF(AI55=\"\",\"\",VLOOKUP(AI55,'（従来型）シフト記号表'!$C$5:$W$46,21,FALSE))","v":""},{"$f":"IF(AJ55=\"\",\"\",VLOOKUP(AJ55,'（従来型）シフト記号表'!$C$5:$W$46,21,FALSE))","v":""},{"$f":"IF(AK55=\"\",\"\",VLOOKUP(AK55,'（従来型）シフト記号表'!$C$5:$W$46,21,FALSE))","v":""},{"$f":"IF(AL55=\"\",\"\",VLOOKUP(AL55,'（従来型）シフト記号表'!$C$5:$W$46,21,FALSE))","v":""},{"$f":"IF(AM55=\"\",\"\",VLOOKUP(AM55,'（従来型）シフト記号表'!$C$5:$W$46,21,FALSE))","v":""},{"$f":"IF(AN55=\"\",\"\",VLOOKUP(AN55,'（従来型）シフト記号表'!$C$5:$W$46,21,FALSE))","v":""},{"$f":"IF(AO55=\"\",\"\",VLOOKUP(AO55,'（従来型）シフト記号表'!$C$5:$W$46,21,FALSE))","v":""},{"$f":"IF(AP55=\"\",\"\",VLOOKUP(AP55,'（従来型）シフト記号表'!$C$5:$W$46,21,FALSE))","v":""},{"$f":"IF(AQ55=\"\",\"\",VLOOKUP(AQ55,'（従来型）シフト記号表'!$C$5:$W$46,21,FALSE))","v":""},{"$f":"IF(AR55=\"\",\"\",VLOOKUP(AR55,'（従来型）シフト記号表'!$C$5:$W$46,21,FALSE))","v":""},{"$f":"IF(AS55=\"\",\"\",VLOOKUP(AS55,'（従来型）シフト記号表'!$C$5:$W$46,21,FALSE))","v":""},{"$f":"IF(AT55=\"\",\"\",VLOOKUP(AT55,'（従来型）シフト記号表'!$C$5:$W$46,21,FALSE))","v":""},{"$f":"IF(AU55=\"\",\"\",VLOOKUP(AU55,'（従来型）シフト記号表'!$C$5:$W$46,21,FALSE))","v":""},{"$f":"IF(AV55=\"\",\"\",VLOOKUP(AV55,'（従来型）シフト記号表'!$C$5:$W$46,21,FALSE))","v":""},{"$f":"IF(AW55=\"\",\"\",VLOOKUP(AW55,'（従来型）シフト記号表'!$C$5:$W$46,21,FALSE))","v":""},{"$f":"IF(AX55=\"\",\"\",VLOOKUP(AX55,'（従来型）シフト記号表'!$C$5:$W$46,21,FALSE))","v":""},{"$f":"IF(AY55=\"\",\"\",VLOOKUP(AY55,'（従来型）シフト記号表'!$C$5:$W$46,21,FALSE))","v":""},{"$f":"IF(AZ55=\"\",\"\",VLOOKUP(AZ55,'（従来型）シフト記号表'!$C$5:$W$46,21,FALSE))","v":""},{"$f":"IF(BA55=\"\",\"\",VLOOKUP(BA55,'（従来型）シフト記号表'!$C$5:$W$46,21,FALSE))","v":""},{"$f":"IF(BB55=\"\",\"\",VLOOKUP(BB55,'（従来型）シフト記号表'!$C$5:$W$46,21,FALSE))","v":""},{"$f":"IF(BC55=\"\",\"\",VLOOKUP(BC55,'（従来型）シフト記号表'!$C$5:$W$46,21,FALSE))","v":""},{"$f":"IF(BD55=\"\",\"\",VLOOKUP(BD55,'（従来型）シフト記号表'!$C$5:$W$46,21,FALSE))","v":""},{"$f":"IF(BE55=\"\",\"\",VLOOKUP(BE55,'（従来型）シフト記号表'!$C$5:$W$46,21,FALSE))","v":""},{"$f":"IF($BI$3=\"計画\",SUM(AA56:BB56),IF($BI$3=\"実績\",SUM(AA56:BE56),\"\"))","v":0},null,{"$f":"IF($BI$3=\"計画\",BF56/4,IF($BI$3=\"実績\",(BF56/($BI$7/7)),\"\"))","v":0}]
[null,null,null,null,null,null,null,null,{"$f":"G56","v":0},null,{"$f":"M56","v":0},null,null,null,null,null,null,null,null,null,null,"夜勤時間帯の勤務時間数",null,null,null,null,{"$f":"IF(AA55=\"\",\"\",VLOOKUP(AA55,'（従来型）シフト記号表'!$C$5:$Y$46,23,FALSE))","v":""},{"$f":"IF(AB55=\"\",\"\",VLOOKUP(AB55,'（従来型）シフト記号表'!$C$5:$Y$46,23,FALSE))","v":""},{"$f":"IF(AC55=\"\",\"\",VLOOKUP(AC55,'（従来型）シフト記号表'!$C$5:$Y$46,23,FALSE))","v":""},{"$f":"IF(AD55=\"\",\"\",VLOOKUP(AD55,'（従来型）シフト記号表'!$C$5:$Y$46,23,FALSE))","v":""},{"$f":"IF(AE55=\"\",\"\",VLOOKUP(AE55,'（従来型）シフト記号表'!$C$5:$Y$46,23,FALSE))","v":""},{"$f":"IF(AF55=\"\",\"\",VLOOKUP(AF55,'（従来型）シフト記号表'!$C$5:$Y$46,23,FALSE))","v":""},{"$f":"IF(AG55=\"\",\"\",VLOOKUP(AG55,'（従来型）シフト記号表'!$C$5:$Y$46,23,FALSE))","v":""},{"$f":"IF(AH55=\"\",\"\",VLOOKUP(AH55,'（従来型）シフト記号表'!$C$5:$Y$46,23,FALSE))","v":""},{"$f":"IF(AI55=\"\",\"\",VLOOKUP(AI55,'（従来型）シフト記号表'!$C$5:$Y$46,23,FALSE))","v":""},{"$f":"IF(AJ55=\"\",\"\",VLOOKUP(AJ55,'（従来型）シフト記号表'!$C$5:$Y$46,23,FALSE))","v":""},{"$f":"IF(AK55=\"\",\"\",VLOOKUP(AK55,'（従来型）シフト記号表'!$C$5:$Y$46,23,FALSE))","v":""},{"$f":"IF(AL55=\"\",\"\",VLOOKUP(AL55,'（従来型）シフト記号表'!$C$5:$Y$46,23,FALSE))","v":""},{"$f":"IF(AM55=\"\",\"\",VLOOKUP(AM55,'（従来型）シフト記号表'!$C$5:$Y$46,23,FALSE))","v":""},{"$f":"IF(AN55=\"\",\"\",VLOOKUP(AN55,'（従来型）シフト記号表'!$C$5:$Y$46,23,FALSE))","v":""},{"$f":"IF(AO55=\"\",\"\",VLOOKUP(AO55,'（従来型）シフト記号表'!$C$5:$Y$46,23,FALSE))","v":""},{"$f":"IF(AP55=\"\",\"\",VLOOKUP(AP55,'（従来型）シフト記号表'!$C$5:$Y$46,23,FALSE))","v":""},{"$f":"IF(AQ55=\"\",\"\",VLOOKUP(AQ55,'（従来型）シフト記号表'!$C$5:$Y$46,23,FALSE))","v":""},{"$f":"IF(AR55=\"\",\"\",VLOOKUP(AR55,'（従来型）シフト記号表'!$C$5:$Y$46,23,FALSE))","v":""},{"$f":"IF(AS55=\"\",\"\",VLOOKUP(AS55,'（従来型）シフト記号表'!$C$5:$Y$46,23,FALSE))","v":""},{"$f":"IF(AT55=\"\",\"\",VLOOKUP(AT55,'（従来型）シフト記号表'!$C$5:$Y$46,23,FALSE))","v":""},{"$f":"IF(AU55=\"\",\"\",VLOOKUP(AU55,'（従来型）シフト記号表'!$C$5:$Y$46,23,FALSE))","v":""},{"$f":"IF(AV55=\"\",\"\",VLOOKUP(AV55,'（従来型）シフト記号表'!$C$5:$Y$46,23,FALSE))","v":""},{"$f":"IF(AW55=\"\",\"\",VLOOKUP(AW55,'（従来型）シフト記号表'!$C$5:$Y$46,23,FALSE))","v":""},{"$f":"IF(AX55=\"\",\"\",VLOOKUP(AX55,'（従来型）シフト記号表'!$C$5:$Y$46,23,FALSE))","v":""},{"$f":"IF(AY55=\"\",\"\",VLOOKUP(AY55,'（従来型）シフト記号表'!$C$5:$Y$46,23,FALSE))","v":""},{"$f":"IF(AZ55=\"\",\"\",VLOOKUP(AZ55,'（従来型）シフト記号表'!$C$5:$Y$46,23,FALSE))","v":""},{"$f":"IF(BA55=\"\",\"\",VLOOKUP(BA55,'（従来型）シフト記号表'!$C$5:$Y$46,23,FALSE))","v":""},{"$f":"IF(BB55=\"\",\"\",VLOOKUP(BB55,'（従来型）シフト記号表'!$C$5:$Y$46,23,FALSE))","v":""},{"$f":"IF(BC55=\"\",\"\",VLOOKUP(BC55,'（従来型）シフト記号表'!$C$5:$Y$46,23,FALSE))","v":""},{"$f":"IF(BD55=\"\",\"\",VLOOKUP(BD55,'（従来型）シフト記号表'!$C$5:$Y$46,23,FALSE))","v":""},{"$f":"IF(BE55=\"\",\"\",VLOOKUP(BE55,'（従来型）シフト記号表'!$C$5:$Y$46,23,FALSE))","v":""},{"$f":"IF($BI$3=\"計画\",SUM(AA57:BB57),IF($BI$3=\"実績\",SUM(AA57:BE57),\"\"))","v":0},null,{"$f":"IF($BI$3=\"計画\",BF57/4,IF($BI$3=\"実績\",(BF57/($BI$7/7)),\"\"))","v":0}]
[null,null,null,null,null,null,null,null,null,null,null,null,null,null,null,null,null,null,null,null,null,"シフト記号"]
[null,{"$f":"B56+1","v":14},null,null,null,null,null,null,null,null,null,null,null,null,null,null,null,null,null,null,null,"日中の勤務時間数",null,null,null,null,{"$f":"IF(AA58=\"\",\"\",VLOOKUP(AA58,'（従来型）シフト記号表'!$C$5:$W$46,21,FALSE))","v":""},{"$f":"IF(AB58=\"\",\"\",VLOOKUP(AB58,'（従来型）シフト記号表'!$C$5:$W$46,21,FALSE))","v":""},{"$f":"IF(AC58=\"\",\"\",VLOOKUP(AC58,'（従来型）シフト記号表'!$C$5:$W$46,21,FALSE))","v":""},{"$f":"IF(AD58=\"\",\"\",VLOOKUP(AD58,'（従来型）シフト記号表'!$C$5:$W$46,21,FALSE))","v":""},{"$f":"IF(AE58=\"\",\"\",VLOOKUP(AE58,'（従来型）シフト記号表'!$C$5:$W$46,21,FALSE))","v":""},{"$f":"IF(AF58=\"\",\"\",VLOOKUP(AF58,'（従来型）シフト記号表'!$C$5:$W$46,21,FALSE))","v":""},{"$f":"IF(AG58=\"\",\"\",VLOOKUP(AG58,'（従来型）シフト記号表'!$C$5:$W$46,21,FALSE))","v":""},{"$f":"IF(AH58=\"\",\"\",VLOOKUP(AH58,'（従来型）シフト記号表'!$C$5:$W$46,21,FALSE))","v":""},{"$f":"IF(AI58=\"\",\"\",VLOOKUP(AI58,'（従来型）シフト記号表'!$C$5:$W$46,21,FALSE))","v":""},{"$f":"IF(AJ58=\"\",\"\",VLOOKUP(AJ58,'（従来型）シフト記号表'!$C$5:$W$46,21,FALSE))","v":""},{"$f":"IF(AK58=\"\",\"\",VLOOKUP(AK58,'（従来型）シフト記号表'!$C$5:$W$46,21,FALSE))","v":""},{"$f":"IF(AL58=\"\",\"\",VLOOKUP(AL58,'（従来型）シフト記号表'!$C$5:$W$46,21,FALSE))","v":""},{"$f":"IF(AM58=\"\",\"\",VLOOKUP(AM58,'（従来型）シフト記号表'!$C$5:$W$46,21,FALSE))","v":""},{"$f":"IF(AN58=\"\",\"\",VLOOKUP(AN58,'（従来型）シフト記号表'!$C$5:$W$46,21,FALSE))","v":""},{"$f":"IF(AO58=\"\",\"\",VLOOKUP(AO58,'（従来型）シフト記号表'!$C$5:$W$46,21,FALSE))","v":""},{"$f":"IF(AP58=\"\",\"\",VLOOKUP(AP58,'（従来型）シフト記号表'!$C$5:$W$46,21,FALSE))","v":""},{"$f":"IF(AQ58=\"\",\"\",VLOOKUP(AQ58,'（従来型）シフト記号表'!$C$5:$W$46,21,FALSE))","v":""},{"$f":"IF(AR58=\"\",\"\",VLOOKUP(AR58,'（従来型）シフト記号表'!$C$5:$W$46,21,FALSE))","v":""},{"$f":"IF(AS58=\"\",\"\",VLOOKUP(AS58,'（従来型）シフト記号表'!$C$5:$W$46,21,FALSE))","v":""},{"$f":"IF(AT58=\"\",\"\",VLOOKUP(AT58,'（従来型）シフト記号表'!$C$5:$W$46,21,FALSE))","v":""},{"$f":"IF(AU58=\"\",\"\",VLOOKUP(AU58,'（従来型）シフト記号表'!$C$5:$W$46,21,FALSE))","v":""},{"$f":"IF(AV58=\"\",\"\",VLOOKUP(AV58,'（従来型）シフト記号表'!$C$5:$W$46,21,FALSE))","v":""},{"$f":"IF(AW58=\"\",\"\",VLOOKUP(AW58,'（従来型）シフト記号表'!$C$5:$W$46,21,FALSE))","v":""},{"$f":"IF(AX58=\"\",\"\",VLOOKUP(AX58,'（従来型）シフト記号表'!$C$5:$W$46,21,FALSE))","v":""},{"$f":"IF(AY58=\"\",\"\",VLOOKUP(AY58,'（従来型）シフト記号表'!$C$5:$W$46,21,FALSE))","v":""},{"$f":"IF(AZ58=\"\",\"\",VLOOKUP(AZ58,'（従来型）シフト記号表'!$C$5:$W$46,21,FALSE))","v":""},{"$f":"IF(BA58=\"\",\"\",VLOOKUP(BA58,'（従来型）シフト記号表'!$C$5:$W$46,21,FALSE))","v":""},{"$f":"IF(BB58=\"\",\"\",VLOOKUP(BB58,'（従来型）シフト記号表'!$C$5:$W$46,21,FALSE))","v":""},{"$f":"IF(BC58=\"\",\"\",VLOOKUP(BC58,'（従来型）シフト記号表'!$C$5:$W$46,21,FALSE))","v":""},{"$f":"IF(BD58=\"\",\"\",VLOOKUP(BD58,'（従来型）シフト記号表'!$C$5:$W$46,21,FALSE))","v":""},{"$f":"IF(BE58=\"\",\"\",VLOOKUP(BE58,'（従来型）シフト記号表'!$C$5:$W$46,21,FALSE))","v":""},{"$f":"IF($BI$3=\"計画\",SUM(AA59:BB59),IF($BI$3=\"実績\",SUM(AA59:BE59),\"\"))","v":0},null,{"$f":"IF($BI$3=\"計画\",BF59/4,IF($BI$3=\"実績\",(BF59/($BI$7/7)),\"\"))","v":0}]
[null,null,null,null,null,null,null,null,{"$f":"G59","v":0},null,{"$f":"M59","v":0},null,null,null,null,null,null,null,null,null,null,"夜勤時間帯の勤務時間数",null,null,null,null,{"$f":"IF(AA58=\"\",\"\",VLOOKUP(AA58,'（従来型）シフト記号表'!$C$5:$Y$46,23,FALSE))","v":""},{"$f":"IF(AB58=\"\",\"\",VLOOKUP(AB58,'（従来型）シフト記号表'!$C$5:$Y$46,23,FALSE))","v":""},{"$f":"IF(AC58=\"\",\"\",VLOOKUP(AC58,'（従来型）シフト記号表'!$C$5:$Y$46,23,FALSE))","v":""},{"$f":"IF(AD58=\"\",\"\",VLOOKUP(AD58,'（従来型）シフト記号表'!$C$5:$Y$46,23,FALSE))","v":""},{"$f":"IF(AE58=\"\",\"\",VLOOKUP(AE58,'（従来型）シフト記号表'!$C$5:$Y$46,23,FALSE))","v":""},{"$f":"IF(AF58=\"\",\"\",VLOOKUP(AF58,'（従来型）シフト記号表'!$C$5:$Y$46,23,FALSE))","v":""},{"$f":"IF(AG58=\"\",\"\",VLOOKUP(AG58,'（従来型）シフト記号表'!$C$5:$Y$46,23,FALSE))","v":""},{"$f":"IF(AH58=\"\",\"\",VLOOKUP(AH58,'（従来型）シフト記号表'!$C$5:$Y$46,23,FALSE))","v":""},{"$f":"IF(AI58=\"\",\"\",VLOOKUP(AI58,'（従来型）シフト記号表'!$C$5:$Y$46,23,FALSE))","v":""},{"$f":"IF(AJ58=\"\",\"\",VLOOKUP(AJ58,'（従来型）シフト記号表'!$C$5:$Y$46,23,FALSE))","v":""},{"$f":"IF(AK58=\"\",\"\",VLOOKUP(AK58,'（従来型）シフト記号表'!$C$5:$Y$46,23,FALSE))","v":""},{"$f":"IF(AL58=\"\",\"\",VLOOKUP(AL58,'（従来型）シフト記号表'!$C$5:$Y$46,23,FALSE))","v":""},{"$f":"IF(AM58=\"\",\"\",VLOOKUP(AM58,'（従来型）シフト記号表'!$C$5:$Y$46,23,FALSE))","v":""},{"$f":"IF(AN58=\"\",\"\",VLOOKUP(AN58,'（従来型）シフト記号表'!$C$5:$Y$46,23,FALSE))","v":""},{"$f":"IF(AO58=\"\",\"\",VLOOKUP(AO58,'（従来型）シフト記号表'!$C$5:$Y$46,23,FALSE))","v":""},{"$f":"IF(AP58=\"\",\"\",VLOOKUP(AP58,'（従来型）シフト記号表'!$C$5:$Y$46,23,FALSE))","v":""},{"$f":"IF(AQ58=\"\",\"\",VLOOKUP(AQ58,'（従来型）シフト記号表'!$C$5:$Y$46,23,FALSE))","v":""},{"$f":"IF(AR58=\"\",\"\",VLOOKUP(AR58,'（従来型）シフト記号表'!$C$5:$Y$46,23,FALSE))","v":""},{"$f":"IF(AS58=\"\",\"\",VLOOKUP(AS58,'（従来型）シフト記号表'!$C$5:$Y$46,23,FALSE))","v":""},{"$f":"IF(AT58=\"\",\"\",VLOOKUP(AT58,'（従来型）シフト記号表'!$C$5:$Y$46,23,FALSE))","v":""},{"$f":"IF(AU58=\"\",\"\",VLOOKUP(AU58,'（従来型）シフト記号表'!$C$5:$Y$46,23,FALSE))","v":""},{"$f":"IF(AV58=\"\",\"\",VLOOKUP(AV58,'（従来型）シフト記号表'!$C$5:$Y$46,23,FALSE))","v":""},{"$f":"IF(AW58=\"\",\"\",VLOOKUP(AW58,'（従来型）シフト記号表'!$C$5:$Y$46,23,FALSE))","v":""},{"$f":"IF(AX58=\"\",\"\",VLOOKUP(AX58,'（従来型）シフト記号表'!$C$5:$Y$46,23,FALSE))","v":""},{"$f":"IF(AY58=\"\",\"\",VLOOKUP(AY58,'（従来型）シフト記号表'!$C$5:$Y$46,23,FALSE))","v":""},{"$f":"IF(AZ58=\"\",\"\",VLOOKUP(AZ58,'（従来型）シフト記号表'!$C$5:$Y$46,23,FALSE))","v":""},{"$f":"IF(BA58=\"\",\"\",VLOOKUP(BA58,'（従来型）シフト記号表'!$C$5:$Y$46,23,FALSE))","v":""},{"$f":"IF(BB58=\"\",\"\",VLOOKUP(BB58,'（従来型）シフト記号表'!$C$5:$Y$46,23,FALSE))","v":""},{"$f":"IF(BC58=\"\",\"\",VLOOKUP(BC58,'（従来型）シフト記号表'!$C$5:$Y$46,23,FALSE))","v":""},{"$f":"IF(BD58=\"\",\"\",VLOOKUP(BD58,'（従来型）シフト記号表'!$C$5:$Y$46,23,FALSE))","v":""},{"$f":"IF(BE58=\"\",\"\",VLOOKUP(BE58,'（従来型）シフト記号表'!$C$5:$Y$46,23,FALSE))","v":""},{"$f":"IF($BI$3=\"計画\",SUM(AA60:BB60),IF($BI$3=\"実績\",SUM(AA60:BE60),\"\"))","v":0},null,{"$f":"IF($BI$3=\"計画\",BF60/4,IF($BI$3=\"実績\",(BF60/($BI$7/7)),\"\"))","v":0}]
[null,null,null,null,null,null,null,null,null,null,null,null,null,null,null,null,null,null,null,null,null,"シフト記号"]
[null,{"$f":"B59+1","v":15},null,null,null,null,null,null,null,null,null,null,null,null,null,null,null,null,null,null,null,"日中の勤務時間数",null,null,null,null,{"$f":"IF(AA61=\"\",\"\",VLOOKUP(AA61,'（従来型）シフト記号表'!$C$5:$W$46,21,FALSE))","v":""},{"$f":"IF(AB61=\"\",\"\",VLOOKUP(AB61,'（従来型）シフト記号表'!$C$5:$W$46,21,FALSE))","v":""},{"$f":"IF(AC61=\"\",\"\",VLOOKUP(AC61,'（従来型）シフト記号表'!$C$5:$W$46,21,FALSE))","v":""},{"$f":"IF(AD61=\"\",\"\",VLOOKUP(AD61,'（従来型）シフト記号表'!$C$5:$W$46,21,FALSE))","v":""},{"$f":"IF(AE61=\"\",\"\",VLOOKUP(AE61,'（従来型）シフト記号表'!$C$5:$W$46,21,FALSE))","v":""},{"$f":"IF(AF61=\"\",\"\",VLOOKUP(AF61,'（従来型）シフト記号表'!$C$5:$W$46,21,FALSE))","v":""},{"$f":"IF(AG61=\"\",\"\",VLOOKUP(AG61,'（従来型）シフト記号表'!$C$5:$W$46,21,FALSE))","v":""},{"$f":"IF(AH61=\"\",\"\",VLOOKUP(AH61,'（従来型）シフト記号表'!$C$5:$W$46,21,FALSE))","v":""},{"$f":"IF(AI61=\"\",\"\",VLOOKUP(AI61,'（従来型）シフト記号表'!$C$5:$W$46,21,FALSE))","v":""},{"$f":"IF(AJ61=\"\",\"\",VLOOKUP(AJ61,'（従来型）シフト記号表'!$C$5:$W$46,21,FALSE))","v":""},{"$f":"IF(AK61=\"\",\"\",VLOOKUP(AK61,'（従来型）シフト記号表'!$C$5:$W$46,21,FALSE))","v":""},{"$f":"IF(AL61=\"\",\"\",VLOOKUP(AL61,'（従来型）シフト記号表'!$C$5:$W$46,21,FALSE))","v":""},{"$f":"IF(AM61=\"\",\"\",VLOOKUP(AM61,'（従来型）シフト記号表'!$C$5:$W$46,21,FALSE))","v":""},{"$f":"IF(AN61=\"\",\"\",VLOOKUP(AN61,'（従来型）シフト記号表'!$C$5:$W$46,21,FALSE))","v":""},{"$f":"IF(AO61=\"\",\"\",VLOOKUP(AO61,'（従来型）シフト記号表'!$C$5:$W$46,21,FALSE))","v":""},{"$f":"IF(AP61=\"\",\"\",VLOOKUP(AP61,'（従来型）シフト記号表'!$C$5:$W$46,21,FALSE))","v":""},{"$f":"IF(AQ61=\"\",\"\",VLOOKUP(AQ61,'（従来型）シフト記号表'!$C$5:$W$46,21,FALSE))","v":""},{"$f":"IF(AR61=\"\",\"\",VLOOKUP(AR61,'（従来型）シフト記号表'!$C$5:$W$46,21,FALSE))","v":""},{"$f":"IF(AS61=\"\",\"\",VLOOKUP(AS61,'（従来型）シフト記号表'!$C$5:$W$46,21,FALSE))","v":""},{"$f":"IF(AT61=\"\",\"\",VLOOKUP(AT61,'（従来型）シフト記号表'!$C$5:$W$46,21,FALSE))","v":""},{"$f":"IF(AU61=\"\",\"\",VLOOKUP(AU61,'（従来型）シフト記号表'!$C$5:$W$46,21,FALSE))","v":""},{"$f":"IF(AV61=\"\",\"\",VLOOKUP(AV61,'（従来型）シフト記号表'!$C$5:$W$46,21,FALSE))","v":""},{"$f":"IF(AW61=\"\",\"\",VLOOKUP(AW61,'（従来型）シフト記号表'!$C$5:$W$46,21,FALSE))","v":""},{"$f":"IF(AX61=\"\",\"\",VLOOKUP(AX61,'（従来型）シフト記号表'!$C$5:$W$46,21,FALSE))","v":""},{"$f":"IF(AY61=\"\",\"\",VLOOKUP(AY61,'（従来型）シフト記号表'!$C$5:$W$46,21,FALSE))","v":""},{"$f":"IF(AZ61=\"\",\"\",VLOOKUP(AZ61,'（従来型）シフト記号表'!$C$5:$W$46,21,FALSE))","v":""},{"$f":"IF(BA61=\"\",\"\",VLOOKUP(BA61,'（従来型）シフト記号表'!$C$5:$W$46,21,FALSE))","v":""},{"$f":"IF(BB61=\"\",\"\",VLOOKUP(BB61,'（従来型）シフト記号表'!$C$5:$W$46,21,FALSE))","v":""},{"$f":"IF(BC61=\"\",\"\",VLOOKUP(BC61,'（従来型）シフト記号表'!$C$5:$W$46,21,FALSE))","v":""},{"$f":"IF(BD61=\"\",\"\",VLOOKUP(BD61,'（従来型）シフト記号表'!$C$5:$W$46,21,FALSE))","v":""},{"$f":"IF(BE61=\"\",\"\",VLOOKUP(BE61,'（従来型）シフト記号表'!$C$5:$W$46,21,FALSE))","v":""},{"$f":"IF($BI$3=\"計画\",SUM(AA62:BB62),IF($BI$3=\"実績\",SUM(AA62:BE62),\"\"))","v":0},null,{"$f":"IF($BI$3=\"計画\",BF62/4,IF($BI$3=\"実績\",(BF62/($BI$7/7)),\"\"))","v":0}]
[null,null,null,null,null,null,null,null,{"$f":"G62","v":0},null,{"$f":"M62","v":0},null,null,null,null,null,null,null,null,null,null,"夜勤時間帯の勤務時間数",null,null,null,null,{"$f":"IF(AA61=\"\",\"\",VLOOKUP(AA61,'（従来型）シフト記号表'!$C$5:$Y$46,23,FALSE))","v":""},{"$f":"IF(AB61=\"\",\"\",VLOOKUP(AB61,'（従来型）シフト記号表'!$C$5:$Y$46,23,FALSE))","v":""},{"$f":"IF(AC61=\"\",\"\",VLOOKUP(AC61,'（従来型）シフト記号表'!$C$5:$Y$46,23,FALSE))","v":""},{"$f":"IF(AD61=\"\",\"\",VLOOKUP(AD61,'（従来型）シフト記号表'!$C$5:$Y$46,23,FALSE))","v":""},{"$f":"IF(AE61=\"\",\"\",VLOOKUP(AE61,'（従来型）シフト記号表'!$C$5:$Y$46,23,FALSE))","v":""},{"$f":"IF(AF61=\"\",\"\",VLOOKUP(AF61,'（従来型）シフト記号表'!$C$5:$Y$46,23,FALSE))","v":""},{"$f":"IF(AG61=\"\",\"\",VLOOKUP(AG61,'（従来型）シフト記号表'!$C$5:$Y$46,23,FALSE))","v":""},{"$f":"IF(AH61=\"\",\"\",VLOOKUP(AH61,'（従来型）シフト記号表'!$C$5:$Y$46,23,FALSE))","v":""},{"$f":"IF(AI61=\"\",\"\",VLOOKUP(AI61,'（従来型）シフト記号表'!$C$5:$Y$46,23,FALSE))","v":""},{"$f":"IF(AJ61=\"\",\"\",VLOOKUP(AJ61,'（従来型）シフト記号表'!$C$5:$Y$46,23,FALSE))","v":""},{"$f":"IF(AK61=\"\",\"\",VLOOKUP(AK61,'（従来型）シフト記号表'!$C$5:$Y$46,23,FALSE))","v":""},{"$f":"IF(AL61=\"\",\"\",VLOOKUP(AL61,'（従来型）シフト記号表'!$C$5:$Y$46,23,FALSE))","v":""},{"$f":"IF(AM61=\"\",\"\",VLOOKUP(AM61,'（従来型）シフト記号表'!$C$5:$Y$46,23,FALSE))","v":""},{"$f":"IF(AN61=\"\",\"\",VLOOKUP(AN61,'（従来型）シフト記号表'!$C$5:$Y$46,23,FALSE))","v":""},{"$f":"IF(AO61=\"\",\"\",VLOOKUP(AO61,'（従来型）シフト記号表'!$C$5:$Y$46,23,FALSE))","v":""},{"$f":"IF(AP61=\"\",\"\",VLOOKUP(AP61,'（従来型）シフト記号表'!$C$5:$Y$46,23,FALSE))","v":""},{"$f":"IF(AQ61=\"\",\"\",VLOOKUP(AQ61,'（従来型）シフト記号表'!$C$5:$Y$46,23,FALSE))","v":""},{"$f":"IF(AR61=\"\",\"\",VLOOKUP(AR61,'（従来型）シフト記号表'!$C$5:$Y$46,23,FALSE))","v":""},{"$f":"IF(AS61=\"\",\"\",VLOOKUP(AS61,'（従来型）シフト記号表'!$C$5:$Y$46,23,FALSE))","v":""},{"$f":"IF(AT61=\"\",\"\",VLOOKUP(AT61,'（従来型）シフト記号表'!$C$5:$Y$46,23,FALSE))","v":""},{"$f":"IF(AU61=\"\",\"\",VLOOKUP(AU61,'（従来型）シフト記号表'!$C$5:$Y$46,23,FALSE))","v":""},{"$f":"IF(AV61=\"\",\"\",VLOOKUP(AV61,'（従来型）シフト記号表'!$C$5:$Y$46,23,FALSE))","v":""},{"$f":"IF(AW61=\"\",\"\",VLOOKUP(AW61,'（従来型）シフト記号表'!$C$5:$Y$46,23,FALSE))","v":""},{"$f":"IF(AX61=\"\",\"\",VLOOKUP(AX61,'（従来型）シフト記号表'!$C$5:$Y$46,23,FALSE))","v":""},{"$f":"IF(AY61=\"\",\"\",VLOOKUP(AY61,'（従来型）シフト記号表'!$C$5:$Y$46,23,FALSE))","v":""},{"$f":"IF(AZ61=\"\",\"\",VLOOKUP(AZ61,'（従来型）シフト記号表'!$C$5:$Y$46,23,FALSE))","v":""},{"$f":"IF(BA61=\"\",\"\",VLOOKUP(BA61,'（従来型）シフト記号表'!$C$5:$Y$46,23,FALSE))","v":""},{"$f":"IF(BB61=\"\",\"\",VLOOKUP(BB61,'（従来型）シフト記号表'!$C$5:$Y$46,23,FALSE))","v":""},{"$f":"IF(BC61=\"\",\"\",VLOOKUP(BC61,'（従来型）シフト記号表'!$C$5:$Y$46,23,FALSE))","v":""},{"$f":"IF(BD61=\"\",\"\",VLOOKUP(BD61,'（従来型）シフト記号表'!$C$5:$Y$46,23,FALSE))","v":""},{"$f":"IF(BE61=\"\",\"\",VLOOKUP(BE61,'（従来型）シフト記号表'!$C$5:$Y$46,23,FALSE))","v":""},{"$f":"IF($BI$3=\"計画\",SUM(AA63:BB63),IF($BI$3=\"実績\",SUM(AA63:BE63),\"\"))","v":0},null,{"$f":"IF($BI$3=\"計画\",BF63/4,IF($BI$3=\"実績\",(BF63/($BI$7/7)),\"\"))","v":0}]
[null,null,null,null,null,null,null,null,null,null,null,null,null,null,null,null,null,null,null,null,null,"シフト記号"]
[null,{"$f":"B62+1","v":16},null,null,null,null,null,null,null,null,null,null,null,null,null,null,null,null,null,null,null,"日中の勤務時間数",null,null,null,null,{"$f":"IF(AA64=\"\",\"\",VLOOKUP(AA64,'（従来型）シフト記号表'!$C$5:$W$46,21,FALSE))","v":""},{"$f":"IF(AB64=\"\",\"\",VLOOKUP(AB64,'（従来型）シフト記号表'!$C$5:$W$46,21,FALSE))","v":""},{"$f":"IF(AC64=\"\",\"\",VLOOKUP(AC64,'（従来型）シフト記号表'!$C$5:$W$46,21,FALSE))","v":""},{"$f":"IF(AD64=\"\",\"\",VLOOKUP(AD64,'（従来型）シフト記号表'!$C$5:$W$46,21,FALSE))","v":""},{"$f":"IF(AE64=\"\",\"\",VLOOKUP(AE64,'（従来型）シフト記号表'!$C$5:$W$46,21,FALSE))","v":""},{"$f":"IF(AF64=\"\",\"\",VLOOKUP(AF64,'（従来型）シフト記号表'!$C$5:$W$46,21,FALSE))","v":""},{"$f":"IF(AG64=\"\",\"\",VLOOKUP(AG64,'（従来型）シフト記号表'!$C$5:$W$46,21,FALSE))","v":""},{"$f":"IF(AH64=\"\",\"\",VLOOKUP(AH64,'（従来型）シフト記号表'!$C$5:$W$46,21,FALSE))","v":""},{"$f":"IF(AI64=\"\",\"\",VLOOKUP(AI64,'（従来型）シフト記号表'!$C$5:$W$46,21,FALSE))","v":""},{"$f":"IF(AJ64=\"\",\"\",VLOOKUP(AJ64,'（従来型）シフト記号表'!$C$5:$W$46,21,FALSE))","v":""},{"$f":"IF(AK64=\"\",\"\",VLOOKUP(AK64,'（従来型）シフト記号表'!$C$5:$W$46,21,FALSE))","v":""},{"$f":"IF(AL64=\"\",\"\",VLOOKUP(AL64,'（従来型）シフト記号表'!$C$5:$W$46,21,FALSE))","v":""},{"$f":"IF(AM64=\"\",\"\",VLOOKUP(AM64,'（従来型）シフト記号表'!$C$5:$W$46,21,FALSE))","v":""},{"$f":"IF(AN64=\"\",\"\",VLOOKUP(AN64,'（従来型）シフト記号表'!$C$5:$W$46,21,FALSE))","v":""},{"$f":"IF(AO64=\"\",\"\",VLOOKUP(AO64,'（従来型）シフト記号表'!$C$5:$W$46,21,FALSE))","v":""},{"$f":"IF(AP64=\"\",\"\",VLOOKUP(AP64,'（従来型）シフト記号表'!$C$5:$W$46,21,FALSE))","v":""},{"$f":"IF(AQ64=\"\",\"\",VLOOKUP(AQ64,'（従来型）シフト記号表'!$C$5:$W$46,21,FALSE))","v":""},{"$f":"IF(AR64=\"\",\"\",VLOOKUP(AR64,'（従来型）シフト記号表'!$C$5:$W$46,21,FALSE))","v":""},{"$f":"IF(AS64=\"\",\"\",VLOOKUP(AS64,'（従来型）シフト記号表'!$C$5:$W$46,21,FALSE))","v":""},{"$f":"IF(AT64=\"\",\"\",VLOOKUP(AT64,'（従来型）シフト記号表'!$C$5:$W$46,21,FALSE))","v":""},{"$f":"IF(AU64=\"\",\"\",VLOOKUP(AU64,'（従来型）シフト記号表'!$C$5:$W$46,21,FALSE))","v":""},{"$f":"IF(AV64=\"\",\"\",VLOOKUP(AV64,'（従来型）シフト記号表'!$C$5:$W$46,21,FALSE))","v":""},{"$f":"IF(AW64=\"\",\"\",VLOOKUP(AW64,'（従来型）シフト記号表'!$C$5:$W$46,21,FALSE))","v":""},{"$f":"IF(AX64=\"\",\"\",VLOOKUP(AX64,'（従来型）シフト記号表'!$C$5:$W$46,21,FALSE))","v":""},{"$f":"IF(AY64=\"\",\"\",VLOOKUP(AY64,'（従来型）シフト記号表'!$C$5:$W$46,21,FALSE))","v":""},{"$f":"IF(AZ64=\"\",\"\",VLOOKUP(AZ64,'（従来型）シフト記号表'!$C$5:$W$46,21,FALSE))","v":""},{"$f":"IF(BA64=\"\",\"\",VLOOKUP(BA64,'（従来型）シフト記号表'!$C$5:$W$46,21,FALSE))","v":""},{"$f":"IF(BB64=\"\",\"\",VLOOKUP(BB64,'（従来型）シフト記号表'!$C$5:$W$46,21,FALSE))","v":""},{"$f":"IF(BC64=\"\",\"\",VLOOKUP(BC64,'（従来型）シフト記号表'!$C$5:$W$46,21,FALSE))","v":""},{"$f":"IF(BD64=\"\",\"\",VLOOKUP(BD64,'（従来型）シフト記号表'!$C$5:$W$46,21,FALSE))","v":""},{"$f":"IF(BE64=\"\",\"\",VLOOKUP(BE64,'（従来型）シフト記号表'!$C$5:$W$46,21,FALSE))","v":""},{"$f":"IF($BI$3=\"計画\",SUM(AA65:BB65),IF($BI$3=\"実績\",SUM(AA65:BE65),\"\"))","v":0},null,{"$f":"IF($BI$3=\"計画\",BF65/4,IF($BI$3=\"実績\",(BF65/($BI$7/7)),\"\"))","v":0}]
[null,null,null,null,null,null,null,null,{"$f":"G65","v":0},null,{"$f":"M65","v":0},null,null,null,null,null,null,null,null,null,null,"夜勤時間帯の勤務時間数",null,null,null,null,{"$f":"IF(AA64=\"\",\"\",VLOOKUP(AA64,'（従来型）シフト記号表'!$C$5:$Y$46,23,FALSE))","v":""},{"$f":"IF(AB64=\"\",\"\",VLOOKUP(AB64,'（従来型）シフト記号表'!$C$5:$Y$46,23,FALSE))","v":""},{"$f":"IF(AC64=\"\",\"\",VLOOKUP(AC64,'（従来型）シフト記号表'!$C$5:$Y$46,23,FALSE))","v":""},{"$f":"IF(AD64=\"\",\"\",VLOOKUP(AD64,'（従来型）シフト記号表'!$C$5:$Y$46,23,FALSE))","v":""},{"$f":"IF(AE64=\"\",\"\",VLOOKUP(AE64,'（従来型）シフト記号表'!$C$5:$Y$46,23,FALSE))","v":""},{"$f":"IF(AF64=\"\",\"\",VLOOKUP(AF64,'（従来型）シフト記号表'!$C$5:$Y$46,23,FALSE))","v":""},{"$f":"IF(AG64=\"\",\"\",VLOOKUP(AG64,'（従来型）シフト記号表'!$C$5:$Y$46,23,FALSE))","v":""},{"$f":"IF(AH64=\"\",\"\",VLOOKUP(AH64,'（従来型）シフト記号表'!$C$5:$Y$46,23,FALSE))","v":""},{"$f":"IF(AI64=\"\",\"\",VLOOKUP(AI64,'（従来型）シフト記号表'!$C$5:$Y$46,23,FALSE))","v":""},{"$f":"IF(AJ64=\"\",\"\",VLOOKUP(AJ64,'（従来型）シフト記号表'!$C$5:$Y$46,23,FALSE))","v":""},{"$f":"IF(AK64=\"\",\"\",VLOOKUP(AK64,'（従来型）シフト記号表'!$C$5:$Y$46,23,FALSE))","v":""},{"$f":"IF(AL64=\"\",\"\",VLOOKUP(AL64,'（従来型）シフト記号表'!$C$5:$Y$46,23,FALSE))","v":""},{"$f":"IF(AM64=\"\",\"\",VLOOKUP(AM64,'（従来型）シフト記号表'!$C$5:$Y$46,23,FALSE))","v":""},{"$f":"IF(AN64=\"\",\"\",VLOOKUP(AN64,'（従来型）シフト記号表'!$C$5:$Y$46,23,FALSE))","v":""},{"$f":"IF(AO64=\"\",\"\",VLOOKUP(AO64,'（従来型）シフト記号表'!$C$5:$Y$46,23,FALSE))","v":""},{"$f":"IF(AP64=\"\",\"\",VLOOKUP(AP64,'（従来型）シフト記号表'!$C$5:$Y$46,23,FALSE))","v":""},{"$f":"IF(AQ64=\"\",\"\",VLOOKUP(AQ64,'（従来型）シフト記号表'!$C$5:$Y$46,23,FALSE))","v":""},{"$f":"IF(AR64=\"\",\"\",VLOOKUP(AR64,'（従来型）シフト記号表'!$C$5:$Y$46,23,FALSE))","v":""},{"$f":"IF(AS64=\"\",\"\",VLOOKUP(AS64,'（従来型）シフト記号表'!$C$5:$Y$46,23,FALSE))","v":""},{"$f":"IF(AT64=\"\",\"\",VLOOKUP(AT64,'（従来型）シフト記号表'!$C$5:$Y$46,23,FALSE))","v":""},{"$f":"IF(AU64=\"\",\"\",VLOOKUP(AU64,'（従来型）シフト記号表'!$C$5:$Y$46,23,FALSE))","v":""},{"$f":"IF(AV64=\"\",\"\",VLOOKUP(AV64,'（従来型）シフト記号表'!$C$5:$Y$46,23,FALSE))","v":""},{"$f":"IF(AW64=\"\",\"\",VLOOKUP(AW64,'（従来型）シフト記号表'!$C$5:$Y$46,23,FALSE))","v":""},{"$f":"IF(AX64=\"\",\"\",VLOOKUP(AX64,'（従来型）シフト記号表'!$C$5:$Y$46,23,FALSE))","v":""},{"$f":"IF(AY64=\"\",\"\",VLOOKUP(AY64,'（従来型）シフト記号表'!$C$5:$Y$46,23,FALSE))","v":""},{"$f":"IF(AZ64=\"\",\"\",VLOOKUP(AZ64,'（従来型）シフト記号表'!$C$5:$Y$46,23,FALSE))","v":""},{"$f":"IF(BA64=\"\",\"\",VLOOKUP(BA64,'（従来型）シフト記号表'!$C$5:$Y$46,23,FALSE))","v":""},{"$f":"IF(BB64=\"\",\"\",VLOOKUP(BB64,'（従来型）シフト記号表'!$C$5:$Y$46,23,FALSE))","v":""},{"$f":"IF(BC64=\"\",\"\",VLOOKUP(BC64,'（従来型）シフト記号表'!$C$5:$Y$46,23,FALSE))","v":""},{"$f":"IF(BD64=\"\",\"\",VLOOKUP(BD64,'（従来型）シフト記号表'!$C$5:$Y$46,23,FALSE))","v":""},{"$f":"IF(BE64=\"\",\"\",VLOOKUP(BE64,'（従来型）シフト記号表'!$C$5:$Y$46,23,FALSE))","v":""},{"$f":"IF($BI$3=\"計画\",SUM(AA66:BB66),IF($BI$3=\"実績\",SUM(AA66:BE66),\"\"))","v":0},null,{"$f":"IF($BI$3=\"計画\",BF66/4,IF($BI$3=\"実績\",(BF66/($BI$7/7)),\"\"))","v":0}]
[null,null,null,null,null,null,null,null,null,null,null,null,null,null,null,null,null,null,null,null,null,"シフト記号"]
[null,{"$f":"B65+1","v":17},null,null,null,null,null,null,null,null,null,null,null,null,null,null,null,null,null,null,null,"日中の勤務時間数",null,null,null,null,{"$f":"IF(AA67=\"\",\"\",VLOOKUP(AA67,'（従来型）シフト記号表'!$C$5:$W$46,21,FALSE))","v":""},{"$f":"IF(AB67=\"\",\"\",VLOOKUP(AB67,'（従来型）シフト記号表'!$C$5:$W$46,21,FALSE))","v":""},{"$f":"IF(AC67=\"\",\"\",VLOOKUP(AC67,'（従来型）シフト記号表'!$C$5:$W$46,21,FALSE))","v":""},{"$f":"IF(AD67=\"\",\"\",VLOOKUP(AD67,'（従来型）シフト記号表'!$C$5:$W$46,21,FALSE))","v":""},{"$f":"IF(AE67=\"\",\"\",VLOOKUP(AE67,'（従来型）シフト記号表'!$C$5:$W$46,21,FALSE))","v":""},{"$f":"IF(AF67=\"\",\"\",VLOOKUP(AF67,'（従来型）シフト記号表'!$C$5:$W$46,21,FALSE))","v":""},{"$f":"IF(AG67=\"\",\"\",VLOOKUP(AG67,'（従来型）シフト記号表'!$C$5:$W$46,21,FALSE))","v":""},{"$f":"IF(AH67=\"\",\"\",VLOOKUP(AH67,'（従来型）シフト記号表'!$C$5:$W$46,21,FALSE))","v":""},{"$f":"IF(AI67=\"\",\"\",VLOOKUP(AI67,'（従来型）シフト記号表'!$C$5:$W$46,21,FALSE))","v":""},{"$f":"IF(AJ67=\"\",\"\",VLOOKUP(AJ67,'（従来型）シフト記号表'!$C$5:$W$46,21,FALSE))","v":""},{"$f":"IF(AK67=\"\",\"\",VLOOKUP(AK67,'（従来型）シフト記号表'!$C$5:$W$46,21,FALSE))","v":""},{"$f":"IF(AL67=\"\",\"\",VLOOKUP(AL67,'（従来型）シフト記号表'!$C$5:$W$46,21,FALSE))","v":""},{"$f":"IF(AM67=\"\",\"\",VLOOKUP(AM67,'（従来型）シフト記号表'!$C$5:$W$46,21,FALSE))","v":""},{"$f":"IF(AN67=\"\",\"\",VLOOKUP(AN67,'（従来型）シフト記号表'!$C$5:$W$46,21,FALSE))","v":""},{"$f":"IF(AO67=\"\",\"\",VLOOKUP(AO67,'（従来型）シフト記号表'!$C$5:$W$46,21,FALSE))","v":""},{"$f":"IF(AP67=\"\",\"\",VLOOKUP(AP67,'（従来型）シフト記号表'!$C$5:$W$46,21,FALSE))","v":""},{"$f":"IF(AQ67=\"\",\"\",VLOOKUP(AQ67,'（従来型）シフト記号表'!$C$5:$W$46,21,FALSE))","v":""},{"$f":"IF(AR67=\"\",\"\",VLOOKUP(AR67,'（従来型）シフト記号表'!$C$5:$W$46,21,FALSE))","v":""},{"$f":"IF(AS67=\"\",\"\",VLOOKUP(AS67,'（従来型）シフト記号表'!$C$5:$W$46,21,FALSE))","v":""},{"$f":"IF(AT67=\"\",\"\",VLOOKUP(AT67,'（従来型）シフト記号表'!$C$5:$W$46,21,FALSE))","v":""},{"$f":"IF(AU67=\"\",\"\",VLOOKUP(AU67,'（従来型）シフト記号表'!$C$5:$W$46,21,FALSE))","v":""},{"$f":"IF(AV67=\"\",\"\",VLOOKUP(AV67,'（従来型）シフト記号表'!$C$5:$W$46,21,FALSE))","v":""},{"$f":"IF(AW67=\"\",\"\",VLOOKUP(AW67,'（従来型）シフト記号表'!$C$5:$W$46,21,FALSE))","v":""},{"$f":"IF(AX67=\"\",\"\",VLOOKUP(AX67,'（従来型）シフト記号表'!$C$5:$W$46,21,FALSE))","v":""},{"$f":"IF(AY67=\"\",\"\",VLOOKUP(AY67,'（従来型）シフト記号表'!$C$5:$W$46,21,FALSE))","v":""},{"$f":"IF(AZ67=\"\",\"\",VLOOKUP(AZ67,'（従来型）シフト記号表'!$C$5:$W$46,21,FALSE))","v":""},{"$f":"IF(BA67=\"\",\"\",VLOOKUP(BA67,'（従来型）シフト記号表'!$C$5:$W$46,21,FALSE))","v":""},{"$f":"IF(BB67=\"\",\"\",VLOOKUP(BB67,'（従来型）シフト記号表'!$C$5:$W$46,21,FALSE))","v":""},{"$f":"IF(BC67=\"\",\"\",VLOOKUP(BC67,'（従来型）シフト記号表'!$C$5:$W$46,21,FALSE))","v":""},{"$f":"IF(BD67=\"\",\"\",VLOOKUP(BD67,'（従来型）シフト記号表'!$C$5:$W$46,21,FALSE))","v":""},{"$f":"IF(BE67=\"\",\"\",VLOOKUP(BE67,'（従来型）シフト記号表'!$C$5:$W$46,21,FALSE))","v":""},{"$f":"IF($BI$3=\"計画\",SUM(AA68:BB68),IF($BI$3=\"実績\",SUM(AA68:BE68),\"\"))","v":0},null,{"$f":"IF($BI$3=\"計画\",BF68/4,IF($BI$3=\"実績\",(BF68/($BI$7/7)),\"\"))","v":0}]
[null,null,null,null,null,null,null,null,{"$f":"G68","v":0},null,{"$f":"M68","v":0},null,null,null,null,null,null,null,null,null,null,"夜勤時間帯の勤務時間数",null,null,null,null,{"$f":"IF(AA67=\"\",\"\",VLOOKUP(AA67,'（従来型）シフト記号表'!$C$5:$Y$46,23,FALSE))","v":""},{"$f":"IF(AB67=\"\",\"\",VLOOKUP(AB67,'（従来型）シフト記号表'!$C$5:$Y$46,23,FALSE))","v":""},{"$f":"IF(AC67=\"\",\"\",VLOOKUP(AC67,'（従来型）シフト記号表'!$C$5:$Y$46,23,FALSE))","v":""},{"$f":"IF(AD67=\"\",\"\",VLOOKUP(AD67,'（従来型）シフト記号表'!$C$5:$Y$46,23,FALSE))","v":""},{"$f":"IF(AE67=\"\",\"\",VLOOKUP(AE67,'（従来型）シフト記号表'!$C$5:$Y$46,23,FALSE))","v":""},{"$f":"IF(AF67=\"\",\"\",VLOOKUP(AF67,'（従来型）シフト記号表'!$C$5:$Y$46,23,FALSE))","v":""},{"$f":"IF(AG67=\"\",\"\",VLOOKUP(AG67,'（従来型）シフト記号表'!$C$5:$Y$46,23,FALSE))","v":""},{"$f":"IF(AH67=\"\",\"\",VLOOKUP(AH67,'（従来型）シフト記号表'!$C$5:$Y$46,23,FALSE))","v":""},{"$f":"IF(AI67=\"\",\"\",VLOOKUP(AI67,'（従来型）シフト記号表'!$C$5:$Y$46,23,FALSE))","v":""},{"$f":"IF(AJ67=\"\",\"\",VLOOKUP(AJ67,'（従来型）シフト記号表'!$C$5:$Y$46,23,FALSE))","v":""},{"$f":"IF(AK67=\"\",\"\",VLOOKUP(AK67,'（従来型）シフト記号表'!$C$5:$Y$46,23,FALSE))","v":""},{"$f":"IF(AL67=\"\",\"\",VLOOKUP(AL67,'（従来型）シフト記号表'!$C$5:$Y$46,23,FALSE))","v":""},{"$f":"IF(AM67=\"\",\"\",VLOOKUP(AM67,'（従来型）シフト記号表'!$C$5:$Y$46,23,FALSE))","v":""},{"$f":"IF(AN67=\"\",\"\",VLOOKUP(AN67,'（従来型）シフト記号表'!$C$5:$Y$46,23,FALSE))","v":""},{"$f":"IF(AO67=\"\",\"\",VLOOKUP(AO67,'（従来型）シフト記号表'!$C$5:$Y$46,23,FALSE))","v":""},{"$f":"IF(AP67=\"\",\"\",VLOOKUP(AP67,'（従来型）シフト記号表'!$C$5:$Y$46,23,FALSE))","v":""},{"$f":"IF(AQ67=\"\",\"\",VLOOKUP(AQ67,'（従来型）シフト記号表'!$C$5:$Y$46,23,FALSE))","v":""},{"$f":"IF(AR67=\"\",\"\",VLOOKUP(AR67,'（従来型）シフト記号表'!$C$5:$Y$46,23,FALSE))","v":""},{"$f":"IF(AS67=\"\",\"\",VLOOKUP(AS67,'（従来型）シフト記号表'!$C$5:$Y$46,23,FALSE))","v":""},{"$f":"IF(AT67=\"\",\"\",VLOOKUP(AT67,'（従来型）シフト記号表'!$C$5:$Y$46,23,FALSE))","v":""},{"$f":"IF(AU67=\"\",\"\",VLOOKUP(AU67,'（従来型）シフト記号表'!$C$5:$Y$46,23,FALSE))","v":""},{"$f":"IF(AV67=\"\",\"\",VLOOKUP(AV67,'（従来型）シフト記号表'!$C$5:$Y$46,23,FALSE))","v":""},{"$f":"IF(AW67=\"\",\"\",VLOOKUP(AW67,'（従来型）シフト記号表'!$C$5:$Y$46,23,FALSE))","v":""},{"$f":"IF(AX67=\"\",\"\",VLOOKUP(AX67,'（従来型）シフト記号表'!$C$5:$Y$46,23,FALSE))","v":""},{"$f":"IF(AY67=\"\",\"\",VLOOKUP(AY67,'（従来型）シフト記号表'!$C$5:$Y$46,23,FALSE))","v":""},{"$f":"IF(AZ67=\"\",\"\",VLOOKUP(AZ67,'（従来型）シフト記号表'!$C$5:$Y$46,23,FALSE))","v":""},{"$f":"IF(BA67=\"\",\"\",VLOOKUP(BA67,'（従来型）シフト記号表'!$C$5:$Y$46,23,FALSE))","v":""},{"$f":"IF(BB67=\"\",\"\",VLOOKUP(BB67,'（従来型）シフト記号表'!$C$5:$Y$46,23,FALSE))","v":""},{"$f":"IF(BC67=\"\",\"\",VLOOKUP(BC67,'（従来型）シフト記号表'!$C$5:$Y$46,23,FALSE))","v":""},{"$f":"IF(BD67=\"\",\"\",VLOOKUP(BD67,'（従来型）シフト記号表'!$C$5:$Y$46,23,FALSE))","v":""},{"$f":"IF(BE67=\"\",\"\",VLOOKUP(BE67,'（従来型）シフト記号表'!$C$5:$Y$46,23,FALSE))","v":""},{"$f":"IF($BI$3=\"計画\",SUM(AA69:BB69),IF($BI$3=\"実績\",SUM(AA69:BE69),\"\"))","v":0},null,{"$f":"IF($BI$3=\"計画\",BF69/4,IF($BI$3=\"実績\",(BF69/($BI$7/7)),\"\"))","v":0}]
[null,null,null,null,null,null,null,null,null,null,null,null,null,null,null,null,null,null,null,null,null,"シフト記号"]
[null,{"$f":"B68+1","v":18},null,null,null,null,null,null,null,null,null,null,null,null,null,null,null,null,null,null,null,"日中の勤務時間数",null,null,null,null,{"$f":"IF(AA70=\"\",\"\",VLOOKUP(AA70,'（従来型）シフト記号表'!$C$5:$W$46,21,FALSE))","v":""},{"$f":"IF(AB70=\"\",\"\",VLOOKUP(AB70,'（従来型）シフト記号表'!$C$5:$W$46,21,FALSE))","v":""},{"$f":"IF(AC70=\"\",\"\",VLOOKUP(AC70,'（従来型）シフト記号表'!$C$5:$W$46,21,FALSE))","v":""},{"$f":"IF(AD70=\"\",\"\",VLOOKUP(AD70,'（従来型）シフト記号表'!$C$5:$W$46,21,FALSE))","v":""},{"$f":"IF(AE70=\"\",\"\",VLOOKUP(AE70,'（従来型）シフト記号表'!$C$5:$W$46,21,FALSE))","v":""},{"$f":"IF(AF70=\"\",\"\",VLOOKUP(AF70,'（従来型）シフト記号表'!$C$5:$W$46,21,FALSE))","v":""},{"$f":"IF(AG70=\"\",\"\",VLOOKUP(AG70,'（従来型）シフト記号表'!$C$5:$W$46,21,FALSE))","v":""},{"$f":"IF(AH70=\"\",\"\",VLOOKUP(AH70,'（従来型）シフト記号表'!$C$5:$W$46,21,FALSE))","v":""},{"$f":"IF(AI70=\"\",\"\",VLOOKUP(AI70,'（従来型）シフト記号表'!$C$5:$W$46,21,FALSE))","v":""},{"$f":"IF(AJ70=\"\",\"\",VLOOKUP(AJ70,'（従来型）シフト記号表'!$C$5:$W$46,21,FALSE))","v":""},{"$f":"IF(AK70=\"\",\"\",VLOOKUP(AK70,'（従来型）シフト記号表'!$C$5:$W$46,21,FALSE))","v":""},{"$f":"IF(AL70=\"\",\"\",VLOOKUP(AL70,'（従来型）シフト記号表'!$C$5:$W$46,21,FALSE))","v":""},{"$f":"IF(AM70=\"\",\"\",VLOOKUP(AM70,'（従来型）シフト記号表'!$C$5:$W$46,21,FALSE))","v":""},{"$f":"IF(AN70=\"\",\"\",VLOOKUP(AN70,'（従来型）シフト記号表'!$C$5:$W$46,21,FALSE))","v":""},{"$f":"IF(AO70=\"\",\"\",VLOOKUP(AO70,'（従来型）シフト記号表'!$C$5:$W$46,21,FALSE))","v":""},{"$f":"IF(AP70=\"\",\"\",VLOOKUP(AP70,'（従来型）シフト記号表'!$C$5:$W$46,21,FALSE))","v":""},{"$f":"IF(AQ70=\"\",\"\",VLOOKUP(AQ70,'（従来型）シフト記号表'!$C$5:$W$46,21,FALSE))","v":""},{"$f":"IF(AR70=\"\",\"\",VLOOKUP(AR70,'（従来型）シフト記号表'!$C$5:$W$46,21,FALSE))","v":""},{"$f":"IF(AS70=\"\",\"\",VLOOKUP(AS70,'（従来型）シフト記号表'!$C$5:$W$46,21,FALSE))","v":""},{"$f":"IF(AT70=\"\",\"\",VLOOKUP(AT70,'（従来型）シフト記号表'!$C$5:$W$46,21,FALSE))","v":""},{"$f":"IF(AU70=\"\",\"\",VLOOKUP(AU70,'（従来型）シフト記号表'!$C$5:$W$46,21,FALSE))","v":""},{"$f":"IF(AV70=\"\",\"\",VLOOKUP(AV70,'（従来型）シフト記号表'!$C$5:$W$46,21,FALSE))","v":""},{"$f":"IF(AW70=\"\",\"\",VLOOKUP(AW70,'（従来型）シフト記号表'!$C$5:$W$46,21,FALSE))","v":""},{"$f":"IF(AX70=\"\",\"\",VLOOKUP(AX70,'（従来型）シフト記号表'!$C$5:$W$46,21,FALSE))","v":""},{"$f":"IF(AY70=\"\",\"\",VLOOKUP(AY70,'（従来型）シフト記号表'!$C$5:$W$46,21,FALSE))","v":""},{"$f":"IF(AZ70=\"\",\"\",VLOOKUP(AZ70,'（従来型）シフト記号表'!$C$5:$W$46,21,FALSE))","v":""},{"$f":"IF(BA70=\"\",\"\",VLOOKUP(BA70,'（従来型）シフト記号表'!$C$5:$W$46,21,FALSE))","v":""},{"$f":"IF(BB70=\"\",\"\",VLOOKUP(BB70,'（従来型）シフト記号表'!$C$5:$W$46,21,FALSE))","v":""},{"$f":"IF(BC70=\"\",\"\",VLOOKUP(BC70,'（従来型）シフト記号表'!$C$5:$W$46,21,FALSE))","v":""},{"$f":"IF(BD70=\"\",\"\",VLOOKUP(BD70,'（従来型）シフト記号表'!$C$5:$W$46,21,FALSE))","v":""},{"$f":"IF(BE70=\"\",\"\",VLOOKUP(BE70,'（従来型）シフト記号表'!$C$5:$W$46,21,FALSE))","v":""},{"$f":"IF($BI$3=\"計画\",SUM(AA71:BB71),IF($BI$3=\"実績\",SUM(AA71:BE71),\"\"))","v":0},null,{"$f":"IF($BI$3=\"計画\",BF71/4,IF($BI$3=\"実績\",(BF71/($BI$7/7)),\"\"))","v":0}]
[null,null,null,null,null,null,null,null,{"$f":"G71","v":0},null,{"$f":"M71","v":0},null,null,null,null,null,null,null,null,null,null,"夜勤時間帯の勤務時間数",null,null,null,null,{"$f":"IF(AA70=\"\",\"\",VLOOKUP(AA70,'（従来型）シフト記号表'!$C$5:$Y$46,23,FALSE))","v":""},{"$f":"IF(AB70=\"\",\"\",VLOOKUP(AB70,'（従来型）シフト記号表'!$C$5:$Y$46,23,FALSE))","v":""},{"$f":"IF(AC70=\"\",\"\",VLOOKUP(AC70,'（従来型）シフト記号表'!$C$5:$Y$46,23,FALSE))","v":""},{"$f":"IF(AD70=\"\",\"\",VLOOKUP(AD70,'（従来型）シフト記号表'!$C$5:$Y$46,23,FALSE))","v":""},{"$f":"IF(AE70=\"\",\"\",VLOOKUP(AE70,'（従来型）シフト記号表'!$C$5:$Y$46,23,FALSE))","v":""},{"$f":"IF(AF70=\"\",\"\",VLOOKUP(AF70,'（従来型）シフト記号表'!$C$5:$Y$46,23,FALSE))","v":""},{"$f":"IF(AG70=\"\",\"\",VLOOKUP(AG70,'（従来型）シフト記号表'!$C$5:$Y$46,23,FALSE))","v":""},{"$f":"IF(AH70=\"\",\"\",VLOOKUP(AH70,'（従来型）シフト記号表'!$C$5:$Y$46,23,FALSE))","v":""},{"$f":"IF(AI70=\"\",\"\",VLOOKUP(AI70,'（従来型）シフト記号表'!$C$5:$Y$46,23,FALSE))","v":""},{"$f":"IF(AJ70=\"\",\"\",VLOOKUP(AJ70,'（従来型）シフト記号表'!$C$5:$Y$46,23,FALSE))","v":""},{"$f":"IF(AK70=\"\",\"\",VLOOKUP(AK70,'（従来型）シフト記号表'!$C$5:$Y$46,23,FALSE))","v":""},{"$f":"IF(AL70=\"\",\"\",VLOOKUP(AL70,'（従来型）シフト記号表'!$C$5:$Y$46,23,FALSE))","v":""},{"$f":"IF(AM70=\"\",\"\",VLOOKUP(AM70,'（従来型）シフト記号表'!$C$5:$Y$46,23,FALSE))","v":""},{"$f":"IF(AN70=\"\",\"\",VLOOKUP(AN70,'（従来型）シフト記号表'!$C$5:$Y$46,23,FALSE))","v":""},{"$f":"IF(AO70=\"\",\"\",VLOOKUP(AO70,'（従来型）シフト記号表'!$C$5:$Y$46,23,FALSE))","v":""},{"$f":"IF(AP70=\"\",\"\",VLOOKUP(AP70,'（従来型）シフト記号表'!$C$5:$Y$46,23,FALSE))","v":""},{"$f":"IF(AQ70=\"\",\"\",VLOOKUP(AQ70,'（従来型）シフト記号表'!$C$5:$Y$46,23,FALSE))","v":""},{"$f":"IF(AR70=\"\",\"\",VLOOKUP(AR70,'（従来型）シフト記号表'!$C$5:$Y$46,23,FALSE))","v":""},{"$f":"IF(AS70=\"\",\"\",VLOOKUP(AS70,'（従来型）シフト記号表'!$C$5:$Y$46,23,FALSE))","v":""},{"$f":"IF(AT70=\"\",\"\",VLOOKUP(AT70,'（従来型）シフト記号表'!$C$5:$Y$46,23,FALSE))","v":""},{"$f":"IF(AU70=\"\",\"\",VLOOKUP(AU70,'（従来型）シフト記号表'!$C$5:$Y$46,23,FALSE))","v":""},{"$f":"IF(AV70=\"\",\"\",VLOOKUP(AV70,'（従来型）シフト記号表'!$C$5:$Y$46,23,FALSE))","v":""},{"$f":"IF(AW70=\"\",\"\",VLOOKUP(AW70,'（従来型）シフト記号表'!$C$5:$Y$46,23,FALSE))","v":""},{"$f":"IF(AX70=\"\",\"\",VLOOKUP(AX70,'（従来型）シフト記号表'!$C$5:$Y$46,23,FALSE))","v":""},{"$f":"IF(AY70=\"\",\"\",VLOOKUP(AY70,'（従来型）シフト記号表'!$C$5:$Y$46,23,FALSE))","v":""},{"$f":"IF(AZ70=\"\",\"\",VLOOKUP(AZ70,'（従来型）シフト記号表'!$C$5:$Y$46,23,FALSE))","v":""},{"$f":"IF(BA70=\"\",\"\",VLOOKUP(BA70,'（従来型）シフト記号表'!$C$5:$Y$46,23,FALSE))","v":""},{"$f":"IF(BB70=\"\",\"\",VLOOKUP(BB70,'（従来型）シフト記号表'!$C$5:$Y$46,23,FALSE))","v":""},{"$f":"IF(BC70=\"\",\"\",VLOOKUP(BC70,'（従来型）シフト記号表'!$C$5:$Y$46,23,FALSE))","v":""},{"$f":"IF(BD70=\"\",\"\",VLOOKUP(BD70,'（従来型）シフト記号表'!$C$5:$Y$46,23,FALSE))","v":""},{"$f":"IF(BE70=\"\",\"\",VLOOKUP(BE70,'（従来型）シフト記号表'!$C$5:$Y$46,23,FALSE))","v":""},{"$f":"IF($BI$3=\"計画\",SUM(AA72:BB72),IF($BI$3=\"実績\",SUM(AA72:BE72),\"\"))","v":0},null,{"$f":"IF($BI$3=\"計画\",BF72/4,IF($BI$3=\"実績\",(BF72/($BI$7/7)),\"\"))","v":0}]
[null,null,null,null,null,null,null,null,null,null,null,null,null,null,null,null,null,null,null,null,null,"シフト記号"]
[null,{"$f":"B71+1","v":19},null,null,null,null,null,null,null,null,null,null,null,null,null,null,null,null,null,null,null,"日中の勤務時間数",null,null,null,null,{"$f":"IF(AA73=\"\",\"\",VLOOKUP(AA73,'（従来型）シフト記号表'!$C$5:$W$46,21,FALSE))","v":""},{"$f":"IF(AB73=\"\",\"\",VLOOKUP(AB73,'（従来型）シフト記号表'!$C$5:$W$46,21,FALSE))","v":""},{"$f":"IF(AC73=\"\",\"\",VLOOKUP(AC73,'（従来型）シフト記号表'!$C$5:$W$46,21,FALSE))","v":""},{"$f":"IF(AD73=\"\",\"\",VLOOKUP(AD73,'（従来型）シフト記号表'!$C$5:$W$46,21,FALSE))","v":""},{"$f":"IF(AE73=\"\",\"\",VLOOKUP(AE73,'（従来型）シフト記号表'!$C$5:$W$46,21,FALSE))","v":""},{"$f":"IF(AF73=\"\",\"\",VLOOKUP(AF73,'（従来型）シフト記号表'!$C$5:$W$46,21,FALSE))","v":""},{"$f":"IF(AG73=\"\",\"\",VLOOKUP(AG73,'（従来型）シフト記号表'!$C$5:$W$46,21,FALSE))","v":""},{"$f":"IF(AH73=\"\",\"\",VLOOKUP(AH73,'（従来型）シフト記号表'!$C$5:$W$46,21,FALSE))","v":""},{"$f":"IF(AI73=\"\",\"\",VLOOKUP(AI73,'（従来型）シフト記号表'!$C$5:$W$46,21,FALSE))","v":""},{"$f":"IF(AJ73=\"\",\"\",VLOOKUP(AJ73,'（従来型）シフト記号表'!$C$5:$W$46,21,FALSE))","v":""},{"$f":"IF(AK73=\"\",\"\",VLOOKUP(AK73,'（従来型）シフト記号表'!$C$5:$W$46,21,FALSE))","v":""},{"$f":"IF(AL73=\"\",\"\",VLOOKUP(AL73,'（従来型）シフト記号表'!$C$5:$W$46,21,FALSE))","v":""},{"$f":"IF(AM73=\"\",\"\",VLOOKUP(AM73,'（従来型）シフト記号表'!$C$5:$W$46,21,FALSE))","v":""},{"$f":"IF(AN73=\"\",\"\",VLOOKUP(AN73,'（従来型）シフト記号表'!$C$5:$W$46,21,FALSE))","v":""},{"$f":"IF(AO73=\"\",\"\",VLOOKUP(AO73,'（従来型）シフト記号表'!$C$5:$W$46,21,FALSE))","v":""},{"$f":"IF(AP73=\"\",\"\",VLOOKUP(AP73,'（従来型）シフト記号表'!$C$5:$W$46,21,FALSE))","v":""},{"$f":"IF(AQ73=\"\",\"\",VLOOKUP(AQ73,'（従来型）シフト記号表'!$C$5:$W$46,21,FALSE))","v":""},{"$f":"IF(AR73=\"\",\"\",VLOOKUP(AR73,'（従来型）シフト記号表'!$C$5:$W$46,21,FALSE))","v":""},{"$f":"IF(AS73=\"\",\"\",VLOOKUP(AS73,'（従来型）シフト記号表'!$C$5:$W$46,21,FALSE))","v":""},{"$f":"IF(AT73=\"\",\"\",VLOOKUP(AT73,'（従来型）シフト記号表'!$C$5:$W$46,21,FALSE))","v":""},{"$f":"IF(AU73=\"\",\"\",VLOOKUP(AU73,'（従来型）シフト記号表'!$C$5:$W$46,21,FALSE))","v":""},{"$f":"IF(AV73=\"\",\"\",VLOOKUP(AV73,'（従来型）シフト記号表'!$C$5:$W$46,21,FALSE))","v":""},{"$f":"IF(AW73=\"\",\"\",VLOOKUP(AW73,'（従来型）シフト記号表'!$C$5:$W$46,21,FALSE))","v":""},{"$f":"IF(AX73=\"\",\"\",VLOOKUP(AX73,'（従来型）シフト記号表'!$C$5:$W$46,21,FALSE))","v":""},{"$f":"IF(AY73=\"\",\"\",VLOOKUP(AY73,'（従来型）シフト記号表'!$C$5:$W$46,21,FALSE))","v":""},{"$f":"IF(AZ73=\"\",\"\",VLOOKUP(AZ73,'（従来型）シフト記号表'!$C$5:$W$46,21,FALSE))","v":""},{"$f":"IF(BA73=\"\",\"\",VLOOKUP(BA73,'（従来型）シフト記号表'!$C$5:$W$46,21,FALSE))","v":""},{"$f":"IF(BB73=\"\",\"\",VLOOKUP(BB73,'（従来型）シフト記号表'!$C$5:$W$46,21,FALSE))","v":""},{"$f":"IF(BC73=\"\",\"\",VLOOKUP(BC73,'（従来型）シフト記号表'!$C$5:$W$46,21,FALSE))","v":""},{"$f":"IF(BD73=\"\",\"\",VLOOKUP(BD73,'（従来型）シフト記号表'!$C$5:$W$46,21,FALSE))","v":""},{"$f":"IF(BE73=\"\",\"\",VLOOKUP(BE73,'（従来型）シフト記号表'!$C$5:$W$46,21,FALSE))","v":""},{"$f":"IF($BI$3=\"計画\",SUM(AA74:BB74),IF($BI$3=\"実績\",SUM(AA74:BE74),\"\"))","v":0},null,{"$f":"IF($BI$3=\"計画\",BF74/4,IF($BI$3=\"実績\",(BF74/($BI$7/7)),\"\"))","v":0}]
[null,null,null,null,null,null,null,null,{"$f":"G74","v":0},null,{"$f":"M74","v":0},null,null,null,null,null,null,null,null,null,null,"夜勤時間帯の勤務時間数",null,null,null,null,{"$f":"IF(AA73=\"\",\"\",VLOOKUP(AA73,'（従来型）シフト記号表'!$C$5:$Y$46,23,FALSE))","v":""},{"$f":"IF(AB73=\"\",\"\",VLOOKUP(AB73,'（従来型）シフト記号表'!$C$5:$Y$46,23,FALSE))","v":""},{"$f":"IF(AC73=\"\",\"\",VLOOKUP(AC73,'（従来型）シフト記号表'!$C$5:$Y$46,23,FALSE))","v":""},{"$f":"IF(AD73=\"\",\"\",VLOOKUP(AD73,'（従来型）シフト記号表'!$C$5:$Y$46,23,FALSE))","v":""},{"$f":"IF(AE73=\"\",\"\",VLOOKUP(AE73,'（従来型）シフト記号表'!$C$5:$Y$46,23,FALSE))","v":""},{"$f":"IF(AF73=\"\",\"\",VLOOKUP(AF73,'（従来型）シフト記号表'!$C$5:$Y$46,23,FALSE))","v":""},{"$f":"IF(AG73=\"\",\"\",VLOOKUP(AG73,'（従来型）シフト記号表'!$C$5:$Y$46,23,FALSE))","v":""},{"$f":"IF(AH73=\"\",\"\",VLOOKUP(AH73,'（従来型）シフト記号表'!$C$5:$Y$46,23,FALSE))","v":""},{"$f":"IF(AI73=\"\",\"\",VLOOKUP(AI73,'（従来型）シフト記号表'!$C$5:$Y$46,23,FALSE))","v":""},{"$f":"IF(AJ73=\"\",\"\",VLOOKUP(AJ73,'（従来型）シフト記号表'!$C$5:$Y$46,23,FALSE))","v":""},{"$f":"IF(AK73=\"\",\"\",VLOOKUP(AK73,'（従来型）シフト記号表'!$C$5:$Y$46,23,FALSE))","v":""},{"$f":"IF(AL73=\"\",\"\",VLOOKUP(AL73,'（従来型）シフト記号表'!$C$5:$Y$46,23,FALSE))","v":""},{"$f":"IF(AM73=\"\",\"\",VLOOKUP(AM73,'（従来型）シフト記号表'!$C$5:$Y$46,23,FALSE))","v":""},{"$f":"IF(AN73=\"\",\"\",VLOOKUP(AN73,'（従来型）シフト記号表'!$C$5:$Y$46,23,FALSE))","v":""},{"$f":"IF(AO73=\"\",\"\",VLOOKUP(AO73,'（従来型）シフト記号表'!$C$5:$Y$46,23,FALSE))","v":""},{"$f":"IF(AP73=\"\",\"\",VLOOKUP(AP73,'（従来型）シフト記号表'!$C$5:$Y$46,23,FALSE))","v":""},{"$f":"IF(AQ73=\"\",\"\",VLOOKUP(AQ73,'（従来型）シフト記号表'!$C$5:$Y$46,23,FALSE))","v":""},{"$f":"IF(AR73=\"\",\"\",VLOOKUP(AR73,'（従来型）シフト記号表'!$C$5:$Y$46,23,FALSE))","v":""},{"$f":"IF(AS73=\"\",\"\",VLOOKUP(AS73,'（従来型）シフト記号表'!$C$5:$Y$46,23,FALSE))","v":""},{"$f":"IF(AT73=\"\",\"\",VLOOKUP(AT73,'（従来型）シフト記号表'!$C$5:$Y$46,23,FALSE))","v":""},{"$f":"IF(AU73=\"\",\"\",VLOOKUP(AU73,'（従来型）シフト記号表'!$C$5:$Y$46,23,FALSE))","v":""},{"$f":"IF(AV73=\"\",\"\",VLOOKUP(AV73,'（従来型）シフト記号表'!$C$5:$Y$46,23,FALSE))","v":""},{"$f":"IF(AW73=\"\",\"\",VLOOKUP(AW73,'（従来型）シフト記号表'!$C$5:$Y$46,23,FALSE))","v":""},{"$f":"IF(AX73=\"\",\"\",VLOOKUP(AX73,'（従来型）シフト記号表'!$C$5:$Y$46,23,FALSE))","v":""},{"$f":"IF(AY73=\"\",\"\",VLOOKUP(AY73,'（従来型）シフト記号表'!$C$5:$Y$46,23,FALSE))","v":""},{"$f":"IF(AZ73=\"\",\"\",VLOOKUP(AZ73,'（従来型）シフト記号表'!$C$5:$Y$46,23,FALSE))","v":""},{"$f":"IF(BA73=\"\",\"\",VLOOKUP(BA73,'（従来型）シフト記号表'!$C$5:$Y$46,23,FALSE))","v":""},{"$f":"IF(BB73=\"\",\"\",VLOOKUP(BB73,'（従来型）シフト記号表'!$C$5:$Y$46,23,FALSE))","v":""},{"$f":"IF(BC73=\"\",\"\",VLOOKUP(BC73,'（従来型）シフト記号表'!$C$5:$Y$46,23,FALSE))","v":""},{"$f":"IF(BD73=\"\",\"\",VLOOKUP(BD73,'（従来型）シフト記号表'!$C$5:$Y$46,23,FALSE))","v":""},{"$f":"IF(BE73=\"\",\"\",VLOOKUP(BE73,'（従来型）シフト記号表'!$C$5:$Y$46,23,FALSE))","v":""},{"$f":"IF($BI$3=\"計画\",SUM(AA75:BB75),IF($BI$3=\"実績\",SUM(AA75:BE75),\"\"))","v":0},null,{"$f":"IF($BI$3=\"計画\",BF75/4,IF($BI$3=\"実績\",(BF75/($BI$7/7)),\"\"))","v":0}]
[null,null,null,null,null,null,null,null,null,null,null,null,null,null,null,null,null,null,null,null,null,"シフト記号"]
[null,{"$f":"B74+1","v":20},null,null,null,null,null,null,null,null,null,null,null,null,null,null,null,null,null,null,null,"日中の勤務時間数",null,null,null,null,{"$f":"IF(AA76=\"\",\"\",VLOOKUP(AA76,'（従来型）シフト記号表'!$C$5:$W$46,21,FALSE))","v":""},{"$f":"IF(AB76=\"\",\"\",VLOOKUP(AB76,'（従来型）シフト記号表'!$C$5:$W$46,21,FALSE))","v":""},{"$f":"IF(AC76=\"\",\"\",VLOOKUP(AC76,'（従来型）シフト記号表'!$C$5:$W$46,21,FALSE))","v":""},{"$f":"IF(AD76=\"\",\"\",VLOOKUP(AD76,'（従来型）シフト記号表'!$C$5:$W$46,21,FALSE))","v":""},{"$f":"IF(AE76=\"\",\"\",VLOOKUP(AE76,'（従来型）シフト記号表'!$C$5:$W$46,21,FALSE))","v":""},{"$f":"IF(AF76=\"\",\"\",VLOOKUP(AF76,'（従来型）シフト記号表'!$C$5:$W$46,21,FALSE))","v":""},{"$f":"IF(AG76=\"\",\"\",VLOOKUP(AG76,'（従来型）シフト記号表'!$C$5:$W$46,21,FALSE))","v":""},{"$f":"IF(AH76=\"\",\"\",VLOOKUP(AH76,'（従来型）シフト記号表'!$C$5:$W$46,21,FALSE))","v":""},{"$f":"IF(AI76=\"\",\"\",VLOOKUP(AI76,'（従来型）シフト記号表'!$C$5:$W$46,21,FALSE))","v":""},{"$f":"IF(AJ76=\"\",\"\",VLOOKUP(AJ76,'（従来型）シフト記号表'!$C$5:$W$46,21,FALSE))","v":""},{"$f":"IF(AK76=\"\",\"\",VLOOKUP(AK76,'（従来型）シフト記号表'!$C$5:$W$46,21,FALSE))","v":""},{"$f":"IF(AL76=\"\",\"\",VLOOKUP(AL76,'（従来型）シフト記号表'!$C$5:$W$46,21,FALSE))","v":""},{"$f":"IF(AM76=\"\",\"\",VLOOKUP(AM76,'（従来型）シフト記号表'!$C$5:$W$46,21,FALSE))","v":""},{"$f":"IF(AN76=\"\",\"\",VLOOKUP(AN76,'（従来型）シフト記号表'!$C$5:$W$46,21,FALSE))","v":""},{"$f":"IF(AO76=\"\",\"\",VLOOKUP(AO76,'（従来型）シフト記号表'!$C$5:$W$46,21,FALSE))","v":""},{"$f":"IF(AP76=\"\",\"\",VLOOKUP(AP76,'（従来型）シフト記号表'!$C$5:$W$46,21,FALSE))","v":""},{"$f":"IF(AQ76=\"\",\"\",VLOOKUP(AQ76,'（従来型）シフト記号表'!$C$5:$W$46,21,FALSE))","v":""},{"$f":"IF(AR76=\"\",\"\",VLOOKUP(AR76,'（従来型）シフト記号表'!$C$5:$W$46,21,FALSE))","v":""},{"$f":"IF(AS76=\"\",\"\",VLOOKUP(AS76,'（従来型）シフト記号表'!$C$5:$W$46,21,FALSE))","v":""},{"$f":"IF(AT76=\"\",\"\",VLOOKUP(AT76,'（従来型）シフト記号表'!$C$5:$W$46,21,FALSE))","v":""},{"$f":"IF(AU76=\"\",\"\",VLOOKUP(AU76,'（従来型）シフト記号表'!$C$5:$W$46,21,FALSE))","v":""},{"$f":"IF(AV76=\"\",\"\",VLOOKUP(AV76,'（従来型）シフト記号表'!$C$5:$W$46,21,FALSE))","v":""},{"$f":"IF(AW76=\"\",\"\",VLOOKUP(AW76,'（従来型）シフト記号表'!$C$5:$W$46,21,FALSE))","v":""},{"$f":"IF(AX76=\"\",\"\",VLOOKUP(AX76,'（従来型）シフト記号表'!$C$5:$W$46,21,FALSE))","v":""},{"$f":"IF(AY76=\"\",\"\",VLOOKUP(AY76,'（従来型）シフト記号表'!$C$5:$W$46,21,FALSE))","v":""},{"$f":"IF(AZ76=\"\",\"\",VLOOKUP(AZ76,'（従来型）シフト記号表'!$C$5:$W$46,21,FALSE))","v":""},{"$f":"IF(BA76=\"\",\"\",VLOOKUP(BA76,'（従来型）シフト記号表'!$C$5:$W$46,21,FALSE))","v":""},{"$f":"IF(BB76=\"\",\"\",VLOOKUP(BB76,'（従来型）シフト記号表'!$C$5:$W$46,21,FALSE))","v":""},{"$f":"IF(BC76=\"\",\"\",VLOOKUP(BC76,'（従来型）シフト記号表'!$C$5:$W$46,21,FALSE))","v":""},{"$f":"IF(BD76=\"\",\"\",VLOOKUP(BD76,'（従来型）シフト記号表'!$C$5:$W$46,21,FALSE))","v":""},{"$f":"IF(BE76=\"\",\"\",VLOOKUP(BE76,'（従来型）シフト記号表'!$C$5:$W$46,21,FALSE))","v":""},{"$f":"IF($BI$3=\"計画\",SUM(AA77:BB77),IF($BI$3=\"実績\",SUM(AA77:BE77),\"\"))","v":0},null,{"$f":"IF($BI$3=\"計画\",BF77/4,IF($BI$3=\"実績\",(BF77/($BI$7/7)),\"\"))","v":0}]
[null,null,null,null,null,null,null,null,{"$f":"G77","v":0},null,{"$f":"M77","v":0},null,null,null,null,null,null,null,null,null,null,"夜勤時間帯の勤務時間数",null,null,null,null,{"$f":"IF(AA76=\"\",\"\",VLOOKUP(AA76,'（従来型）シフト記号表'!$C$5:$Y$46,23,FALSE))","v":""},{"$f":"IF(AB76=\"\",\"\",VLOOKUP(AB76,'（従来型）シフト記号表'!$C$5:$Y$46,23,FALSE))","v":""},{"$f":"IF(AC76=\"\",\"\",VLOOKUP(AC76,'（従来型）シフト記号表'!$C$5:$Y$46,23,FALSE))","v":""},{"$f":"IF(AD76=\"\",\"\",VLOOKUP(AD76,'（従来型）シフト記号表'!$C$5:$Y$46,23,FALSE))","v":""},{"$f":"IF(AE76=\"\",\"\",VLOOKUP(AE76,'（従来型）シフト記号表'!$C$5:$Y$46,23,FALSE))","v":""},{"$f":"IF(AF76=\"\",\"\",VLOOKUP(AF76,'（従来型）シフト記号表'!$C$5:$Y$46,23,FALSE))","v":""},{"$f":"IF(AG76=\"\",\"\",VLOOKUP(AG76,'（従来型）シフト記号表'!$C$5:$Y$46,23,FALSE))","v":""},{"$f":"IF(AH76=\"\",\"\",VLOOKUP(AH76,'（従来型）シフト記号表'!$C$5:$Y$46,23,FALSE))","v":""},{"$f":"IF(AI76=\"\",\"\",VLOOKUP(AI76,'（従来型）シフト記号表'!$C$5:$Y$46,23,FALSE))","v":""},{"$f":"IF(AJ76=\"\",\"\",VLOOKUP(AJ76,'（従来型）シフト記号表'!$C$5:$Y$46,23,FALSE))","v":""},{"$f":"IF(AK76=\"\",\"\",VLOOKUP(AK76,'（従来型）シフト記号表'!$C$5:$Y$46,23,FALSE))","v":""},{"$f":"IF(AL76=\"\",\"\",VLOOKUP(AL76,'（従来型）シフト記号表'!$C$5:$Y$46,23,FALSE))","v":""},{"$f":"IF(AM76=\"\",\"\",VLOOKUP(AM76,'（従来型）シフト記号表'!$C$5:$Y$46,23,FALSE))","v":""},{"$f":"IF(AN76=\"\",\"\",VLOOKUP(AN76,'（従来型）シフト記号表'!$C$5:$Y$46,23,FALSE))","v":""},{"$f":"IF(AO76=\"\",\"\",VLOOKUP(AO76,'（従来型）シフト記号表'!$C$5:$Y$46,23,FALSE))","v":""},{"$f":"IF(AP76=\"\",\"\",VLOOKUP(AP76,'（従来型）シフト記号表'!$C$5:$Y$46,23,FALSE))","v":""},{"$f":"IF(AQ76=\"\",\"\",VLOOKUP(AQ76,'（従来型）シフト記号表'!$C$5:$Y$46,23,FALSE))","v":""},{"$f":"IF(AR76=\"\",\"\",VLOOKUP(AR76,'（従来型）シフト記号表'!$C$5:$Y$46,23,FALSE))","v":""},{"$f":"IF(AS76=\"\",\"\",VLOOKUP(AS76,'（従来型）シフト記号表'!$C$5:$Y$46,23,FALSE))","v":""},{"$f":"IF(AT76=\"\",\"\",VLOOKUP(AT76,'（従来型）シフト記号表'!$C$5:$Y$46,23,FALSE))","v":""},{"$f":"IF(AU76=\"\",\"\",VLOOKUP(AU76,'（従来型）シフト記号表'!$C$5:$Y$46,23,FALSE))","v":""},{"$f":"IF(AV76=\"\",\"\",VLOOKUP(AV76,'（従来型）シフト記号表'!$C$5:$Y$46,23,FALSE))","v":""},{"$f":"IF(AW76=\"\",\"\",VLOOKUP(AW76,'（従来型）シフト記号表'!$C$5:$Y$46,23,FALSE))","v":""},{"$f":"IF(AX76=\"\",\"\",VLOOKUP(AX76,'（従来型）シフト記号表'!$C$5:$Y$46,23,FALSE))","v":""},{"$f":"IF(AY76=\"\",\"\",VLOOKUP(AY76,'（従来型）シフト記号表'!$C$5:$Y$46,23,FALSE))","v":""},{"$f":"IF(AZ76=\"\",\"\",VLOOKUP(AZ76,'（従来型）シフト記号表'!$C$5:$Y$46,23,FALSE))","v":""},{"$f":"IF(BA76=\"\",\"\",VLOOKUP(BA76,'（従来型）シフト記号表'!$C$5:$Y$46,23,FALSE))","v":""},{"$f":"IF(BB76=\"\",\"\",VLOOKUP(BB76,'（従来型）シフト記号表'!$C$5:$Y$46,23,FALSE))","v":""},{"$f":"IF(BC76=\"\",\"\",VLOOKUP(BC76,'（従来型）シフト記号表'!$C$5:$Y$46,23,FALSE))","v":""},{"$f":"IF(BD76=\"\",\"\",VLOOKUP(BD76,'（従来型）シフト記号表'!$C$5:$Y$46,23,FALSE))","v":""},{"$f":"IF(BE76=\"\",\"\",VLOOKUP(BE76,'（従来型）シフト記号表'!$C$5:$Y$46,23,FALSE))","v":""},{"$f":"IF($BI$3=\"計画\",SUM(AA78:BB78),IF($BI$3=\"実績\",SUM(AA78:BE78),\"\"))","v":0},null,{"$f":"IF($BI$3=\"計画\",BF78/4,IF($BI$3=\"実績\",(BF78/($BI$7/7)),\"\"))","v":0}]
[null,null,null,null,null,null,null,null,null,null,null,null,null,null,null,null,null,null,null,null,null,"シフト記号"]
[null,{"$f":"B77+1","v":21},null,null,null,null,null,null,null,null,null,null,null,null,null,null,null,null,null,null,null,"日中の勤務時間数",null,null,null,null,{"$f":"IF(AA79=\"\",\"\",VLOOKUP(AA79,'（従来型）シフト記号表'!$C$5:$W$46,21,FALSE))","v":""},{"$f":"IF(AB79=\"\",\"\",VLOOKUP(AB79,'（従来型）シフト記号表'!$C$5:$W$46,21,FALSE))","v":""},{"$f":"IF(AC79=\"\",\"\",VLOOKUP(AC79,'（従来型）シフト記号表'!$C$5:$W$46,21,FALSE))","v":""},{"$f":"IF(AD79=\"\",\"\",VLOOKUP(AD79,'（従来型）シフト記号表'!$C$5:$W$46,21,FALSE))","v":""},{"$f":"IF(AE79=\"\",\"\",VLOOKUP(AE79,'（従来型）シフト記号表'!$C$5:$W$46,21,FALSE))","v":""},{"$f":"IF(AF79=\"\",\"\",VLOOKUP(AF79,'（従来型）シフト記号表'!$C$5:$W$46,21,FALSE))","v":""},{"$f":"IF(AG79=\"\",\"\",VLOOKUP(AG79,'（従来型）シフト記号表'!$C$5:$W$46,21,FALSE))","v":""},{"$f":"IF(AH79=\"\",\"\",VLOOKUP(AH79,'（従来型）シフト記号表'!$C$5:$W$46,21,FALSE))","v":""},{"$f":"IF(AI79=\"\",\"\",VLOOKUP(AI79,'（従来型）シフト記号表'!$C$5:$W$46,21,FALSE))","v":""},{"$f":"IF(AJ79=\"\",\"\",VLOOKUP(AJ79,'（従来型）シフト記号表'!$C$5:$W$46,21,FALSE))","v":""},{"$f":"IF(AK79=\"\",\"\",VLOOKUP(AK79,'（従来型）シフト記号表'!$C$5:$W$46,21,FALSE))","v":""},{"$f":"IF(AL79=\"\",\"\",VLOOKUP(AL79,'（従来型）シフト記号表'!$C$5:$W$46,21,FALSE))","v":""},{"$f":"IF(AM79=\"\",\"\",VLOOKUP(AM79,'（従来型）シフト記号表'!$C$5:$W$46,21,FALSE))","v":""},{"$f":"IF(AN79=\"\",\"\",VLOOKUP(AN79,'（従来型）シフト記号表'!$C$5:$W$46,21,FALSE))","v":""},{"$f":"IF(AO79=\"\",\"\",VLOOKUP(AO79,'（従来型）シフト記号表'!$C$5:$W$46,21,FALSE))","v":""},{"$f":"IF(AP79=\"\",\"\",VLOOKUP(AP79,'（従来型）シフト記号表'!$C$5:$W$46,21,FALSE))","v":""},{"$f":"IF(AQ79=\"\",\"\",VLOOKUP(AQ79,'（従来型）シフト記号表'!$C$5:$W$46,21,FALSE))","v":""},{"$f":"IF(AR79=\"\",\"\",VLOOKUP(AR79,'（従来型）シフト記号表'!$C$5:$W$46,21,FALSE))","v":""},{"$f":"IF(AS79=\"\",\"\",VLOOKUP(AS79,'（従来型）シフト記号表'!$C$5:$W$46,21,FALSE))","v":""},{"$f":"IF(AT79=\"\",\"\",VLOOKUP(AT79,'（従来型）シフト記号表'!$C$5:$W$46,21,FALSE))","v":""},{"$f":"IF(AU79=\"\",\"\",VLOOKUP(AU79,'（従来型）シフト記号表'!$C$5:$W$46,21,FALSE))","v":""},{"$f":"IF(AV79=\"\",\"\",VLOOKUP(AV79,'（従来型）シフト記号表'!$C$5:$W$46,21,FALSE))","v":""},{"$f":"IF(AW79=\"\",\"\",VLOOKUP(AW79,'（従来型）シフト記号表'!$C$5:$W$46,21,FALSE))","v":""},{"$f":"IF(AX79=\"\",\"\",VLOOKUP(AX79,'（従来型）シフト記号表'!$C$5:$W$46,21,FALSE))","v":""},{"$f":"IF(AY79=\"\",\"\",VLOOKUP(AY79,'（従来型）シフト記号表'!$C$5:$W$46,21,FALSE))","v":""},{"$f":"IF(AZ79=\"\",\"\",VLOOKUP(AZ79,'（従来型）シフト記号表'!$C$5:$W$46,21,FALSE))","v":""},{"$f":"IF(BA79=\"\",\"\",VLOOKUP(BA79,'（従来型）シフト記号表'!$C$5:$W$46,21,FALSE))","v":""},{"$f":"IF(BB79=\"\",\"\",VLOOKUP(BB79,'（従来型）シフト記号表'!$C$5:$W$46,21,FALSE))","v":""},{"$f":"IF(BC79=\"\",\"\",VLOOKUP(BC79,'（従来型）シフト記号表'!$C$5:$W$46,21,FALSE))","v":""},{"$f":"IF(BD79=\"\",\"\",VLOOKUP(BD79,'（従来型）シフト記号表'!$C$5:$W$46,21,FALSE))","v":""},{"$f":"IF(BE79=\"\",\"\",VLOOKUP(BE79,'（従来型）シフト記号表'!$C$5:$W$46,21,FALSE))","v":""},{"$f":"IF($BI$3=\"計画\",SUM(AA80:BB80),IF($BI$3=\"実績\",SUM(AA80:BE80),\"\"))","v":0},null,{"$f":"IF($BI$3=\"計画\",BF80/4,IF($BI$3=\"実績\",(BF80/($BI$7/7)),\"\"))","v":0}]
[null,null,null,null,null,null,null,null,{"$f":"G80","v":0},null,{"$f":"M80","v":0},null,null,null,null,null,null,null,null,null,null,"夜勤時間帯の勤務時間数",null,null,null,null,{"$f":"IF(AA79=\"\",\"\",VLOOKUP(AA79,'（従来型）シフト記号表'!$C$5:$Y$46,23,FALSE))","v":""},{"$f":"IF(AB79=\"\",\"\",VLOOKUP(AB79,'（従来型）シフト記号表'!$C$5:$Y$46,23,FALSE))","v":""},{"$f":"IF(AC79=\"\",\"\",VLOOKUP(AC79,'（従来型）シフト記号表'!$C$5:$Y$46,23,FALSE))","v":""},{"$f":"IF(AD79=\"\",\"\",VLOOKUP(AD79,'（従来型）シフト記号表'!$C$5:$Y$46,23,FALSE))","v":""},{"$f":"IF(AE79=\"\",\"\",VLOOKUP(AE79,'（従来型）シフト記号表'!$C$5:$Y$46,23,FALSE))","v":""},{"$f":"IF(AF79=\"\",\"\",VLOOKUP(AF79,'（従来型）シフト記号表'!$C$5:$Y$46,23,FALSE))","v":""},{"$f":"IF(AG79=\"\",\"\",VLOOKUP(AG79,'（従来型）シフト記号表'!$C$5:$Y$46,23,FALSE))","v":""},{"$f":"IF(AH79=\"\",\"\",VLOOKUP(AH79,'（従来型）シフト記号表'!$C$5:$Y$46,23,FALSE))","v":""},{"$f":"IF(AI79=\"\",\"\",VLOOKUP(AI79,'（従来型）シフト記号表'!$C$5:$Y$46,23,FALSE))","v":""},{"$f":"IF(AJ79=\"\",\"\",VLOOKUP(AJ79,'（従来型）シフト記号表'!$C$5:$Y$46,23,FALSE))","v":""},{"$f":"IF(AK79=\"\",\"\",VLOOKUP(AK79,'（従来型）シフト記号表'!$C$5:$Y$46,23,FALSE))","v":""},{"$f":"IF(AL79=\"\",\"\",VLOOKUP(AL79,'（従来型）シフト記号表'!$C$5:$Y$46,23,FALSE))","v":""},{"$f":"IF(AM79=\"\",\"\",VLOOKUP(AM79,'（従来型）シフト記号表'!$C$5:$Y$46,23,FALSE))","v":""},{"$f":"IF(AN79=\"\",\"\",VLOOKUP(AN79,'（従来型）シフト記号表'!$C$5:$Y$46,23,FALSE))","v":""},{"$f":"IF(AO79=\"\",\"\",VLOOKUP(AO79,'（従来型）シフト記号表'!$C$5:$Y$46,23,FALSE))","v":""},{"$f":"IF(AP79=\"\",\"\",VLOOKUP(AP79,'（従来型）シフト記号表'!$C$5:$Y$46,23,FALSE))","v":""},{"$f":"IF(AQ79=\"\",\"\",VLOOKUP(AQ79,'（従来型）シフト記号表'!$C$5:$Y$46,23,FALSE))","v":""},{"$f":"IF(AR79=\"\",\"\",VLOOKUP(AR79,'（従来型）シフト記号表'!$C$5:$Y$46,23,FALSE))","v":""},{"$f":"IF(AS79=\"\",\"\",VLOOKUP(AS79,'（従来型）シフト記号表'!$C$5:$Y$46,23,FALSE))","v":""},{"$f":"IF(AT79=\"\",\"\",VLOOKUP(AT79,'（従来型）シフト記号表'!$C$5:$Y$46,23,FALSE))","v":""},{"$f":"IF(AU79=\"\",\"\",VLOOKUP(AU79,'（従来型）シフト記号表'!$C$5:$Y$46,23,FALSE))","v":""},{"$f":"IF(AV79=\"\",\"\",VLOOKUP(AV79,'（従来型）シフト記号表'!$C$5:$Y$46,23,FALSE))","v":""},{"$f":"IF(AW79=\"\",\"\",VLOOKUP(AW79,'（従来型）シフト記号表'!$C$5:$Y$46,23,FALSE))","v":""},{"$f":"IF(AX79=\"\",\"\",VLOOKUP(AX79,'（従来型）シフト記号表'!$C$5:$Y$46,23,FALSE))","v":""},{"$f":"IF(AY79=\"\",\"\",VLOOKUP(AY79,'（従来型）シフト記号表'!$C$5:$Y$46,23,FALSE))","v":""},{"$f":"IF(AZ79=\"\",\"\",VLOOKUP(AZ79,'（従来型）シフト記号表'!$C$5:$Y$46,23,FALSE))","v":""},{"$f":"IF(BA79=\"\",\"\",VLOOKUP(BA79,'（従来型）シフト記号表'!$C$5:$Y$46,23,FALSE))","v":""},{"$f":"IF(BB79=\"\",\"\",VLOOKUP(BB79,'（従来型）シフト記号表'!$C$5:$Y$46,23,FALSE))","v":""},{"$f":"IF(BC79=\"\",\"\",VLOOKUP(BC79,'（従来型）シフト記号表'!$C$5:$Y$46,23,FALSE))","v":""},{"$f":"IF(BD79=\"\",\"\",VLOOKUP(BD79,'（従来型）シフト記号表'!$C$5:$Y$46,23,FALSE))","v":""},{"$f":"IF(BE79=\"\",\"\",VLOOKUP(BE79,'（従来型）シフト記号表'!$C$5:$Y$46,23,FALSE))","v":""},{"$f":"IF($BI$3=\"計画\",SUM(AA81:BB81),IF($BI$3=\"実績\",SUM(AA81:BE81),\"\"))","v":0},null,{"$f":"IF($BI$3=\"計画\",BF81/4,IF($BI$3=\"実績\",(BF81/($BI$7/7)),\"\"))","v":0}]
[null,null,null,null,null,null,null,null,null,null,null,null,null,null,null,null,null,null,null,null,null,"シフト記号"]
[null,{"$f":"B80+1","v":22},null,null,null,null,null,null,null,null,null,null,null,null,null,null,null,null,null,null,null,"日中の勤務時間数",null,null,null,null,{"$f":"IF(AA82=\"\",\"\",VLOOKUP(AA82,'（従来型）シフト記号表'!$C$5:$W$46,21,FALSE))","v":""},{"$f":"IF(AB82=\"\",\"\",VLOOKUP(AB82,'（従来型）シフト記号表'!$C$5:$W$46,21,FALSE))","v":""},{"$f":"IF(AC82=\"\",\"\",VLOOKUP(AC82,'（従来型）シフト記号表'!$C$5:$W$46,21,FALSE))","v":""},{"$f":"IF(AD82=\"\",\"\",VLOOKUP(AD82,'（従来型）シフト記号表'!$C$5:$W$46,21,FALSE))","v":""},{"$f":"IF(AE82=\"\",\"\",VLOOKUP(AE82,'（従来型）シフト記号表'!$C$5:$W$46,21,FALSE))","v":""},{"$f":"IF(AF82=\"\",\"\",VLOOKUP(AF82,'（従来型）シフト記号表'!$C$5:$W$46,21,FALSE))","v":""},{"$f":"IF(AG82=\"\",\"\",VLOOKUP(AG82,'（従来型）シフト記号表'!$C$5:$W$46,21,FALSE))","v":""},{"$f":"IF(AH82=\"\",\"\",VLOOKUP(AH82,'（従来型）シフト記号表'!$C$5:$W$46,21,FALSE))","v":""},{"$f":"IF(AI82=\"\",\"\",VLOOKUP(AI82,'（従来型）シフト記号表'!$C$5:$W$46,21,FALSE))","v":""},{"$f":"IF(AJ82=\"\",\"\",VLOOKUP(AJ82,'（従来型）シフト記号表'!$C$5:$W$46,21,FALSE))","v":""},{"$f":"IF(AK82=\"\",\"\",VLOOKUP(AK82,'（従来型）シフト記号表'!$C$5:$W$46,21,FALSE))","v":""},{"$f":"IF(AL82=\"\",\"\",VLOOKUP(AL82,'（従来型）シフト記号表'!$C$5:$W$46,21,FALSE))","v":""},{"$f":"IF(AM82=\"\",\"\",VLOOKUP(AM82,'（従来型）シフト記号表'!$C$5:$W$46,21,FALSE))","v":""},{"$f":"IF(AN82=\"\",\"\",VLOOKUP(AN82,'（従来型）シフト記号表'!$C$5:$W$46,21,FALSE))","v":""},{"$f":"IF(AO82=\"\",\"\",VLOOKUP(AO82,'（従来型）シフト記号表'!$C$5:$W$46,21,FALSE))","v":""},{"$f":"IF(AP82=\"\",\"\",VLOOKUP(AP82,'（従来型）シフト記号表'!$C$5:$W$46,21,FALSE))","v":""},{"$f":"IF(AQ82=\"\",\"\",VLOOKUP(AQ82,'（従来型）シフト記号表'!$C$5:$W$46,21,FALSE))","v":""},{"$f":"IF(AR82=\"\",\"\",VLOOKUP(AR82,'（従来型）シフト記号表'!$C$5:$W$46,21,FALSE))","v":""},{"$f":"IF(AS82=\"\",\"\",VLOOKUP(AS82,'（従来型）シフト記号表'!$C$5:$W$46,21,FALSE))","v":""},{"$f":"IF(AT82=\"\",\"\",VLOOKUP(AT82,'（従来型）シフト記号表'!$C$5:$W$46,21,FALSE))","v":""},{"$f":"IF(AU82=\"\",\"\",VLOOKUP(AU82,'（従来型）シフト記号表'!$C$5:$W$46,21,FALSE))","v":""},{"$f":"IF(AV82=\"\",\"\",VLOOKUP(AV82,'（従来型）シフト記号表'!$C$5:$W$46,21,FALSE))","v":""},{"$f":"IF(AW82=\"\",\"\",VLOOKUP(AW82,'（従来型）シフト記号表'!$C$5:$W$46,21,FALSE))","v":""},{"$f":"IF(AX82=\"\",\"\",VLOOKUP(AX82,'（従来型）シフト記号表'!$C$5:$W$46,21,FALSE))","v":""},{"$f":"IF(AY82=\"\",\"\",VLOOKUP(AY82,'（従来型）シフト記号表'!$C$5:$W$46,21,FALSE))","v":""},{"$f":"IF(AZ82=\"\",\"\",VLOOKUP(AZ82,'（従来型）シフト記号表'!$C$5:$W$46,21,FALSE))","v":""},{"$f":"IF(BA82=\"\",\"\",VLOOKUP(BA82,'（従来型）シフト記号表'!$C$5:$W$46,21,FALSE))","v":""},{"$f":"IF(BB82=\"\",\"\",VLOOKUP(BB82,'（従来型）シフト記号表'!$C$5:$W$46,21,FALSE))","v":""},{"$f":"IF(BC82=\"\",\"\",VLOOKUP(BC82,'（従来型）シフト記号表'!$C$5:$W$46,21,FALSE))","v":""},{"$f":"IF(BD82=\"\",\"\",VLOOKUP(BD82,'（従来型）シフト記号表'!$C$5:$W$46,21,FALSE))","v":""},{"$f":"IF(BE82=\"\",\"\",VLOOKUP(BE82,'（従来型）シフト記号表'!$C$5:$W$46,21,FALSE))","v":""},{"$f":"IF($BI$3=\"計画\",SUM(AA83:BB83),IF($BI$3=\"実績\",SUM(AA83:BE83),\"\"))","v":0},null,{"$f":"IF($BI$3=\"計画\",BF83/4,IF($BI$3=\"実績\",(BF83/($BI$7/7)),\"\"))","v":0}]
[null,null,null,null,null,null,null,null,{"$f":"G83","v":0},null,{"$f":"M83","v":0},null,null,null,null,null,null,null,null,null,null,"夜勤時間帯の勤務時間数",null,null,null,null,{"$f":"IF(AA82=\"\",\"\",VLOOKUP(AA82,'（従来型）シフト記号表'!$C$5:$Y$46,23,FALSE))","v":""},{"$f":"IF(AB82=\"\",\"\",VLOOKUP(AB82,'（従来型）シフト記号表'!$C$5:$Y$46,23,FALSE))","v":""},{"$f":"IF(AC82=\"\",\"\",VLOOKUP(AC82,'（従来型）シフト記号表'!$C$5:$Y$46,23,FALSE))","v":""},{"$f":"IF(AD82=\"\",\"\",VLOOKUP(AD82,'（従来型）シフト記号表'!$C$5:$Y$46,23,FALSE))","v":""},{"$f":"IF(AE82=\"\",\"\",VLOOKUP(AE82,'（従来型）シフト記号表'!$C$5:$Y$46,23,FALSE))","v":""},{"$f":"IF(AF82=\"\",\"\",VLOOKUP(AF82,'（従来型）シフト記号表'!$C$5:$Y$46,23,FALSE))","v":""},{"$f":"IF(AG82=\"\",\"\",VLOOKUP(AG82,'（従来型）シフト記号表'!$C$5:$Y$46,23,FALSE))","v":""},{"$f":"IF(AH82=\"\",\"\",VLOOKUP(AH82,'（従来型）シフト記号表'!$C$5:$Y$46,23,FALSE))","v":""},{"$f":"IF(AI82=\"\",\"\",VLOOKUP(AI82,'（従来型）シフト記号表'!$C$5:$Y$46,23,FALSE))","v":""},{"$f":"IF(AJ82=\"\",\"\",VLOOKUP(AJ82,'（従来型）シフト記号表'!$C$5:$Y$46,23,FALSE))","v":""},{"$f":"IF(AK82=\"\",\"\",VLOOKUP(AK82,'（従来型）シフト記号表'!$C$5:$Y$46,23,FALSE))","v":""},{"$f":"IF(AL82=\"\",\"\",VLOOKUP(AL82,'（従来型）シフト記号表'!$C$5:$Y$46,23,FALSE))","v":""},{"$f":"IF(AM82=\"\",\"\",VLOOKUP(AM82,'（従来型）シフト記号表'!$C$5:$Y$46,23,FALSE))","v":""},{"$f":"IF(AN82=\"\",\"\",VLOOKUP(AN82,'（従来型）シフト記号表'!$C$5:$Y$46,23,FALSE))","v":""},{"$f":"IF(AO82=\"\",\"\",VLOOKUP(AO82,'（従来型）シフト記号表'!$C$5:$Y$46,23,FALSE))","v":""},{"$f":"IF(AP82=\"\",\"\",VLOOKUP(AP82,'（従来型）シフト記号表'!$C$5:$Y$46,23,FALSE))","v":""},{"$f":"IF(AQ82=\"\",\"\",VLOOKUP(AQ82,'（従来型）シフト記号表'!$C$5:$Y$46,23,FALSE))","v":""},{"$f":"IF(AR82=\"\",\"\",VLOOKUP(AR82,'（従来型）シフト記号表'!$C$5:$Y$46,23,FALSE))","v":""},{"$f":"IF(AS82=\"\",\"\",VLOOKUP(AS82,'（従来型）シフト記号表'!$C$5:$Y$46,23,FALSE))","v":""},{"$f":"IF(AT82=\"\",\"\",VLOOKUP(AT82,'（従来型）シフト記号表'!$C$5:$Y$46,23,FALSE))","v":""},{"$f":"IF(AU82=\"\",\"\",VLOOKUP(AU82,'（従来型）シフト記号表'!$C$5:$Y$46,23,FALSE))","v":""},{"$f":"IF(AV82=\"\",\"\",VLOOKUP(AV82,'（従来型）シフト記号表'!$C$5:$Y$46,23,FALSE))","v":""},{"$f":"IF(AW82=\"\",\"\",VLOOKUP(AW82,'（従来型）シフト記号表'!$C$5:$Y$46,23,FALSE))","v":""},{"$f":"IF(AX82=\"\",\"\",VLOOKUP(AX82,'（従来型）シフト記号表'!$C$5:$Y$46,23,FALSE))","v":""},{"$f":"IF(AY82=\"\",\"\",VLOOKUP(AY82,'（従来型）シフト記号表'!$C$5:$Y$46,23,FALSE))","v":""},{"$f":"IF(AZ82=\"\",\"\",VLOOKUP(AZ82,'（従来型）シフト記号表'!$C$5:$Y$46,23,FALSE))","v":""},{"$f":"IF(BA82=\"\",\"\",VLOOKUP(BA82,'（従来型）シフト記号表'!$C$5:$Y$46,23,FALSE))","v":""},{"$f":"IF(BB82=\"\",\"\",VLOOKUP(BB82,'（従来型）シフト記号表'!$C$5:$Y$46,23,FALSE))","v":""},{"$f":"IF(BC82=\"\",\"\",VLOOKUP(BC82,'（従来型）シフト記号表'!$C$5:$Y$46,23,FALSE))","v":""},{"$f":"IF(BD82=\"\",\"\",VLOOKUP(BD82,'（従来型）シフト記号表'!$C$5:$Y$46,23,FALSE))","v":""},{"$f":"IF(BE82=\"\",\"\",VLOOKUP(BE82,'（従来型）シフト記号表'!$C$5:$Y$46,23,FALSE))","v":""},{"$f":"IF($BI$3=\"計画\",SUM(AA84:BB84),IF($BI$3=\"実績\",SUM(AA84:BE84),\"\"))","v":0},null,{"$f":"IF($BI$3=\"計画\",BF84/4,IF($BI$3=\"実績\",(BF84/($BI$7/7)),\"\"))","v":0}]
[null,null,null,null,null,null,null,null,null,null,null,null,null,null,null,null,null,null,null,null,null,"シフト記号"]
[null,{"$f":"B83+1","v":23},null,null,null,null,null,null,null,null,null,null,null,null,null,null,null,null,null,null,null,"日中の勤務時間数",null,null,null,null,{"$f":"IF(AA85=\"\",\"\",VLOOKUP(AA85,'（従来型）シフト記号表'!$C$5:$W$46,21,FALSE))","v":""},{"$f":"IF(AB85=\"\",\"\",VLOOKUP(AB85,'（従来型）シフト記号表'!$C$5:$W$46,21,FALSE))","v":""},{"$f":"IF(AC85=\"\",\"\",VLOOKUP(AC85,'（従来型）シフト記号表'!$C$5:$W$46,21,FALSE))","v":""},{"$f":"IF(AD85=\"\",\"\",VLOOKUP(AD85,'（従来型）シフト記号表'!$C$5:$W$46,21,FALSE))","v":""},{"$f":"IF(AE85=\"\",\"\",VLOOKUP(AE85,'（従来型）シフト記号表'!$C$5:$W$46,21,FALSE))","v":""},{"$f":"IF(AF85=\"\",\"\",VLOOKUP(AF85,'（従来型）シフト記号表'!$C$5:$W$46,21,FALSE))","v":""},{"$f":"IF(AG85=\"\",\"\",VLOOKUP(AG85,'（従来型）シフト記号表'!$C$5:$W$46,21,FALSE))","v":""},{"$f":"IF(AH85=\"\",\"\",VLOOKUP(AH85,'（従来型）シフト記号表'!$C$5:$W$46,21,FALSE))","v":""},{"$f":"IF(AI85=\"\",\"\",VLOOKUP(AI85,'（従来型）シフト記号表'!$C$5:$W$46,21,FALSE))","v":""},{"$f":"IF(AJ85=\"\",\"\",VLOOKUP(AJ85,'（従来型）シフト記号表'!$C$5:$W$46,21,FALSE))","v":""},{"$f":"IF(AK85=\"\",\"\",VLOOKUP(AK85,'（従来型）シフト記号表'!$C$5:$W$46,21,FALSE))","v":""},{"$f":"IF(AL85=\"\",\"\",VLOOKUP(AL85,'（従来型）シフト記号表'!$C$5:$W$46,21,FALSE))","v":""},{"$f":"IF(AM85=\"\",\"\",VLOOKUP(AM85,'（従来型）シフト記号表'!$C$5:$W$46,21,FALSE))","v":""},{"$f":"IF(AN85=\"\",\"\",VLOOKUP(AN85,'（従来型）シフト記号表'!$C$5:$W$46,21,FALSE))","v":""},{"$f":"IF(AO85=\"\",\"\",VLOOKUP(AO85,'（従来型）シフト記号表'!$C$5:$W$46,21,FALSE))","v":""},{"$f":"IF(AP85=\"\",\"\",VLOOKUP(AP85,'（従来型）シフト記号表'!$C$5:$W$46,21,FALSE))","v":""},{"$f":"IF(AQ85=\"\",\"\",VLOOKUP(AQ85,'（従来型）シフト記号表'!$C$5:$W$46,21,FALSE))","v":""},{"$f":"IF(AR85=\"\",\"\",VLOOKUP(AR85,'（従来型）シフト記号表'!$C$5:$W$46,21,FALSE))","v":""},{"$f":"IF(AS85=\"\",\"\",VLOOKUP(AS85,'（従来型）シフト記号表'!$C$5:$W$46,21,FALSE))","v":""},{"$f":"IF(AT85=\"\",\"\",VLOOKUP(AT85,'（従来型）シフト記号表'!$C$5:$W$46,21,FALSE))","v":""},{"$f":"IF(AU85=\"\",\"\",VLOOKUP(AU85,'（従来型）シフト記号表'!$C$5:$W$46,21,FALSE))","v":""},{"$f":"IF(AV85=\"\",\"\",VLOOKUP(AV85,'（従来型）シフト記号表'!$C$5:$W$46,21,FALSE))","v":""},{"$f":"IF(AW85=\"\",\"\",VLOOKUP(AW85,'（従来型）シフト記号表'!$C$5:$W$46,21,FALSE))","v":""},{"$f":"IF(AX85=\"\",\"\",VLOOKUP(AX85,'（従来型）シフト記号表'!$C$5:$W$46,21,FALSE))","v":""},{"$f":"IF(AY85=\"\",\"\",VLOOKUP(AY85,'（従来型）シフト記号表'!$C$5:$W$46,21,FALSE))","v":""},{"$f":"IF(AZ85=\"\",\"\",VLOOKUP(AZ85,'（従来型）シフト記号表'!$C$5:$W$46,21,FALSE))","v":""},{"$f":"IF(BA85=\"\",\"\",VLOOKUP(BA85,'（従来型）シフト記号表'!$C$5:$W$46,21,FALSE))","v":""},{"$f":"IF(BB85=\"\",\"\",VLOOKUP(BB85,'（従来型）シフト記号表'!$C$5:$W$46,21,FALSE))","v":""},{"$f":"IF(BC85=\"\",\"\",VLOOKUP(BC85,'（従来型）シフト記号表'!$C$5:$W$46,21,FALSE))","v":""},{"$f":"IF(BD85=\"\",\"\",VLOOKUP(BD85,'（従来型）シフト記号表'!$C$5:$W$46,21,FALSE))","v":""},{"$f":"IF(BE85=\"\",\"\",VLOOKUP(BE85,'（従来型）シフト記号表'!$C$5:$W$46,21,FALSE))","v":""},{"$f":"IF($BI$3=\"計画\",SUM(AA86:BB86),IF($BI$3=\"実績\",SUM(AA86:BE86),\"\"))","v":0},null,{"$f":"IF($BI$3=\"計画\",BF86/4,IF($BI$3=\"実績\",(BF86/($BI$7/7)),\"\"))","v":0}]
[null,null,null,null,null,null,null,null,{"$f":"G86","v":0},null,{"$f":"M86","v":0},null,null,null,null,null,null,null,null,null,null,"夜勤時間帯の勤務時間数",null,null,null,null,{"$f":"IF(AA85=\"\",\"\",VLOOKUP(AA85,'（従来型）シフト記号表'!$C$5:$Y$46,23,FALSE))","v":""},{"$f":"IF(AB85=\"\",\"\",VLOOKUP(AB85,'（従来型）シフト記号表'!$C$5:$Y$46,23,FALSE))","v":""},{"$f":"IF(AC85=\"\",\"\",VLOOKUP(AC85,'（従来型）シフト記号表'!$C$5:$Y$46,23,FALSE))","v":""},{"$f":"IF(AD85=\"\",\"\",VLOOKUP(AD85,'（従来型）シフト記号表'!$C$5:$Y$46,23,FALSE))","v":""},{"$f":"IF(AE85=\"\",\"\",VLOOKUP(AE85,'（従来型）シフト記号表'!$C$5:$Y$46,23,FALSE))","v":""},{"$f":"IF(AF85=\"\",\"\",VLOOKUP(AF85,'（従来型）シフト記号表'!$C$5:$Y$46,23,FALSE))","v":""},{"$f":"IF(AG85=\"\",\"\",VLOOKUP(AG85,'（従来型）シフト記号表'!$C$5:$Y$46,23,FALSE))","v":""},{"$f":"IF(AH85=\"\",\"\",VLOOKUP(AH85,'（従来型）シフト記号表'!$C$5:$Y$46,23,FALSE))","v":""},{"$f":"IF(AI85=\"\",\"\",VLOOKUP(AI85,'（従来型）シフト記号表'!$C$5:$Y$46,23,FALSE))","v":""},{"$f":"IF(AJ85=\"\",\"\",VLOOKUP(AJ85,'（従来型）シフト記号表'!$C$5:$Y$46,23,FALSE))","v":""},{"$f":"IF(AK85=\"\",\"\",VLOOKUP(AK85,'（従来型）シフト記号表'!$C$5:$Y$46,23,FALSE))","v":""},{"$f":"IF(AL85=\"\",\"\",VLOOKUP(AL85,'（従来型）シフト記号表'!$C$5:$Y$46,23,FALSE))","v":""},{"$f":"IF(AM85=\"\",\"\",VLOOKUP(AM85,'（従来型）シフト記号表'!$C$5:$Y$46,23,FALSE))","v":""},{"$f":"IF(AN85=\"\",\"\",VLOOKUP(AN85,'（従来型）シフト記号表'!$C$5:$Y$46,23,FALSE))","v":""},{"$f":"IF(AO85=\"\",\"\",VLOOKUP(AO85,'（従来型）シフト記号表'!$C$5:$Y$46,23,FALSE))","v":""},{"$f":"IF(AP85=\"\",\"\",VLOOKUP(AP85,'（従来型）シフト記号表'!$C$5:$Y$46,23,FALSE))","v":""},{"$f":"IF(AQ85=\"\",\"\",VLOOKUP(AQ85,'（従来型）シフト記号表'!$C$5:$Y$46,23,FALSE))","v":""},{"$f":"IF(AR85=\"\",\"\",VLOOKUP(AR85,'（従来型）シフト記号表'!$C$5:$Y$46,23,FALSE))","v":""},{"$f":"IF(AS85=\"\",\"\",VLOOKUP(AS85,'（従来型）シフト記号表'!$C$5:$Y$46,23,FALSE))","v":""},{"$f":"IF(AT85=\"\",\"\",VLOOKUP(AT85,'（従来型）シフト記号表'!$C$5:$Y$46,23,FALSE))","v":""},{"$f":"IF(AU85=\"\",\"\",VLOOKUP(AU85,'（従来型）シフト記号表'!$C$5:$Y$46,23,FALSE))","v":""},{"$f":"IF(AV85=\"\",\"\",VLOOKUP(AV85,'（従来型）シフト記号表'!$C$5:$Y$46,23,FALSE))","v":""},{"$f":"IF(AW85=\"\",\"\",VLOOKUP(AW85,'（従来型）シフト記号表'!$C$5:$Y$46,23,FALSE))","v":""},{"$f":"IF(AX85=\"\",\"\",VLOOKUP(AX85,'（従来型）シフト記号表'!$C$5:$Y$46,23,FALSE))","v":""},{"$f":"IF(AY85=\"\",\"\",VLOOKUP(AY85,'（従来型）シフト記号表'!$C$5:$Y$46,23,FALSE))","v":""},{"$f":"IF(AZ85=\"\",\"\",VLOOKUP(AZ85,'（従来型）シフト記号表'!$C$5:$Y$46,23,FALSE))","v":""},{"$f":"IF(BA85=\"\",\"\",VLOOKUP(BA85,'（従来型）シフト記号表'!$C$5:$Y$46,23,FALSE))","v":""},{"$f":"IF(BB85=\"\",\"\",VLOOKUP(BB85,'（従来型）シフト記号表'!$C$5:$Y$46,23,FALSE))","v":""},{"$f":"IF(BC85=\"\",\"\",VLOOKUP(BC85,'（従来型）シフト記号表'!$C$5:$Y$46,23,FALSE))","v":""},{"$f":"IF(BD85=\"\",\"\",VLOOKUP(BD85,'（従来型）シフト記号表'!$C$5:$Y$46,23,FALSE))","v":""},{"$f":"IF(BE85=\"\",\"\",VLOOKUP(BE85,'（従来型）シフト記号表'!$C$5:$Y$46,23,FALSE))","v":""},{"$f":"IF($BI$3=\"計画\",SUM(AA87:BB87),IF($BI$3=\"実績\",SUM(AA87:BE87),\"\"))","v":0},null,{"$f":"IF($BI$3=\"計画\",BF87/4,IF($BI$3=\"実績\",(BF87/($BI$7/7)),\"\"))","v":0}]
[null,null,null,null,null,null,null,null,null,null,null,null,null,null,null,null,null,null,null,null,null,"シフト記号"]
[null,{"$f":"B86+1","v":24},null,null,null,null,null,null,null,null,null,null,null,null,null,null,null,null,null,null,null,"日中の勤務時間数",null,null,null,null,{"$f":"IF(AA88=\"\",\"\",VLOOKUP(AA88,'（従来型）シフト記号表'!$C$5:$W$46,21,FALSE))","v":""},{"$f":"IF(AB88=\"\",\"\",VLOOKUP(AB88,'（従来型）シフト記号表'!$C$5:$W$46,21,FALSE))","v":""},{"$f":"IF(AC88=\"\",\"\",VLOOKUP(AC88,'（従来型）シフト記号表'!$C$5:$W$46,21,FALSE))","v":""},{"$f":"IF(AD88=\"\",\"\",VLOOKUP(AD88,'（従来型）シフト記号表'!$C$5:$W$46,21,FALSE))","v":""},{"$f":"IF(AE88=\"\",\"\",VLOOKUP(AE88,'（従来型）シフト記号表'!$C$5:$W$46,21,FALSE))","v":""},{"$f":"IF(AF88=\"\",\"\",VLOOKUP(AF88,'（従来型）シフト記号表'!$C$5:$W$46,21,FALSE))","v":""},{"$f":"IF(AG88=\"\",\"\",VLOOKUP(AG88,'（従来型）シフト記号表'!$C$5:$W$46,21,FALSE))","v":""},{"$f":"IF(AH88=\"\",\"\",VLOOKUP(AH88,'（従来型）シフト記号表'!$C$5:$W$46,21,FALSE))","v":""},{"$f":"IF(AI88=\"\",\"\",VLOOKUP(AI88,'（従来型）シフト記号表'!$C$5:$W$46,21,FALSE))","v":""},{"$f":"IF(AJ88=\"\",\"\",VLOOKUP(AJ88,'（従来型）シフト記号表'!$C$5:$W$46,21,FALSE))","v":""},{"$f":"IF(AK88=\"\",\"\",VLOOKUP(AK88,'（従来型）シフト記号表'!$C$5:$W$46,21,FALSE))","v":""},{"$f":"IF(AL88=\"\",\"\",VLOOKUP(AL88,'（従来型）シフト記号表'!$C$5:$W$46,21,FALSE))","v":""},{"$f":"IF(AM88=\"\",\"\",VLOOKUP(AM88,'（従来型）シフト記号表'!$C$5:$W$46,21,FALSE))","v":""},{"$f":"IF(AN88=\"\",\"\",VLOOKUP(AN88,'（従来型）シフト記号表'!$C$5:$W$46,21,FALSE))","v":""},{"$f":"IF(AO88=\"\",\"\",VLOOKUP(AO88,'（従来型）シフト記号表'!$C$5:$W$46,21,FALSE))","v":""},{"$f":"IF(AP88=\"\",\"\",VLOOKUP(AP88,'（従来型）シフト記号表'!$C$5:$W$46,21,FALSE))","v":""},{"$f":"IF(AQ88=\"\",\"\",VLOOKUP(AQ88,'（従来型）シフト記号表'!$C$5:$W$46,21,FALSE))","v":""},{"$f":"IF(AR88=\"\",\"\",VLOOKUP(AR88,'（従来型）シフト記号表'!$C$5:$W$46,21,FALSE))","v":""},{"$f":"IF(AS88=\"\",\"\",VLOOKUP(AS88,'（従来型）シフト記号表'!$C$5:$W$46,21,FALSE))","v":""},{"$f":"IF(AT88=\"\",\"\",VLOOKUP(AT88,'（従来型）シフト記号表'!$C$5:$W$46,21,FALSE))","v":""},{"$f":"IF(AU88=\"\",\"\",VLOOKUP(AU88,'（従来型）シフト記号表'!$C$5:$W$46,21,FALSE))","v":""},{"$f":"IF(AV88=\"\",\"\",VLOOKUP(AV88,'（従来型）シフト記号表'!$C$5:$W$46,21,FALSE))","v":""},{"$f":"IF(AW88=\"\",\"\",VLOOKUP(AW88,'（従来型）シフト記号表'!$C$5:$W$46,21,FALSE))","v":""},{"$f":"IF(AX88=\"\",\"\",VLOOKUP(AX88,'（従来型）シフト記号表'!$C$5:$W$46,21,FALSE))","v":""},{"$f":"IF(AY88=\"\",\"\",VLOOKUP(AY88,'（従来型）シフト記号表'!$C$5:$W$46,21,FALSE))","v":""},{"$f":"IF(AZ88=\"\",\"\",VLOOKUP(AZ88,'（従来型）シフト記号表'!$C$5:$W$46,21,FALSE))","v":""},{"$f":"IF(BA88=\"\",\"\",VLOOKUP(BA88,'（従来型）シフト記号表'!$C$5:$W$46,21,FALSE))","v":""},{"$f":"IF(BB88=\"\",\"\",VLOOKUP(BB88,'（従来型）シフト記号表'!$C$5:$W$46,21,FALSE))","v":""},{"$f":"IF(BC88=\"\",\"\",VLOOKUP(BC88,'（従来型）シフト記号表'!$C$5:$W$46,21,FALSE))","v":""},{"$f":"IF(BD88=\"\",\"\",VLOOKUP(BD88,'（従来型）シフト記号表'!$C$5:$W$46,21,FALSE))","v":""},{"$f":"IF(BE88=\"\",\"\",VLOOKUP(BE88,'（従来型）シフト記号表'!$C$5:$W$46,21,FALSE))","v":""},{"$f":"IF($BI$3=\"計画\",SUM(AA89:BB89),IF($BI$3=\"実績\",SUM(AA89:BE89),\"\"))","v":0},null,{"$f":"IF($BI$3=\"計画\",BF89/4,IF($BI$3=\"実績\",(BF89/($BI$7/7)),\"\"))","v":0}]
[null,null,null,null,null,null,null,null,{"$f":"G89","v":0},null,{"$f":"M89","v":0},null,null,null,null,null,null,null,null,null,null,"夜勤時間帯の勤務時間数",null,null,null,null,{"$f":"IF(AA88=\"\",\"\",VLOOKUP(AA88,'（従来型）シフト記号表'!$C$5:$Y$46,23,FALSE))","v":""},{"$f":"IF(AB88=\"\",\"\",VLOOKUP(AB88,'（従来型）シフト記号表'!$C$5:$Y$46,23,FALSE))","v":""},{"$f":"IF(AC88=\"\",\"\",VLOOKUP(AC88,'（従来型）シフト記号表'!$C$5:$Y$46,23,FALSE))","v":""},{"$f":"IF(AD88=\"\",\"\",VLOOKUP(AD88,'（従来型）シフト記号表'!$C$5:$Y$46,23,FALSE))","v":""},{"$f":"IF(AE88=\"\",\"\",VLOOKUP(AE88,'（従来型）シフト記号表'!$C$5:$Y$46,23,FALSE))","v":""},{"$f":"IF(AF88=\"\",\"\",VLOOKUP(AF88,'（従来型）シフト記号表'!$C$5:$Y$46,23,FALSE))","v":""},{"$f":"IF(AG88=\"\",\"\",VLOOKUP(AG88,'（従来型）シフト記号表'!$C$5:$Y$46,23,FALSE))","v":""},{"$f":"IF(AH88=\"\",\"\",VLOOKUP(AH88,'（従来型）シフト記号表'!$C$5:$Y$46,23,FALSE))","v":""},{"$f":"IF(AI88=\"\",\"\",VLOOKUP(AI88,'（従来型）シフト記号表'!$C$5:$Y$46,23,FALSE))","v":""},{"$f":"IF(AJ88=\"\",\"\",VLOOKUP(AJ88,'（従来型）シフト記号表'!$C$5:$Y$46,23,FALSE))","v":""},{"$f":"IF(AK88=\"\",\"\",VLOOKUP(AK88,'（従来型）シフト記号表'!$C$5:$Y$46,23,FALSE))","v":""},{"$f":"IF(AL88=\"\",\"\",VLOOKUP(AL88,'（従来型）シフト記号表'!$C$5:$Y$46,23,FALSE))","v":""},{"$f":"IF(AM88=\"\",\"\",VLOOKUP(AM88,'（従来型）シフト記号表'!$C$5:$Y$46,23,FALSE))","v":""},{"$f":"IF(AN88=\"\",\"\",VLOOKUP(AN88,'（従来型）シフト記号表'!$C$5:$Y$46,23,FALSE))","v":""},{"$f":"IF(AO88=\"\",\"\",VLOOKUP(AO88,'（従来型）シフト記号表'!$C$5:$Y$46,23,FALSE))","v":""},{"$f":"IF(AP88=\"\",\"\",VLOOKUP(AP88,'（従来型）シフト記号表'!$C$5:$Y$46,23,FALSE))","v":""},{"$f":"IF(AQ88=\"\",\"\",VLOOKUP(AQ88,'（従来型）シフト記号表'!$C$5:$Y$46,23,FALSE))","v":""},{"$f":"IF(AR88=\"\",\"\",VLOOKUP(AR88,'（従来型）シフト記号表'!$C$5:$Y$46,23,FALSE))","v":""},{"$f":"IF(AS88=\"\",\"\",VLOOKUP(AS88,'（従来型）シフト記号表'!$C$5:$Y$46,23,FALSE))","v":""},{"$f":"IF(AT88=\"\",\"\",VLOOKUP(AT88,'（従来型）シフト記号表'!$C$5:$Y$46,23,FALSE))","v":""},{"$f":"IF(AU88=\"\",\"\",VLOOKUP(AU88,'（従来型）シフト記号表'!$C$5:$Y$46,23,FALSE))","v":""},{"$f":"IF(AV88=\"\",\"\",VLOOKUP(AV88,'（従来型）シフト記号表'!$C$5:$Y$46,23,FALSE))","v":""},{"$f":"IF(AW88=\"\",\"\",VLOOKUP(AW88,'（従来型）シフト記号表'!$C$5:$Y$46,23,FALSE))","v":""},{"$f":"IF(AX88=\"\",\"\",VLOOKUP(AX88,'（従来型）シフト記号表'!$C$5:$Y$46,23,FALSE))","v":""},{"$f":"IF(AY88=\"\",\"\",VLOOKUP(AY88,'（従来型）シフト記号表'!$C$5:$Y$46,23,FALSE))","v":""},{"$f":"IF(AZ88=\"\",\"\",VLOOKUP(AZ88,'（従来型）シフト記号表'!$C$5:$Y$46,23,FALSE))","v":""},{"$f":"IF(BA88=\"\",\"\",VLOOKUP(BA88,'（従来型）シフト記号表'!$C$5:$Y$46,23,FALSE))","v":""},{"$f":"IF(BB88=\"\",\"\",VLOOKUP(BB88,'（従来型）シフト記号表'!$C$5:$Y$46,23,FALSE))","v":""},{"$f":"IF(BC88=\"\",\"\",VLOOKUP(BC88,'（従来型）シフト記号表'!$C$5:$Y$46,23,FALSE))","v":""},{"$f":"IF(BD88=\"\",\"\",VLOOKUP(BD88,'（従来型）シフト記号表'!$C$5:$Y$46,23,FALSE))","v":""},{"$f":"IF(BE88=\"\",\"\",VLOOKUP(BE88,'（従来型）シフト記号表'!$C$5:$Y$46,23,FALSE))","v":""},{"$f":"IF($BI$3=\"計画\",SUM(AA90:BB90),IF($BI$3=\"実績\",SUM(AA90:BE90),\"\"))","v":0},null,{"$f":"IF($BI$3=\"計画\",BF90/4,IF($BI$3=\"実績\",(BF90/($BI$7/7)),\"\"))","v":0}]
[null,null,null,null,null,null,null,null,null,null,null,null,null,null,null,null,null,null,null,null,null,"シフト記号"]
[null,{"$f":"B89+1","v":25},null,null,null,null,null,null,null,null,null,null,null,null,null,null,null,null,null,null,null,"日中の勤務時間数",null,null,null,null,{"$f":"IF(AA91=\"\",\"\",VLOOKUP(AA91,'（従来型）シフト記号表'!$C$5:$W$46,21,FALSE))","v":""},{"$f":"IF(AB91=\"\",\"\",VLOOKUP(AB91,'（従来型）シフト記号表'!$C$5:$W$46,21,FALSE))","v":""},{"$f":"IF(AC91=\"\",\"\",VLOOKUP(AC91,'（従来型）シフト記号表'!$C$5:$W$46,21,FALSE))","v":""},{"$f":"IF(AD91=\"\",\"\",VLOOKUP(AD91,'（従来型）シフト記号表'!$C$5:$W$46,21,FALSE))","v":""},{"$f":"IF(AE91=\"\",\"\",VLOOKUP(AE91,'（従来型）シフト記号表'!$C$5:$W$46,21,FALSE))","v":""},{"$f":"IF(AF91=\"\",\"\",VLOOKUP(AF91,'（従来型）シフト記号表'!$C$5:$W$46,21,FALSE))","v":""},{"$f":"IF(AG91=\"\",\"\",VLOOKUP(AG91,'（従来型）シフト記号表'!$C$5:$W$46,21,FALSE))","v":""},{"$f":"IF(AH91=\"\",\"\",VLOOKUP(AH91,'（従来型）シフト記号表'!$C$5:$W$46,21,FALSE))","v":""},{"$f":"IF(AI91=\"\",\"\",VLOOKUP(AI91,'（従来型）シフト記号表'!$C$5:$W$46,21,FALSE))","v":""},{"$f":"IF(AJ91=\"\",\"\",VLOOKUP(AJ91,'（従来型）シフト記号表'!$C$5:$W$46,21,FALSE))","v":""},{"$f":"IF(AK91=\"\",\"\",VLOOKUP(AK91,'（従来型）シフト記号表'!$C$5:$W$46,21,FALSE))","v":""},{"$f":"IF(AL91=\"\",\"\",VLOOKUP(AL91,'（従来型）シフト記号表'!$C$5:$W$46,21,FALSE))","v":""},{"$f":"IF(AM91=\"\",\"\",VLOOKUP(AM91,'（従来型）シフト記号表'!$C$5:$W$46,21,FALSE))","v":""},{"$f":"IF(AN91=\"\",\"\",VLOOKUP(AN91,'（従来型）シフト記号表'!$C$5:$W$46,21,FALSE))","v":""},{"$f":"IF(AO91=\"\",\"\",VLOOKUP(AO91,'（従来型）シフト記号表'!$C$5:$W$46,21,FALSE))","v":""},{"$f":"IF(AP91=\"\",\"\",VLOOKUP(AP91,'（従来型）シフト記号表'!$C$5:$W$46,21,FALSE))","v":""},{"$f":"IF(AQ91=\"\",\"\",VLOOKUP(AQ91,'（従来型）シフト記号表'!$C$5:$W$46,21,FALSE))","v":""},{"$f":"IF(AR91=\"\",\"\",VLOOKUP(AR91,'（従来型）シフト記号表'!$C$5:$W$46,21,FALSE))","v":""},{"$f":"IF(AS91=\"\",\"\",VLOOKUP(AS91,'（従来型）シフト記号表'!$C$5:$W$46,21,FALSE))","v":""},{"$f":"IF(AT91=\"\",\"\",VLOOKUP(AT91,'（従来型）シフト記号表'!$C$5:$W$46,21,FALSE))","v":""},{"$f":"IF(AU91=\"\",\"\",VLOOKUP(AU91,'（従来型）シフト記号表'!$C$5:$W$46,21,FALSE))","v":""},{"$f":"IF(AV91=\"\",\"\",VLOOKUP(AV91,'（従来型）シフト記号表'!$C$5:$W$46,21,FALSE))","v":""},{"$f":"IF(AW91=\"\",\"\",VLOOKUP(AW91,'（従来型）シフト記号表'!$C$5:$W$46,21,FALSE))","v":""},{"$f":"IF(AX91=\"\",\"\",VLOOKUP(AX91,'（従来型）シフト記号表'!$C$5:$W$46,21,FALSE))","v":""},{"$f":"IF(AY91=\"\",\"\",VLOOKUP(AY91,'（従来型）シフト記号表'!$C$5:$W$46,21,FALSE))","v":""},{"$f":"IF(AZ91=\"\",\"\",VLOOKUP(AZ91,'（従来型）シフト記号表'!$C$5:$W$46,21,FALSE))","v":""},{"$f":"IF(BA91=\"\",\"\",VLOOKUP(BA91,'（従来型）シフト記号表'!$C$5:$W$46,21,FALSE))","v":""},{"$f":"IF(BB91=\"\",\"\",VLOOKUP(BB91,'（従来型）シフト記号表'!$C$5:$W$46,21,FALSE))","v":""},{"$f":"IF(BC91=\"\",\"\",VLOOKUP(BC91,'（従来型）シフト記号表'!$C$5:$W$46,21,FALSE))","v":""},{"$f":"IF(BD91=\"\",\"\",VLOOKUP(BD91,'（従来型）シフト記号表'!$C$5:$W$46,21,FALSE))","v":""},{"$f":"IF(BE91=\"\",\"\",VLOOKUP(BE91,'（従来型）シフト記号表'!$C$5:$W$46,21,FALSE))","v":""},{"$f":"IF($BI$3=\"計画\",SUM(AA92:BB92),IF($BI$3=\"実績\",SUM(AA92:BE92),\"\"))","v":0},null,{"$f":"IF($BI$3=\"計画\",BF92/4,IF($BI$3=\"実績\",(BF92/($BI$7/7)),\"\"))","v":0}]
[null,null,null,null,null,null,null,null,{"$f":"G92","v":0},null,{"$f":"M92","v":0},null,null,null,null,null,null,null,null,null,null,"夜勤時間帯の勤務時間数",null,null,null,null,{"$f":"IF(AA91=\"\",\"\",VLOOKUP(AA91,'（従来型）シフト記号表'!$C$5:$Y$46,23,FALSE))","v":""},{"$f":"IF(AB91=\"\",\"\",VLOOKUP(AB91,'（従来型）シフト記号表'!$C$5:$Y$46,23,FALSE))","v":""},{"$f":"IF(AC91=\"\",\"\",VLOOKUP(AC91,'（従来型）シフト記号表'!$C$5:$Y$46,23,FALSE))","v":""},{"$f":"IF(AD91=\"\",\"\",VLOOKUP(AD91,'（従来型）シフト記号表'!$C$5:$Y$46,23,FALSE))","v":""},{"$f":"IF(AE91=\"\",\"\",VLOOKUP(AE91,'（従来型）シフト記号表'!$C$5:$Y$46,23,FALSE))","v":""},{"$f":"IF(AF91=\"\",\"\",VLOOKUP(AF91,'（従来型）シフト記号表'!$C$5:$Y$46,23,FALSE))","v":""},{"$f":"IF(AG91=\"\",\"\",VLOOKUP(AG91,'（従来型）シフト記号表'!$C$5:$Y$46,23,FALSE))","v":""},{"$f":"IF(AH91=\"\",\"\",VLOOKUP(AH91,'（従来型）シフト記号表'!$C$5:$Y$46,23,FALSE))","v":""},{"$f":"IF(AI91=\"\",\"\",VLOOKUP(AI91,'（従来型）シフト記号表'!$C$5:$Y$46,23,FALSE))","v":""},{"$f":"IF(AJ91=\"\",\"\",VLOOKUP(AJ91,'（従来型）シフト記号表'!$C$5:$Y$46,23,FALSE))","v":""},{"$f":"IF(AK91=\"\",\"\",VLOOKUP(AK91,'（従来型）シフト記号表'!$C$5:$Y$46,23,FALSE))","v":""},{"$f":"IF(AL91=\"\",\"\",VLOOKUP(AL91,'（従来型）シフト記号表'!$C$5:$Y$46,23,FALSE))","v":""},{"$f":"IF(AM91=\"\",\"\",VLOOKUP(AM91,'（従来型）シフト記号表'!$C$5:$Y$46,23,FALSE))","v":""},{"$f":"IF(AN91=\"\",\"\",VLOOKUP(AN91,'（従来型）シフト記号表'!$C$5:$Y$46,23,FALSE))","v":""},{"$f":"IF(AO91=\"\",\"\",VLOOKUP(AO91,'（従来型）シフト記号表'!$C$5:$Y$46,23,FALSE))","v":""},{"$f":"IF(AP91=\"\",\"\",VLOOKUP(AP91,'（従来型）シフト記号表'!$C$5:$Y$46,23,FALSE))","v":""},{"$f":"IF(AQ91=\"\",\"\",VLOOKUP(AQ91,'（従来型）シフト記号表'!$C$5:$Y$46,23,FALSE))","v":""},{"$f":"IF(AR91=\"\",\"\",VLOOKUP(AR91,'（従来型）シフト記号表'!$C$5:$Y$46,23,FALSE))","v":""},{"$f":"IF(AS91=\"\",\"\",VLOOKUP(AS91,'（従来型）シフト記号表'!$C$5:$Y$46,23,FALSE))","v":""},{"$f":"IF(AT91=\"\",\"\",VLOOKUP(AT91,'（従来型）シフト記号表'!$C$5:$Y$46,23,FALSE))","v":""},{"$f":"IF(AU91=\"\",\"\",VLOOKUP(AU91,'（従来型）シフト記号表'!$C$5:$Y$46,23,FALSE))","v":""},{"$f":"IF(AV91=\"\",\"\",VLOOKUP(AV91,'（従来型）シフト記号表'!$C$5:$Y$46,23,FALSE))","v":""},{"$f":"IF(AW91=\"\",\"\",VLOOKUP(AW91,'（従来型）シフト記号表'!$C$5:$Y$46,23,FALSE))","v":""},{"$f":"IF(AX91=\"\",\"\",VLOOKUP(AX91,'（従来型）シフト記号表'!$C$5:$Y$46,23,FALSE))","v":""},{"$f":"IF(AY91=\"\",\"\",VLOOKUP(AY91,'（従来型）シフト記号表'!$C$5:$Y$46,23,FALSE))","v":""},{"$f":"IF(AZ91=\"\",\"\",VLOOKUP(AZ91,'（従来型）シフト記号表'!$C$5:$Y$46,23,FALSE))","v":""},{"$f":"IF(BA91=\"\",\"\",VLOOKUP(BA91,'（従来型）シフト記号表'!$C$5:$Y$46,23,FALSE))","v":""},{"$f":"IF(BB91=\"\",\"\",VLOOKUP(BB91,'（従来型）シフト記号表'!$C$5:$Y$46,23,FALSE))","v":""},{"$f":"IF(BC91=\"\",\"\",VLOOKUP(BC91,'（従来型）シフト記号表'!$C$5:$Y$46,23,FALSE))","v":""},{"$f":"IF(BD91=\"\",\"\",VLOOKUP(BD91,'（従来型）シフト記号表'!$C$5:$Y$46,23,FALSE))","v":""},{"$f":"IF(BE91=\"\",\"\",VLOOKUP(BE91,'（従来型）シフト記号表'!$C$5:$Y$46,23,FALSE))","v":""},{"$f":"IF($BI$3=\"計画\",SUM(AA93:BB93),IF($BI$3=\"実績\",SUM(AA93:BE93),\"\"))","v":0},null,{"$f":"IF($BI$3=\"計画\",BF93/4,IF($BI$3=\"実績\",(BF93/($BI$7/7)),\"\"))","v":0}]
[null,null,null,null,null,null,null,null,null,null,null,null,null,null,null,null,null,null,null,null,null,"シフト記号"]
[null,{"$f":"B92+1","v":26},null,null,null,null,null,null,null,null,null,null,null,null,null,null,null,null,null,null,null,"日中の勤務時間数",null,null,null,null,{"$f":"IF(AA94=\"\",\"\",VLOOKUP(AA94,'（従来型）シフト記号表'!$C$5:$W$46,21,FALSE))","v":""},{"$f":"IF(AB94=\"\",\"\",VLOOKUP(AB94,'（従来型）シフト記号表'!$C$5:$W$46,21,FALSE))","v":""},{"$f":"IF(AC94=\"\",\"\",VLOOKUP(AC94,'（従来型）シフト記号表'!$C$5:$W$46,21,FALSE))","v":""},{"$f":"IF(AD94=\"\",\"\",VLOOKUP(AD94,'（従来型）シフト記号表'!$C$5:$W$46,21,FALSE))","v":""},{"$f":"IF(AE94=\"\",\"\",VLOOKUP(AE94,'（従来型）シフト記号表'!$C$5:$W$46,21,FALSE))","v":""},{"$f":"IF(AF94=\"\",\"\",VLOOKUP(AF94,'（従来型）シフト記号表'!$C$5:$W$46,21,FALSE))","v":""},{"$f":"IF(AG94=\"\",\"\",VLOOKUP(AG94,'（従来型）シフト記号表'!$C$5:$W$46,21,FALSE))","v":""},{"$f":"IF(AH94=\"\",\"\",VLOOKUP(AH94,'（従来型）シフト記号表'!$C$5:$W$46,21,FALSE))","v":""},{"$f":"IF(AI94=\"\",\"\",VLOOKUP(AI94,'（従来型）シフト記号表'!$C$5:$W$46,21,FALSE))","v":""},{"$f":"IF(AJ94=\"\",\"\",VLOOKUP(AJ94,'（従来型）シフト記号表'!$C$5:$W$46,21,FALSE))","v":""},{"$f":"IF(AK94=\"\",\"\",VLOOKUP(AK94,'（従来型）シフト記号表'!$C$5:$W$46,21,FALSE))","v":""},{"$f":"IF(AL94=\"\",\"\",VLOOKUP(AL94,'（従来型）シフト記号表'!$C$5:$W$46,21,FALSE))","v":""},{"$f":"IF(AM94=\"\",\"\",VLOOKUP(AM94,'（従来型）シフト記号表'!$C$5:$W$46,21,FALSE))","v":""},{"$f":"IF(AN94=\"\",\"\",VLOOKUP(AN94,'（従来型）シフト記号表'!$C$5:$W$46,21,FALSE))","v":""},{"$f":"IF(AO94=\"\",\"\",VLOOKUP(AO94,'（従来型）シフト記号表'!$C$5:$W$46,21,FALSE))","v":""},{"$f":"IF(AP94=\"\",\"\",VLOOKUP(AP94,'（従来型）シフト記号表'!$C$5:$W$46,21,FALSE))","v":""},{"$f":"IF(AQ94=\"\",\"\",VLOOKUP(AQ94,'（従来型）シフト記号表'!$C$5:$W$46,21,FALSE))","v":""},{"$f":"IF(AR94=\"\",\"\",VLOOKUP(AR94,'（従来型）シフト記号表'!$C$5:$W$46,21,FALSE))","v":""},{"$f":"IF(AS94=\"\",\"\",VLOOKUP(AS94,'（従来型）シフト記号表'!$C$5:$W$46,21,FALSE))","v":""},{"$f":"IF(AT94=\"\",\"\",VLOOKUP(AT94,'（従来型）シフト記号表'!$C$5:$W$46,21,FALSE))","v":""},{"$f":"IF(AU94=\"\",\"\",VLOOKUP(AU94,'（従来型）シフト記号表'!$C$5:$W$46,21,FALSE))","v":""},{"$f":"IF(AV94=\"\",\"\",VLOOKUP(AV94,'（従来型）シフト記号表'!$C$5:$W$46,21,FALSE))","v":""},{"$f":"IF(AW94=\"\",\"\",VLOOKUP(AW94,'（従来型）シフト記号表'!$C$5:$W$46,21,FALSE))","v":""},{"$f":"IF(AX94=\"\",\"\",VLOOKUP(AX94,'（従来型）シフト記号表'!$C$5:$W$46,21,FALSE))","v":""},{"$f":"IF(AY94=\"\",\"\",VLOOKUP(AY94,'（従来型）シフト記号表'!$C$5:$W$46,21,FALSE))","v":""},{"$f":"IF(AZ94=\"\",\"\",VLOOKUP(AZ94,'（従来型）シフト記号表'!$C$5:$W$46,21,FALSE))","v":""},{"$f":"IF(BA94=\"\",\"\",VLOOKUP(BA94,'（従来型）シフト記号表'!$C$5:$W$46,21,FALSE))","v":""},{"$f":"IF(BB94=\"\",\"\",VLOOKUP(BB94,'（従来型）シフト記号表'!$C$5:$W$46,21,FALSE))","v":""},{"$f":"IF(BC94=\"\",\"\",VLOOKUP(BC94,'（従来型）シフト記号表'!$C$5:$W$46,21,FALSE))","v":""},{"$f":"IF(BD94=\"\",\"\",VLOOKUP(BD94,'（従来型）シフト記号表'!$C$5:$W$46,21,FALSE))","v":""},{"$f":"IF(BE94=\"\",\"\",VLOOKUP(BE94,'（従来型）シフト記号表'!$C$5:$W$46,21,FALSE))","v":""},{"$f":"IF($BI$3=\"計画\",SUM(AA95:BB95),IF($BI$3=\"実績\",SUM(AA95:BE95),\"\"))","v":0},null,{"$f":"IF($BI$3=\"計画\",BF95/4,IF($BI$3=\"実績\",(BF95/($BI$7/7)),\"\"))","v":0}]
[null,null,null,null,null,null,null,null,{"$f":"G95","v":0},null,{"$f":"M95","v":0},null,null,null,null,null,null,null,null,null,null,"夜勤時間帯の勤務時間数",null,null,null,null,{"$f":"IF(AA94=\"\",\"\",VLOOKUP(AA94,'（従来型）シフト記号表'!$C$5:$Y$46,23,FALSE))","v":""},{"$f":"IF(AB94=\"\",\"\",VLOOKUP(AB94,'（従来型）シフト記号表'!$C$5:$Y$46,23,FALSE))","v":""},{"$f":"IF(AC94=\"\",\"\",VLOOKUP(AC94,'（従来型）シフト記号表'!$C$5:$Y$46,23,FALSE))","v":""},{"$f":"IF(AD94=\"\",\"\",VLOOKUP(AD94,'（従来型）シフト記号表'!$C$5:$Y$46,23,FALSE))","v":""},{"$f":"IF(AE94=\"\",\"\",VLOOKUP(AE94,'（従来型）シフト記号表'!$C$5:$Y$46,23,FALSE))","v":""},{"$f":"IF(AF94=\"\",\"\",VLOOKUP(AF94,'（従来型）シフト記号表'!$C$5:$Y$46,23,FALSE))","v":""},{"$f":"IF(AG94=\"\",\"\",VLOOKUP(AG94,'（従来型）シフト記号表'!$C$5:$Y$46,23,FALSE))","v":""},{"$f":"IF(AH94=\"\",\"\",VLOOKUP(AH94,'（従来型）シフト記号表'!$C$5:$Y$46,23,FALSE))","v":""},{"$f":"IF(AI94=\"\",\"\",VLOOKUP(AI94,'（従来型）シフト記号表'!$C$5:$Y$46,23,FALSE))","v":""},{"$f":"IF(AJ94=\"\",\"\",VLOOKUP(AJ94,'（従来型）シフト記号表'!$C$5:$Y$46,23,FALSE))","v":""},{"$f":"IF(AK94=\"\",\"\",VLOOKUP(AK94,'（従来型）シフト記号表'!$C$5:$Y$46,23,FALSE))","v":""},{"$f":"IF(AL94=\"\",\"\",VLOOKUP(AL94,'（従来型）シフト記号表'!$C$5:$Y$46,23,FALSE))","v":""},{"$f":"IF(AM94=\"\",\"\",VLOOKUP(AM94,'（従来型）シフト記号表'!$C$5:$Y$46,23,FALSE))","v":""},{"$f":"IF(AN94=\"\",\"\",VLOOKUP(AN94,'（従来型）シフト記号表'!$C$5:$Y$46,23,FALSE))","v":""},{"$f":"IF(AO94=\"\",\"\",VLOOKUP(AO94,'（従来型）シフト記号表'!$C$5:$Y$46,23,FALSE))","v":""},{"$f":"IF(AP94=\"\",\"\",VLOOKUP(AP94,'（従来型）シフト記号表'!$C$5:$Y$46,23,FALSE))","v":""},{"$f":"IF(AQ94=\"\",\"\",VLOOKUP(AQ94,'（従来型）シフト記号表'!$C$5:$Y$46,23,FALSE))","v":""},{"$f":"IF(AR94=\"\",\"\",VLOOKUP(AR94,'（従来型）シフト記号表'!$C$5:$Y$46,23,FALSE))","v":""},{"$f":"IF(AS94=\"\",\"\",VLOOKUP(AS94,'（従来型）シフト記号表'!$C$5:$Y$46,23,FALSE))","v":""},{"$f":"IF(AT94=\"\",\"\",VLOOKUP(AT94,'（従来型）シフト記号表'!$C$5:$Y$46,23,FALSE))","v":""},{"$f":"IF(AU94=\"\",\"\",VLOOKUP(AU94,'（従来型）シフト記号表'!$C$5:$Y$46,23,FALSE))","v":""},{"$f":"IF(AV94=\"\",\"\",VLOOKUP(AV94,'（従来型）シフト記号表'!$C$5:$Y$46,23,FALSE))","v":""},{"$f":"IF(AW94=\"\",\"\",VLOOKUP(AW94,'（従来型）シフト記号表'!$C$5:$Y$46,23,FALSE))","v":""},{"$f":"IF(AX94=\"\",\"\",VLOOKUP(AX94,'（従来型）シフト記号表'!$C$5:$Y$46,23,FALSE))","v":""},{"$f":"IF(AY94=\"\",\"\",VLOOKUP(AY94,'（従来型）シフト記号表'!$C$5:$Y$46,23,FALSE))","v":""},{"$f":"IF(AZ94=\"\",\"\",VLOOKUP(AZ94,'（従来型）シフト記号表'!$C$5:$Y$46,23,FALSE))","v":""},{"$f":"IF(BA94=\"\",\"\",VLOOKUP(BA94,'（従来型）シフト記号表'!$C$5:$Y$46,23,FALSE))","v":""},{"$f":"IF(BB94=\"\",\"\",VLOOKUP(BB94,'（従来型）シフト記号表'!$C$5:$Y$46,23,FALSE))","v":""},{"$f":"IF(BC94=\"\",\"\",VLOOKUP(BC94,'（従来型）シフト記号表'!$C$5:$Y$46,23,FALSE))","v":""},{"$f":"IF(BD94=\"\",\"\",VLOOKUP(BD94,'（従来型）シフト記号表'!$C$5:$Y$46,23,FALSE))","v":""},{"$f":"IF(BE94=\"\",\"\",VLOOKUP(BE94,'（従来型）シフト記号表'!$C$5:$Y$46,23,FALSE))","v":""},{"$f":"IF($BI$3=\"計画\",SUM(AA96:BB96),IF($BI$3=\"実績\",SUM(AA96:BE96),\"\"))","v":0},null,{"$f":"IF($BI$3=\"計画\",BF96/4,IF($BI$3=\"実績\",(BF96/($BI$7/7)),\"\"))","v":0}]
[null,null,null,null,null,null,null,null,null,null,null,null,null,null,null,null,null,null,null,null,null,"シフト記号"]
[null,{"$f":"B95+1","v":27},null,null,null,null,null,null,null,null,null,null,null,null,null,null,null,null,null,null,null,"日中の勤務時間数",null,null,null,null,{"$f":"IF(AA97=\"\",\"\",VLOOKUP(AA97,'（従来型）シフト記号表'!$C$5:$W$46,21,FALSE))","v":""},{"$f":"IF(AB97=\"\",\"\",VLOOKUP(AB97,'（従来型）シフト記号表'!$C$5:$W$46,21,FALSE))","v":""},{"$f":"IF(AC97=\"\",\"\",VLOOKUP(AC97,'（従来型）シフト記号表'!$C$5:$W$46,21,FALSE))","v":""},{"$f":"IF(AD97=\"\",\"\",VLOOKUP(AD97,'（従来型）シフト記号表'!$C$5:$W$46,21,FALSE))","v":""},{"$f":"IF(AE97=\"\",\"\",VLOOKUP(AE97,'（従来型）シフト記号表'!$C$5:$W$46,21,FALSE))","v":""},{"$f":"IF(AF97=\"\",\"\",VLOOKUP(AF97,'（従来型）シフト記号表'!$C$5:$W$46,21,FALSE))","v":""},{"$f":"IF(AG97=\"\",\"\",VLOOKUP(AG97,'（従来型）シフト記号表'!$C$5:$W$46,21,FALSE))","v":""},{"$f":"IF(AH97=\"\",\"\",VLOOKUP(AH97,'（従来型）シフト記号表'!$C$5:$W$46,21,FALSE))","v":""},{"$f":"IF(AI97=\"\",\"\",VLOOKUP(AI97,'（従来型）シフト記号表'!$C$5:$W$46,21,FALSE))","v":""},{"$f":"IF(AJ97=\"\",\"\",VLOOKUP(AJ97,'（従来型）シフト記号表'!$C$5:$W$46,21,FALSE))","v":""},{"$f":"IF(AK97=\"\",\"\",VLOOKUP(AK97,'（従来型）シフト記号表'!$C$5:$W$46,21,FALSE))","v":""},{"$f":"IF(AL97=\"\",\"\",VLOOKUP(AL97,'（従来型）シフト記号表'!$C$5:$W$46,21,FALSE))","v":""},{"$f":"IF(AM97=\"\",\"\",VLOOKUP(AM97,'（従来型）シフト記号表'!$C$5:$W$46,21,FALSE))","v":""},{"$f":"IF(AN97=\"\",\"\",VLOOKUP(AN97,'（従来型）シフト記号表'!$C$5:$W$46,21,FALSE))","v":""},{"$f":"IF(AO97=\"\",\"\",VLOOKUP(AO97,'（従来型）シフト記号表'!$C$5:$W$46,21,FALSE))","v":""},{"$f":"IF(AP97=\"\",\"\",VLOOKUP(AP97,'（従来型）シフト記号表'!$C$5:$W$46,21,FALSE))","v":""},{"$f":"IF(AQ97=\"\",\"\",VLOOKUP(AQ97,'（従来型）シフト記号表'!$C$5:$W$46,21,FALSE))","v":""},{"$f":"IF(AR97=\"\",\"\",VLOOKUP(AR97,'（従来型）シフト記号表'!$C$5:$W$46,21,FALSE))","v":""},{"$f":"IF(AS97=\"\",\"\",VLOOKUP(AS97,'（従来型）シフト記号表'!$C$5:$W$46,21,FALSE))","v":""},{"$f":"IF(AT97=\"\",\"\",VLOOKUP(AT97,'（従来型）シフト記号表'!$C$5:$W$46,21,FALSE))","v":""},{"$f":"IF(AU97=\"\",\"\",VLOOKUP(AU97,'（従来型）シフト記号表'!$C$5:$W$46,21,FALSE))","v":""},{"$f":"IF(AV97=\"\",\"\",VLOOKUP(AV97,'（従来型）シフト記号表'!$C$5:$W$46,21,FALSE))","v":""},{"$f":"IF(AW97=\"\",\"\",VLOOKUP(AW97,'（従来型）シフト記号表'!$C$5:$W$46,21,FALSE))","v":""},{"$f":"IF(AX97=\"\",\"\",VLOOKUP(AX97,'（従来型）シフト記号表'!$C$5:$W$46,21,FALSE))","v":""},{"$f":"IF(AY97=\"\",\"\",VLOOKUP(AY97,'（従来型）シフト記号表'!$C$5:$W$46,21,FALSE))","v":""},{"$f":"IF(AZ97=\"\",\"\",VLOOKUP(AZ97,'（従来型）シフト記号表'!$C$5:$W$46,21,FALSE))","v":""},{"$f":"IF(BA97=\"\",\"\",VLOOKUP(BA97,'（従来型）シフト記号表'!$C$5:$W$46,21,FALSE))","v":""},{"$f":"IF(BB97=\"\",\"\",VLOOKUP(BB97,'（従来型）シフト記号表'!$C$5:$W$46,21,FALSE))","v":""},{"$f":"IF(BC97=\"\",\"\",VLOOKUP(BC97,'（従来型）シフト記号表'!$C$5:$W$46,21,FALSE))","v":""},{"$f":"IF(BD97=\"\",\"\",VLOOKUP(BD97,'（従来型）シフト記号表'!$C$5:$W$46,21,FALSE))","v":""},{"$f":"IF(BE97=\"\",\"\",VLOOKUP(BE97,'（従来型）シフト記号表'!$C$5:$W$46,21,FALSE))","v":""},{"$f":"IF($BI$3=\"計画\",SUM(AA98:BB98),IF($BI$3=\"実績\",SUM(AA98:BE98),\"\"))","v":0},null,{"$f":"IF($BI$3=\"計画\",BF98/4,IF($BI$3=\"実績\",(BF98/($BI$7/7)),\"\"))","v":0}]
[null,null,null,null,null,null,null,null,{"$f":"G98","v":0},null,{"$f":"M98","v":0},null,null,null,null,null,null,null,null,null,null,"夜勤時間帯の勤務時間数",null,null,null,null,{"$f":"IF(AA97=\"\",\"\",VLOOKUP(AA97,'（従来型）シフト記号表'!$C$5:$Y$46,23,FALSE))","v":""},{"$f":"IF(AB97=\"\",\"\",VLOOKUP(AB97,'（従来型）シフト記号表'!$C$5:$Y$46,23,FALSE))","v":""},{"$f":"IF(AC97=\"\",\"\",VLOOKUP(AC97,'（従来型）シフト記号表'!$C$5:$Y$46,23,FALSE))","v":""},{"$f":"IF(AD97=\"\",\"\",VLOOKUP(AD97,'（従来型）シフト記号表'!$C$5:$Y$46,23,FALSE))","v":""},{"$f":"IF(AE97=\"\",\"\",VLOOKUP(AE97,'（従来型）シフト記号表'!$C$5:$Y$46,23,FALSE))","v":""},{"$f":"IF(AF97=\"\",\"\",VLOOKUP(AF97,'（従来型）シフト記号表'!$C$5:$Y$46,23,FALSE))","v":""},{"$f":"IF(AG97=\"\",\"\",VLOOKUP(AG97,'（従来型）シフト記号表'!$C$5:$Y$46,23,FALSE))","v":""},{"$f":"IF(AH97=\"\",\"\",VLOOKUP(AH97,'（従来型）シフト記号表'!$C$5:$Y$46,23,FALSE))","v":""},{"$f":"IF(AI97=\"\",\"\",VLOOKUP(AI97,'（従来型）シフト記号表'!$C$5:$Y$46,23,FALSE))","v":""},{"$f":"IF(AJ97=\"\",\"\",VLOOKUP(AJ97,'（従来型）シフト記号表'!$C$5:$Y$46,23,FALSE))","v":""},{"$f":"IF(AK97=\"\",\"\",VLOOKUP(AK97,'（従来型）シフト記号表'!$C$5:$Y$46,23,FALSE))","v":""},{"$f":"IF(AL97=\"\",\"\",VLOOKUP(AL97,'（従来型）シフト記号表'!$C$5:$Y$46,23,FALSE))","v":""},{"$f":"IF(AM97=\"\",\"\",VLOOKUP(AM97,'（従来型）シフト記号表'!$C$5:$Y$46,23,FALSE))","v":""},{"$f":"IF(AN97=\"\",\"\",VLOOKUP(AN97,'（従来型）シフト記号表'!$C$5:$Y$46,23,FALSE))","v":""},{"$f":"IF(AO97=\"\",\"\",VLOOKUP(AO97,'（従来型）シフト記号表'!$C$5:$Y$46,23,FALSE))","v":""},{"$f":"IF(AP97=\"\",\"\",VLOOKUP(AP97,'（従来型）シフト記号表'!$C$5:$Y$46,23,FALSE))","v":""},{"$f":"IF(AQ97=\"\",\"\",VLOOKUP(AQ97,'（従来型）シフト記号表'!$C$5:$Y$46,23,FALSE))","v":""},{"$f":"IF(AR97=\"\",\"\",VLOOKUP(AR97,'（従来型）シフト記号表'!$C$5:$Y$46,23,FALSE))","v":""},{"$f":"IF(AS97=\"\",\"\",VLOOKUP(AS97,'（従来型）シフト記号表'!$C$5:$Y$46,23,FALSE))","v":""},{"$f":"IF(AT97=\"\",\"\",VLOOKUP(AT97,'（従来型）シフト記号表'!$C$5:$Y$46,23,FALSE))","v":""},{"$f":"IF(AU97=\"\",\"\",VLOOKUP(AU97,'（従来型）シフト記号表'!$C$5:$Y$46,23,FALSE))","v":""},{"$f":"IF(AV97=\"\",\"\",VLOOKUP(AV97,'（従来型）シフト記号表'!$C$5:$Y$46,23,FALSE))","v":""},{"$f":"IF(AW97=\"\",\"\",VLOOKUP(AW97,'（従来型）シフト記号表'!$C$5:$Y$46,23,FALSE))","v":""},{"$f":"IF(AX97=\"\",\"\",VLOOKUP(AX97,'（従来型）シフト記号表'!$C$5:$Y$46,23,FALSE))","v":""},{"$f":"IF(AY97=\"\",\"\",VLOOKUP(AY97,'（従来型）シフト記号表'!$C$5:$Y$46,23,FALSE))","v":""},{"$f":"IF(AZ97=\"\",\"\",VLOOKUP(AZ97,'（従来型）シフト記号表'!$C$5:$Y$46,23,FALSE))","v":""},{"$f":"IF(BA97=\"\",\"\",VLOOKUP(BA97,'（従来型）シフト記号表'!$C$5:$Y$46,23,FALSE))","v":""},{"$f":"IF(BB97=\"\",\"\",VLOOKUP(BB97,'（従来型）シフト記号表'!$C$5:$Y$46,23,FALSE))","v":""},{"$f":"IF(BC97=\"\",\"\",VLOOKUP(BC97,'（従来型）シフト記号表'!$C$5:$Y$46,23,FALSE))","v":""},{"$f":"IF(BD97=\"\",\"\",VLOOKUP(BD97,'（従来型）シフト記号表'!$C$5:$Y$46,23,FALSE))","v":""},{"$f":"IF(BE97=\"\",\"\",VLOOKUP(BE97,'（従来型）シフト記号表'!$C$5:$Y$46,23,FALSE))","v":""},{"$f":"IF($BI$3=\"計画\",SUM(AA99:BB99),IF($BI$3=\"実績\",SUM(AA99:BE99),\"\"))","v":0},null,{"$f":"IF($BI$3=\"計画\",BF99/4,IF($BI$3=\"実績\",(BF99/($BI$7/7)),\"\"))","v":0}]
[null,null,null,null,null,null,null,null,null,null,null,null,null,null,null,null,null,null,null,null,null,"シフト記号"]
[null,{"$f":"B98+1","v":28},null,null,null,null,null,null,null,null,null,null,null,null,null,null,null,null,null,null,null,"日中の勤務時間数",null,null,null,null,{"$f":"IF(AA100=\"\",\"\",VLOOKUP(AA100,'（従来型）シフト記号表'!$C$5:$W$46,21,FALSE))","v":""},{"$f":"IF(AB100=\"\",\"\",VLOOKUP(AB100,'（従来型）シフト記号表'!$C$5:$W$46,21,FALSE))","v":""},{"$f":"IF(AC100=\"\",\"\",VLOOKUP(AC100,'（従来型）シフト記号表'!$C$5:$W$46,21,FALSE))","v":""},{"$f":"IF(AD100=\"\",\"\",VLOOKUP(AD100,'（従来型）シフト記号表'!$C$5:$W$46,21,FALSE))","v":""},{"$f":"IF(AE100=\"\",\"\",VLOOKUP(AE100,'（従来型）シフト記号表'!$C$5:$W$46,21,FALSE))","v":""},{"$f":"IF(AF100=\"\",\"\",VLOOKUP(AF100,'（従来型）シフト記号表'!$C$5:$W$46,21,FALSE))","v":""},{"$f":"IF(AG100=\"\",\"\",VLOOKUP(AG100,'（従来型）シフト記号表'!$C$5:$W$46,21,FALSE))","v":""},{"$f":"IF(AH100=\"\",\"\",VLOOKUP(AH100,'（従来型）シフト記号表'!$C$5:$W$46,21,FALSE))","v":""},{"$f":"IF(AI100=\"\",\"\",VLOOKUP(AI100,'（従来型）シフト記号表'!$C$5:$W$46,21,FALSE))","v":""},{"$f":"IF(AJ100=\"\",\"\",VLOOKUP(AJ100,'（従来型）シフト記号表'!$C$5:$W$46,21,FALSE))","v":""},{"$f":"IF(AK100=\"\",\"\",VLOOKUP(AK100,'（従来型）シフト記号表'!$C$5:$W$46,21,FALSE))","v":""},{"$f":"IF(AL100=\"\",\"\",VLOOKUP(AL100,'（従来型）シフト記号表'!$C$5:$W$46,21,FALSE))","v":""},{"$f":"IF(AM100=\"\",\"\",VLOOKUP(AM100,'（従来型）シフト記号表'!$C$5:$W$46,21,FALSE))","v":""},{"$f":"IF(AN100=\"\",\"\",VLOOKUP(AN100,'（従来型）シフト記号表'!$C$5:$W$46,21,FALSE))","v":""},{"$f":"IF(AO100=\"\",\"\",VLOOKUP(AO100,'（従来型）シフト記号表'!$C$5:$W$46,21,FALSE))","v":""},{"$f":"IF(AP100=\"\",\"\",VLOOKUP(AP100,'（従来型）シフト記号表'!$C$5:$W$46,21,FALSE))","v":""},{"$f":"IF(AQ100=\"\",\"\",VLOOKUP(AQ100,'（従来型）シフト記号表'!$C$5:$W$46,21,FALSE))","v":""},{"$f":"IF(AR100=\"\",\"\",VLOOKUP(AR100,'（従来型）シフト記号表'!$C$5:$W$46,21,FALSE))","v":""},{"$f":"IF(AS100=\"\",\"\",VLOOKUP(AS100,'（従来型）シフト記号表'!$C$5:$W$46,21,FALSE))","v":""},{"$f":"IF(AT100=\"\",\"\",VLOOKUP(AT100,'（従来型）シフト記号表'!$C$5:$W$46,21,FALSE))","v":""},{"$f":"IF(AU100=\"\",\"\",VLOOKUP(AU100,'（従来型）シフト記号表'!$C$5:$W$46,21,FALSE))","v":""},{"$f":"IF(AV100=\"\",\"\",VLOOKUP(AV100,'（従来型）シフト記号表'!$C$5:$W$46,21,FALSE))","v":""},{"$f":"IF(AW100=\"\",\"\",VLOOKUP(AW100,'（従来型）シフト記号表'!$C$5:$W$46,21,FALSE))","v":""},{"$f":"IF(AX100=\"\",\"\",VLOOKUP(AX100,'（従来型）シフト記号表'!$C$5:$W$46,21,FALSE))","v":""},{"$f":"IF(AY100=\"\",\"\",VLOOKUP(AY100,'（従来型）シフト記号表'!$C$5:$W$46,21,FALSE))","v":""},{"$f":"IF(AZ100=\"\",\"\",VLOOKUP(AZ100,'（従来型）シフト記号表'!$C$5:$W$46,21,FALSE))","v":""},{"$f":"IF(BA100=\"\",\"\",VLOOKUP(BA100,'（従来型）シフト記号表'!$C$5:$W$46,21,FALSE))","v":""},{"$f":"IF(BB100=\"\",\"\",VLOOKUP(BB100,'（従来型）シフト記号表'!$C$5:$W$46,21,FALSE))","v":""},{"$f":"IF(BC100=\"\",\"\",VLOOKUP(BC100,'（従来型）シフト記号表'!$C$5:$W$46,21,FALSE))","v":""},{"$f":"IF(BD100=\"\",\"\",VLOOKUP(BD100,'（従来型）シフト記号表'!$C$5:$W$46,21,FALSE))","v":""},{"$f":"IF(BE100=\"\",\"\",VLOOKUP(BE100,'（従来型）シフト記号表'!$C$5:$W$46,21,FALSE))","v":""},{"$f":"IF($BI$3=\"計画\",SUM(AA101:BB101),IF($BI$3=\"実績\",SUM(AA101:BE101),\"\"))","v":0},null,{"$f":"IF($BI$3=\"計画\",BF101/4,IF($BI$3=\"実績\",(BF101/($BI$7/7)),\"\"))","v":0}]
[null,null,null,null,null,null,null,null,{"$f":"G101","v":0},null,{"$f":"M101","v":0},null,null,null,null,null,null,null,null,null,null,"夜勤時間帯の勤務時間数",null,null,null,null,{"$f":"IF(AA100=\"\",\"\",VLOOKUP(AA100,'（従来型）シフト記号表'!$C$5:$Y$46,23,FALSE))","v":""},{"$f":"IF(AB100=\"\",\"\",VLOOKUP(AB100,'（従来型）シフト記号表'!$C$5:$Y$46,23,FALSE))","v":""},{"$f":"IF(AC100=\"\",\"\",VLOOKUP(AC100,'（従来型）シフト記号表'!$C$5:$Y$46,23,FALSE))","v":""},{"$f":"IF(AD100=\"\",\"\",VLOOKUP(AD100,'（従来型）シフト記号表'!$C$5:$Y$46,23,FALSE))","v":""},{"$f":"IF(AE100=\"\",\"\",VLOOKUP(AE100,'（従来型）シフト記号表'!$C$5:$Y$46,23,FALSE))","v":""},{"$f":"IF(AF100=\"\",\"\",VLOOKUP(AF100,'（従来型）シフト記号表'!$C$5:$Y$46,23,FALSE))","v":""},{"$f":"IF(AG100=\"\",\"\",VLOOKUP(AG100,'（従来型）シフト記号表'!$C$5:$Y$46,23,FALSE))","v":""},{"$f":"IF(AH100=\"\",\"\",VLOOKUP(AH100,'（従来型）シフト記号表'!$C$5:$Y$46,23,FALSE))","v":""},{"$f":"IF(AI100=\"\",\"\",VLOOKUP(AI100,'（従来型）シフト記号表'!$C$5:$Y$46,23,FALSE))","v":""},{"$f":"IF(AJ100=\"\",\"\",VLOOKUP(AJ100,'（従来型）シフト記号表'!$C$5:$Y$46,23,FALSE))","v":""},{"$f":"IF(AK100=\"\",\"\",VLOOKUP(AK100,'（従来型）シフト記号表'!$C$5:$Y$46,23,FALSE))","v":""},{"$f":"IF(AL100=\"\",\"\",VLOOKUP(AL100,'（従来型）シフト記号表'!$C$5:$Y$46,23,FALSE))","v":""},{"$f":"IF(AM100=\"\",\"\",VLOOKUP(AM100,'（従来型）シフト記号表'!$C$5:$Y$46,23,FALSE))","v":""},{"$f":"IF(AN100=\"\",\"\",VLOOKUP(AN100,'（従来型）シフト記号表'!$C$5:$Y$46,23,FALSE))","v":""},{"$f":"IF(AO100=\"\",\"\",VLOOKUP(AO100,'（従来型）シフト記号表'!$C$5:$Y$46,23,FALSE))","v":""},{"$f":"IF(AP100=\"\",\"\",VLOOKUP(AP100,'（従来型）シフト記号表'!$C$5:$Y$46,23,FALSE))","v":""},{"$f":"IF(AQ100=\"\",\"\",VLOOKUP(AQ100,'（従来型）シフト記号表'!$C$5:$Y$46,23,FALSE))","v":""},{"$f":"IF(AR100=\"\",\"\",VLOOKUP(AR100,'（従来型）シフト記号表'!$C$5:$Y$46,23,FALSE))","v":""},{"$f":"IF(AS100=\"\",\"\",VLOOKUP(AS100,'（従来型）シフト記号表'!$C$5:$Y$46,23,FALSE))","v":""},{"$f":"IF(AT100=\"\",\"\",VLOOKUP(AT100,'（従来型）シフト記号表'!$C$5:$Y$46,23,FALSE))","v":""},{"$f":"IF(AU100=\"\",\"\",VLOOKUP(AU100,'（従来型）シフト記号表'!$C$5:$Y$46,23,FALSE))","v":""},{"$f":"IF(AV100=\"\",\"\",VLOOKUP(AV100,'（従来型）シフト記号表'!$C$5:$Y$46,23,FALSE))","v":""},{"$f":"IF(AW100=\"\",\"\",VLOOKUP(AW100,'（従来型）シフト記号表'!$C$5:$Y$46,23,FALSE))","v":""},{"$f":"IF(AX100=\"\",\"\",VLOOKUP(AX100,'（従来型）シフト記号表'!$C$5:$Y$46,23,FALSE))","v":""},{"$f":"IF(AY100=\"\",\"\",VLOOKUP(AY100,'（従来型）シフト記号表'!$C$5:$Y$46,23,FALSE))","v":""},{"$f":"IF(AZ100=\"\",\"\",VLOOKUP(AZ100,'（従来型）シフト記号表'!$C$5:$Y$46,23,FALSE))","v":""},{"$f":"IF(BA100=\"\",\"\",VLOOKUP(BA100,'（従来型）シフト記号表'!$C$5:$Y$46,23,FALSE))","v":""},{"$f":"IF(BB100=\"\",\"\",VLOOKUP(BB100,'（従来型）シフト記号表'!$C$5:$Y$46,23,FALSE))","v":""},{"$f":"IF(BC100=\"\",\"\",VLOOKUP(BC100,'（従来型）シフト記号表'!$C$5:$Y$46,23,FALSE))","v":""},{"$f":"IF(BD100=\"\",\"\",VLOOKUP(BD100,'（従来型）シフト記号表'!$C$5:$Y$46,23,FALSE))","v":""},{"$f":"IF(BE100=\"\",\"\",VLOOKUP(BE100,'（従来型）シフト記号表'!$C$5:$Y$46,23,FALSE))","v":""},{"$f":"IF($BI$3=\"計画\",SUM(AA102:BB102),IF($BI$3=\"実績\",SUM(AA102:BE102),\"\"))","v":0},null,{"$f":"IF($BI$3=\"計画\",BF102/4,IF($BI$3=\"実績\",(BF102/($BI$7/7)),\"\"))","v":0}]
[null,null,null,null,null,null,null,null,null,null,null,null,null,null,null,null,null,null,null,null,null,"シフト記号"]
[null,{"$f":"B101+1","v":29},null,null,null,null,null,null,null,null,null,null,null,null,null,null,null,null,null,null,null,"日中の勤務時間数",null,null,null,null,{"$f":"IF(AA103=\"\",\"\",VLOOKUP(AA103,'（従来型）シフト記号表'!$C$5:$W$46,21,FALSE))","v":""},{"$f":"IF(AB103=\"\",\"\",VLOOKUP(AB103,'（従来型）シフト記号表'!$C$5:$W$46,21,FALSE))","v":""},{"$f":"IF(AC103=\"\",\"\",VLOOKUP(AC103,'（従来型）シフト記号表'!$C$5:$W$46,21,FALSE))","v":""},{"$f":"IF(AD103=\"\",\"\",VLOOKUP(AD103,'（従来型）シフト記号表'!$C$5:$W$46,21,FALSE))","v":""},{"$f":"IF(AE103=\"\",\"\",VLOOKUP(AE103,'（従来型）シフト記号表'!$C$5:$W$46,21,FALSE))","v":""},{"$f":"IF(AF103=\"\",\"\",VLOOKUP(AF103,'（従来型）シフト記号表'!$C$5:$W$46,21,FALSE))","v":""},{"$f":"IF(AG103=\"\",\"\",VLOOKUP(AG103,'（従来型）シフト記号表'!$C$5:$W$46,21,FALSE))","v":""},{"$f":"IF(AH103=\"\",\"\",VLOOKUP(AH103,'（従来型）シフト記号表'!$C$5:$W$46,21,FALSE))","v":""},{"$f":"IF(AI103=\"\",\"\",VLOOKUP(AI103,'（従来型）シフト記号表'!$C$5:$W$46,21,FALSE))","v":""},{"$f":"IF(AJ103=\"\",\"\",VLOOKUP(AJ103,'（従来型）シフト記号表'!$C$5:$W$46,21,FALSE))","v":""},{"$f":"IF(AK103=\"\",\"\",VLOOKUP(AK103,'（従来型）シフト記号表'!$C$5:$W$46,21,FALSE))","v":""},{"$f":"IF(AL103=\"\",\"\",VLOOKUP(AL103,'（従来型）シフト記号表'!$C$5:$W$46,21,FALSE))","v":""},{"$f":"IF(AM103=\"\",\"\",VLOOKUP(AM103,'（従来型）シフト記号表'!$C$5:$W$46,21,FALSE))","v":""},{"$f":"IF(AN103=\"\",\"\",VLOOKUP(AN103,'（従来型）シフト記号表'!$C$5:$W$46,21,FALSE))","v":""},{"$f":"IF(AO103=\"\",\"\",VLOOKUP(AO103,'（従来型）シフト記号表'!$C$5:$W$46,21,FALSE))","v":""},{"$f":"IF(AP103=\"\",\"\",VLOOKUP(AP103,'（従来型）シフト記号表'!$C$5:$W$46,21,FALSE))","v":""},{"$f":"IF(AQ103=\"\",\"\",VLOOKUP(AQ103,'（従来型）シフト記号表'!$C$5:$W$46,21,FALSE))","v":""},{"$f":"IF(AR103=\"\",\"\",VLOOKUP(AR103,'（従来型）シフト記号表'!$C$5:$W$46,21,FALSE))","v":""},{"$f":"IF(AS103=\"\",\"\",VLOOKUP(AS103,'（従来型）シフト記号表'!$C$5:$W$46,21,FALSE))","v":""},{"$f":"IF(AT103=\"\",\"\",VLOOKUP(AT103,'（従来型）シフト記号表'!$C$5:$W$46,21,FALSE))","v":""},{"$f":"IF(AU103=\"\",\"\",VLOOKUP(AU103,'（従来型）シフト記号表'!$C$5:$W$46,21,FALSE))","v":""},{"$f":"IF(AV103=\"\",\"\",VLOOKUP(AV103,'（従来型）シフト記号表'!$C$5:$W$46,21,FALSE))","v":""},{"$f":"IF(AW103=\"\",\"\",VLOOKUP(AW103,'（従来型）シフト記号表'!$C$5:$W$46,21,FALSE))","v":""},{"$f":"IF(AX103=\"\",\"\",VLOOKUP(AX103,'（従来型）シフト記号表'!$C$5:$W$46,21,FALSE))","v":""},{"$f":"IF(AY103=\"\",\"\",VLOOKUP(AY103,'（従来型）シフト記号表'!$C$5:$W$46,21,FALSE))","v":""},{"$f":"IF(AZ103=\"\",\"\",VLOOKUP(AZ103,'（従来型）シフト記号表'!$C$5:$W$46,21,FALSE))","v":""},{"$f":"IF(BA103=\"\",\"\",VLOOKUP(BA103,'（従来型）シフト記号表'!$C$5:$W$46,21,FALSE))","v":""},{"$f":"IF(BB103=\"\",\"\",VLOOKUP(BB103,'（従来型）シフト記号表'!$C$5:$W$46,21,FALSE))","v":""},{"$f":"IF(BC103=\"\",\"\",VLOOKUP(BC103,'（従来型）シフト記号表'!$C$5:$W$46,21,FALSE))","v":""},{"$f":"IF(BD103=\"\",\"\",VLOOKUP(BD103,'（従来型）シフト記号表'!$C$5:$W$46,21,FALSE))","v":""},{"$f":"IF(BE103=\"\",\"\",VLOOKUP(BE103,'（従来型）シフト記号表'!$C$5:$W$46,21,FALSE))","v":""},{"$f":"IF($BI$3=\"計画\",SUM(AA104:BB104),IF($BI$3=\"実績\",SUM(AA104:BE104),\"\"))","v":0},null,{"$f":"IF($BI$3=\"計画\",BF104/4,IF($BI$3=\"実績\",(BF104/($BI$7/7)),\"\"))","v":0}]
[null,null,null,null,null,null,null,null,{"$f":"G104","v":0},null,{"$f":"M104","v":0},null,null,null,null,null,null,null,null,null,null,"夜勤時間帯の勤務時間数",null,null,null,null,{"$f":"IF(AA103=\"\",\"\",VLOOKUP(AA103,'（従来型）シフト記号表'!$C$5:$Y$46,23,FALSE))","v":""},{"$f":"IF(AB103=\"\",\"\",VLOOKUP(AB103,'（従来型）シフト記号表'!$C$5:$Y$46,23,FALSE))","v":""},{"$f":"IF(AC103=\"\",\"\",VLOOKUP(AC103,'（従来型）シフト記号表'!$C$5:$Y$46,23,FALSE))","v":""},{"$f":"IF(AD103=\"\",\"\",VLOOKUP(AD103,'（従来型）シフト記号表'!$C$5:$Y$46,23,FALSE))","v":""},{"$f":"IF(AE103=\"\",\"\",VLOOKUP(AE103,'（従来型）シフト記号表'!$C$5:$Y$46,23,FALSE))","v":""},{"$f":"IF(AF103=\"\",\"\",VLOOKUP(AF103,'（従来型）シフト記号表'!$C$5:$Y$46,23,FALSE))","v":""},{"$f":"IF(AG103=\"\",\"\",VLOOKUP(AG103,'（従来型）シフト記号表'!$C$5:$Y$46,23,FALSE))","v":""},{"$f":"IF(AH103=\"\",\"\",VLOOKUP(AH103,'（従来型）シフト記号表'!$C$5:$Y$46,23,FALSE))","v":""},{"$f":"IF(AI103=\"\",\"\",VLOOKUP(AI103,'（従来型）シフト記号表'!$C$5:$Y$46,23,FALSE))","v":""},{"$f":"IF(AJ103=\"\",\"\",VLOOKUP(AJ103,'（従来型）シフト記号表'!$C$5:$Y$46,23,FALSE))","v":""},{"$f":"IF(AK103=\"\",\"\",VLOOKUP(AK103,'（従来型）シフト記号表'!$C$5:$Y$46,23,FALSE))","v":""},{"$f":"IF(AL103=\"\",\"\",VLOOKUP(AL103,'（従来型）シフト記号表'!$C$5:$Y$46,23,FALSE))","v":""},{"$f":"IF(AM103=\"\",\"\",VLOOKUP(AM103,'（従来型）シフト記号表'!$C$5:$Y$46,23,FALSE))","v":""},{"$f":"IF(AN103=\"\",\"\",VLOOKUP(AN103,'（従来型）シフト記号表'!$C$5:$Y$46,23,FALSE))","v":""},{"$f":"IF(AO103=\"\",\"\",VLOOKUP(AO103,'（従来型）シフト記号表'!$C$5:$Y$46,23,FALSE))","v":""},{"$f":"IF(AP103=\"\",\"\",VLOOKUP(AP103,'（従来型）シフト記号表'!$C$5:$Y$46,23,FALSE))","v":""},{"$f":"IF(AQ103=\"\",\"\",VLOOKUP(AQ103,'（従来型）シフト記号表'!$C$5:$Y$46,23,FALSE))","v":""},{"$f":"IF(AR103=\"\",\"\",VLOOKUP(AR103,'（従来型）シフト記号表'!$C$5:$Y$46,23,FALSE))","v":""},{"$f":"IF(AS103=\"\",\"\",VLOOKUP(AS103,'（従来型）シフト記号表'!$C$5:$Y$46,23,FALSE))","v":""},{"$f":"IF(AT103=\"\",\"\",VLOOKUP(AT103,'（従来型）シフト記号表'!$C$5:$Y$46,23,FALSE))","v":""},{"$f":"IF(AU103=\"\",\"\",VLOOKUP(AU103,'（従来型）シフト記号表'!$C$5:$Y$46,23,FALSE))","v":""},{"$f":"IF(AV103=\"\",\"\",VLOOKUP(AV103,'（従来型）シフト記号表'!$C$5:$Y$46,23,FALSE))","v":""},{"$f":"IF(AW103=\"\",\"\",VLOOKUP(AW103,'（従来型）シフト記号表'!$C$5:$Y$46,23,FALSE))","v":""},{"$f":"IF(AX103=\"\",\"\",VLOOKUP(AX103,'（従来型）シフト記号表'!$C$5:$Y$46,23,FALSE))","v":""},{"$f":"IF(AY103=\"\",\"\",VLOOKUP(AY103,'（従来型）シフト記号表'!$C$5:$Y$46,23,FALSE))","v":""},{"$f":"IF(AZ103=\"\",\"\",VLOOKUP(AZ103,'（従来型）シフト記号表'!$C$5:$Y$46,23,FALSE))","v":""},{"$f":"IF(BA103=\"\",\"\",VLOOKUP(BA103,'（従来型）シフト記号表'!$C$5:$Y$46,23,FALSE))","v":""},{"$f":"IF(BB103=\"\",\"\",VLOOKUP(BB103,'（従来型）シフト記号表'!$C$5:$Y$46,23,FALSE))","v":""},{"$f":"IF(BC103=\"\",\"\",VLOOKUP(BC103,'（従来型）シフト記号表'!$C$5:$Y$46,23,FALSE))","v":""},{"$f":"IF(BD103=\"\",\"\",VLOOKUP(BD103,'（従来型）シフト記号表'!$C$5:$Y$46,23,FALSE))","v":""},{"$f":"IF(BE103=\"\",\"\",VLOOKUP(BE103,'（従来型）シフト記号表'!$C$5:$Y$46,23,FALSE))","v":""},{"$f":"IF($BI$3=\"計画\",SUM(AA105:BB105),IF($BI$3=\"実績\",SUM(AA105:BE105),\"\"))","v":0},null,{"$f":"IF($BI$3=\"計画\",BF105/4,IF($BI$3=\"実績\",(BF105/($BI$7/7)),\"\"))","v":0}]
[null,null,null,null,null,null,null,null,null,null,null,null,null,null,null,null,null,null,null,null,null,"シフト記号"]
[null,{"$f":"B104+1","v":30},null,null,null,null,null,null,null,null,null,null,null,null,null,null,null,null,null,null,null,"日中の勤務時間数",null,null,null,null,{"$f":"IF(AA106=\"\",\"\",VLOOKUP(AA106,'（従来型）シフト記号表'!$C$5:$W$46,21,FALSE))","v":""},{"$f":"IF(AB106=\"\",\"\",VLOOKUP(AB106,'（従来型）シフト記号表'!$C$5:$W$46,21,FALSE))","v":""},{"$f":"IF(AC106=\"\",\"\",VLOOKUP(AC106,'（従来型）シフト記号表'!$C$5:$W$46,21,FALSE))","v":""},{"$f":"IF(AD106=\"\",\"\",VLOOKUP(AD106,'（従来型）シフト記号表'!$C$5:$W$46,21,FALSE))","v":""},{"$f":"IF(AE106=\"\",\"\",VLOOKUP(AE106,'（従来型）シフト記号表'!$C$5:$W$46,21,FALSE))","v":""},{"$f":"IF(AF106=\"\",\"\",VLOOKUP(AF106,'（従来型）シフト記号表'!$C$5:$W$46,21,FALSE))","v":""},{"$f":"IF(AG106=\"\",\"\",VLOOKUP(AG106,'（従来型）シフト記号表'!$C$5:$W$46,21,FALSE))","v":""},{"$f":"IF(AH106=\"\",\"\",VLOOKUP(AH106,'（従来型）シフト記号表'!$C$5:$W$46,21,FALSE))","v":""},{"$f":"IF(AI106=\"\",\"\",VLOOKUP(AI106,'（従来型）シフト記号表'!$C$5:$W$46,21,FALSE))","v":""},{"$f":"IF(AJ106=\"\",\"\",VLOOKUP(AJ106,'（従来型）シフト記号表'!$C$5:$W$46,21,FALSE))","v":""},{"$f":"IF(AK106=\"\",\"\",VLOOKUP(AK106,'（従来型）シフト記号表'!$C$5:$W$46,21,FALSE))","v":""},{"$f":"IF(AL106=\"\",\"\",VLOOKUP(AL106,'（従来型）シフト記号表'!$C$5:$W$46,21,FALSE))","v":""},{"$f":"IF(AM106=\"\",\"\",VLOOKUP(AM106,'（従来型）シフト記号表'!$C$5:$W$46,21,FALSE))","v":""},{"$f":"IF(AN106=\"\",\"\",VLOOKUP(AN106,'（従来型）シフト記号表'!$C$5:$W$46,21,FALSE))","v":""},{"$f":"IF(AO106=\"\",\"\",VLOOKUP(AO106,'（従来型）シフト記号表'!$C$5:$W$46,21,FALSE))","v":""},{"$f":"IF(AP106=\"\",\"\",VLOOKUP(AP106,'（従来型）シフト記号表'!$C$5:$W$46,21,FALSE))","v":""},{"$f":"IF(AQ106=\"\",\"\",VLOOKUP(AQ106,'（従来型）シフト記号表'!$C$5:$W$46,21,FALSE))","v":""},{"$f":"IF(AR106=\"\",\"\",VLOOKUP(AR106,'（従来型）シフト記号表'!$C$5:$W$46,21,FALSE))","v":""},{"$f":"IF(AS106=\"\",\"\",VLOOKUP(AS106,'（従来型）シフト記号表'!$C$5:$W$46,21,FALSE))","v":""},{"$f":"IF(AT106=\"\",\"\",VLOOKUP(AT106,'（従来型）シフト記号表'!$C$5:$W$46,21,FALSE))","v":""},{"$f":"IF(AU106=\"\",\"\",VLOOKUP(AU106,'（従来型）シフト記号表'!$C$5:$W$46,21,FALSE))","v":""},{"$f":"IF(AV106=\"\",\"\",VLOOKUP(AV106,'（従来型）シフト記号表'!$C$5:$W$46,21,FALSE))","v":""},{"$f":"IF(AW106=\"\",\"\",VLOOKUP(AW106,'（従来型）シフト記号表'!$C$5:$W$46,21,FALSE))","v":""},{"$f":"IF(AX106=\"\",\"\",VLOOKUP(AX106,'（従来型）シフト記号表'!$C$5:$W$46,21,FALSE))","v":""},{"$f":"IF(AY106=\"\",\"\",VLOOKUP(AY106,'（従来型）シフト記号表'!$C$5:$W$46,21,FALSE))","v":""},{"$f":"IF(AZ106=\"\",\"\",VLOOKUP(AZ106,'（従来型）シフト記号表'!$C$5:$W$46,21,FALSE))","v":""},{"$f":"IF(BA106=\"\",\"\",VLOOKUP(BA106,'（従来型）シフト記号表'!$C$5:$W$46,21,FALSE))","v":""},{"$f":"IF(BB106=\"\",\"\",VLOOKUP(BB106,'（従来型）シフト記号表'!$C$5:$W$46,21,FALSE))","v":""},{"$f":"IF(BC106=\"\",\"\",VLOOKUP(BC106,'（従来型）シフト記号表'!$C$5:$W$46,21,FALSE))","v":""},{"$f":"IF(BD106=\"\",\"\",VLOOKUP(BD106,'（従来型）シフト記号表'!$C$5:$W$46,21,FALSE))","v":""},{"$f":"IF(BE106=\"\",\"\",VLOOKUP(BE106,'（従来型）シフト記号表'!$C$5:$W$46,21,FALSE))","v":""},{"$f":"IF($BI$3=\"計画\",SUM(AA107:BB107),IF($BI$3=\"実績\",SUM(AA107:BE107),\"\"))","v":0},null,{"$f":"IF($BI$3=\"計画\",BF107/4,IF($BI$3=\"実績\",(BF107/($BI$7/7)),\"\"))","v":0}]
[null,null,null,null,null,null,null,null,{"$f":"G107","v":0},null,{"$f":"M107","v":0},null,null,null,null,null,null,null,null,null,null,"夜勤時間帯の勤務時間数",null,null,null,null,{"$f":"IF(AA106=\"\",\"\",VLOOKUP(AA106,'（従来型）シフト記号表'!$C$5:$Y$46,23,FALSE))","v":""},{"$f":"IF(AB106=\"\",\"\",VLOOKUP(AB106,'（従来型）シフト記号表'!$C$5:$Y$46,23,FALSE))","v":""},{"$f":"IF(AC106=\"\",\"\",VLOOKUP(AC106,'（従来型）シフト記号表'!$C$5:$Y$46,23,FALSE))","v":""},{"$f":"IF(AD106=\"\",\"\",VLOOKUP(AD106,'（従来型）シフト記号表'!$C$5:$Y$46,23,FALSE))","v":""},{"$f":"IF(AE106=\"\",\"\",VLOOKUP(AE106,'（従来型）シフト記号表'!$C$5:$Y$46,23,FALSE))","v":""},{"$f":"IF(AF106=\"\",\"\",VLOOKUP(AF106,'（従来型）シフト記号表'!$C$5:$Y$46,23,FALSE))","v":""},{"$f":"IF(AG106=\"\",\"\",VLOOKUP(AG106,'（従来型）シフト記号表'!$C$5:$Y$46,23,FALSE))","v":""},{"$f":"IF(AH106=\"\",\"\",VLOOKUP(AH106,'（従来型）シフト記号表'!$C$5:$Y$46,23,FALSE))","v":""},{"$f":"IF(AI106=\"\",\"\",VLOOKUP(AI106,'（従来型）シフト記号表'!$C$5:$Y$46,23,FALSE))","v":""},{"$f":"IF(AJ106=\"\",\"\",VLOOKUP(AJ106,'（従来型）シフト記号表'!$C$5:$Y$46,23,FALSE))","v":""},{"$f":"IF(AK106=\"\",\"\",VLOOKUP(AK106,'（従来型）シフト記号表'!$C$5:$Y$46,23,FALSE))","v":""},{"$f":"IF(AL106=\"\",\"\",VLOOKUP(AL106,'（従来型）シフト記号表'!$C$5:$Y$46,23,FALSE))","v":""},{"$f":"IF(AM106=\"\",\"\",VLOOKUP(AM106,'（従来型）シフト記号表'!$C$5:$Y$46,23,FALSE))","v":""},{"$f":"IF(AN106=\"\",\"\",VLOOKUP(AN106,'（従来型）シフト記号表'!$C$5:$Y$46,23,FALSE))","v":""},{"$f":"IF(AO106=\"\",\"\",VLOOKUP(AO106,'（従来型）シフト記号表'!$C$5:$Y$46,23,FALSE))","v":""},{"$f":"IF(AP106=\"\",\"\",VLOOKUP(AP106,'（従来型）シフト記号表'!$C$5:$Y$46,23,FALSE))","v":""},{"$f":"IF(AQ106=\"\",\"\",VLOOKUP(AQ106,'（従来型）シフト記号表'!$C$5:$Y$46,23,FALSE))","v":""},{"$f":"IF(AR106=\"\",\"\",VLOOKUP(AR106,'（従来型）シフト記号表'!$C$5:$Y$46,23,FALSE))","v":""},{"$f":"IF(AS106=\"\",\"\",VLOOKUP(AS106,'（従来型）シフト記号表'!$C$5:$Y$46,23,FALSE))","v":""},{"$f":"IF(AT106=\"\",\"\",VLOOKUP(AT106,'（従来型）シフト記号表'!$C$5:$Y$46,23,FALSE))","v":""},{"$f":"IF(AU106=\"\",\"\",VLOOKUP(AU106,'（従来型）シフト記号表'!$C$5:$Y$46,23,FALSE))","v":""},{"$f":"IF(AV106=\"\",\"\",VLOOKUP(AV106,'（従来型）シフト記号表'!$C$5:$Y$46,23,FALSE))","v":""},{"$f":"IF(AW106=\"\",\"\",VLOOKUP(AW106,'（従来型）シフト記号表'!$C$5:$Y$46,23,FALSE))","v":""},{"$f":"IF(AX106=\"\",\"\",VLOOKUP(AX106,'（従来型）シフト記号表'!$C$5:$Y$46,23,FALSE))","v":""},{"$f":"IF(AY106=\"\",\"\",VLOOKUP(AY106,'（従来型）シフト記号表'!$C$5:$Y$46,23,FALSE))","v":""},{"$f":"IF(AZ106=\"\",\"\",VLOOKUP(AZ106,'（従来型）シフト記号表'!$C$5:$Y$46,23,FALSE))","v":""},{"$f":"IF(BA106=\"\",\"\",VLOOKUP(BA106,'（従来型）シフト記号表'!$C$5:$Y$46,23,FALSE))","v":""},{"$f":"IF(BB106=\"\",\"\",VLOOKUP(BB106,'（従来型）シフト記号表'!$C$5:$Y$46,23,FALSE))","v":""},{"$f":"IF(BC106=\"\",\"\",VLOOKUP(BC106,'（従来型）シフト記号表'!$C$5:$Y$46,23,FALSE))","v":""},{"$f":"IF(BD106=\"\",\"\",VLOOKUP(BD106,'（従来型）シフト記号表'!$C$5:$Y$46,23,FALSE))","v":""},{"$f":"IF(BE106=\"\",\"\",VLOOKUP(BE106,'（従来型）シフト記号表'!$C$5:$Y$46,23,FALSE))","v":""},{"$f":"IF($BI$3=\"計画\",SUM(AA108:BB108),IF($BI$3=\"実績\",SUM(AA108:BE108),\"\"))","v":0},null,{"$f":"IF($BI$3=\"計画\",BF108/4,IF($BI$3=\"実績\",(BF108/($BI$7/7)),\"\"))","v":0}]
[null,null,null,null,null,null,null,null,null,null,null,null,null,null,null,null,null,null,null,null,null,"シフト記号"]
[null,{"$f":"B107+1","v":31},null,null,null,null,null,null,null,null,null,null,null,null,null,null,null,null,null,null,null,"日中の勤務時間数",null,null,null,null,{"$f":"IF(AA109=\"\",\"\",VLOOKUP(AA109,'（従来型）シフト記号表'!$C$5:$W$46,21,FALSE))","v":""},{"$f":"IF(AB109=\"\",\"\",VLOOKUP(AB109,'（従来型）シフト記号表'!$C$5:$W$46,21,FALSE))","v":""},{"$f":"IF(AC109=\"\",\"\",VLOOKUP(AC109,'（従来型）シフト記号表'!$C$5:$W$46,21,FALSE))","v":""},{"$f":"IF(AD109=\"\",\"\",VLOOKUP(AD109,'（従来型）シフト記号表'!$C$5:$W$46,21,FALSE))","v":""},{"$f":"IF(AE109=\"\",\"\",VLOOKUP(AE109,'（従来型）シフト記号表'!$C$5:$W$46,21,FALSE))","v":""},{"$f":"IF(AF109=\"\",\"\",VLOOKUP(AF109,'（従来型）シフト記号表'!$C$5:$W$46,21,FALSE))","v":""},{"$f":"IF(AG109=\"\",\"\",VLOOKUP(AG109,'（従来型）シフト記号表'!$C$5:$W$46,21,FALSE))","v":""},{"$f":"IF(AH109=\"\",\"\",VLOOKUP(AH109,'（従来型）シフト記号表'!$C$5:$W$46,21,FALSE))","v":""},{"$f":"IF(AI109=\"\",\"\",VLOOKUP(AI109,'（従来型）シフト記号表'!$C$5:$W$46,21,FALSE))","v":""},{"$f":"IF(AJ109=\"\",\"\",VLOOKUP(AJ109,'（従来型）シフト記号表'!$C$5:$W$46,21,FALSE))","v":""},{"$f":"IF(AK109=\"\",\"\",VLOOKUP(AK109,'（従来型）シフト記号表'!$C$5:$W$46,21,FALSE))","v":""},{"$f":"IF(AL109=\"\",\"\",VLOOKUP(AL109,'（従来型）シフト記号表'!$C$5:$W$46,21,FALSE))","v":""},{"$f":"IF(AM109=\"\",\"\",VLOOKUP(AM109,'（従来型）シフト記号表'!$C$5:$W$46,21,FALSE))","v":""},{"$f":"IF(AN109=\"\",\"\",VLOOKUP(AN109,'（従来型）シフト記号表'!$C$5:$W$46,21,FALSE))","v":""},{"$f":"IF(AO109=\"\",\"\",VLOOKUP(AO109,'（従来型）シフト記号表'!$C$5:$W$46,21,FALSE))","v":""},{"$f":"IF(AP109=\"\",\"\",VLOOKUP(AP109,'（従来型）シフト記号表'!$C$5:$W$46,21,FALSE))","v":""},{"$f":"IF(AQ109=\"\",\"\",VLOOKUP(AQ109,'（従来型）シフト記号表'!$C$5:$W$46,21,FALSE))","v":""},{"$f":"IF(AR109=\"\",\"\",VLOOKUP(AR109,'（従来型）シフト記号表'!$C$5:$W$46,21,FALSE))","v":""},{"$f":"IF(AS109=\"\",\"\",VLOOKUP(AS109,'（従来型）シフト記号表'!$C$5:$W$46,21,FALSE))","v":""},{"$f":"IF(AT109=\"\",\"\",VLOOKUP(AT109,'（従来型）シフト記号表'!$C$5:$W$46,21,FALSE))","v":""},{"$f":"IF(AU109=\"\",\"\",VLOOKUP(AU109,'（従来型）シフト記号表'!$C$5:$W$46,21,FALSE))","v":""},{"$f":"IF(AV109=\"\",\"\",VLOOKUP(AV109,'（従来型）シフト記号表'!$C$5:$W$46,21,FALSE))","v":""},{"$f":"IF(AW109=\"\",\"\",VLOOKUP(AW109,'（従来型）シフト記号表'!$C$5:$W$46,21,FALSE))","v":""},{"$f":"IF(AX109=\"\",\"\",VLOOKUP(AX109,'（従来型）シフト記号表'!$C$5:$W$46,21,FALSE))","v":""},{"$f":"IF(AY109=\"\",\"\",VLOOKUP(AY109,'（従来型）シフト記号表'!$C$5:$W$46,21,FALSE))","v":""},{"$f":"IF(AZ109=\"\",\"\",VLOOKUP(AZ109,'（従来型）シフト記号表'!$C$5:$W$46,21,FALSE))","v":""},{"$f":"IF(BA109=\"\",\"\",VLOOKUP(BA109,'（従来型）シフト記号表'!$C$5:$W$46,21,FALSE))","v":""},{"$f":"IF(BB109=\"\",\"\",VLOOKUP(BB109,'（従来型）シフト記号表'!$C$5:$W$46,21,FALSE))","v":""},{"$f":"IF(BC109=\"\",\"\",VLOOKUP(BC109,'（従来型）シフト記号表'!$C$5:$W$46,21,FALSE))","v":""},{"$f":"IF(BD109=\"\",\"\",VLOOKUP(BD109,'（従来型）シフト記号表'!$C$5:$W$46,21,FALSE))","v":""},{"$f":"IF(BE109=\"\",\"\",VLOOKUP(BE109,'（従来型）シフト記号表'!$C$5:$W$46,21,FALSE))","v":""},{"$f":"IF($BI$3=\"計画\",SUM(AA110:BB110),IF($BI$3=\"実績\",SUM(AA110:BE110),\"\"))","v":0},null,{"$f":"IF($BI$3=\"計画\",BF110/4,IF($BI$3=\"実績\",(BF110/($BI$7/7)),\"\"))","v":0}]
[null,null,null,null,null,null,null,null,{"$f":"G110","v":0},null,{"$f":"M110","v":0},null,null,null,null,null,null,null,null,null,null,"夜勤時間帯の勤務時間数",null,null,null,null,{"$f":"IF(AA109=\"\",\"\",VLOOKUP(AA109,'（従来型）シフト記号表'!$C$5:$Y$46,23,FALSE))","v":""},{"$f":"IF(AB109=\"\",\"\",VLOOKUP(AB109,'（従来型）シフト記号表'!$C$5:$Y$46,23,FALSE))","v":""},{"$f":"IF(AC109=\"\",\"\",VLOOKUP(AC109,'（従来型）シフト記号表'!$C$5:$Y$46,23,FALSE))","v":""},{"$f":"IF(AD109=\"\",\"\",VLOOKUP(AD109,'（従来型）シフト記号表'!$C$5:$Y$46,23,FALSE))","v":""},{"$f":"IF(AE109=\"\",\"\",VLOOKUP(AE109,'（従来型）シフト記号表'!$C$5:$Y$46,23,FALSE))","v":""},{"$f":"IF(AF109=\"\",\"\",VLOOKUP(AF109,'（従来型）シフト記号表'!$C$5:$Y$46,23,FALSE))","v":""},{"$f":"IF(AG109=\"\",\"\",VLOOKUP(AG109,'（従来型）シフト記号表'!$C$5:$Y$46,23,FALSE))","v":""},{"$f":"IF(AH109=\"\",\"\",VLOOKUP(AH109,'（従来型）シフト記号表'!$C$5:$Y$46,23,FALSE))","v":""},{"$f":"IF(AI109=\"\",\"\",VLOOKUP(AI109,'（従来型）シフト記号表'!$C$5:$Y$46,23,FALSE))","v":""},{"$f":"IF(AJ109=\"\",\"\",VLOOKUP(AJ109,'（従来型）シフト記号表'!$C$5:$Y$46,23,FALSE))","v":""},{"$f":"IF(AK109=\"\",\"\",VLOOKUP(AK109,'（従来型）シフト記号表'!$C$5:$Y$46,23,FALSE))","v":""},{"$f":"IF(AL109=\"\",\"\",VLOOKUP(AL109,'（従来型）シフト記号表'!$C$5:$Y$46,23,FALSE))","v":""},{"$f":"IF(AM109=\"\",\"\",VLOOKUP(AM109,'（従来型）シフト記号表'!$C$5:$Y$46,23,FALSE))","v":""},{"$f":"IF(AN109=\"\",\"\",VLOOKUP(AN109,'（従来型）シフト記号表'!$C$5:$Y$46,23,FALSE))","v":""},{"$f":"IF(AO109=\"\",\"\",VLOOKUP(AO109,'（従来型）シフト記号表'!$C$5:$Y$46,23,FALSE))","v":""},{"$f":"IF(AP109=\"\",\"\",VLOOKUP(AP109,'（従来型）シフト記号表'!$C$5:$Y$46,23,FALSE))","v":""},{"$f":"IF(AQ109=\"\",\"\",VLOOKUP(AQ109,'（従来型）シフト記号表'!$C$5:$Y$46,23,FALSE))","v":""},{"$f":"IF(AR109=\"\",\"\",VLOOKUP(AR109,'（従来型）シフト記号表'!$C$5:$Y$46,23,FALSE))","v":""},{"$f":"IF(AS109=\"\",\"\",VLOOKUP(AS109,'（従来型）シフト記号表'!$C$5:$Y$46,23,FALSE))","v":""},{"$f":"IF(AT109=\"\",\"\",VLOOKUP(AT109,'（従来型）シフト記号表'!$C$5:$Y$46,23,FALSE))","v":""},{"$f":"IF(AU109=\"\",\"\",VLOOKUP(AU109,'（従来型）シフト記号表'!$C$5:$Y$46,23,FALSE))","v":""},{"$f":"IF(AV109=\"\",\"\",VLOOKUP(AV109,'（従来型）シフト記号表'!$C$5:$Y$46,23,FALSE))","v":""},{"$f":"IF(AW109=\"\",\"\",VLOOKUP(AW109,'（従来型）シフト記号表'!$C$5:$Y$46,23,FALSE))","v":""},{"$f":"IF(AX109=\"\",\"\",VLOOKUP(AX109,'（従来型）シフト記号表'!$C$5:$Y$46,23,FALSE))","v":""},{"$f":"IF(AY109=\"\",\"\",VLOOKUP(AY109,'（従来型）シフト記号表'!$C$5:$Y$46,23,FALSE))","v":""},{"$f":"IF(AZ109=\"\",\"\",VLOOKUP(AZ109,'（従来型）シフト記号表'!$C$5:$Y$46,23,FALSE))","v":""},{"$f":"IF(BA109=\"\",\"\",VLOOKUP(BA109,'（従来型）シフト記号表'!$C$5:$Y$46,23,FALSE))","v":""},{"$f":"IF(BB109=\"\",\"\",VLOOKUP(BB109,'（従来型）シフト記号表'!$C$5:$Y$46,23,FALSE))","v":""},{"$f":"IF(BC109=\"\",\"\",VLOOKUP(BC109,'（従来型）シフト記号表'!$C$5:$Y$46,23,FALSE))","v":""},{"$f":"IF(BD109=\"\",\"\",VLOOKUP(BD109,'（従来型）シフト記号表'!$C$5:$Y$46,23,FALSE))","v":""},{"$f":"IF(BE109=\"\",\"\",VLOOKUP(BE109,'（従来型）シフト記号表'!$C$5:$Y$46,23,FALSE))","v":""},{"$f":"IF($BI$3=\"計画\",SUM(AA111:BB111),IF($BI$3=\"実績\",SUM(AA111:BE111),\"\"))","v":0},null,{"$f":"IF($BI$3=\"計画\",BF111/4,IF($BI$3=\"実績\",(BF111/($BI$7/7)),\"\"))","v":0}]
[null,null,null,null,null,null,null,null,null,null,null,null,null,null,null,null,null,null,null,null,null,"シフト記号"]
[null,{"$f":"B110+1","v":32},null,null,null,null,null,null,null,null,null,null,null,null,null,null,null,null,null,null,null,"日中の勤務時間数",null,null,null,null,{"$f":"IF(AA112=\"\",\"\",VLOOKUP(AA112,'（従来型）シフト記号表'!$C$5:$W$46,21,FALSE))","v":""},{"$f":"IF(AB112=\"\",\"\",VLOOKUP(AB112,'（従来型）シフト記号表'!$C$5:$W$46,21,FALSE))","v":""},{"$f":"IF(AC112=\"\",\"\",VLOOKUP(AC112,'（従来型）シフト記号表'!$C$5:$W$46,21,FALSE))","v":""},{"$f":"IF(AD112=\"\",\"\",VLOOKUP(AD112,'（従来型）シフト記号表'!$C$5:$W$46,21,FALSE))","v":""},{"$f":"IF(AE112=\"\",\"\",VLOOKUP(AE112,'（従来型）シフト記号表'!$C$5:$W$46,21,FALSE))","v":""},{"$f":"IF(AF112=\"\",\"\",VLOOKUP(AF112,'（従来型）シフト記号表'!$C$5:$W$46,21,FALSE))","v":""},{"$f":"IF(AG112=\"\",\"\",VLOOKUP(AG112,'（従来型）シフト記号表'!$C$5:$W$46,21,FALSE))","v":""},{"$f":"IF(AH112=\"\",\"\",VLOOKUP(AH112,'（従来型）シフト記号表'!$C$5:$W$46,21,FALSE))","v":""},{"$f":"IF(AI112=\"\",\"\",VLOOKUP(AI112,'（従来型）シフト記号表'!$C$5:$W$46,21,FALSE))","v":""},{"$f":"IF(AJ112=\"\",\"\",VLOOKUP(AJ112,'（従来型）シフト記号表'!$C$5:$W$46,21,FALSE))","v":""},{"$f":"IF(AK112=\"\",\"\",VLOOKUP(AK112,'（従来型）シフト記号表'!$C$5:$W$46,21,FALSE))","v":""},{"$f":"IF(AL112=\"\",\"\",VLOOKUP(AL112,'（従来型）シフト記号表'!$C$5:$W$46,21,FALSE))","v":""},{"$f":"IF(AM112=\"\",\"\",VLOOKUP(AM112,'（従来型）シフト記号表'!$C$5:$W$46,21,FALSE))","v":""},{"$f":"IF(AN112=\"\",\"\",VLOOKUP(AN112,'（従来型）シフト記号表'!$C$5:$W$46,21,FALSE))","v":""},{"$f":"IF(AO112=\"\",\"\",VLOOKUP(AO112,'（従来型）シフト記号表'!$C$5:$W$46,21,FALSE))","v":""},{"$f":"IF(AP112=\"\",\"\",VLOOKUP(AP112,'（従来型）シフト記号表'!$C$5:$W$46,21,FALSE))","v":""},{"$f":"IF(AQ112=\"\",\"\",VLOOKUP(AQ112,'（従来型）シフト記号表'!$C$5:$W$46,21,FALSE))","v":""},{"$f":"IF(AR112=\"\",\"\",VLOOKUP(AR112,'（従来型）シフト記号表'!$C$5:$W$46,21,FALSE))","v":""},{"$f":"IF(AS112=\"\",\"\",VLOOKUP(AS112,'（従来型）シフト記号表'!$C$5:$W$46,21,FALSE))","v":""},{"$f":"IF(AT112=\"\",\"\",VLOOKUP(AT112,'（従来型）シフト記号表'!$C$5:$W$46,21,FALSE))","v":""},{"$f":"IF(AU112=\"\",\"\",VLOOKUP(AU112,'（従来型）シフト記号表'!$C$5:$W$46,21,FALSE))","v":""},{"$f":"IF(AV112=\"\",\"\",VLOOKUP(AV112,'（従来型）シフト記号表'!$C$5:$W$46,21,FALSE))","v":""},{"$f":"IF(AW112=\"\",\"\",VLOOKUP(AW112,'（従来型）シフト記号表'!$C$5:$W$46,21,FALSE))","v":""},{"$f":"IF(AX112=\"\",\"\",VLOOKUP(AX112,'（従来型）シフト記号表'!$C$5:$W$46,21,FALSE))","v":""},{"$f":"IF(AY112=\"\",\"\",VLOOKUP(AY112,'（従来型）シフト記号表'!$C$5:$W$46,21,FALSE))","v":""},{"$f":"IF(AZ112=\"\",\"\",VLOOKUP(AZ112,'（従来型）シフト記号表'!$C$5:$W$46,21,FALSE))","v":""},{"$f":"IF(BA112=\"\",\"\",VLOOKUP(BA112,'（従来型）シフト記号表'!$C$5:$W$46,21,FALSE))","v":""},{"$f":"IF(BB112=\"\",\"\",VLOOKUP(BB112,'（従来型）シフト記号表'!$C$5:$W$46,21,FALSE))","v":""},{"$f":"IF(BC112=\"\",\"\",VLOOKUP(BC112,'（従来型）シフト記号表'!$C$5:$W$46,21,FALSE))","v":""},{"$f":"IF(BD112=\"\",\"\",VLOOKUP(BD112,'（従来型）シフト記号表'!$C$5:$W$46,21,FALSE))","v":""},{"$f":"IF(BE112=\"\",\"\",VLOOKUP(BE112,'（従来型）シフト記号表'!$C$5:$W$46,21,FALSE))","v":""},{"$f":"IF($BI$3=\"計画\",SUM(AA113:BB113),IF($BI$3=\"実績\",SUM(AA113:BE113),\"\"))","v":0},null,{"$f":"IF($BI$3=\"計画\",BF113/4,IF($BI$3=\"実績\",(BF113/($BI$7/7)),\"\"))","v":0}]
[null,null,null,null,null,null,null,null,{"$f":"G113","v":0},null,{"$f":"M113","v":0},null,null,null,null,null,null,null,null,null,null,"夜勤時間帯の勤務時間数",null,null,null,null,{"$f":"IF(AA112=\"\",\"\",VLOOKUP(AA112,'（従来型）シフト記号表'!$C$5:$Y$46,23,FALSE))","v":""},{"$f":"IF(AB112=\"\",\"\",VLOOKUP(AB112,'（従来型）シフト記号表'!$C$5:$Y$46,23,FALSE))","v":""},{"$f":"IF(AC112=\"\",\"\",VLOOKUP(AC112,'（従来型）シフト記号表'!$C$5:$Y$46,23,FALSE))","v":""},{"$f":"IF(AD112=\"\",\"\",VLOOKUP(AD112,'（従来型）シフト記号表'!$C$5:$Y$46,23,FALSE))","v":""},{"$f":"IF(AE112=\"\",\"\",VLOOKUP(AE112,'（従来型）シフト記号表'!$C$5:$Y$46,23,FALSE))","v":""},{"$f":"IF(AF112=\"\",\"\",VLOOKUP(AF112,'（従来型）シフト記号表'!$C$5:$Y$46,23,FALSE))","v":""},{"$f":"IF(AG112=\"\",\"\",VLOOKUP(AG112,'（従来型）シフト記号表'!$C$5:$Y$46,23,FALSE))","v":""},{"$f":"IF(AH112=\"\",\"\",VLOOKUP(AH112,'（従来型）シフト記号表'!$C$5:$Y$46,23,FALSE))","v":""},{"$f":"IF(AI112=\"\",\"\",VLOOKUP(AI112,'（従来型）シフト記号表'!$C$5:$Y$46,23,FALSE))","v":""},{"$f":"IF(AJ112=\"\",\"\",VLOOKUP(AJ112,'（従来型）シフト記号表'!$C$5:$Y$46,23,FALSE))","v":""},{"$f":"IF(AK112=\"\",\"\",VLOOKUP(AK112,'（従来型）シフト記号表'!$C$5:$Y$46,23,FALSE))","v":""},{"$f":"IF(AL112=\"\",\"\",VLOOKUP(AL112,'（従来型）シフト記号表'!$C$5:$Y$46,23,FALSE))","v":""},{"$f":"IF(AM112=\"\",\"\",VLOOKUP(AM112,'（従来型）シフト記号表'!$C$5:$Y$46,23,FALSE))","v":""},{"$f":"IF(AN112=\"\",\"\",VLOOKUP(AN112,'（従来型）シフト記号表'!$C$5:$Y$46,23,FALSE))","v":""},{"$f":"IF(AO112=\"\",\"\",VLOOKUP(AO112,'（従来型）シフト記号表'!$C$5:$Y$46,23,FALSE))","v":""},{"$f":"IF(AP112=\"\",\"\",VLOOKUP(AP112,'（従来型）シフト記号表'!$C$5:$Y$46,23,FALSE))","v":""},{"$f":"IF(AQ112=\"\",\"\",VLOOKUP(AQ112,'（従来型）シフト記号表'!$C$5:$Y$46,23,FALSE))","v":""},{"$f":"IF(AR112=\"\",\"\",VLOOKUP(AR112,'（従来型）シフト記号表'!$C$5:$Y$46,23,FALSE))","v":""},{"$f":"IF(AS112=\"\",\"\",VLOOKUP(AS112,'（従来型）シフト記号表'!$C$5:$Y$46,23,FALSE))","v":""},{"$f":"IF(AT112=\"\",\"\",VLOOKUP(AT112,'（従来型）シフト記号表'!$C$5:$Y$46,23,FALSE))","v":""},{"$f":"IF(AU112=\"\",\"\",VLOOKUP(AU112,'（従来型）シフト記号表'!$C$5:$Y$46,23,FALSE))","v":""},{"$f":"IF(AV112=\"\",\"\",VLOOKUP(AV112,'（従来型）シフト記号表'!$C$5:$Y$46,23,FALSE))","v":""},{"$f":"IF(AW112=\"\",\"\",VLOOKUP(AW112,'（従来型）シフト記号表'!$C$5:$Y$46,23,FALSE))","v":""},{"$f":"IF(AX112=\"\",\"\",VLOOKUP(AX112,'（従来型）シフト記号表'!$C$5:$Y$46,23,FALSE))","v":""},{"$f":"IF(AY112=\"\",\"\",VLOOKUP(AY112,'（従来型）シフト記号表'!$C$5:$Y$46,23,FALSE))","v":""},{"$f":"IF(AZ112=\"\",\"\",VLOOKUP(AZ112,'（従来型）シフト記号表'!$C$5:$Y$46,23,FALSE))","v":""},{"$f":"IF(BA112=\"\",\"\",VLOOKUP(BA112,'（従来型）シフト記号表'!$C$5:$Y$46,23,FALSE))","v":""},{"$f":"IF(BB112=\"\",\"\",VLOOKUP(BB112,'（従来型）シフト記号表'!$C$5:$Y$46,23,FALSE))","v":""},{"$f":"IF(BC112=\"\",\"\",VLOOKUP(BC112,'（従来型）シフト記号表'!$C$5:$Y$46,23,FALSE))","v":""},{"$f":"IF(BD112=\"\",\"\",VLOOKUP(BD112,'（従来型）シフト記号表'!$C$5:$Y$46,23,FALSE))","v":""},{"$f":"IF(BE112=\"\",\"\",VLOOKUP(BE112,'（従来型）シフト記号表'!$C$5:$Y$46,23,FALSE))","v":""},{"$f":"IF($BI$3=\"計画\",SUM(AA114:BB114),IF($BI$3=\"実績\",SUM(AA114:BE114),\"\"))","v":0},null,{"$f":"IF($BI$3=\"計画\",BF114/4,IF($BI$3=\"実績\",(BF114/($BI$7/7)),\"\"))","v":0}]
[null,null,null,null,null,null,null,null,null,null,null,null,null,null,null,null,null,null,null,null,null,"シフト記号"]
[null,{"$f":"B113+1","v":33},null,null,null,null,null,null,null,null,null,null,null,null,null,null,null,null,null,null,null,"日中の勤務時間数",null,null,null,null,{"$f":"IF(AA115=\"\",\"\",VLOOKUP(AA115,'（従来型）シフト記号表'!$C$5:$W$46,21,FALSE))","v":""},{"$f":"IF(AB115=\"\",\"\",VLOOKUP(AB115,'（従来型）シフト記号表'!$C$5:$W$46,21,FALSE))","v":""},{"$f":"IF(AC115=\"\",\"\",VLOOKUP(AC115,'（従来型）シフト記号表'!$C$5:$W$46,21,FALSE))","v":""},{"$f":"IF(AD115=\"\",\"\",VLOOKUP(AD115,'（従来型）シフト記号表'!$C$5:$W$46,21,FALSE))","v":""},{"$f":"IF(AE115=\"\",\"\",VLOOKUP(AE115,'（従来型）シフト記号表'!$C$5:$W$46,21,FALSE))","v":""},{"$f":"IF(AF115=\"\",\"\",VLOOKUP(AF115,'（従来型）シフト記号表'!$C$5:$W$46,21,FALSE))","v":""},{"$f":"IF(AG115=\"\",\"\",VLOOKUP(AG115,'（従来型）シフト記号表'!$C$5:$W$46,21,FALSE))","v":""},{"$f":"IF(AH115=\"\",\"\",VLOOKUP(AH115,'（従来型）シフト記号表'!$C$5:$W$46,21,FALSE))","v":""},{"$f":"IF(AI115=\"\",\"\",VLOOKUP(AI115,'（従来型）シフト記号表'!$C$5:$W$46,21,FALSE))","v":""},{"$f":"IF(AJ115=\"\",\"\",VLOOKUP(AJ115,'（従来型）シフト記号表'!$C$5:$W$46,21,FALSE))","v":""},{"$f":"IF(AK115=\"\",\"\",VLOOKUP(AK115,'（従来型）シフト記号表'!$C$5:$W$46,21,FALSE))","v":""},{"$f":"IF(AL115=\"\",\"\",VLOOKUP(AL115,'（従来型）シフト記号表'!$C$5:$W$46,21,FALSE))","v":""},{"$f":"IF(AM115=\"\",\"\",VLOOKUP(AM115,'（従来型）シフト記号表'!$C$5:$W$46,21,FALSE))","v":""},{"$f":"IF(AN115=\"\",\"\",VLOOKUP(AN115,'（従来型）シフト記号表'!$C$5:$W$46,21,FALSE))","v":""},{"$f":"IF(AO115=\"\",\"\",VLOOKUP(AO115,'（従来型）シフト記号表'!$C$5:$W$46,21,FALSE))","v":""},{"$f":"IF(AP115=\"\",\"\",VLOOKUP(AP115,'（従来型）シフト記号表'!$C$5:$W$46,21,FALSE))","v":""},{"$f":"IF(AQ115=\"\",\"\",VLOOKUP(AQ115,'（従来型）シフト記号表'!$C$5:$W$46,21,FALSE))","v":""},{"$f":"IF(AR115=\"\",\"\",VLOOKUP(AR115,'（従来型）シフト記号表'!$C$5:$W$46,21,FALSE))","v":""},{"$f":"IF(AS115=\"\",\"\",VLOOKUP(AS115,'（従来型）シフト記号表'!$C$5:$W$46,21,FALSE))","v":""},{"$f":"IF(AT115=\"\",\"\",VLOOKUP(AT115,'（従来型）シフト記号表'!$C$5:$W$46,21,FALSE))","v":""},{"$f":"IF(AU115=\"\",\"\",VLOOKUP(AU115,'（従来型）シフト記号表'!$C$5:$W$46,21,FALSE))","v":""},{"$f":"IF(AV115=\"\",\"\",VLOOKUP(AV115,'（従来型）シフト記号表'!$C$5:$W$46,21,FALSE))","v":""},{"$f":"IF(AW115=\"\",\"\",VLOOKUP(AW115,'（従来型）シフト記号表'!$C$5:$W$46,21,FALSE))","v":""},{"$f":"IF(AX115=\"\",\"\",VLOOKUP(AX115,'（従来型）シフト記号表'!$C$5:$W$46,21,FALSE))","v":""},{"$f":"IF(AY115=\"\",\"\",VLOOKUP(AY115,'（従来型）シフト記号表'!$C$5:$W$46,21,FALSE))","v":""},{"$f":"IF(AZ115=\"\",\"\",VLOOKUP(AZ115,'（従来型）シフト記号表'!$C$5:$W$46,21,FALSE))","v":""},{"$f":"IF(BA115=\"\",\"\",VLOOKUP(BA115,'（従来型）シフト記号表'!$C$5:$W$46,21,FALSE))","v":""},{"$f":"IF(BB115=\"\",\"\",VLOOKUP(BB115,'（従来型）シフト記号表'!$C$5:$W$46,21,FALSE))","v":""},{"$f":"IF(BC115=\"\",\"\",VLOOKUP(BC115,'（従来型）シフト記号表'!$C$5:$W$46,21,FALSE))","v":""},{"$f":"IF(BD115=\"\",\"\",VLOOKUP(BD115,'（従来型）シフト記号表'!$C$5:$W$46,21,FALSE))","v":""},{"$f":"IF(BE115=\"\",\"\",VLOOKUP(BE115,'（従来型）シフト記号表'!$C$5:$W$46,21,FALSE))","v":""},{"$f":"IF($BI$3=\"計画\",SUM(AA116:BB116),IF($BI$3=\"実績\",SUM(AA116:BE116),\"\"))","v":0},null,{"$f":"IF($BI$3=\"計画\",BF116/4,IF($BI$3=\"実績\",(BF116/($BI$7/7)),\"\"))","v":0}]
[null,null,null,null,null,null,null,null,{"$f":"G116","v":0},null,{"$f":"M116","v":0},null,null,null,null,null,null,null,null,null,null,"夜勤時間帯の勤務時間数",null,null,null,null,{"$f":"IF(AA115=\"\",\"\",VLOOKUP(AA115,'（従来型）シフト記号表'!$C$5:$Y$46,23,FALSE))","v":""},{"$f":"IF(AB115=\"\",\"\",VLOOKUP(AB115,'（従来型）シフト記号表'!$C$5:$Y$46,23,FALSE))","v":""},{"$f":"IF(AC115=\"\",\"\",VLOOKUP(AC115,'（従来型）シフト記号表'!$C$5:$Y$46,23,FALSE))","v":""},{"$f":"IF(AD115=\"\",\"\",VLOOKUP(AD115,'（従来型）シフト記号表'!$C$5:$Y$46,23,FALSE))","v":""},{"$f":"IF(AE115=\"\",\"\",VLOOKUP(AE115,'（従来型）シフト記号表'!$C$5:$Y$46,23,FALSE))","v":""},{"$f":"IF(AF115=\"\",\"\",VLOOKUP(AF115,'（従来型）シフト記号表'!$C$5:$Y$46,23,FALSE))","v":""},{"$f":"IF(AG115=\"\",\"\",VLOOKUP(AG115,'（従来型）シフト記号表'!$C$5:$Y$46,23,FALSE))","v":""},{"$f":"IF(AH115=\"\",\"\",VLOOKUP(AH115,'（従来型）シフト記号表'!$C$5:$Y$46,23,FALSE))","v":""},{"$f":"IF(AI115=\"\",\"\",VLOOKUP(AI115,'（従来型）シフト記号表'!$C$5:$Y$46,23,FALSE))","v":""},{"$f":"IF(AJ115=\"\",\"\",VLOOKUP(AJ115,'（従来型）シフト記号表'!$C$5:$Y$46,23,FALSE))","v":""},{"$f":"IF(AK115=\"\",\"\",VLOOKUP(AK115,'（従来型）シフト記号表'!$C$5:$Y$46,23,FALSE))","v":""},{"$f":"IF(AL115=\"\",\"\",VLOOKUP(AL115,'（従来型）シフト記号表'!$C$5:$Y$46,23,FALSE))","v":""},{"$f":"IF(AM115=\"\",\"\",VLOOKUP(AM115,'（従来型）シフト記号表'!$C$5:$Y$46,23,FALSE))","v":""},{"$f":"IF(AN115=\"\",\"\",VLOOKUP(AN115,'（従来型）シフト記号表'!$C$5:$Y$46,23,FALSE))","v":""},{"$f":"IF(AO115=\"\",\"\",VLOOKUP(AO115,'（従来型）シフト記号表'!$C$5:$Y$46,23,FALSE))","v":""},{"$f":"IF(AP115=\"\",\"\",VLOOKUP(AP115,'（従来型）シフト記号表'!$C$5:$Y$46,23,FALSE))","v":""},{"$f":"IF(AQ115=\"\",\"\",VLOOKUP(AQ115,'（従来型）シフト記号表'!$C$5:$Y$46,23,FALSE))","v":""},{"$f":"IF(AR115=\"\",\"\",VLOOKUP(AR115,'（従来型）シフト記号表'!$C$5:$Y$46,23,FALSE))","v":""},{"$f":"IF(AS115=\"\",\"\",VLOOKUP(AS115,'（従来型）シフト記号表'!$C$5:$Y$46,23,FALSE))","v":""},{"$f":"IF(AT115=\"\",\"\",VLOOKUP(AT115,'（従来型）シフト記号表'!$C$5:$Y$46,23,FALSE))","v":""},{"$f":"IF(AU115=\"\",\"\",VLOOKUP(AU115,'（従来型）シフト記号表'!$C$5:$Y$46,23,FALSE))","v":""},{"$f":"IF(AV115=\"\",\"\",VLOOKUP(AV115,'（従来型）シフト記号表'!$C$5:$Y$46,23,FALSE))","v":""},{"$f":"IF(AW115=\"\",\"\",VLOOKUP(AW115,'（従来型）シフト記号表'!$C$5:$Y$46,23,FALSE))","v":""},{"$f":"IF(AX115=\"\",\"\",VLOOKUP(AX115,'（従来型）シフト記号表'!$C$5:$Y$46,23,FALSE))","v":""},{"$f":"IF(AY115=\"\",\"\",VLOOKUP(AY115,'（従来型）シフト記号表'!$C$5:$Y$46,23,FALSE))","v":""},{"$f":"IF(AZ115=\"\",\"\",VLOOKUP(AZ115,'（従来型）シフト記号表'!$C$5:$Y$46,23,FALSE))","v":""},{"$f":"IF(BA115=\"\",\"\",VLOOKUP(BA115,'（従来型）シフト記号表'!$C$5:$Y$46,23,FALSE))","v":""},{"$f":"IF(BB115=\"\",\"\",VLOOKUP(BB115,'（従来型）シフト記号表'!$C$5:$Y$46,23,FALSE))","v":""},{"$f":"IF(BC115=\"\",\"\",VLOOKUP(BC115,'（従来型）シフト記号表'!$C$5:$Y$46,23,FALSE))","v":""},{"$f":"IF(BD115=\"\",\"\",VLOOKUP(BD115,'（従来型）シフト記号表'!$C$5:$Y$46,23,FALSE))","v":""},{"$f":"IF(BE115=\"\",\"\",VLOOKUP(BE115,'（従来型）シフト記号表'!$C$5:$Y$46,23,FALSE))","v":""},{"$f":"IF($BI$3=\"計画\",SUM(AA117:BB117),IF($BI$3=\"実績\",SUM(AA117:BE117),\"\"))","v":0},null,{"$f":"IF($BI$3=\"計画\",BF117/4,IF($BI$3=\"実績\",(BF117/($BI$7/7)),\"\"))","v":0}]
[null,null,null,null,null,null,null,null,null,null,null,null,null,null,null,null,null,null,null,null,null,"シフト記号"]
[null,{"$f":"B116+1","v":34},null,null,null,null,null,null,null,null,null,null,null,null,null,null,null,null,null,null,null,"日中の勤務時間数",null,null,null,null,{"$f":"IF(AA118=\"\",\"\",VLOOKUP(AA118,'（従来型）シフト記号表'!$C$5:$W$46,21,FALSE))","v":""},{"$f":"IF(AB118=\"\",\"\",VLOOKUP(AB118,'（従来型）シフト記号表'!$C$5:$W$46,21,FALSE))","v":""},{"$f":"IF(AC118=\"\",\"\",VLOOKUP(AC118,'（従来型）シフト記号表'!$C$5:$W$46,21,FALSE))","v":""},{"$f":"IF(AD118=\"\",\"\",VLOOKUP(AD118,'（従来型）シフト記号表'!$C$5:$W$46,21,FALSE))","v":""},{"$f":"IF(AE118=\"\",\"\",VLOOKUP(AE118,'（従来型）シフト記号表'!$C$5:$W$46,21,FALSE))","v":""},{"$f":"IF(AF118=\"\",\"\",VLOOKUP(AF118,'（従来型）シフト記号表'!$C$5:$W$46,21,FALSE))","v":""},{"$f":"IF(AG118=\"\",\"\",VLOOKUP(AG118,'（従来型）シフト記号表'!$C$5:$W$46,21,FALSE))","v":""},{"$f":"IF(AH118=\"\",\"\",VLOOKUP(AH118,'（従来型）シフト記号表'!$C$5:$W$46,21,FALSE))","v":""},{"$f":"IF(AI118=\"\",\"\",VLOOKUP(AI118,'（従来型）シフト記号表'!$C$5:$W$46,21,FALSE))","v":""},{"$f":"IF(AJ118=\"\",\"\",VLOOKUP(AJ118,'（従来型）シフト記号表'!$C$5:$W$46,21,FALSE))","v":""},{"$f":"IF(AK118=\"\",\"\",VLOOKUP(AK118,'（従来型）シフト記号表'!$C$5:$W$46,21,FALSE))","v":""},{"$f":"IF(AL118=\"\",\"\",VLOOKUP(AL118,'（従来型）シフト記号表'!$C$5:$W$46,21,FALSE))","v":""},{"$f":"IF(AM118=\"\",\"\",VLOOKUP(AM118,'（従来型）シフト記号表'!$C$5:$W$46,21,FALSE))","v":""},{"$f":"IF(AN118=\"\",\"\",VLOOKUP(AN118,'（従来型）シフト記号表'!$C$5:$W$46,21,FALSE))","v":""},{"$f":"IF(AO118=\"\",\"\",VLOOKUP(AO118,'（従来型）シフト記号表'!$C$5:$W$46,21,FALSE))","v":""},{"$f":"IF(AP118=\"\",\"\",VLOOKUP(AP118,'（従来型）シフト記号表'!$C$5:$W$46,21,FALSE))","v":""},{"$f":"IF(AQ118=\"\",\"\",VLOOKUP(AQ118,'（従来型）シフト記号表'!$C$5:$W$46,21,FALSE))","v":""},{"$f":"IF(AR118=\"\",\"\",VLOOKUP(AR118,'（従来型）シフト記号表'!$C$5:$W$46,21,FALSE))","v":""},{"$f":"IF(AS118=\"\",\"\",VLOOKUP(AS118,'（従来型）シフト記号表'!$C$5:$W$46,21,FALSE))","v":""},{"$f":"IF(AT118=\"\",\"\",VLOOKUP(AT118,'（従来型）シフト記号表'!$C$5:$W$46,21,FALSE))","v":""},{"$f":"IF(AU118=\"\",\"\",VLOOKUP(AU118,'（従来型）シフト記号表'!$C$5:$W$46,21,FALSE))","v":""},{"$f":"IF(AV118=\"\",\"\",VLOOKUP(AV118,'（従来型）シフト記号表'!$C$5:$W$46,21,FALSE))","v":""},{"$f":"IF(AW118=\"\",\"\",VLOOKUP(AW118,'（従来型）シフト記号表'!$C$5:$W$46,21,FALSE))","v":""},{"$f":"IF(AX118=\"\",\"\",VLOOKUP(AX118,'（従来型）シフト記号表'!$C$5:$W$46,21,FALSE))","v":""},{"$f":"IF(AY118=\"\",\"\",VLOOKUP(AY118,'（従来型）シフト記号表'!$C$5:$W$46,21,FALSE))","v":""},{"$f":"IF(AZ118=\"\",\"\",VLOOKUP(AZ118,'（従来型）シフト記号表'!$C$5:$W$46,21,FALSE))","v":""},{"$f":"IF(BA118=\"\",\"\",VLOOKUP(BA118,'（従来型）シフト記号表'!$C$5:$W$46,21,FALSE))","v":""},{"$f":"IF(BB118=\"\",\"\",VLOOKUP(BB118,'（従来型）シフト記号表'!$C$5:$W$46,21,FALSE))","v":""},{"$f":"IF(BC118=\"\",\"\",VLOOKUP(BC118,'（従来型）シフト記号表'!$C$5:$W$46,21,FALSE))","v":""},{"$f":"IF(BD118=\"\",\"\",VLOOKUP(BD118,'（従来型）シフト記号表'!$C$5:$W$46,21,FALSE))","v":""},{"$f":"IF(BE118=\"\",\"\",VLOOKUP(BE118,'（従来型）シフト記号表'!$C$5:$W$46,21,FALSE))","v":""},{"$f":"IF($BI$3=\"計画\",SUM(AA119:BB119),IF($BI$3=\"実績\",SUM(AA119:BE119),\"\"))","v":0},null,{"$f":"IF($BI$3=\"計画\",BF119/4,IF($BI$3=\"実績\",(BF119/($BI$7/7)),\"\"))","v":0}]
[null,null,null,null,null,null,null,null,{"$f":"G119","v":0},null,{"$f":"M119","v":0},null,null,null,null,null,null,null,null,null,null,"夜勤時間帯の勤務時間数",null,null,null,null,{"$f":"IF(AA118=\"\",\"\",VLOOKUP(AA118,'（従来型）シフト記号表'!$C$5:$Y$46,23,FALSE))","v":""},{"$f":"IF(AB118=\"\",\"\",VLOOKUP(AB118,'（従来型）シフト記号表'!$C$5:$Y$46,23,FALSE))","v":""},{"$f":"IF(AC118=\"\",\"\",VLOOKUP(AC118,'（従来型）シフト記号表'!$C$5:$Y$46,23,FALSE))","v":""},{"$f":"IF(AD118=\"\",\"\",VLOOKUP(AD118,'（従来型）シフト記号表'!$C$5:$Y$46,23,FALSE))","v":""},{"$f":"IF(AE118=\"\",\"\",VLOOKUP(AE118,'（従来型）シフト記号表'!$C$5:$Y$46,23,FALSE))","v":""},{"$f":"IF(AF118=\"\",\"\",VLOOKUP(AF118,'（従来型）シフト記号表'!$C$5:$Y$46,23,FALSE))","v":""},{"$f":"IF(AG118=\"\",\"\",VLOOKUP(AG118,'（従来型）シフト記号表'!$C$5:$Y$46,23,FALSE))","v":""},{"$f":"IF(AH118=\"\",\"\",VLOOKUP(AH118,'（従来型）シフト記号表'!$C$5:$Y$46,23,FALSE))","v":""},{"$f":"IF(AI118=\"\",\"\",VLOOKUP(AI118,'（従来型）シフト記号表'!$C$5:$Y$46,23,FALSE))","v":""},{"$f":"IF(AJ118=\"\",\"\",VLOOKUP(AJ118,'（従来型）シフト記号表'!$C$5:$Y$46,23,FALSE))","v":""},{"$f":"IF(AK118=\"\",\"\",VLOOKUP(AK118,'（従来型）シフト記号表'!$C$5:$Y$46,23,FALSE))","v":""},{"$f":"IF(AL118=\"\",\"\",VLOOKUP(AL118,'（従来型）シフト記号表'!$C$5:$Y$46,23,FALSE))","v":""},{"$f":"IF(AM118=\"\",\"\",VLOOKUP(AM118,'（従来型）シフト記号表'!$C$5:$Y$46,23,FALSE))","v":""},{"$f":"IF(AN118=\"\",\"\",VLOOKUP(AN118,'（従来型）シフト記号表'!$C$5:$Y$46,23,FALSE))","v":""},{"$f":"IF(AO118=\"\",\"\",VLOOKUP(AO118,'（従来型）シフト記号表'!$C$5:$Y$46,23,FALSE))","v":""},{"$f":"IF(AP118=\"\",\"\",VLOOKUP(AP118,'（従来型）シフト記号表'!$C$5:$Y$46,23,FALSE))","v":""},{"$f":"IF(AQ118=\"\",\"\",VLOOKUP(AQ118,'（従来型）シフト記号表'!$C$5:$Y$46,23,FALSE))","v":""},{"$f":"IF(AR118=\"\",\"\",VLOOKUP(AR118,'（従来型）シフト記号表'!$C$5:$Y$46,23,FALSE))","v":""},{"$f":"IF(AS118=\"\",\"\",VLOOKUP(AS118,'（従来型）シフト記号表'!$C$5:$Y$46,23,FALSE))","v":""},{"$f":"IF(AT118=\"\",\"\",VLOOKUP(AT118,'（従来型）シフト記号表'!$C$5:$Y$46,23,FALSE))","v":""},{"$f":"IF(AU118=\"\",\"\",VLOOKUP(AU118,'（従来型）シフト記号表'!$C$5:$Y$46,23,FALSE))","v":""},{"$f":"IF(AV118=\"\",\"\",VLOOKUP(AV118,'（従来型）シフト記号表'!$C$5:$Y$46,23,FALSE))","v":""},{"$f":"IF(AW118=\"\",\"\",VLOOKUP(AW118,'（従来型）シフト記号表'!$C$5:$Y$46,23,FALSE))","v":""},{"$f":"IF(AX118=\"\",\"\",VLOOKUP(AX118,'（従来型）シフト記号表'!$C$5:$Y$46,23,FALSE))","v":""},{"$f":"IF(AY118=\"\",\"\",VLOOKUP(AY118,'（従来型）シフト記号表'!$C$5:$Y$46,23,FALSE))","v":""},{"$f":"IF(AZ118=\"\",\"\",VLOOKUP(AZ118,'（従来型）シフト記号表'!$C$5:$Y$46,23,FALSE))","v":""},{"$f":"IF(BA118=\"\",\"\",VLOOKUP(BA118,'（従来型）シフト記号表'!$C$5:$Y$46,23,FALSE))","v":""},{"$f":"IF(BB118=\"\",\"\",VLOOKUP(BB118,'（従来型）シフト記号表'!$C$5:$Y$46,23,FALSE))","v":""},{"$f":"IF(BC118=\"\",\"\",VLOOKUP(BC118,'（従来型）シフト記号表'!$C$5:$Y$46,23,FALSE))","v":""},{"$f":"IF(BD118=\"\",\"\",VLOOKUP(BD118,'（従来型）シフト記号表'!$C$5:$Y$46,23,FALSE))","v":""},{"$f":"IF(BE118=\"\",\"\",VLOOKUP(BE118,'（従来型）シフト記号表'!$C$5:$Y$46,23,FALSE))","v":""},{"$f":"IF($BI$3=\"計画\",SUM(AA120:BB120),IF($BI$3=\"実績\",SUM(AA120:BE120),\"\"))","v":0},null,{"$f":"IF($BI$3=\"計画\",BF120/4,IF($BI$3=\"実績\",(BF120/($BI$7/7)),\"\"))","v":0}]
[null,null,null,null,null,null,null,null,null,null,null,null,null,null,null,null,null,null,null,null,null,"シフト記号"]
[null,{"$f":"B119+1","v":35},null,null,null,null,null,null,null,null,null,null,null,null,null,null,null,null,null,null,null,"日中の勤務時間数",null,null,null,null,{"$f":"IF(AA121=\"\",\"\",VLOOKUP(AA121,'（従来型）シフト記号表'!$C$5:$W$46,21,FALSE))","v":""},{"$f":"IF(AB121=\"\",\"\",VLOOKUP(AB121,'（従来型）シフト記号表'!$C$5:$W$46,21,FALSE))","v":""},{"$f":"IF(AC121=\"\",\"\",VLOOKUP(AC121,'（従来型）シフト記号表'!$C$5:$W$46,21,FALSE))","v":""},{"$f":"IF(AD121=\"\",\"\",VLOOKUP(AD121,'（従来型）シフト記号表'!$C$5:$W$46,21,FALSE))","v":""},{"$f":"IF(AE121=\"\",\"\",VLOOKUP(AE121,'（従来型）シフト記号表'!$C$5:$W$46,21,FALSE))","v":""},{"$f":"IF(AF121=\"\",\"\",VLOOKUP(AF121,'（従来型）シフト記号表'!$C$5:$W$46,21,FALSE))","v":""},{"$f":"IF(AG121=\"\",\"\",VLOOKUP(AG121,'（従来型）シフト記号表'!$C$5:$W$46,21,FALSE))","v":""},{"$f":"IF(AH121=\"\",\"\",VLOOKUP(AH121,'（従来型）シフト記号表'!$C$5:$W$46,21,FALSE))","v":""},{"$f":"IF(AI121=\"\",\"\",VLOOKUP(AI121,'（従来型）シフト記号表'!$C$5:$W$46,21,FALSE))","v":""},{"$f":"IF(AJ121=\"\",\"\",VLOOKUP(AJ121,'（従来型）シフト記号表'!$C$5:$W$46,21,FALSE))","v":""},{"$f":"IF(AK121=\"\",\"\",VLOOKUP(AK121,'（従来型）シフト記号表'!$C$5:$W$46,21,FALSE))","v":""},{"$f":"IF(AL121=\"\",\"\",VLOOKUP(AL121,'（従来型）シフト記号表'!$C$5:$W$46,21,FALSE))","v":""},{"$f":"IF(AM121=\"\",\"\",VLOOKUP(AM121,'（従来型）シフト記号表'!$C$5:$W$46,21,FALSE))","v":""},{"$f":"IF(AN121=\"\",\"\",VLOOKUP(AN121,'（従来型）シフト記号表'!$C$5:$W$46,21,FALSE))","v":""},{"$f":"IF(AO121=\"\",\"\",VLOOKUP(AO121,'（従来型）シフト記号表'!$C$5:$W$46,21,FALSE))","v":""},{"$f":"IF(AP121=\"\",\"\",VLOOKUP(AP121,'（従来型）シフト記号表'!$C$5:$W$46,21,FALSE))","v":""},{"$f":"IF(AQ121=\"\",\"\",VLOOKUP(AQ121,'（従来型）シフト記号表'!$C$5:$W$46,21,FALSE))","v":""},{"$f":"IF(AR121=\"\",\"\",VLOOKUP(AR121,'（従来型）シフト記号表'!$C$5:$W$46,21,FALSE))","v":""},{"$f":"IF(AS121=\"\",\"\",VLOOKUP(AS121,'（従来型）シフト記号表'!$C$5:$W$46,21,FALSE))","v":""},{"$f":"IF(AT121=\"\",\"\",VLOOKUP(AT121,'（従来型）シフト記号表'!$C$5:$W$46,21,FALSE))","v":""},{"$f":"IF(AU121=\"\",\"\",VLOOKUP(AU121,'（従来型）シフト記号表'!$C$5:$W$46,21,FALSE))","v":""},{"$f":"IF(AV121=\"\",\"\",VLOOKUP(AV121,'（従来型）シフト記号表'!$C$5:$W$46,21,FALSE))","v":""},{"$f":"IF(AW121=\"\",\"\",VLOOKUP(AW121,'（従来型）シフト記号表'!$C$5:$W$46,21,FALSE))","v":""},{"$f":"IF(AX121=\"\",\"\",VLOOKUP(AX121,'（従来型）シフト記号表'!$C$5:$W$46,21,FALSE))","v":""},{"$f":"IF(AY121=\"\",\"\",VLOOKUP(AY121,'（従来型）シフト記号表'!$C$5:$W$46,21,FALSE))","v":""},{"$f":"IF(AZ121=\"\",\"\",VLOOKUP(AZ121,'（従来型）シフト記号表'!$C$5:$W$46,21,FALSE))","v":""},{"$f":"IF(BA121=\"\",\"\",VLOOKUP(BA121,'（従来型）シフト記号表'!$C$5:$W$46,21,FALSE))","v":""},{"$f":"IF(BB121=\"\",\"\",VLOOKUP(BB121,'（従来型）シフト記号表'!$C$5:$W$46,21,FALSE))","v":""},{"$f":"IF(BC121=\"\",\"\",VLOOKUP(BC121,'（従来型）シフト記号表'!$C$5:$W$46,21,FALSE))","v":""},{"$f":"IF(BD121=\"\",\"\",VLOOKUP(BD121,'（従来型）シフト記号表'!$C$5:$W$46,21,FALSE))","v":""},{"$f":"IF(BE121=\"\",\"\",VLOOKUP(BE121,'（従来型）シフト記号表'!$C$5:$W$46,21,FALSE))","v":""},{"$f":"IF($BI$3=\"計画\",SUM(AA122:BB122),IF($BI$3=\"実績\",SUM(AA122:BE122),\"\"))","v":0},null,{"$f":"IF($BI$3=\"計画\",BF122/4,IF($BI$3=\"実績\",(BF122/($BI$7/7)),\"\"))","v":0}]
[null,null,null,null,null,null,null,null,{"$f":"G122","v":0},null,{"$f":"M122","v":0},null,null,null,null,null,null,null,null,null,null,"夜勤時間帯の勤務時間数",null,null,null,null,{"$f":"IF(AA121=\"\",\"\",VLOOKUP(AA121,'（従来型）シフト記号表'!$C$5:$Y$46,23,FALSE))","v":""},{"$f":"IF(AB121=\"\",\"\",VLOOKUP(AB121,'（従来型）シフト記号表'!$C$5:$Y$46,23,FALSE))","v":""},{"$f":"IF(AC121=\"\",\"\",VLOOKUP(AC121,'（従来型）シフト記号表'!$C$5:$Y$46,23,FALSE))","v":""},{"$f":"IF(AD121=\"\",\"\",VLOOKUP(AD121,'（従来型）シフト記号表'!$C$5:$Y$46,23,FALSE))","v":""},{"$f":"IF(AE121=\"\",\"\",VLOOKUP(AE121,'（従来型）シフト記号表'!$C$5:$Y$46,23,FALSE))","v":""},{"$f":"IF(AF121=\"\",\"\",VLOOKUP(AF121,'（従来型）シフト記号表'!$C$5:$Y$46,23,FALSE))","v":""},{"$f":"IF(AG121=\"\",\"\",VLOOKUP(AG121,'（従来型）シフト記号表'!$C$5:$Y$46,23,FALSE))","v":""},{"$f":"IF(AH121=\"\",\"\",VLOOKUP(AH121,'（従来型）シフト記号表'!$C$5:$Y$46,23,FALSE))","v":""},{"$f":"IF(AI121=\"\",\"\",VLOOKUP(AI121,'（従来型）シフト記号表'!$C$5:$Y$46,23,FALSE))","v":""},{"$f":"IF(AJ121=\"\",\"\",VLOOKUP(AJ121,'（従来型）シフト記号表'!$C$5:$Y$46,23,FALSE))","v":""},{"$f":"IF(AK121=\"\",\"\",VLOOKUP(AK121,'（従来型）シフト記号表'!$C$5:$Y$46,23,FALSE))","v":""},{"$f":"IF(AL121=\"\",\"\",VLOOKUP(AL121,'（従来型）シフト記号表'!$C$5:$Y$46,23,FALSE))","v":""},{"$f":"IF(AM121=\"\",\"\",VLOOKUP(AM121,'（従来型）シフト記号表'!$C$5:$Y$46,23,FALSE))","v":""},{"$f":"IF(AN121=\"\",\"\",VLOOKUP(AN121,'（従来型）シフト記号表'!$C$5:$Y$46,23,FALSE))","v":""},{"$f":"IF(AO121=\"\",\"\",VLOOKUP(AO121,'（従来型）シフト記号表'!$C$5:$Y$46,23,FALSE))","v":""},{"$f":"IF(AP121=\"\",\"\",VLOOKUP(AP121,'（従来型）シフト記号表'!$C$5:$Y$46,23,FALSE))","v":""},{"$f":"IF(AQ121=\"\",\"\",VLOOKUP(AQ121,'（従来型）シフト記号表'!$C$5:$Y$46,23,FALSE))","v":""},{"$f":"IF(AR121=\"\",\"\",VLOOKUP(AR121,'（従来型）シフト記号表'!$C$5:$Y$46,23,FALSE))","v":""},{"$f":"IF(AS121=\"\",\"\",VLOOKUP(AS121,'（従来型）シフト記号表'!$C$5:$Y$46,23,FALSE))","v":""},{"$f":"IF(AT121=\"\",\"\",VLOOKUP(AT121,'（従来型）シフト記号表'!$C$5:$Y$46,23,FALSE))","v":""},{"$f":"IF(AU121=\"\",\"\",VLOOKUP(AU121,'（従来型）シフト記号表'!$C$5:$Y$46,23,FALSE))","v":""},{"$f":"IF(AV121=\"\",\"\",VLOOKUP(AV121,'（従来型）シフト記号表'!$C$5:$Y$46,23,FALSE))","v":""},{"$f":"IF(AW121=\"\",\"\",VLOOKUP(AW121,'（従来型）シフト記号表'!$C$5:$Y$46,23,FALSE))","v":""},{"$f":"IF(AX121=\"\",\"\",VLOOKUP(AX121,'（従来型）シフト記号表'!$C$5:$Y$46,23,FALSE))","v":""},{"$f":"IF(AY121=\"\",\"\",VLOOKUP(AY121,'（従来型）シフト記号表'!$C$5:$Y$46,23,FALSE))","v":""},{"$f":"IF(AZ121=\"\",\"\",VLOOKUP(AZ121,'（従来型）シフト記号表'!$C$5:$Y$46,23,FALSE))","v":""},{"$f":"IF(BA121=\"\",\"\",VLOOKUP(BA121,'（従来型）シフト記号表'!$C$5:$Y$46,23,FALSE))","v":""},{"$f":"IF(BB121=\"\",\"\",VLOOKUP(BB121,'（従来型）シフト記号表'!$C$5:$Y$46,23,FALSE))","v":""},{"$f":"IF(BC121=\"\",\"\",VLOOKUP(BC121,'（従来型）シフト記号表'!$C$5:$Y$46,23,FALSE))","v":""},{"$f":"IF(BD121=\"\",\"\",VLOOKUP(BD121,'（従来型）シフト記号表'!$C$5:$Y$46,23,FALSE))","v":""},{"$f":"IF(BE121=\"\",\"\",VLOOKUP(BE121,'（従来型）シフト記号表'!$C$5:$Y$46,23,FALSE))","v":""},{"$f":"IF($BI$3=\"計画\",SUM(AA123:BB123),IF($BI$3=\"実績\",SUM(AA123:BE123),\"\"))","v":0},null,{"$f":"IF($BI$3=\"計画\",BF123/4,IF($BI$3=\"実績\",(BF123/($BI$7/7)),\"\"))","v":0}]
[null,null,null,null,null,null,null,null,null,null,null,null,null,null,null,null,null,null,null,null,null,"シフト記号"]
[null,{"$f":"B122+1","v":36},null,null,null,null,null,null,null,null,null,null,null,null,null,null,null,null,null,null,null,"日中の勤務時間数",null,null,null,null,{"$f":"IF(AA124=\"\",\"\",VLOOKUP(AA124,'（従来型）シフト記号表'!$C$5:$W$46,21,FALSE))","v":""},{"$f":"IF(AB124=\"\",\"\",VLOOKUP(AB124,'（従来型）シフト記号表'!$C$5:$W$46,21,FALSE))","v":""},{"$f":"IF(AC124=\"\",\"\",VLOOKUP(AC124,'（従来型）シフト記号表'!$C$5:$W$46,21,FALSE))","v":""},{"$f":"IF(AD124=\"\",\"\",VLOOKUP(AD124,'（従来型）シフト記号表'!$C$5:$W$46,21,FALSE))","v":""},{"$f":"IF(AE124=\"\",\"\",VLOOKUP(AE124,'（従来型）シフト記号表'!$C$5:$W$46,21,FALSE))","v":""},{"$f":"IF(AF124=\"\",\"\",VLOOKUP(AF124,'（従来型）シフト記号表'!$C$5:$W$46,21,FALSE))","v":""},{"$f":"IF(AG124=\"\",\"\",VLOOKUP(AG124,'（従来型）シフト記号表'!$C$5:$W$46,21,FALSE))","v":""},{"$f":"IF(AH124=\"\",\"\",VLOOKUP(AH124,'（従来型）シフト記号表'!$C$5:$W$46,21,FALSE))","v":""},{"$f":"IF(AI124=\"\",\"\",VLOOKUP(AI124,'（従来型）シフト記号表'!$C$5:$W$46,21,FALSE))","v":""},{"$f":"IF(AJ124=\"\",\"\",VLOOKUP(AJ124,'（従来型）シフト記号表'!$C$5:$W$46,21,FALSE))","v":""},{"$f":"IF(AK124=\"\",\"\",VLOOKUP(AK124,'（従来型）シフト記号表'!$C$5:$W$46,21,FALSE))","v":""},{"$f":"IF(AL124=\"\",\"\",VLOOKUP(AL124,'（従来型）シフト記号表'!$C$5:$W$46,21,FALSE))","v":""},{"$f":"IF(AM124=\"\",\"\",VLOOKUP(AM124,'（従来型）シフト記号表'!$C$5:$W$46,21,FALSE))","v":""},{"$f":"IF(AN124=\"\",\"\",VLOOKUP(AN124,'（従来型）シフト記号表'!$C$5:$W$46,21,FALSE))","v":""},{"$f":"IF(AO124=\"\",\"\",VLOOKUP(AO124,'（従来型）シフト記号表'!$C$5:$W$46,21,FALSE))","v":""},{"$f":"IF(AP124=\"\",\"\",VLOOKUP(AP124,'（従来型）シフト記号表'!$C$5:$W$46,21,FALSE))","v":""},{"$f":"IF(AQ124=\"\",\"\",VLOOKUP(AQ124,'（従来型）シフト記号表'!$C$5:$W$46,21,FALSE))","v":""},{"$f":"IF(AR124=\"\",\"\",VLOOKUP(AR124,'（従来型）シフト記号表'!$C$5:$W$46,21,FALSE))","v":""},{"$f":"IF(AS124=\"\",\"\",VLOOKUP(AS124,'（従来型）シフト記号表'!$C$5:$W$46,21,FALSE))","v":""},{"$f":"IF(AT124=\"\",\"\",VLOOKUP(AT124,'（従来型）シフト記号表'!$C$5:$W$46,21,FALSE))","v":""},{"$f":"IF(AU124=\"\",\"\",VLOOKUP(AU124,'（従来型）シフト記号表'!$C$5:$W$46,21,FALSE))","v":""},{"$f":"IF(AV124=\"\",\"\",VLOOKUP(AV124,'（従来型）シフト記号表'!$C$5:$W$46,21,FALSE))","v":""},{"$f":"IF(AW124=\"\",\"\",VLOOKUP(AW124,'（従来型）シフト記号表'!$C$5:$W$46,21,FALSE))","v":""},{"$f":"IF(AX124=\"\",\"\",VLOOKUP(AX124,'（従来型）シフト記号表'!$C$5:$W$46,21,FALSE))","v":""},{"$f":"IF(AY124=\"\",\"\",VLOOKUP(AY124,'（従来型）シフト記号表'!$C$5:$W$46,21,FALSE))","v":""},{"$f":"IF(AZ124=\"\",\"\",VLOOKUP(AZ124,'（従来型）シフト記号表'!$C$5:$W$46,21,FALSE))","v":""},{"$f":"IF(BA124=\"\",\"\",VLOOKUP(BA124,'（従来型）シフト記号表'!$C$5:$W$46,21,FALSE))","v":""},{"$f":"IF(BB124=\"\",\"\",VLOOKUP(BB124,'（従来型）シフト記号表'!$C$5:$W$46,21,FALSE))","v":""},{"$f":"IF(BC124=\"\",\"\",VLOOKUP(BC124,'（従来型）シフト記号表'!$C$5:$W$46,21,FALSE))","v":""},{"$f":"IF(BD124=\"\",\"\",VLOOKUP(BD124,'（従来型）シフト記号表'!$C$5:$W$46,21,FALSE))","v":""},{"$f":"IF(BE124=\"\",\"\",VLOOKUP(BE124,'（従来型）シフト記号表'!$C$5:$W$46,21,FALSE))","v":""},{"$f":"IF($BI$3=\"計画\",SUM(AA125:BB125),IF($BI$3=\"実績\",SUM(AA125:BE125),\"\"))","v":0},null,{"$f":"IF($BI$3=\"計画\",BF125/4,IF($BI$3=\"実績\",(BF125/($BI$7/7)),\"\"))","v":0}]
[null,null,null,null,null,null,null,null,{"$f":"G125","v":0},null,{"$f":"M125","v":0},null,null,null,null,null,null,null,null,null,null,"夜勤時間帯の勤務時間数",null,null,null,null,{"$f":"IF(AA124=\"\",\"\",VLOOKUP(AA124,'（従来型）シフト記号表'!$C$5:$Y$46,23,FALSE))","v":""},{"$f":"IF(AB124=\"\",\"\",VLOOKUP(AB124,'（従来型）シフト記号表'!$C$5:$Y$46,23,FALSE))","v":""},{"$f":"IF(AC124=\"\",\"\",VLOOKUP(AC124,'（従来型）シフト記号表'!$C$5:$Y$46,23,FALSE))","v":""},{"$f":"IF(AD124=\"\",\"\",VLOOKUP(AD124,'（従来型）シフト記号表'!$C$5:$Y$46,23,FALSE))","v":""},{"$f":"IF(AE124=\"\",\"\",VLOOKUP(AE124,'（従来型）シフト記号表'!$C$5:$Y$46,23,FALSE))","v":""},{"$f":"IF(AF124=\"\",\"\",VLOOKUP(AF124,'（従来型）シフト記号表'!$C$5:$Y$46,23,FALSE))","v":""},{"$f":"IF(AG124=\"\",\"\",VLOOKUP(AG124,'（従来型）シフト記号表'!$C$5:$Y$46,23,FALSE))","v":""},{"$f":"IF(AH124=\"\",\"\",VLOOKUP(AH124,'（従来型）シフト記号表'!$C$5:$Y$46,23,FALSE))","v":""},{"$f":"IF(AI124=\"\",\"\",VLOOKUP(AI124,'（従来型）シフト記号表'!$C$5:$Y$46,23,FALSE))","v":""},{"$f":"IF(AJ124=\"\",\"\",VLOOKUP(AJ124,'（従来型）シフト記号表'!$C$5:$Y$46,23,FALSE))","v":""},{"$f":"IF(AK124=\"\",\"\",VLOOKUP(AK124,'（従来型）シフト記号表'!$C$5:$Y$46,23,FALSE))","v":""},{"$f":"IF(AL124=\"\",\"\",VLOOKUP(AL124,'（従来型）シフト記号表'!$C$5:$Y$46,23,FALSE))","v":""},{"$f":"IF(AM124=\"\",\"\",VLOOKUP(AM124,'（従来型）シフト記号表'!$C$5:$Y$46,23,FALSE))","v":""},{"$f":"IF(AN124=\"\",\"\",VLOOKUP(AN124,'（従来型）シフト記号表'!$C$5:$Y$46,23,FALSE))","v":""},{"$f":"IF(AO124=\"\",\"\",VLOOKUP(AO124,'（従来型）シフト記号表'!$C$5:$Y$46,23,FALSE))","v":""},{"$f":"IF(AP124=\"\",\"\",VLOOKUP(AP124,'（従来型）シフト記号表'!$C$5:$Y$46,23,FALSE))","v":""},{"$f":"IF(AQ124=\"\",\"\",VLOOKUP(AQ124,'（従来型）シフト記号表'!$C$5:$Y$46,23,FALSE))","v":""},{"$f":"IF(AR124=\"\",\"\",VLOOKUP(AR124,'（従来型）シフト記号表'!$C$5:$Y$46,23,FALSE))","v":""},{"$f":"IF(AS124=\"\",\"\",VLOOKUP(AS124,'（従来型）シフト記号表'!$C$5:$Y$46,23,FALSE))","v":""},{"$f":"IF(AT124=\"\",\"\",VLOOKUP(AT124,'（従来型）シフト記号表'!$C$5:$Y$46,23,FALSE))","v":""},{"$f":"IF(AU124=\"\",\"\",VLOOKUP(AU124,'（従来型）シフト記号表'!$C$5:$Y$46,23,FALSE))","v":""},{"$f":"IF(AV124=\"\",\"\",VLOOKUP(AV124,'（従来型）シフト記号表'!$C$5:$Y$46,23,FALSE))","v":""},{"$f":"IF(AW124=\"\",\"\",VLOOKUP(AW124,'（従来型）シフト記号表'!$C$5:$Y$46,23,FALSE))","v":""},{"$f":"IF(AX124=\"\",\"\",VLOOKUP(AX124,'（従来型）シフト記号表'!$C$5:$Y$46,23,FALSE))","v":""},{"$f":"IF(AY124=\"\",\"\",VLOOKUP(AY124,'（従来型）シフト記号表'!$C$5:$Y$46,23,FALSE))","v":""},{"$f":"IF(AZ124=\"\",\"\",VLOOKUP(AZ124,'（従来型）シフト記号表'!$C$5:$Y$46,23,FALSE))","v":""},{"$f":"IF(BA124=\"\",\"\",VLOOKUP(BA124,'（従来型）シフト記号表'!$C$5:$Y$46,23,FALSE))","v":""},{"$f":"IF(BB124=\"\",\"\",VLOOKUP(BB124,'（従来型）シフト記号表'!$C$5:$Y$46,23,FALSE))","v":""},{"$f":"IF(BC124=\"\",\"\",VLOOKUP(BC124,'（従来型）シフト記号表'!$C$5:$Y$46,23,FALSE))","v":""},{"$f":"IF(BD124=\"\",\"\",VLOOKUP(BD124,'（従来型）シフト記号表'!$C$5:$Y$46,23,FALSE))","v":""},{"$f":"IF(BE124=\"\",\"\",VLOOKUP(BE124,'（従来型）シフト記号表'!$C$5:$Y$46,23,FALSE))","v":""},{"$f":"IF($BI$3=\"計画\",SUM(AA126:BB126),IF($BI$3=\"実績\",SUM(AA126:BE126),\"\"))","v":0},null,{"$f":"IF($BI$3=\"計画\",BF126/4,IF($BI$3=\"実績\",(BF126/($BI$7/7)),\"\"))","v":0}]
[]
[null,null,null,null,null,null,null,null,null,null,null,null,null,"(16)人員基準の確認（看護職員・介護職員）"]
[null,null,null,null,null,null,null,null,null,null,null,null,null,null,"①看護職員",null,null,null,null,null,null,null,null,null,null,null,null,null,null,null,"②介護職員",null,null,null,null,null,null,null,null,null,null,null,null,null,null,null,"③看護職員と介護職員の合計"]
[null,null,null,null,null,null,null,null,null,null,null,null,null,null,"勤務形態",null,"勤務時間数合計",null,null,null,null,"常勤換算の対象時間数",null,null,null,null,"常勤換算方法対象外の",null,null,null,"勤務形態",null,"勤務時間数合計",null,null,null,null,"常勤換算の対象時間数",null,null,null,null,"常勤換算方法対象外の"]
[null,null,null,null,null,null,null,null,null,null,null,null,null,null,null,null,"当月合計",null,"週平均",null,null,"当月合計",null,"週平均",null,null,"常勤の従業者の人数",null,null,null,null,null,"当月合計",null,"週平均",null,null,"当月合計",null,"週平均",null,null,"常勤の従業者の人数",null,null,null,"看護職員",null,null,null,null,"介護職員",null,null,null,null,"合計"]
[null,null,null,null,null,null,null,null,null,null,null,null,null,null,"A",null,{"$f":"SUMIFS($BF$19:$BG$126,$G$19:$H$126,\"看護職員\",$M$19:$N$126,\"A\")+SUMIFS($BF$19:$BG$126,$I$19:$J$126,\"看護職員\",$K$19:$L$126,\"A\")","v":0},null,{"$f":"SUMIFS($BH$19:$BI$126,$G$19:$H$126,\"看護職員\",$M$19:$N$126,\"A\")+SUMIFS($BH$19:$BI$126,$I$19:$J$126,\"看護職員\",$K$19:$L$126,\"A\")","v":0},null,null,0,null,0,null,null,0,null,null,null,"A",null,{"$f":"SUMIFS($BF$19:$BG$126,$G$19:$H$126,\"介護職員\",$M$19:$N$126,\"A\")+SUMIFS($BF$19:$BG$126,$I$19:$J$126,\"介護職員\",$K$19:$L$126,\"A\")","v":0},null,{"$f":"SUMIFS($BH$19:$BI$126,$G$19:$H$126,\"介護職員\",$M$19:$N$126,\"A\")+SUMIFS($BH$19:$BI$126,$I$19:$J$126,\"介護職員\",$K$19:$L$126,\"A\")","v":0},null,null,0,null,0,null,null,0,null,null,null,{"$f":"Y146","v":0},null,null,null,"＋",{"$f":"AO146","v":0},null,null,null,"＝",{"$f":"ROUNDDOWN(AU132+AZ132,1)","v":0}]
[null,null,null,null,null,null,null,null,null,null,null,null,null,null,"B",null,{"$f":"SUMIFS($BF$19:$BG$126,$G$19:$H$126,\"看護職員\",$M$19:$N$126,\"B\")+SUMIFS($BF$19:$BG$126,$I$19:$J$126,\"看護職員\",$K$19:$L$126,\"B\")","v":0},null,{"$f":"SUMIFS($BH$19:$BI$126,$G$19:$H$126,\"看護職員\",$M$19:$N$126,\"B\")+SUMIFS($BH$19:$BI$126,$I$19:$J$126,\"看護職員\",$K$19:$L$126,\"B\")","v":0},null,null,0,null,0,null,null,0,null,null,null,"B",null,{"$f":"SUMIFS($BF$19:$BG$126,$G$19:$H$126,\"介護職員\",$M$19:$N$126,\"B\")+SUMIFS($BF$19:$BG$126,$I$19:$J$126,\"介護職員\",$K$19:$L$126,\"B\")","v":0},null,{"$f":"SUMIFS($BH$19:$BI$126,$G$19:$H$126,\"介護職員\",$M$19:$N$126,\"B\")+SUMIFS($BH$19:$BI$126,$I$19:$J$126,\"介護職員\",$K$19:$L$126,\"B\")","v":0},null,null,0,null,0,null,null,0]
[null,null,null,null,null,null,null,null,null,null,null,null,null,null,"C",null,{"$f":"SUMIFS($BF$19:$BG$126,$G$19:$H$126,\"看護職員\",$M$19:$N$126,\"C\")+SUMIFS($BF$19:$BG$126,$I$19:$J$126,\"看護職員\",$K$19:$L$126,\"C\")","v":0},null,{"$f":"SUMIFS($BH$19:$BI$126,$G$19:$H$126,\"看護職員\",$M$19:$N$126,\"C\")+SUMIFS($BH$19:$BI$126,$I$19:$J$126,\"看護職員\",$K$19:$L$126,\"C\")","v":0},null,null,0,null,0,null,null,"-",null,null,null,"C",null,{"$f":"SUMIFS($BF$19:$BG$126,$G$19:$H$126,\"介護職員\",$M$19:$N$126,\"C\")+SUMIFS($BF$19:$BG$126,$I$19:$J$126,\"介護職員\",$K$19:$L$126,\"C\")","v":0},null,{"$f":"SUMIFS($BH$19:$BI$126,$G$19:$H$126,\"介護職員\",$M$19:$N$126,\"C\")+SUMIFS($BH$19:$BI$126,$I$19:$J$126,\"介護職員\",$K$19:$L$126,\"C\")","v":0},null,null,0,null,0,null,null,"-"]
[null,null,null,null,null,null,null,null,null,null,null,null,null,null,"D",null,{"$f":"SUMIFS($BF$19:$BG$126,$G$19:$H$126,\"看護職員\",$M$19:$N$126,\"D\")+SUMIFS($BF$19:$BG$126,$I$19:$J$126,\"看護職員\",$K$19:$L$126,\"D\")","v":0},null,{"$f":"SUMIFS($BH$19:$BI$126,$G$19:$H$126,\"看護職員\",$M$19:$N$126,\"D\")+SUMIFS($BH$19:$BI$126,$I$19:$J$126,\"看護職員\",$K$19:$L$126,\"D\")","v":0},null,null,0,null,0,null,null,"-",null,null,null,"D",null,{"$f":"SUMIFS($BF$19:$BG$126,$G$19:$H$126,\"介護職員\",$M$19:$N$126,\"D\")+SUMIFS($BF$19:$BG$126,$I$19:$J$126,\"介護職員\",$K$19:$L$126,\"D\")","v":0},null,{"$f":"SUMIFS($BH$19:$BI$126,$G$19:$H$126,\"介護職員\",$M$19:$N$126,\"D\")+SUMIFS($BH$19:$BI$126,$I$19:$J$126,\"介護職員\",$K$19:$L$126,\"D\")","v":0},null,null,0,null,0,null,null,"-",null,null,null,"（勤務形態の記号）"]
[null,null,null,null,null,null,null,null,null,null,null,null,null,null,"合計",null,{"$f":"SUM(Q132:R135)","v":0},null,{"$f":"SUM(S132:T135)","v":0},null,null,{"$f":"SUM(V132:W135)","v":0},null,{"$f":"SUM(X132:Y135)","v":0},null,null,{"$f":"SUM(AA132:AB133)","v":0},null,null,null,"合計",null,{"$f":"SUM(AG132:AH135)","v":0},null,{"$f":"SUM(AI132:AJ135)","v":0},null,null,{"$f":"SUM(AL132:AM135)","v":0},null,{"$f":"SUM(AN132:AO135)","v":0},null,null,{"$f":"SUM(AQ132:AR133)","v":0},null,null,null,"記号",null,"区分"]
[null,null,null,null,null,null,null,null,null,null,null,null,null,null,null,null,null,null,null,null,null,null,null,null,null,null,null,null,null,null,null,null,null,null,null,null,null,null,null,null,null,null,null,null,null,null,"A",null,"常勤で専従"]
[null,null,null,null,null,null,null,null,null,null,null,null,null,null,"■ 常勤換算方法による人数",null,null,null,null,null,null,null,null,null,null,null,null,null,null,null,"■ 常勤換算方法による人数",null,null,null,null,null,null,null,null,null,null,null,null,null,null,null,"B",null,"常勤で兼務"]
[null,null,null,null,null,null,null,null,null,null,null,null,null,null,"常勤換算の",null,null,null,null,"常勤の従業者が",null,null,null,null,null,null,null,null,null,null,"常勤換算の",null,null,null,null,"常勤の従業者が",null,null,null,null,null,null,null,null,null,null,"C",null,"非常勤で専従"]
[null,null,null,null,null,null,null,null,null,null,null,null,null,null,{"$f":"IF($BI$3=\"計画\",\"対象時間数（週平均）\",\"対象時間数（当月合計）\")","v":"対象時間数（週平均）"},null,null,null,null,{"$f":"IF($BI$3=\"計画\",\"週に勤務すべき時間数\",\"当月に勤務すべき時間数\")","v":"週に勤務すべき時間数"},null,null,null,null,"常勤換算後の人数",null,null,null,null,null,{"$f":"IF($BI$3=\"計画\",\"対象時間数（週平均）\",\"対象時間数（当月合計）\")","v":"対象時間数（週平均）"},null,null,null,null,{"$f":"IF($BI$3=\"計画\",\"週に勤務すべき時間数\",\"当月に勤務すべき時間数\")","v":"週に勤務すべき時間数"},null,null,null,null,"常勤換算後の人数",null,null,null,null,null,"D",null,"非常勤で兼務"]
[null,null,null,null,null,null,null,null,null,null,null,null,null,null,{"$f":"IF($BI$3=\"計画\",X136,V136)","v":0},null,null,null,"÷",{"$f":"IF($BI$3=\"計画\",$BE$5,$BI$5)","v":40},null,null,null,"＝",{"$f":"ROUNDDOWN(O141/T141,1)","v":0},null,null,null,null,null,{"$f":"IF($BI$3=\"計画\",AN136,AL136)","v":0},null,null,null,"÷",{"$f":"IF($BI$3=\"計画\",$BE$5,$BI$5)","v":40},null,null,null,"＝",{"$f":"ROUNDDOWN(AE141/AJ141,1)","v":0}]
[null,null,null,null,null,null,null,null,null,null,null,null,null,null,null,null,null,null,null,null,null,null,null,null,"（小数点第2位以下切り捨て）",null,null,null,null,null,null,null,null,null,null,null,null,null,null,null,"（小数点第2位以下切り捨て）"]
[null,null,null,null,null,null,null,null,null,null,null,null,null,null,"■ 看護職員の常勤換算方法による人数",null,null,null,null,null,null,null,null,null,null,null,null,null,null,null,"■ 介護職員の常勤換算方法による人数"]
[null,null,null,null,null,null,null,null,null,null,null,null,null,null,"常勤換算方法対象外の",null,null,null,null,null,null,null,null,null,null,null,null,null,null,null,"常勤換算方法対象外の"]
[null,null,null,null,null,null,null,null,null,null,null,null,null,null,"常勤の従業者の人数",null,null,null,null,"常勤換算方法による人数",null,null,null,null,"合計",null,null,null,null,null,"常勤の従業者の人数",null,null,null,null,"常勤換算方法による人数",null,null,null,null,"合計"]
[null,null,null,null,null,null,null,null,null,null,null,null,null,null,{"$f":"AA136","v":0},null,null,null,"＋",{"$f":"Y141","v":0},null,null,null,"＝",{"$f":"ROUNDDOWN(O146+T146,1)","v":0},null,null,null,null,null,{"$f":"AQ136","v":0},null,null,null,"＋",{"$f":"AO141","v":0},null,null,null,"＝",{"$f":"ROUNDDOWN(AE146+AJ146,1)","v":0}]

{"sheet":"（従来型）シフト記号表","index":6,"n_rows":47,"n_cols":27,"rows_kept":47,"cut":false,"hidden":false,"merged":[[2,4,2,10],[2,12,2,14],[2,16,2,22]]}
[null,"≪要 提出≫"]
[null,"■シフト記号表（勤務時間帯）",null,null,"※24時間表記",null,null,null,"休憩時間1時間は「1:00」、休憩時間45分は「00:45」と入力してください。"]
[null,null,null,null,"勤務時間",null,null,null,null,null,null,null,"日中（夜勤時間帯以外）の時間帯",null,null,null,"日中（夜勤時間帯以外）の勤務時間",null,null,null,null,null,null,null,"夜勤時間帯"]
[null,"（記号の意味）","記号",null,"始業時間",null,"終業時間",null,"うち、休憩時間",null,"勤務時間",null,"開始",null,"終了",null,"開始",null,"終了",null,"うち、休憩時間",null,"勤務時間",null,"の勤務時間"]
[null,"休：休暇","休","：","-","～","-","（","-","）","-",null,"-","～","-",null,"-","～","-","（","-","）","-",null,"-"]
[null,"出：出張","出","：","-","～","-","（","-","）","-",null,"-","～","-",null,"-","～","-","（","-","）","-",null,"-"]
[null,"研：研修","研","：","-","～","-","（","-","）","-",null,"-","～","-",null,"-","～","-","（","-","）","-",null,"-"]
[null,null,"a","：","07:00:00","～","16:00:00","（","01:00:00","）",{"$f":"IF(OR(E8=\"\",G8=\"\"),\"\",(G8+IF(E8>G8,1,0)-E8-I8)*24)","v":7.9999999999999982},null,{"$f":"'（従来型）介護老人保健施設'!$Q$11","v":"09:00:00"},"～",{"$f":"'（従来型）介護老人保健施設'!$U$11","v":"17:00:00"},null,{"$f":"IF(E8=\"\",\"\",IF(E8<M8,M8,IF(E8>=O8,\"\",E8)))","v":"09:00:00"},"～",{"$f":"IF(G8=\"\",\"\",IF(G8>E8,IF(G8<O8,G8,O8),O8))","v":"16:00:00"},"（","01:00:00","）",{"$f":"IF(Q8=\"\",\"\",IF((S8+IF(Q8>S8,1,0)-Q8-U8)*24=0,\"\",(S8+IF(Q8>S8,1,0)-Q8-U8)*24))","v":5.9999999999999991},null,{"$f":"IF(W8=\"\",K8,IF(OR(K8-W8=0,K8-W8<0),\"-\",K8-W8))","v":1.9999999999999991}]
[null,null,"b","：","09:00:00","～","18:00:00","（","01:00:00","）",{"$f":"IF(OR(E9=\"\",G9=\"\"),\"\",(G9+IF(E9>G9,1,0)-E9-I9)*24)","v":8},null,{"$f":"'（従来型）介護老人保健施設'!$Q$11","v":"09:00:00"},"～",{"$f":"'（従来型）介護老人保健施設'!$U$11","v":"17:00:00"},null,"09:00:00","～","17:00:00","（","01:00:00","）",{"$f":"IF(Q9=\"\",\"\",IF((S9+IF(Q9>S9,1,0)-Q9-U9)*24=0,\"\",(S9+IF(Q9>S9,1,0)-Q9-U9)*24))","v":7},null,{"$f":"IF(W9=\"\",K9,IF(OR(K9-W9=0,K9-W9<0),\"-\",K9-W9))","v":1}]
[null,null,"c","：","10:00:00","～","19:00:00","（","01:00:00","）",7.9999999999999982,null,{"$f":"'（従来型）介護老人保健施設'!$Q$11","v":"09:00:00"},"～",{"$f":"'（従来型）介護老人保健施設'!$U$11","v":"17:00:00"},null,"10:00:00","～","17:00:00","（","01:00:00","）",6,null,1.9999999999999982]
[null,null,"d","：","12:00:00","～","21:00:00","（","01:00:00","）",8,null,{"$f":"'（従来型）介護老人保健施設'!$Q$11","v":"09:00:00"},"～",{"$f":"'（従来型）介護老人保健施設'!$U$11","v":"17:00:00"},null,"12:00:00","～","17:00:00","（","00:00:00","）",5.0000000000000009,null,2.9999999999999991]
[null,null,"e","：","09:00:00","～","13:00:00","（","00:00:00","）",3.9999999999999991,null,{"$f":"'（従来型）介護老人保健施設'!$Q$11","v":"09:00:00"},"～",{"$f":"'（従来型）介護老人保健施設'!$U$11","v":"17:00:00"},null,"09:00:00","～","13:00:00","（","00:00:00","）",3.9999999999999991,null,"-"]
[null,null,"f","：","13:00:00","～","17:00:00","（","00:00:00","）",4.0000000000000018,null,{"$f":"'（従来型）介護老人保健施設'!$Q$11","v":"09:00:00"},"～",{"$f":"'（従来型）介護老人保健施設'!$U$11","v":"17:00:00"},null,"13:00:00","～","17:00:00","（","00:00:00","）",4.0000000000000018,null,"-"]
[null,null,"g","：","14:00:00","～","20:00:00","（","00:00:00","）",6,null,{"$f":"'（従来型）介護老人保健施設'!$Q$11","v":"09:00:00"},"～",{"$f":"'（従来型）介護老人保健施設'!$U$11","v":"17:00:00"},null,"14:00:00","～","17:00:00","（","00:00:00","）",3,null,3]
[null,null,"h","：","16:00:00","～","09:00:00","（","02:00:00","）",15,null,{"$f":"'（従来型）介護老人保健施設'!$Q$11","v":"09:00:00"},"～",{"$f":"'（従来型）介護老人保健施設'!$U$11","v":"17:00:00"},null,"16:00:00","～","17:00:00","（","00:00:00","）",1.0000000000000018,null,13.999999999999998]
[null,null,"i","：","06:00:00","～","12:00:00","（","00:00:00","）",6,null,{"$f":"'（従来型）介護老人保健施設'!$Q$11","v":"09:00:00"},"～",{"$f":"'（従来型）介護老人保健施設'!$U$11","v":"17:00:00"},null,"09:00:00","～","12:00:00","（","00:00:00","）",3,null,3]
[null,null,"j","：",null,"～",null,"（","00:00:00","）","",null,{"$f":"'（従来型）介護老人保健施設'!$Q$11","v":"09:00:00"},"～",{"$f":"'（従来型）介護老人保健施設'!$U$11","v":"17:00:00"},null,"","～","","（","00:00:00","）","",null,""]
[null,null,"k","：",null,"～",null,"（","00:00:00","）","",null,{"$f":"'（従来型）介護老人保健施設'!$Q$11","v":"09:00:00"},"～",{"$f":"'（従来型）介護老人保健施設'!$U$11","v":"17:00:00"},null,"","～","","（","00:00:00","）","",null,""]
[null,null,"l","：",null,"～",null,"（","00:00:00","）","",null,{"$f":"'（従来型）介護老人保健施設'!$Q$11","v":"09:00:00"},"～",{"$f":"'（従来型）介護老人保健施設'!$U$11","v":"17:00:00"},null,"","～","","（","00:00:00","）","",null,""]
[null,null,"m","：",null,"～",null,"（","00:00:00","）","",null,{"$f":"'（従来型）介護老人保健施設'!$Q$11","v":"09:00:00"},"～",{"$f":"'（従来型）介護老人保健施設'!$U$11","v":"17:00:00"},null,"","～","","（","00:00:00","）","",null,""]
[null,null,"n","：",null,"～",null,"（","00:00:00","）","",null,{"$f":"'（従来型）介護老人保健施設'!$Q$11","v":"09:00:00"},"～",{"$f":"'（従来型）介護老人保健施設'!$U$11","v":"17:00:00"},null,"","～","","（","00:00:00","）","",null,""]
[null,null,"o","：","16:00:00","～","10:00:00","（","02:00:00","）",16,null,null,"～",null,null,null,"～",null,"（","02:00:00","）",2,null,14]
[null,null,"p","：",null,"～",null,"（",null,"）",2,null,null,"～",null,null,null,"～",null,"（",null,"）",2,null,"-"]
[null,null,"q","：",null,"～",null,"（",null,"）",3,null,null,"～",null,null,null,"～",null,"（",null,"）",3,null,"-"]
[null,null,"r","：",null,"～",null,"（",null,"）",4,null,null,"～",null,null,null,"～",null,"（",null,"）",4,null,"-"]
[null,null,"s","：",null,"～",null,"（",null,"）",5,null,null,"～",null,null,null,"～",null,"（",null,"）",5,null,"-"]
[null,null,"t","：",null,"～",null,"（",null,"）",6,null,null,"～",null,null,null,"～",null,"（",null,"）",6,null,"-"]
[null,null,"u","：",null,"～",null,"（",null,"）",7,null,null,"～",null,null,null,"～",null,"（",null,"）",7,null,"-"]
[null,null,"v","：",null,"～",null,"（",null,"）",8,null,null,"～",null,null,null,"～",null,"（",null,"）",8,null,"-"]
[null,null,"w","：",null,"～",null,"（",null,"）",1,null,null,"～",null,null,null,"～",null,"（",null,"）","-",null,1]
[null,null,"x","：",null,"～",null,"（",null,"）",2,null,null,"～",null,null,null,"～",null,"（",null,"）","-",null,2]
[null,null,"y","：",null,"～",null,"（",null,"）",3,null,null,"～",null,null,null,"～",null,"（",null,"）","-",null,3]
[null,null,"z","：",null,"～",null,"（",null,"）",4,null,null,"～",null,null,null,"～",null,"（",null,"）","-",null,4]
[null,null,"aa","：",null,"～",null,"（",null,"）",5,null,null,"～",null,null,null,"～",null,"（",null,"）","-",null,5]
[null,null,"ab","：",null,"～",null,"（",null,"）",6,null,null,"～",null,null,null,"～",null,"（",null,"）","-",null,6]
[null,null,"ac","：",null,"～",null,"（",null,"）",7,null,null,"～",null,null,null,"～",null,"（",null,"）","-",null,7]
[null,null,"ad","：",null,"～",null,"（",null,"）",8,null,null,"～",null,null,null,"～",null,"（",null,"）","-",null,8]
[null,null,"ae","：",null,"～",null,"（","00:00:00","）",{"$f":"IF(OR(E38=\"\",G38=\"\"),\"\",(G38+IF(E38>G38,1,0)-E38-I38)*24)","v":""},null,{"$f":"'（従来型）介護老人保健施設'!$Q$11","v":"09:00:00"},"～",{"$f":"'（従来型）介護老人保健施設'!$U$11","v":"17:00:00"},null,{"$f":"IF(E38=\"\",\"\",IF(E38<M38,M38,IF(E38>=O38,\"\",E38)))","v":""},"～",{"$f":"IF(G38=\"\",\"\",IF(G38>E38,IF(G38<O38,G38,O38),O38))","v":""},"（",{"$f":"I38","v":"00:00:00"},"）",{"$f":"IF(Q38=\"\",\"\",IF((S38+IF(Q38>S38,1,0)-Q38-U38)*24=0,\"\",(S38+IF(Q38>S38,1,0)-Q38-U38)*24))","v":""},null,{"$f":"IF(W38=\"\",K38,IF(OR(K38-W38=0,K38-W38<0),\"-\",K38-W38))","v":""}]
[null,null,"af","：",null,"～",null,"（","00:00:00","）","",null,{"$f":"'（従来型）介護老人保健施設'!$Q$11","v":"09:00:00"},"～",{"$f":"'（従来型）介護老人保健施設'!$U$11","v":"17:00:00"},null,"","～","","（",{"$f":"I39","v":"00:00:00"},"）","",null,{"$f":"IF(W39=\"\",K39,IF(OR(K39-W39=0,K39-W39<0),\"-\",K39-W39))","v":""}]
[null,null,"ag","：",null,"～",null,"（","00:00:00","）","",null,{"$f":"'（従来型）介護老人保健施設'!$Q$11","v":"09:00:00"},"～",{"$f":"'（従来型）介護老人保健施設'!$U$11","v":"17:00:00"},null,"","～","","（","00:00:00","）","",null,""]
[null,null,"早退(1)","：",null,"～",null,"（","00:00:00","）","",null,{"$f":"'（従来型）介護老人保健施設'!$Q$11","v":"09:00:00"},"～",{"$f":"'（従来型）介護老人保健施設'!$U$11","v":"17:00:00"},null,"","～","","（","00:00:00","）","",null,"",null,"実績で早退者がいた場合に使用"]
[null,null,"早退(2)","：",null,"～",null,"（","00:00:00","）","",null,{"$f":"'（従来型）介護老人保健施設'!$Q$11","v":"09:00:00"},"～",{"$f":"'（従来型）介護老人保健施設'!$U$11","v":"17:00:00"},null,"","～","","（","00:00:00","）","",null,"",null,"実績で早退者がいた場合に使用"]
[null,null,"az","：",null,"～",null,"（","00:00:00","）","",null,{"$f":"'（従来型）介護老人保健施設'!$Q$11","v":"09:00:00"},"～",{"$f":"'（従来型）介護老人保健施設'!$U$11","v":"17:00:00"},null,"","～","","（","00:00:00","）","",null,""]
[null,"1日のうち",null,"：","07:00:00","～","09:30:00","（","00:00:00","）",2.4999999999999991,null,{"$f":"'（従来型）介護老人保健施設'!$Q$11","v":"09:00:00"},"～",{"$f":"'（従来型）介護老人保健施設'!$U$11","v":"17:00:00"},null,"09:00:00","～","09:30:00","（","00:00:00","）",0.49999999999999956,null,1.9999999999999996]
[null,"朝・夜の2回",null,"：","16:30:00","～","20:00:00","（","00:00:00","）",3.5000000000000009,null,{"$f":"'（従来型）介護老人保健施設'!$Q$11","v":"09:00:00"},"～",{"$f":"'（従来型）介護老人保健施設'!$U$11","v":"17:00:00"},null,"16:30:00","～","17:00:00","（","00:00:00","）",0.50000000000000089,null,3]
[null,"勤務の場合","ba","：","-","～","-","（","-","）",{"$f":"K44+K45","v":6},null,{"$f":"'（従来型）介護老人保健施設'!$Q$11","v":"09:00:00"},"～",{"$f":"'（従来型）介護老人保健施設'!$U$11","v":"17:00:00"},null,"","～","17:00:00","（","-","）",{"$f":"W44+W45","v":1.0000000000000004},null,5]
[null,"（プルダウン対象外）→","宿直","：","20:00:00","～","07:00:00","（",null,"）",{"$f":"IF(OR(E47=\"\",G47=\"\"),\"\",(G47+IF(E47>G47,1,0)-E47-I47)*24)","v":11},null,{"$f":"'（従来型）介護老人保健施設'!$Q$11","v":"09:00:00"},"～",{"$f":"'（従来型）介護老人保健施設'!$U$11","v":"17:00:00"},null,"","～","17:00:00","（","00:00:00","）",{"$f":"IF(Q47=\"\",\"\",IF((S47+IF(Q47>S47,1,0)-Q47-U47)*24=0,\"\",(S47+IF(Q47>S47,1,0)-Q47-U47)*24))","v":""},null,11]

{"sheet":"（従来型）記入方法","index":7,"n_rows":81,"n_cols":6,"rows_kept":81,"cut":false,"hidden":false,"merged":[[3,5,4,10]]}
[null,"≪提出不要≫"]
[null,"従業者の勤務の体制及び勤務形態一覧表　記入方法　（【従来型】指定介護老人保健施設・短期入所療養介護）"]
[]
[null,null,"・・・直接入力する必要がある箇所です。",null,null,"下記の記入方法に従って、入力してください。"]
[null,null,"・・・プルダウンから選択して入力する必要がある箇所です。"]
[null,"　なお、「従業者の勤務の体制及び勤務形態一覧表」に「シフト記号表（勤務時間帯）」も必ず添付して提出してください。"]
[]
[null,"　・最初に「年月欄」「サービス種別」「事業所名」を入力してください。"]
[]
[null,"　(1) 「計画」・「実績」のいずれかを選択してください。"]
[null,"　　  指定基準の確認に際しては、「計画」を選択し、４週分の勤務時間を入力してください。"]
[null,"　　  実績を表す場合は、「実績」を選択し、暦月分で勤務時間を入力してください。"]
[]
[null,"　(2) 事業所における常勤の従業者が勤務すべき時間数を入力してください。"]
[]
[null,"　(3) 事業所における夜勤時間帯を入力してください。"]
[null,"　　  ※夜勤時間帯　・・・　２２：００～翌５：００（原則）を含めた、連続する16時間で事業所・施設が定めたもの"]
[]
[null,"　(4) 指定介護老人保健施設の場合、入所定員数を入力してください。"]
[null,"　　  短期入所生活介護を併設している場合は、(6)に併設事業所の利用定員数を入力してください。"]
[]
[null,"　(5) 指定介護老人保健施設の場合、入所者数を入力してください。入所者数は、前年度の平均値（前年度の入所者延数を当該前年度の日数で除して得た数。小数点第2位以下を切り上げ）とします。"]
[null,"　　  短期入所生活介護を併設している場合は、(7)に併設事業所の利用者数を入力してください。"]
[null,"　　  新規又は再開の場合は、推定数を入力してください。"]
[]
[null,"　(6) 短期入所療養介護の場合、利用定員数を入力してください。"]
[]
[null,"　(7) 短期入所療養介護の場合、利用者数を入力してください。利用者数は、前年度の平均値（前年度の利用者延数を当該前年度の日数で除して得た数。小数点第2位以下を切り上げ）とします。"]
[null,"　　  新規又は再開の場合は、推定数を入力してください。"]
[]
[null,"　(8) 従業者の職種について、下記のうち該当する職種をプルダウンより選択してください。"]
[null," 　　 記入の順序は、職種ごとにまとめてください。"]
[]
[null,null,"No","職種名"]
[null,null,1,"管理者"]
[null,null,2,"医師"]
[null,null,3,"薬剤師"]
[null,null,4,"看護職員"]
[null,null,5,"介護職員"]
[null,null,6,"支援相談員"]
[null,null,7,"理学療法士"]
[null,null,8,"作業療法士"]
[null,null,9,"言語聴覚士"]
[null,null,10,"栄養士"]
[null,null,11,"介護支援専門員"]
[null,null,12,"調理員"]
[null,null,13,"事務員"]
[null,null,14,"その他の従業者"]
[]
[null,"　(9) 従業者の勤務形態について、下記のうち該当する区分の記号をプルダウンより選択してください。"]
[null," 　　 記入の順序は、各職種の中で勤務形態の区分ごとにまとめてください。"]
[]
[null,null,"記号","区分"]
[null,null,"A","常勤で専従"]
[null,null,"B","常勤で兼務"]
[null,null,"C","非常勤で専従"]
[null,null,"D","非常勤で兼務"]
[]
[null,null,"（注）常勤・非常勤の区分について"]
[null,null,"　　　当該事業所における勤務時間が、当該事業所において定められている常勤の従業者が勤務すべき時間数に達していることをいいます。雇用の形態は考慮しません。"]
[null,null,"　　（例えば、常勤者は週に40時間勤務することとされた事業所であれば、非正規雇用であっても、週40時間勤務する従業者は常勤扱いとなります。）"]
[]
[null,"　(10) 従業者の保有する資格について、該当する資格名称をプルダウンより選択してください。"]
[null," 　　 複数の資格を保有する従業者については、当該事業所にて従事する業務に最も関連する資格１つを選択してください。人員基準上、求められている資格等は必ずご記入ください。"]
[null,"　　 ※選択した資格及び研修に関して、必要に応じて、資格証又は研修修了証等の写しを添付資料として提出してください。"]
[]
[]
[null,"　(11) 従業者の氏名を記入してください。"]
[]
[null,"　(12) 申請する事業に係る従業者（管理者を含む。）の1ヶ月分の勤務時間数を入力してください。（別シートの「シフト記号表」を作成し、シフト記号を選択または入力してください。）"]
[null,"　　  ※指定基準の確認に際しては、4週分の入力で可とします。実績を表す場合には、暦月で入力ください。"]
[]
[null,"　(13) 従業者ごとに、合計勤務時間数が自動計算されますので、誤りがないか確認してください。"]
[null," 　　 ※入力することができる勤務時間数は、当該事業所において常勤の従業者が勤務すべき勤務時間数を上限とします。"]
[]
[null,"　(14) 従業者ごとに、週平均の勤務時間数が自動計算されますので、誤りがないか確認してください。"]
[]
[null,"　(15) 申請する事業所以外の事業所・施設との兼務がある場合は、兼務先の事業所・施設の名称、兼務する職務の内容、兼務時間数について記入してください。"]
[null,"　　　 同一事業所内の兼務についても兼務する職務の内容を記入してください。"]
[]
[null,"　(16) 常勤換算による配置が求められる職種について、各欄に該当する数字を確認・入力し、常勤換算後の人数を算出してください。"]

{"sheet":"プルダウン・リスト（従来型・ユニット型共通）","index":8,"n_rows":60,"n_cols":16,"rows_kept":60,"cut":false,"hidden":false,"merged":[[19,1,28,1]]}
[null,"１．サービス種別"]
[]
[null,"No","サービス種別"]
[null,1,"指定介護老人保健施設（従来型）"]
[null,2,"指定介護老人保健施設（ユニット型）"]
[null,3,"指定介護老人保健施設（サテライト型）"]
[null,4,"指定介護老人保健施設（医療機関併設型）"]
[null,5,"指定介護老人保健施設（分館型）"]
[null,6,"短期入所療養介護"]
[null,7,"指定介護老人保健施設（従来型）・短期入所療養介護"]
[null,8,"指定介護老人保健施設（従来型）・短期入所生活介護"]
[null,9]
[null,10]
[null,11]
[null,12]
[]
[null,"２．職種名・資格名称"]
[]
[null,"職種名","管理者","医師","薬剤師","看護職員","介護職員","支援相談員","理学療法士","作業療法士","言語聴覚士","栄養士","介護支援専門員","調理員","事務員","その他の従業者"]
[null,"資格","ー","医師","薬剤師","看護師","介護福祉士","ー","理学療法士","作業療法士","言語聴覚士","栄養士","介護支援専門員","ー","ー","ー"]
[null,null,null,null,null,"准看護師","ー"]
[]
[]
[]
[]
[]
[]
[]
[]
[]
[]
[]
[]
[null,null,"【自治体の皆様へ】"]
[null,null,"※ INDIRECT関数使用のため、以下のとおりセルに「名前の定義」をしています。"]
[null,null,"　19行目・・・「職種」"]
[null,null,"　C列・・・「管理者」"]
[null,null,"　D列・・・「医師」"]
[null,null,"　E列・・・「薬剤師」"]
[null,null,"　F列・・・「看護職員」"]
[null,null,"　G列・・・「介護職員」"]
[null,null,"　H列・・・「支援相談員」"]
[null,null,"　I列・・・「理学療法士」"]
[null,null,"　J列・・・「作業療法士」"]
[null,null,"　K列・・・「言語聴覚士」"]
[null,null,"　L列・・・「栄養士」"]
[null,null,"　M列・・・「介護支援専門員」"]
[null,null,"　N列・・・「調理員」"]
[null,null,"　O列・・・「事務員」"]
[null,null,"　P列・・・「その他の従業者」"]
[]
[null,null,"※自治体の条例により定められた資格等、自治体独自の資格を追加する必要がある場合は、上表の空欄に資格名称を追加してください。"]
[null,null,"　行が足りない場合は、適宜追加してください。"]
[]
[null,null,"※職種を追加したい場合は、19行目に職種名を追加し、それぞれの列に必要資格を入力してください。"]
[null,null,"　その後、以下の手順で必要資格について「名前の定義」をします。"]
[null,null,"　・「数式」タブ　⇒　「名前の定義」を選択"]
[null,null,"　・「名前」に職種名を入力"]
[null,null,"　・「参照範囲」にその職種の必要資格を範囲設定する　⇒　OKボタン"]
[null,null,"　編集したい場合は、「数式」タブ　⇒　「名前の管理」で編集してください。"]